{"text_format":"1","workbook":"xlsx","n_sheets":4,"sheets":["Hoja1","Hoja3","Comercios","Instrucciones"],"not_rendered":{"charts":0,"images":15,"macros":1,"external_links":0,"defined_names":15,"comments":0,"pivot_tables":0},"unopened":[],"bounds":{"document_bytes":16777216,"sheet_cells":100000,"rows_first":2000,"rows_last":500,"rows_between":2000,"halvings":0,"cell_chars":16384,"cell_head_chars":4096},"cells_cut":0,"cells_raw":0,"read":"whole","date_system":"1900"}

{"sheet":"Hoja1","index":0,"n_rows":112,"n_cols":52,"rows_kept":112,"cut":false,"hidden":false,"merged":[[104,4,104,8],[79,2,79,3],[95,2,95,3],[95,8,95,9],[99,4,99,5],[89,4,89,5],[89,8,89,12],[92,2,92,5],[92,8,92,9],[92,11,92,12],[97,4,97,5],[79,8,79,9],[83,4,83,5],[101,1,101,13],[49,4,49,5],[65,4,65,5],[81,4,81,5],[106,4,106,8],[25,4,25,5],[41,4,41,5],[57,4,57,5],[73,4,73,5],[73,8,73,12],[76,2,76,5],[76,8,76,9],[76,11,76,12],[63,2,63,3],[63,8,63,9],[67,4,67,5],[102,4,102,8],[51,4,51,5],[57,8,57,12],[60,2,60,5],[60,8,60,9],[60,11,60,12],[33,4,33,5],[35,4,35,5],[41,8,41,12],[44,2,44,5],[47,2,47,3],[47,8,47,9],[44,8,44,9],[44,11,44,12],[28,2,28,5],[28,8,28,9],[31,2,31,3],[28,11,28,12],[31,8,31,9],[0,4,2,10],[0,0,2,3],[8,4,8,5],[8,11,8,12],[10,4,10,12],[18,5,18,12],[25,8,25,12],[12,4,12,12],[5,11,5,12],[14,4,14,5],[14,11,14,12],[16,4,16,5],[16,11,16,12]]}
[null,null,null,null,"INSCRIPCIÓN DE COMERCIOS PARA PERMITIR PAGOS PSE A TRAVÉS DE PORTALES PERSONA JURÍDICA",null,null,null,null,null,null,"Código: VSE_FOR_063",null,null,null,null,null,null,"Nombre",null,null,null,null,null,null,"Nombre",null,null,null,null,null,null,"Nombre",null,null,null,null,null,null,"Nombre",null,null,null,null,null,null,"Nombre"]
[null,null,null,null,null,null,null,null,null,null,null,"Versión: V1",null,null,null,null,null,null,{"$f":"\"*\"&E24&\"*\"","v":"**"},{"$f":"IF(Hoja3!T2=\"\",\"\",Hoja3!T2)","v":"AL4 SAS"},{"$f":"IF(Hoja3!U2=\"\",\"\",Hoja3!U2)","v":"900555758"},{"$f":"IF(Hoja3!V2=\"\",\"\",Hoja3!V2)","v":42352.668240740742},{"$f":"IF(Hoja3!W2=\"\",\"\",Hoja3!W2)","v":"D"},{"$f":"IF(Hoja3!X2=\"\",\"\",Hoja3!X2)","v":11001},null,{"$f":"+Hoja1!E40","v":0},{"$f":"IF(Hoja3!AA2=\"\",\"\",Hoja3!AA2)","v":"GRUPO RICELI LTDA"},{"$f":"IF(Hoja3!AB2=\"\",\"\",Hoja3!AB2)","v":"9003194403"},{"$f":"IF(Hoja3!AC2=\"\",\"\",Hoja3!AC2)","v":42303.355254629627},{"$f":"IF(Hoja3!AD2=\"\",\"\",Hoja3!AD2)","v":"D"},{"$f":"IF(Hoja3!AE2=\"\",\"\",Hoja3!AE2)","v":11001},null,{"$f":"\"*\"&Hoja1!E56&\"*\"","v":"**"},{"$f":"IF(Hoja3!AH2=\"\",\"\",Hoja3!AH2)","v":"Medifertil SAS"},{"$f":"IF(Hoja3!AI2=\"\",\"\",Hoja3!AI2)","v":"900452020"},{"$f":"IF(Hoja3!AJ2=\"\",\"\",Hoja3!AJ2)","v":42307.458472222221},{"$f":"IF(Hoja3!AK2=\"\",\"\",Hoja3!AK2)","v":"D"},{"$f":"IF(Hoja3!AL2=\"\",\"\",Hoja3!AL2)","v":11001},null,{"$f":"\"*\"&Hoja1!E72&\"*\"","v":"**"},{"$f":"IF(Hoja3!AO2=\"\",\"\",Hoja3!AO2)","v":"INVERSIONES POMAR ROA & CIA SAS"},{"$f":"IF(Hoja3!AP2=\"\",\"\",Hoja3!AP2)","v":"9000438021"},{"$f":"IF(Hoja3!AQ2=\"\",\"\",Hoja3!AQ2)","v":42307.621273148143},{"$f":"IF(Hoja3!AR2=\"\",\"\",Hoja3!AR2)","v":"D"},{"$f":"IF(Hoja3!AS2=\"\",\"\",Hoja3!AS2)","v":11001},null,{"$f":"\"*\"&Hoja1!E88&\"*\"","v":"**"},{"$f":"IF(Hoja3!AV2=\"\",\"\",Hoja3!AV2)","v":"ZONAPAGOS.COM - PAGOS EN LINEA"},{"$f":"IF(Hoja3!AW2=\"\",\"\",Hoja3!AW2)","v":"8110153541"},{"$f":"IF(Hoja3!AX2=\"\",\"\",Hoja3!AX2)","v":37887.436851851853},{"$f":"IF(Hoja3!AY2=\"\",\"\",Hoja3!AY2)","v":"D"},{"$f":"IF(Hoja3!AZ2=\"\",\"\",Hoja3!AZ2)","v":11001}]
[null,null,null,null,null,null,null,null,null,null,null,"Fecha de actualización: 04/02/2016",null,null,null,null,null,null,"Nombre",{"$f":"IF(Hoja3!T3=\"\",\"\",Hoja3!T3)","v":""},{"$f":"IF(Hoja3!U3=\"\",\"\",Hoja3!U3)","v":""},{"$f":"IF(Hoja3!V3=\"\",\"\",Hoja3!V3)","v":""},{"$f":"IF(Hoja3!W3=\"\",\"\",Hoja3!W3)","v":""},{"$f":"IF(Hoja3!X3=\"\",\"\",Hoja3!X3)","v":""},null,"Nombre",{"$f":"IF(Hoja3!AA3=\"\",\"\",Hoja3!AA3)","v":""},{"$f":"IF(Hoja3!AB3=\"\",\"\",Hoja3!AB3)","v":""},{"$f":"IF(Hoja3!AC3=\"\",\"\",Hoja3!AC3)","v":""},{"$f":"IF(Hoja3!AD3=\"\",\"\",Hoja3!AD3)","v":""},{"$f":"IF(Hoja3!AE3=\"\",\"\",Hoja3!AE3)","v":""},null,"Nombre",{"$f":"IF(Hoja3!AH3=\"\",\"\",Hoja3!AH3)","v":""},{"$f":"IF(Hoja3!AI3=\"\",\"\",Hoja3!AI3)","v":""},{"$f":"IF(Hoja3!AJ3=\"\",\"\",Hoja3!AJ3)","v":""},{"$f":"IF(Hoja3!AK3=\"\",\"\",Hoja3!AK3)","v":""},{"$f":"IF(Hoja3!AL3=\"\",\"\",Hoja3!AL3)","v":""},null,"Nombre",{"$f":"IF(Hoja3!AO3=\"\",\"\",Hoja3!AO3)","v":""},{"$f":"IF(Hoja3!AP3=\"\",\"\",Hoja3!AP3)","v":""},{"$f":"IF(Hoja3!AQ3=\"\",\"\",Hoja3!AQ3)","v":""},{"$f":"IF(Hoja3!AR3=\"\",\"\",Hoja3!AR3)","v":""},{"$f":"IF(Hoja3!AS3=\"\",\"\",Hoja3!AS3)","v":""},null,"Nombre",{"$f":"IF(Hoja3!AV3=\"\",\"\",Hoja3!AV3)","v":"GS1 COLOMBIA (IAC)"},{"$f":"IF(Hoja3!AW3=\"\",\"\",Hoja3!AW3)","v":"8000473260"},{"$f":"IF(Hoja3!AX3=\"\",\"\",Hoja3!AX3)","v":38003.586273148147},{"$f":"IF(Hoja3!AY3=\"\",\"\",Hoja3!AY3)","v":"D"},{"$f":"IF(Hoja3!AZ3=\"\",\"\",Hoja3!AZ3)","v":11001}]
[null,null,null,null,null,null,null,null,null,null,null,null,null,null,null,null,null,null,"Identificación",{"$f":"IF(Hoja3!T4=\"\",\"\",Hoja3!T4)","v":""},{"$f":"IF(Hoja3!U4=\"\",\"\",Hoja3!U4)","v":""},{"$f":"IF(Hoja3!V4=\"\",\"\",Hoja3!V4)","v":""},{"$f":"IF(Hoja3!W4=\"\",\"\",Hoja3!W4)","v":""},{"$f":"IF(Hoja3!X4=\"\",\"\",Hoja3!X4)","v":""},null,"Identificación",{"$f":"IF(Hoja3!AA4=\"\",\"\",Hoja3!AA4)","v":""},{"$f":"IF(Hoja3!AB4=\"\",\"\",Hoja3!AB4)","v":""},{"$f":"IF(Hoja3!AC4=\"\",\"\",Hoja3!AC4)","v":""},{"$f":"IF(Hoja3!AD4=\"\",\"\",Hoja3!AD4)","v":""},{"$f":"IF(Hoja3!AE4=\"\",\"\",Hoja3!AE4)","v":""},null,"Identificación",{"$f":"IF(Hoja3!AH4=\"\",\"\",Hoja3!AH4)","v":""},{"$f":"IF(Hoja3!AI4=\"\",\"\",Hoja3!AI4)","v":""},{"$f":"IF(Hoja3!AJ4=\"\",\"\",Hoja3!AJ4)","v":""},{"$f":"IF(Hoja3!AK4=\"\",\"\",Hoja3!AK4)","v":""},{"$f":"IF(Hoja3!AL4=\"\",\"\",Hoja3!AL4)","v":""},null,"Identificación",{"$f":"IF(Hoja3!AO4=\"\",\"\",Hoja3!AO4)","v":""},{"$f":"IF(Hoja3!AP4=\"\",\"\",Hoja3!AP4)","v":""},{"$f":"IF(Hoja3!AQ4=\"\",\"\",Hoja3!AQ4)","v":""},{"$f":"IF(Hoja3!AR4=\"\",\"\",Hoja3!AR4)","v":""},{"$f":"IF(Hoja3!AS4=\"\",\"\",Hoja3!AS4)","v":""},null,"Identificación",{"$f":"IF(Hoja3!AV4=\"\",\"\",Hoja3!AV4)","v":"COMPENSAR"},{"$f":"IF(Hoja3!AW4=\"\",\"\",Hoja3!AW4)","v":"8600669427"},{"$f":"IF(Hoja3!AX4=\"\",\"\",Hoja3!AX4)","v":38082.409733796296},{"$f":"IF(Hoja3!AY4=\"\",\"\",Hoja3!AY4)","v":"D"},{"$f":"IF(Hoja3!AZ4=\"\",\"\",Hoja3!AZ4)","v":11001}]
[null,null,null,null,null,null,null,null,null,null,null,null,null,null,null,null,null,null,"FechaHora de creación de la empresa",{"$f":"IF(Hoja3!T5=\"\",\"\",Hoja3!T5)","v":""},{"$f":"IF(Hoja3!U5=\"\",\"\",Hoja3!U5)","v":""},{"$f":"IF(Hoja3!V5=\"\",\"\",Hoja3!V5)","v":""},{"$f":"IF(Hoja3!W5=\"\",\"\",Hoja3!W5)","v":""},{"$f":"IF(Hoja3!X5=\"\",\"\",Hoja3!X5)","v":""},null,"FechaHora de creación de la empresa",{"$f":"IF(Hoja3!AA5=\"\",\"\",Hoja3!AA5)","v":""},{"$f":"IF(Hoja3!AB5=\"\",\"\",Hoja3!AB5)","v":""},{"$f":"IF(Hoja3!AC5=\"\",\"\",Hoja3!AC5)","v":""},{"$f":"IF(Hoja3!AD5=\"\",\"\",Hoja3!AD5)","v":""},{"$f":"IF(Hoja3!AE5=\"\",\"\",Hoja3!AE5)","v":""},null,"FechaHora de creación de la empresa",{"$f":"IF(Hoja3!AH5=\"\",\"\",Hoja3!AH5)","v":""},{"$f":"IF(Hoja3!AI5=\"\",\"\",Hoja3!AI5)","v":""},{"$f":"IF(Hoja3!AJ5=\"\",\"\",Hoja3!AJ5)","v":""},{"$f":"IF(Hoja3!AK5=\"\",\"\",Hoja3!AK5)","v":""},{"$f":"IF(Hoja3!AL5=\"\",\"\",Hoja3!AL5)","v":""},null,"FechaHora de creación de la empresa",{"$f":"IF(Hoja3!AO5=\"\",\"\",Hoja3!AO5)","v":""},{"$f":"IF(Hoja3!AP5=\"\",\"\",Hoja3!AP5)","v":""},{"$f":"IF(Hoja3!AQ5=\"\",\"\",Hoja3!AQ5)","v":""},{"$f":"IF(Hoja3!AR5=\"\",\"\",Hoja3!AR5)","v":""},{"$f":"IF(Hoja3!AS5=\"\",\"\",Hoja3!AS5)","v":""},null,"FechaHora de creación de la empresa",{"$f":"IF(Hoja3!AV5=\"\",\"\",Hoja3!AV5)","v":"AVISOR TECHNOLOGIES LTDA"},{"$f":"IF(Hoja3!AW5=\"\",\"\",Hoja3!AW5)","v":"8300986588"},{"$f":"IF(Hoja3!AX5=\"\",\"\",Hoja3!AX5)","v":38237.426226851851},{"$f":"IF(Hoja3!AY5=\"\",\"\",Hoja3!AY5)","v":"D"},{"$f":"IF(Hoja3!AZ5=\"\",\"\",Hoja3!AZ5)","v":11001}]
[null,"DATOS GENERALES DEL CLIENTE",null,null,null,null,null,null,null,null,"Fecha ",null,null,null,null,null,null,null,"TIPO CUENTA",{"$f":"IF(Hoja3!T6=\"\",\"\",Hoja3!T6)","v":""},{"$f":"IF(Hoja3!U6=\"\",\"\",Hoja3!U6)","v":""},{"$f":"IF(Hoja3!V6=\"\",\"\",Hoja3!V6)","v":""},{"$f":"IF(Hoja3!W6=\"\",\"\",Hoja3!W6)","v":""},{"$f":"IF(Hoja3!X6=\"\",\"\",Hoja3!X6)","v":""},null,"TIPO CUENTA",{"$f":"IF(Hoja3!AA6=\"\",\"\",Hoja3!AA6)","v":""},{"$f":"IF(Hoja3!AB6=\"\",\"\",Hoja3!AB6)","v":""},{"$f":"IF(Hoja3!AC6=\"\",\"\",Hoja3!AC6)","v":""},{"$f":"IF(Hoja3!AD6=\"\",\"\",Hoja3!AD6)","v":""},{"$f":"IF(Hoja3!AE6=\"\",\"\",Hoja3!AE6)","v":""},null,"TIPO CUENTA",{"$f":"IF(Hoja3!AH6=\"\",\"\",Hoja3!AH6)","v":""},{"$f":"IF(Hoja3!AI6=\"\",\"\",Hoja3!AI6)","v":""},{"$f":"IF(Hoja3!AJ6=\"\",\"\",Hoja3!AJ6)","v":""},{"$f":"IF(Hoja3!AK6=\"\",\"\",Hoja3!AK6)","v":""},{"$f":"IF(Hoja3!AL6=\"\",\"\",Hoja3!AL6)","v":""},null,"TIPO CUENTA",{"$f":"IF(Hoja3!AO6=\"\",\"\",Hoja3!AO6)","v":""},{"$f":"IF(Hoja3!AP6=\"\",\"\",Hoja3!AP6)","v":""},{"$f":"IF(Hoja3!AQ6=\"\",\"\",Hoja3!AQ6)","v":""},{"$f":"IF(Hoja3!AR6=\"\",\"\",Hoja3!AR6)","v":""},{"$f":"IF(Hoja3!AS6=\"\",\"\",Hoja3!AS6)","v":""},null,"TIPO CUENTA",{"$f":"IF(Hoja3!AV6=\"\",\"\",Hoja3!AV6)","v":"PONTIFICIA UNIVERSIDAD JAVERIANA"},{"$f":"IF(Hoja3!AW6=\"\",\"\",Hoja3!AW6)","v":"8600137201"},{"$f":"IF(Hoja3!AX6=\"\",\"\",Hoja3!AX6)","v":38296.799756944441},{"$f":"IF(Hoja3!AY6=\"\",\"\",Hoja3!AY6)","v":"D"},{"$f":"IF(Hoja3!AZ6=\"\",\"\",Hoja3!AZ6)","v":11001}]
[null,null,null,null,null,null,null,null,null,null,null,null,null,null,null,null,null,null,"CIUDAD",{"$f":"IF(Hoja3!T7=\"\",\"\",Hoja3!T7)","v":""},{"$f":"IF(Hoja3!U7=\"\",\"\",Hoja3!U7)","v":""},{"$f":"IF(Hoja3!V7=\"\",\"\",Hoja3!V7)","v":""},{"$f":"IF(Hoja3!W7=\"\",\"\",Hoja3!W7)","v":""},{"$f":"IF(Hoja3!X7=\"\",\"\",Hoja3!X7)","v":""},null,"CIUDAD",{"$f":"IF(Hoja3!AA7=\"\",\"\",Hoja3!AA7)","v":""},{"$f":"IF(Hoja3!AB7=\"\",\"\",Hoja3!AB7)","v":""},{"$f":"IF(Hoja3!AC7=\"\",\"\",Hoja3!AC7)","v":""},{"$f":"IF(Hoja3!AD7=\"\",\"\",Hoja3!AD7)","v":""},{"$f":"IF(Hoja3!AE7=\"\",\"\",Hoja3!AE7)","v":""},null,"CIUDAD",{"$f":"IF(Hoja3!AH7=\"\",\"\",Hoja3!AH7)","v":""},{"$f":"IF(Hoja3!AI7=\"\",\"\",Hoja3!AI7)","v":""},{"$f":"IF(Hoja3!AJ7=\"\",\"\",Hoja3!AJ7)","v":""},{"$f":"IF(Hoja3!AK7=\"\",\"\",Hoja3!AK7)","v":""},{"$f":"IF(Hoja3!AL7=\"\",\"\",Hoja3!AL7)","v":""},null,"CIUDAD",{"$f":"IF(Hoja3!AO7=\"\",\"\",Hoja3!AO7)","v":""},{"$f":"IF(Hoja3!AP7=\"\",\"\",Hoja3!AP7)","v":""},{"$f":"IF(Hoja3!AQ7=\"\",\"\",Hoja3!AQ7)","v":""},{"$f":"IF(Hoja3!AR7=\"\",\"\",Hoja3!AR7)","v":""},{"$f":"IF(Hoja3!AS7=\"\",\"\",Hoja3!AS7)","v":""},null,"CIUDAD",{"$f":"IF(Hoja3!AV7=\"\",\"\",Hoja3!AV7)","v":"F U EXTERNADO DE COLOMBIA"},{"$f":"IF(Hoja3!AW7=\"\",\"\",Hoja3!AW7)","v":"8600149187"},{"$f":"IF(Hoja3!AX7=\"\",\"\",Hoja3!AX7)","v":38299.689143518517},{"$f":"IF(Hoja3!AY7=\"\",\"\",Hoja3!AY7)","v":"D"},{"$f":"IF(Hoja3!AZ7=\"\",\"\",Hoja3!AZ7)","v":11001}]
[null,null,null,null,null,null,null,null,null,null,null,null,null,null,null,null,null,null,9999,{"$f":"IF(Hoja3!T8=\"\",\"\",Hoja3!T8)","v":""},{"$f":"IF(Hoja3!U8=\"\",\"\",Hoja3!U8)","v":""},{"$f":"IF(Hoja3!V8=\"\",\"\",Hoja3!V8)","v":""},{"$f":"IF(Hoja3!W8=\"\",\"\",Hoja3!W8)","v":""},{"$f":"IF(Hoja3!X8=\"\",\"\",Hoja3!X8)","v":""},null,9999,{"$f":"IF(Hoja3!AA8=\"\",\"\",Hoja3!AA8)","v":""},{"$f":"IF(Hoja3!AB8=\"\",\"\",Hoja3!AB8)","v":""},{"$f":"IF(Hoja3!AC8=\"\",\"\",Hoja3!AC8)","v":""},{"$f":"IF(Hoja3!AD8=\"\",\"\",Hoja3!AD8)","v":""},{"$f":"IF(Hoja3!AE8=\"\",\"\",Hoja3!AE8)","v":""},null,9999,{"$f":"IF(Hoja3!AH8=\"\",\"\",Hoja3!AH8)","v":""},{"$f":"IF(Hoja3!AI8=\"\",\"\",Hoja3!AI8)","v":""},{"$f":"IF(Hoja3!AJ8=\"\",\"\",Hoja3!AJ8)","v":""},{"$f":"IF(Hoja3!AK8=\"\",\"\",Hoja3!AK8)","v":""},{"$f":"IF(Hoja3!AL8=\"\",\"\",Hoja3!AL8)","v":""},null,9999,{"$f":"IF(Hoja3!AO8=\"\",\"\",Hoja3!AO8)","v":""},{"$f":"IF(Hoja3!AP8=\"\",\"\",Hoja3!AP8)","v":""},{"$f":"IF(Hoja3!AQ8=\"\",\"\",Hoja3!AQ8)","v":""},{"$f":"IF(Hoja3!AR8=\"\",\"\",Hoja3!AR8)","v":""},{"$f":"IF(Hoja3!AS8=\"\",\"\",Hoja3!AS8)","v":""},null,9999,{"$f":"IF(Hoja3!AV8=\"\",\"\",Hoja3!AV8)","v":"FUNDACION POLITECNICO GRANCOLOMBIANO"},{"$f":"IF(Hoja3!AW8=\"\",\"\",Hoja3!AW8)","v":"8600786431"},{"$f":"IF(Hoja3!AX8=\"\",\"\",Hoja3!AX8)","v":38341.786365740736},{"$f":"IF(Hoja3!AY8=\"\",\"\",Hoja3!AY8)","v":"D"},{"$f":"IF(Hoja3!AZ8=\"\",\"\",Hoja3!AZ8)","v":11001}]
[null,1,"Tipo de documento de identificación",null,null,null,null,{"$f":"1+B9","v":2},"Número de documento de identificación",null,null,null,null,null,null,null,null,null,"NIT",{"$f":"IF(Hoja3!T9=\"\",\"\",Hoja3!T9)","v":""},{"$f":"IF(Hoja3!U9=\"\",\"\",Hoja3!U9)","v":""},{"$f":"IF(Hoja3!V9=\"\",\"\",Hoja3!V9)","v":""},{"$f":"IF(Hoja3!W9=\"\",\"\",Hoja3!W9)","v":""},{"$f":"IF(Hoja3!X9=\"\",\"\",Hoja3!X9)","v":""},null,"NIT",{"$f":"IF(Hoja3!AA9=\"\",\"\",Hoja3!AA9)","v":""},{"$f":"IF(Hoja3!AB9=\"\",\"\",Hoja3!AB9)","v":""},{"$f":"IF(Hoja3!AC9=\"\",\"\",Hoja3!AC9)","v":""},{"$f":"IF(Hoja3!AD9=\"\",\"\",Hoja3!AD9)","v":""},{"$f":"IF(Hoja3!AE9=\"\",\"\",Hoja3!AE9)","v":""},null,"NIT",{"$f":"IF(Hoja3!AH9=\"\",\"\",Hoja3!AH9)","v":""},{"$f":"IF(Hoja3!AI9=\"\",\"\",Hoja3!AI9)","v":""},{"$f":"IF(Hoja3!AJ9=\"\",\"\",Hoja3!AJ9)","v":""},{"$f":"IF(Hoja3!AK9=\"\",\"\",Hoja3!AK9)","v":""},{"$f":"IF(Hoja3!AL9=\"\",\"\",Hoja3!AL9)","v":""},null,"NIT",{"$f":"IF(Hoja3!AO9=\"\",\"\",Hoja3!AO9)","v":""},{"$f":"IF(Hoja3!AP9=\"\",\"\",Hoja3!AP9)","v":""},{"$f":"IF(Hoja3!AQ9=\"\",\"\",Hoja3!AQ9)","v":""},{"$f":"IF(Hoja3!AR9=\"\",\"\",Hoja3!AR9)","v":""},{"$f":"IF(Hoja3!AS9=\"\",\"\",Hoja3!AS9)","v":""},null,"NIT",{"$f":"IF(Hoja3!AV9=\"\",\"\",Hoja3!AV9)","v":"AGENCIA MARITIMA TRANSMARES LTDA"},{"$f":"IF(Hoja3!AW9=\"\",\"\",Hoja3!AW9)","v":"8001162498"},{"$f":"IF(Hoja3!AX9=\"\",\"\",Hoja3!AX9)","v":38356.471469907403},{"$f":"IF(Hoja3!AY9=\"\",\"\",Hoja3!AY9)","v":"D"},{"$f":"IF(Hoja3!AZ9=\"\",\"\",Hoja3!AZ9)","v":11001}]
[null,null,null,null,null,null,null,null,null,null,null,null,null,null,null,null,null,null,null,{"$f":"IF(Hoja3!T10=\"\",\"\",Hoja3!T10)","v":""},{"$f":"IF(Hoja3!U10=\"\",\"\",Hoja3!U10)","v":""},{"$f":"IF(Hoja3!V10=\"\",\"\",Hoja3!V10)","v":""},{"$f":"IF(Hoja3!W10=\"\",\"\",Hoja3!W10)","v":""},{"$f":"IF(Hoja3!X10=\"\",\"\",Hoja3!X10)","v":""},null,null,{"$f":"IF(Hoja3!AA10=\"\",\"\",Hoja3!AA10)","v":""},{"$f":"IF(Hoja3!AB10=\"\",\"\",Hoja3!AB10)","v":""},{"$f":"IF(Hoja3!AC10=\"\",\"\",Hoja3!AC10)","v":""},{"$f":"IF(Hoja3!AD10=\"\",\"\",Hoja3!AD10)","v":""},{"$f":"IF(Hoja3!AE10=\"\",\"\",Hoja3!AE10)","v":""},null,null,{"$f":"IF(Hoja3!AH10=\"\",\"\",Hoja3!AH10)","v":""},{"$f":"IF(Hoja3!AI10=\"\",\"\",Hoja3!AI10)","v":""},{"$f":"IF(Hoja3!AJ10=\"\",\"\",Hoja3!AJ10)","v":""},{"$f":"IF(Hoja3!AK10=\"\",\"\",Hoja3!AK10)","v":""},{"$f":"IF(Hoja3!AL10=\"\",\"\",Hoja3!AL10)","v":""},null,null,{"$f":"IF(Hoja3!AO10=\"\",\"\",Hoja3!AO10)","v":""},{"$f":"IF(Hoja3!AP10=\"\",\"\",Hoja3!AP10)","v":""},{"$f":"IF(Hoja3!AQ10=\"\",\"\",Hoja3!AQ10)","v":""},{"$f":"IF(Hoja3!AR10=\"\",\"\",Hoja3!AR10)","v":""},{"$f":"IF(Hoja3!AS10=\"\",\"\",Hoja3!AS10)","v":""},null,null,{"$f":"IF(Hoja3!AV10=\"\",\"\",Hoja3!AV10)","v":"UNIVERSIDAD MILITAR NUEVA GRANADA"},{"$f":"IF(Hoja3!AW10=\"\",\"\",Hoja3!AW10)","v":"8002253408"},{"$f":"IF(Hoja3!AX10=\"\",\"\",Hoja3!AX10)","v":38358.850960648146},{"$f":"IF(Hoja3!AY10=\"\",\"\",Hoja3!AY10)","v":"D"},{"$f":"IF(Hoja3!AZ10=\"\",\"\",Hoja3!AZ10)","v":11001}]
[null,{"$f":"1+H9","v":3},"Nombre Empresa",null,null,null,null,null,null,null,null,null,null,null,null,null,null,null,null,{"$f":"IF(Hoja3!T11=\"\",\"\",Hoja3!T11)","v":""},{"$f":"IF(Hoja3!U11=\"\",\"\",Hoja3!U11)","v":""},{"$f":"IF(Hoja3!V11=\"\",\"\",Hoja3!V11)","v":""},{"$f":"IF(Hoja3!W11=\"\",\"\",Hoja3!W11)","v":""},{"$f":"IF(Hoja3!X11=\"\",\"\",Hoja3!X11)","v":""},null,null,{"$f":"IF(Hoja3!AA11=\"\",\"\",Hoja3!AA11)","v":""},{"$f":"IF(Hoja3!AB11=\"\",\"\",Hoja3!AB11)","v":""},{"$f":"IF(Hoja3!AC11=\"\",\"\",Hoja3!AC11)","v":""},{"$f":"IF(Hoja3!AD11=\"\",\"\",Hoja3!AD11)","v":""},{"$f":"IF(Hoja3!AE11=\"\",\"\",Hoja3!AE11)","v":""},null,null,{"$f":"IF(Hoja3!AH11=\"\",\"\",Hoja3!AH11)","v":""},{"$f":"IF(Hoja3!AI11=\"\",\"\",Hoja3!AI11)","v":""},{"$f":"IF(Hoja3!AJ11=\"\",\"\",Hoja3!AJ11)","v":""},{"$f":"IF(Hoja3!AK11=\"\",\"\",Hoja3!AK11)","v":""},{"$f":"IF(Hoja3!AL11=\"\",\"\",Hoja3!AL11)","v":""},null,null,{"$f":"IF(Hoja3!AO11=\"\",\"\",Hoja3!AO11)","v":""},{"$f":"IF(Hoja3!AP11=\"\",\"\",Hoja3!AP11)","v":""},{"$f":"IF(Hoja3!AQ11=\"\",\"\",Hoja3!AQ11)","v":""},{"$f":"IF(Hoja3!AR11=\"\",\"\",Hoja3!AR11)","v":""},{"$f":"IF(Hoja3!AS11=\"\",\"\",Hoja3!AS11)","v":""},null,null,{"$f":"IF(Hoja3!AV11=\"\",\"\",Hoja3!AV11)","v":"TELECORP COLOMBIA S.A."},{"$f":"IF(Hoja3!AW11=\"\",\"\",Hoja3!AW11)","v":"8300644252"},{"$f":"IF(Hoja3!AX11=\"\",\"\",Hoja3!AX11)","v":38369.834918981483},{"$f":"IF(Hoja3!AY11=\"\",\"\",Hoja3!AY11)","v":"D"},{"$f":"IF(Hoja3!AZ11=\"\",\"\",Hoja3!AZ11)","v":11001}]
[null,null,null,null,null,null,null,null,null,null,null,null,null,null,null,null,null,null,null,{"$f":"IF(Hoja3!T12=\"\",\"\",Hoja3!T12)","v":""},{"$f":"IF(Hoja3!U12=\"\",\"\",Hoja3!U12)","v":""},{"$f":"IF(Hoja3!V12=\"\",\"\",Hoja3!V12)","v":""},{"$f":"IF(Hoja3!W12=\"\",\"\",Hoja3!W12)","v":""},{"$f":"IF(Hoja3!X12=\"\",\"\",Hoja3!X12)","v":""},null,null,{"$f":"IF(Hoja3!AA12=\"\",\"\",Hoja3!AA12)","v":""},{"$f":"IF(Hoja3!AB12=\"\",\"\",Hoja3!AB12)","v":""},{"$f":"IF(Hoja3!AC12=\"\",\"\",Hoja3!AC12)","v":""},{"$f":"IF(Hoja3!AD12=\"\",\"\",Hoja3!AD12)","v":""},{"$f":"IF(Hoja3!AE12=\"\",\"\",Hoja3!AE12)","v":""},null,null,{"$f":"IF(Hoja3!AH12=\"\",\"\",Hoja3!AH12)","v":""},{"$f":"IF(Hoja3!AI12=\"\",\"\",Hoja3!AI12)","v":""},{"$f":"IF(Hoja3!AJ12=\"\",\"\",Hoja3!AJ12)","v":""},{"$f":"IF(Hoja3!AK12=\"\",\"\",Hoja3!AK12)","v":""},{"$f":"IF(Hoja3!AL12=\"\",\"\",Hoja3!AL12)","v":""},null,null,{"$f":"IF(Hoja3!AO12=\"\",\"\",Hoja3!AO12)","v":""},{"$f":"IF(Hoja3!AP12=\"\",\"\",Hoja3!AP12)","v":""},{"$f":"IF(Hoja3!AQ12=\"\",\"\",Hoja3!AQ12)","v":""},{"$f":"IF(Hoja3!AR12=\"\",\"\",Hoja3!AR12)","v":""},{"$f":"IF(Hoja3!AS12=\"\",\"\",Hoja3!AS12)","v":""},null,null,{"$f":"IF(Hoja3!AV12=\"\",\"\",Hoja3!AV12)","v":"SALUD TOTAL S.A."},{"$f":"IF(Hoja3!AW12=\"\",\"\",Hoja3!AW12)","v":"8001309074"},{"$f":"IF(Hoja3!AX12=\"\",\"\",Hoja3!AX12)","v":38387.754664351851},{"$f":"IF(Hoja3!AY12=\"\",\"\",Hoja3!AY12)","v":"D"},{"$f":"IF(Hoja3!AZ12=\"\",\"\",Hoja3!AZ12)","v":11001}]
[null,{"$f":"1+B11","v":4},"Nombre Representante Legal",null,null,null,null,null,null,null,null,null,null,null,null,null,null,null,null,{"$f":"IF(Hoja3!T13=\"\",\"\",Hoja3!T13)","v":""},{"$f":"IF(Hoja3!U13=\"\",\"\",Hoja3!U13)","v":""},{"$f":"IF(Hoja3!V13=\"\",\"\",Hoja3!V13)","v":""},{"$f":"IF(Hoja3!W13=\"\",\"\",Hoja3!W13)","v":""},{"$f":"IF(Hoja3!X13=\"\",\"\",Hoja3!X13)","v":""},null,null,{"$f":"IF(Hoja3!AA13=\"\",\"\",Hoja3!AA13)","v":""},{"$f":"IF(Hoja3!AB13=\"\",\"\",Hoja3!AB13)","v":""},{"$f":"IF(Hoja3!AC13=\"\",\"\",Hoja3!AC13)","v":""},{"$f":"IF(Hoja3!AD13=\"\",\"\",Hoja3!AD13)","v":""},{"$f":"IF(Hoja3!AE13=\"\",\"\",Hoja3!AE13)","v":""},null,null,{"$f":"IF(Hoja3!AH13=\"\",\"\",Hoja3!AH13)","v":""},{"$f":"IF(Hoja3!AI13=\"\",\"\",Hoja3!AI13)","v":""},{"$f":"IF(Hoja3!AJ13=\"\",\"\",Hoja3!AJ13)","v":""},{"$f":"IF(Hoja3!AK13=\"\",\"\",Hoja3!AK13)","v":""},{"$f":"IF(Hoja3!AL13=\"\",\"\",Hoja3!AL13)","v":""},null,null,{"$f":"IF(Hoja3!AO13=\"\",\"\",Hoja3!AO13)","v":""},{"$f":"IF(Hoja3!AP13=\"\",\"\",Hoja3!AP13)","v":""},{"$f":"IF(Hoja3!AQ13=\"\",\"\",Hoja3!AQ13)","v":""},{"$f":"IF(Hoja3!AR13=\"\",\"\",Hoja3!AR13)","v":""},{"$f":"IF(Hoja3!AS13=\"\",\"\",Hoja3!AS13)","v":""},null,null,{"$f":"IF(Hoja3!AV13=\"\",\"\",Hoja3!AV13)","v":"INVIMA"},{"$f":"IF(Hoja3!AW13=\"\",\"\",Hoja3!AW13)","v":"8300001672"},{"$f":"IF(Hoja3!AX13=\"\",\"\",Hoja3!AX13)","v":38397.775023148148},{"$f":"IF(Hoja3!AY13=\"\",\"\",Hoja3!AY13)","v":"D"},{"$f":"IF(Hoja3!AZ13=\"\",\"\",Hoja3!AZ13)","v":11001}]
[null,null,null,null,null,null,null,null,null,null,null,null,null,null,null,null,null,null,null,{"$f":"IF(Hoja3!T14=\"\",\"\",Hoja3!T14)","v":""},{"$f":"IF(Hoja3!U14=\"\",\"\",Hoja3!U14)","v":""},{"$f":"IF(Hoja3!V14=\"\",\"\",Hoja3!V14)","v":""},{"$f":"IF(Hoja3!W14=\"\",\"\",Hoja3!W14)","v":""},{"$f":"IF(Hoja3!X14=\"\",\"\",Hoja3!X14)","v":""},null,null,{"$f":"IF(Hoja3!AA14=\"\",\"\",Hoja3!AA14)","v":""},{"$f":"IF(Hoja3!AB14=\"\",\"\",Hoja3!AB14)","v":""},{"$f":"IF(Hoja3!AC14=\"\",\"\",Hoja3!AC14)","v":""},{"$f":"IF(Hoja3!AD14=\"\",\"\",Hoja3!AD14)","v":""},{"$f":"IF(Hoja3!AE14=\"\",\"\",Hoja3!AE14)","v":""},null,null,{"$f":"IF(Hoja3!AH14=\"\",\"\",Hoja3!AH14)","v":""},{"$f":"IF(Hoja3!AI14=\"\",\"\",Hoja3!AI14)","v":""},{"$f":"IF(Hoja3!AJ14=\"\",\"\",Hoja3!AJ14)","v":""},{"$f":"IF(Hoja3!AK14=\"\",\"\",Hoja3!AK14)","v":""},{"$f":"IF(Hoja3!AL14=\"\",\"\",Hoja3!AL14)","v":""},null,null,{"$f":"IF(Hoja3!AO14=\"\",\"\",Hoja3!AO14)","v":""},{"$f":"IF(Hoja3!AP14=\"\",\"\",Hoja3!AP14)","v":""},{"$f":"IF(Hoja3!AQ14=\"\",\"\",Hoja3!AQ14)","v":""},{"$f":"IF(Hoja3!AR14=\"\",\"\",Hoja3!AR14)","v":""},{"$f":"IF(Hoja3!AS14=\"\",\"\",Hoja3!AS14)","v":""},null,null,{"$f":"IF(Hoja3!AV14=\"\",\"\",Hoja3!AV14)","v":"BANCO DE CREDITO DE COLOMBIA Helm"},{"$f":"IF(Hoja3!AW14=\"\",\"\",Hoja3!AW14)","v":"86000766031"},{"$f":"IF(Hoja3!AX14=\"\",\"\",Hoja3!AX14)","v":38401.7421875},{"$f":"IF(Hoja3!AY14=\"\",\"\",Hoja3!AY14)","v":"D"},{"$f":"IF(Hoja3!AZ14=\"\",\"\",Hoja3!AZ14)","v":11001}]
[null,{"$f":"1+B13","v":5},"Tipo doc Representante Legal",null,null,null,null,{"$f":"1+B15","v":6},"Número de doc Representante Legal",null,null,null,null,null,null,null,null,null,null,{"$f":"IF(Hoja3!T15=\"\",\"\",Hoja3!T15)","v":""},{"$f":"IF(Hoja3!U15=\"\",\"\",Hoja3!U15)","v":""},{"$f":"IF(Hoja3!V15=\"\",\"\",Hoja3!V15)","v":""},{"$f":"IF(Hoja3!W15=\"\",\"\",Hoja3!W15)","v":""},{"$f":"IF(Hoja3!X15=\"\",\"\",Hoja3!X15)","v":""},null,null,{"$f":"IF(Hoja3!AA15=\"\",\"\",Hoja3!AA15)","v":""},{"$f":"IF(Hoja3!AB15=\"\",\"\",Hoja3!AB15)","v":""},{"$f":"IF(Hoja3!AC15=\"\",\"\",Hoja3!AC15)","v":""},{"$f":"IF(Hoja3!AD15=\"\",\"\",Hoja3!AD15)","v":""},{"$f":"IF(Hoja3!AE15=\"\",\"\",Hoja3!AE15)","v":""},null,null,{"$f":"IF(Hoja3!AH15=\"\",\"\",Hoja3!AH15)","v":""},{"$f":"IF(Hoja3!AI15=\"\",\"\",Hoja3!AI15)","v":""},{"$f":"IF(Hoja3!AJ15=\"\",\"\",Hoja3!AJ15)","v":""},{"$f":"IF(Hoja3!AK15=\"\",\"\",Hoja3!AK15)","v":""},{"$f":"IF(Hoja3!AL15=\"\",\"\",Hoja3!AL15)","v":""},null,null,{"$f":"IF(Hoja3!AO15=\"\",\"\",Hoja3!AO15)","v":""},{"$f":"IF(Hoja3!AP15=\"\",\"\",Hoja3!AP15)","v":""},{"$f":"IF(Hoja3!AQ15=\"\",\"\",Hoja3!AQ15)","v":""},{"$f":"IF(Hoja3!AR15=\"\",\"\",Hoja3!AR15)","v":""},{"$f":"IF(Hoja3!AS15=\"\",\"\",Hoja3!AS15)","v":""},null,null,{"$f":"IF(Hoja3!AV15=\"\",\"\",Hoja3!AV15)","v":"FUNDACION GIMNASIO CAMPESTRE"},{"$f":"IF(Hoja3!AW15=\"\",\"\",Hoja3!AW15)","v":"8600431067"},{"$f":"IF(Hoja3!AX15=\"\",\"\",Hoja3!AX15)","v":38412.673414351848},{"$f":"IF(Hoja3!AY15=\"\",\"\",Hoja3!AY15)","v":"D"},{"$f":"IF(Hoja3!AZ15=\"\",\"\",Hoja3!AZ15)","v":11001}]
[null,null,null,null,null,null,null,null,null,null,null,null,null,null,null,null,null,null,null,{"$f":"IF(Hoja3!T16=\"\",\"\",Hoja3!T16)","v":""},{"$f":"IF(Hoja3!U16=\"\",\"\",Hoja3!U16)","v":""},{"$f":"IF(Hoja3!V16=\"\",\"\",Hoja3!V16)","v":""},{"$f":"IF(Hoja3!W16=\"\",\"\",Hoja3!W16)","v":""},{"$f":"IF(Hoja3!X16=\"\",\"\",Hoja3!X16)","v":""},null,null,{"$f":"IF(Hoja3!AA16=\"\",\"\",Hoja3!AA16)","v":""},{"$f":"IF(Hoja3!AB16=\"\",\"\",Hoja3!AB16)","v":""},{"$f":"IF(Hoja3!AC16=\"\",\"\",Hoja3!AC16)","v":""},{"$f":"IF(Hoja3!AD16=\"\",\"\",Hoja3!AD16)","v":""},{"$f":"IF(Hoja3!AE16=\"\",\"\",Hoja3!AE16)","v":""},null,null,{"$f":"IF(Hoja3!AH16=\"\",\"\",Hoja3!AH16)","v":""},{"$f":"IF(Hoja3!AI16=\"\",\"\",Hoja3!AI16)","v":""},{"$f":"IF(Hoja3!AJ16=\"\",\"\",Hoja3!AJ16)","v":""},{"$f":"IF(Hoja3!AK16=\"\",\"\",Hoja3!AK16)","v":""},{"$f":"IF(Hoja3!AL16=\"\",\"\",Hoja3!AL16)","v":""},null,null,{"$f":"IF(Hoja3!AO16=\"\",\"\",Hoja3!AO16)","v":""},{"$f":"IF(Hoja3!AP16=\"\",\"\",Hoja3!AP16)","v":""},{"$f":"IF(Hoja3!AQ16=\"\",\"\",Hoja3!AQ16)","v":""},{"$f":"IF(Hoja3!AR16=\"\",\"\",Hoja3!AR16)","v":""},{"$f":"IF(Hoja3!AS16=\"\",\"\",Hoja3!AS16)","v":""},null,null,{"$f":"IF(Hoja3!AV16=\"\",\"\",Hoja3!AV16)","v":"COLMENA RIESGOS PROFESIONALES"},{"$f":"IF(Hoja3!AW16=\"\",\"\",Hoja3!AW16)","v":"8002261753"},{"$f":"IF(Hoja3!AX16=\"\",\"\",Hoja3!AX16)","v":38415.389004629629},{"$f":"IF(Hoja3!AY16=\"\",\"\",Hoja3!AY16)","v":"D"},{"$f":"IF(Hoja3!AZ16=\"\",\"\",Hoja3!AZ16)","v":11001}]
[null,{"$f":"1+H15","v":7},"N° Teléfono Representante Legal",null,null,null,null,{"$f":"1+B17","v":8},"N° Teléfono Celular Representante Legal",null,null,null,null,null,null,null,null,null,null,{"$f":"IF(Hoja3!T17=\"\",\"\",Hoja3!T17)","v":""},{"$f":"IF(Hoja3!U17=\"\",\"\",Hoja3!U17)","v":""},{"$f":"IF(Hoja3!V17=\"\",\"\",Hoja3!V17)","v":""},{"$f":"IF(Hoja3!W17=\"\",\"\",Hoja3!W17)","v":""},{"$f":"IF(Hoja3!X17=\"\",\"\",Hoja3!X17)","v":""},null,null,{"$f":"IF(Hoja3!AA17=\"\",\"\",Hoja3!AA17)","v":""},{"$f":"IF(Hoja3!AB17=\"\",\"\",Hoja3!AB17)","v":""},{"$f":"IF(Hoja3!AC17=\"\",\"\",Hoja3!AC17)","v":""},{"$f":"IF(Hoja3!AD17=\"\",\"\",Hoja3!AD17)","v":""},{"$f":"IF(Hoja3!AE17=\"\",\"\",Hoja3!AE17)","v":""},null,null,{"$f":"IF(Hoja3!AH17=\"\",\"\",Hoja3!AH17)","v":""},{"$f":"IF(Hoja3!AI17=\"\",\"\",Hoja3!AI17)","v":""},{"$f":"IF(Hoja3!AJ17=\"\",\"\",Hoja3!AJ17)","v":""},{"$f":"IF(Hoja3!AK17=\"\",\"\",Hoja3!AK17)","v":""},{"$f":"IF(Hoja3!AL17=\"\",\"\",Hoja3!AL17)","v":""},null,null,{"$f":"IF(Hoja3!AO17=\"\",\"\",Hoja3!AO17)","v":""},{"$f":"IF(Hoja3!AP17=\"\",\"\",Hoja3!AP17)","v":""},{"$f":"IF(Hoja3!AQ17=\"\",\"\",Hoja3!AQ17)","v":""},{"$f":"IF(Hoja3!AR17=\"\",\"\",Hoja3!AR17)","v":""},{"$f":"IF(Hoja3!AS17=\"\",\"\",Hoja3!AS17)","v":""},null,null,{"$f":"IF(Hoja3!AV17=\"\",\"\",Hoja3!AV17)","v":"TPC COLOMBIA S.A."},{"$f":"IF(Hoja3!AW17=\"\",\"\",Hoja3!AW17)","v":"8300747591"},{"$f":"IF(Hoja3!AX17=\"\",\"\",Hoja3!AX17)","v":38457.756192129629},{"$f":"IF(Hoja3!AY17=\"\",\"\",Hoja3!AY17)","v":"D"},{"$f":"IF(Hoja3!AZ17=\"\",\"\",Hoja3!AZ17)","v":11001}]
[null,null,null,null,null,null,null,null,null,null,null,null,null,null,null,null,null,null,null,{"$f":"IF(Hoja3!T18=\"\",\"\",Hoja3!T18)","v":""},{"$f":"IF(Hoja3!U18=\"\",\"\",Hoja3!U18)","v":""},{"$f":"IF(Hoja3!V18=\"\",\"\",Hoja3!V18)","v":""},{"$f":"IF(Hoja3!W18=\"\",\"\",Hoja3!W18)","v":""},{"$f":"IF(Hoja3!X18=\"\",\"\",Hoja3!X18)","v":""},null,null,{"$f":"IF(Hoja3!AA18=\"\",\"\",Hoja3!AA18)","v":""},{"$f":"IF(Hoja3!AB18=\"\",\"\",Hoja3!AB18)","v":""},{"$f":"IF(Hoja3!AC18=\"\",\"\",Hoja3!AC18)","v":""},{"$f":"IF(Hoja3!AD18=\"\",\"\",Hoja3!AD18)","v":""},{"$f":"IF(Hoja3!AE18=\"\",\"\",Hoja3!AE18)","v":""},null,null,{"$f":"IF(Hoja3!AH18=\"\",\"\",Hoja3!AH18)","v":""},{"$f":"IF(Hoja3!AI18=\"\",\"\",Hoja3!AI18)","v":""},{"$f":"IF(Hoja3!AJ18=\"\",\"\",Hoja3!AJ18)","v":""},{"$f":"IF(Hoja3!AK18=\"\",\"\",Hoja3!AK18)","v":""},{"$f":"IF(Hoja3!AL18=\"\",\"\",Hoja3!AL18)","v":""},null,null,{"$f":"IF(Hoja3!AO18=\"\",\"\",Hoja3!AO18)","v":""},{"$f":"IF(Hoja3!AP18=\"\",\"\",Hoja3!AP18)","v":""},{"$f":"IF(Hoja3!AQ18=\"\",\"\",Hoja3!AQ18)","v":""},{"$f":"IF(Hoja3!AR18=\"\",\"\",Hoja3!AR18)","v":""},{"$f":"IF(Hoja3!AS18=\"\",\"\",Hoja3!AS18)","v":""},null,null,{"$f":"IF(Hoja3!AV18=\"\",\"\",Hoja3!AV18)","v":"SIDEL Ltda."},{"$f":"IF(Hoja3!AW18=\"\",\"\",Hoja3!AW18)","v":"900052580"},{"$f":"IF(Hoja3!AX18=\"\",\"\",Hoja3!AX18)","v":38457.758634259255},{"$f":"IF(Hoja3!AY18=\"\",\"\",Hoja3!AY18)","v":"D"},{"$f":"IF(Hoja3!AZ18=\"\",\"\",Hoja3!AZ18)","v":11001}]
[null,{"$f":"1+H17","v":9},"Correo electrónico Representante Legal",null,null,null,null,null,null,null,null,null,null,null,null,null,null,null,null,{"$f":"IF(Hoja3!T19=\"\",\"\",Hoja3!T19)","v":""},{"$f":"IF(Hoja3!U19=\"\",\"\",Hoja3!U19)","v":""},{"$f":"IF(Hoja3!V19=\"\",\"\",Hoja3!V19)","v":""},{"$f":"IF(Hoja3!W19=\"\",\"\",Hoja3!W19)","v":""},{"$f":"IF(Hoja3!X19=\"\",\"\",Hoja3!X19)","v":""},null,null,{"$f":"IF(Hoja3!AA19=\"\",\"\",Hoja3!AA19)","v":""},{"$f":"IF(Hoja3!AB19=\"\",\"\",Hoja3!AB19)","v":""},{"$f":"IF(Hoja3!AC19=\"\",\"\",Hoja3!AC19)","v":""},{"$f":"IF(Hoja3!AD19=\"\",\"\",Hoja3!AD19)","v":""},{"$f":"IF(Hoja3!AE19=\"\",\"\",Hoja3!AE19)","v":""},null,null,{"$f":"IF(Hoja3!AH19=\"\",\"\",Hoja3!AH19)","v":""},{"$f":"IF(Hoja3!AI19=\"\",\"\",Hoja3!AI19)","v":""},{"$f":"IF(Hoja3!AJ19=\"\",\"\",Hoja3!AJ19)","v":""},{"$f":"IF(Hoja3!AK19=\"\",\"\",Hoja3!AK19)","v":""},{"$f":"IF(Hoja3!AL19=\"\",\"\",Hoja3!AL19)","v":""},null,null,{"$f":"IF(Hoja3!AO19=\"\",\"\",Hoja3!AO19)","v":""},{"$f":"IF(Hoja3!AP19=\"\",\"\",Hoja3!AP19)","v":""},{"$f":"IF(Hoja3!AQ19=\"\",\"\",Hoja3!AQ19)","v":""},{"$f":"IF(Hoja3!AR19=\"\",\"\",Hoja3!AR19)","v":""},{"$f":"IF(Hoja3!AS19=\"\",\"\",Hoja3!AS19)","v":""},null,null,{"$f":"IF(Hoja3!AV19=\"\",\"\",Hoja3!AV19)","v":"COMUNIKE LTDA."},{"$f":"IF(Hoja3!AW19=\"\",\"\",Hoja3!AW19)","v":"811043951"},{"$f":"IF(Hoja3!AX19=\"\",\"\",Hoja3!AX19)","v":38461.719722222224},{"$f":"IF(Hoja3!AY19=\"\",\"\",Hoja3!AY19)","v":"D"},{"$f":"IF(Hoja3!AZ19=\"\",\"\",Hoja3!AZ19)","v":11001}]
[null,null,null,null,null,null,null,null,null,null,null,null,null,null,null,null,null,null,null,{"$f":"IF(Hoja3!T20=\"\",\"\",Hoja3!T20)","v":""},{"$f":"IF(Hoja3!U20=\"\",\"\",Hoja3!U20)","v":""},{"$f":"IF(Hoja3!V20=\"\",\"\",Hoja3!V20)","v":""},{"$f":"IF(Hoja3!W20=\"\",\"\",Hoja3!W20)","v":""},{"$f":"IF(Hoja3!X20=\"\",\"\",Hoja3!X20)","v":""},null,null,{"$f":"IF(Hoja3!AA20=\"\",\"\",Hoja3!AA20)","v":""},{"$f":"IF(Hoja3!AB20=\"\",\"\",Hoja3!AB20)","v":""},{"$f":"IF(Hoja3!AC20=\"\",\"\",Hoja3!AC20)","v":""},{"$f":"IF(Hoja3!AD20=\"\",\"\",Hoja3!AD20)","v":""},{"$f":"IF(Hoja3!AE20=\"\",\"\",Hoja3!AE20)","v":""},null,null,{"$f":"IF(Hoja3!AH20=\"\",\"\",Hoja3!AH20)","v":""},{"$f":"IF(Hoja3!AI20=\"\",\"\",Hoja3!AI20)","v":""},{"$f":"IF(Hoja3!AJ20=\"\",\"\",Hoja3!AJ20)","v":""},{"$f":"IF(Hoja3!AK20=\"\",\"\",Hoja3!AK20)","v":""},{"$f":"IF(Hoja3!AL20=\"\",\"\",Hoja3!AL20)","v":""},null,null,{"$f":"IF(Hoja3!AO20=\"\",\"\",Hoja3!AO20)","v":""},{"$f":"IF(Hoja3!AP20=\"\",\"\",Hoja3!AP20)","v":""},{"$f":"IF(Hoja3!AQ20=\"\",\"\",Hoja3!AQ20)","v":""},{"$f":"IF(Hoja3!AR20=\"\",\"\",Hoja3!AR20)","v":""},{"$f":"IF(Hoja3!AS20=\"\",\"\",Hoja3!AS20)","v":""},null,null,{"$f":"IF(Hoja3!AV20=\"\",\"\",Hoja3!AV20)","v":"UNIVERSIDAD DE LA SALLE"},{"$f":"IF(Hoja3!AW20=\"\",\"\",Hoja3!AW20)","v":"8600155426"},{"$f":"IF(Hoja3!AX20=\"\",\"\",Hoja3!AX20)","v":38469.774363425924},{"$f":"IF(Hoja3!AY20=\"\",\"\",Hoja3!AY20)","v":"D"},{"$f":"IF(Hoja3!AZ20=\"\",\"\",Hoja3!AZ20)","v":11001}]
[null,"DATOS DE INSCRIPCIÓN",null,null,null,null,null,null,null,null,null,null,null,null,null,null,null,null,null,{"$f":"IF(Hoja3!T21=\"\",\"\",Hoja3!T21)","v":""},{"$f":"IF(Hoja3!U21=\"\",\"\",Hoja3!U21)","v":""},{"$f":"IF(Hoja3!V21=\"\",\"\",Hoja3!V21)","v":""},{"$f":"IF(Hoja3!W21=\"\",\"\",Hoja3!W21)","v":""},{"$f":"IF(Hoja3!X21=\"\",\"\",Hoja3!X21)","v":""},null,null,{"$f":"IF(Hoja3!AA21=\"\",\"\",Hoja3!AA21)","v":""},{"$f":"IF(Hoja3!AB21=\"\",\"\",Hoja3!AB21)","v":""},{"$f":"IF(Hoja3!AC21=\"\",\"\",Hoja3!AC21)","v":""},{"$f":"IF(Hoja3!AD21=\"\",\"\",Hoja3!AD21)","v":""},{"$f":"IF(Hoja3!AE21=\"\",\"\",Hoja3!AE21)","v":""},null,null,{"$f":"IF(Hoja3!AH21=\"\",\"\",Hoja3!AH21)","v":""},{"$f":"IF(Hoja3!AI21=\"\",\"\",Hoja3!AI21)","v":""},{"$f":"IF(Hoja3!AJ21=\"\",\"\",Hoja3!AJ21)","v":""},{"$f":"IF(Hoja3!AK21=\"\",\"\",Hoja3!AK21)","v":""},{"$f":"IF(Hoja3!AL21=\"\",\"\",Hoja3!AL21)","v":""},null,null,{"$f":"IF(Hoja3!AO21=\"\",\"\",Hoja3!AO21)","v":""},{"$f":"IF(Hoja3!AP21=\"\",\"\",Hoja3!AP21)","v":""},{"$f":"IF(Hoja3!AQ21=\"\",\"\",Hoja3!AQ21)","v":""},{"$f":"IF(Hoja3!AR21=\"\",\"\",Hoja3!AR21)","v":""},{"$f":"IF(Hoja3!AS21=\"\",\"\",Hoja3!AS21)","v":""},null,null,{"$f":"IF(Hoja3!AV21=\"\",\"\",Hoja3!AV21)","v":"AVIANCA S.A."},{"$f":"IF(Hoja3!AW21=\"\",\"\",Hoja3!AW21)","v":"8901005776"},{"$f":"IF(Hoja3!AX21=\"\",\"\",Hoja3!AX21)","v":38469.776504629626},{"$f":"IF(Hoja3!AY21=\"\",\"\",Hoja3!AY21)","v":"D"},{"$f":"IF(Hoja3!AZ21=\"\",\"\",Hoja3!AZ21)","v":11001}]
[null,null,null,null,null,null,null,null,null,null,null,null,null,null,null,null,null,null,null,{"$f":"IF(Hoja3!T22=\"\",\"\",Hoja3!T22)","v":""},{"$f":"IF(Hoja3!U22=\"\",\"\",Hoja3!U22)","v":""},{"$f":"IF(Hoja3!V22=\"\",\"\",Hoja3!V22)","v":""},{"$f":"IF(Hoja3!W22=\"\",\"\",Hoja3!W22)","v":""},{"$f":"IF(Hoja3!X22=\"\",\"\",Hoja3!X22)","v":""},null,null,{"$f":"IF(Hoja3!AA22=\"\",\"\",Hoja3!AA22)","v":""},{"$f":"IF(Hoja3!AB22=\"\",\"\",Hoja3!AB22)","v":""},{"$f":"IF(Hoja3!AC22=\"\",\"\",Hoja3!AC22)","v":""},{"$f":"IF(Hoja3!AD22=\"\",\"\",Hoja3!AD22)","v":""},{"$f":"IF(Hoja3!AE22=\"\",\"\",Hoja3!AE22)","v":""},null,null,{"$f":"IF(Hoja3!AH22=\"\",\"\",Hoja3!AH22)","v":""},{"$f":"IF(Hoja3!AI22=\"\",\"\",Hoja3!AI22)","v":""},{"$f":"IF(Hoja3!AJ22=\"\",\"\",Hoja3!AJ22)","v":""},{"$f":"IF(Hoja3!AK22=\"\",\"\",Hoja3!AK22)","v":""},{"$f":"IF(Hoja3!AL22=\"\",\"\",Hoja3!AL22)","v":""},null,null,{"$f":"IF(Hoja3!AO22=\"\",\"\",Hoja3!AO22)","v":""},{"$f":"IF(Hoja3!AP22=\"\",\"\",Hoja3!AP22)","v":""},{"$f":"IF(Hoja3!AQ22=\"\",\"\",Hoja3!AQ22)","v":""},{"$f":"IF(Hoja3!AR22=\"\",\"\",Hoja3!AR22)","v":""},{"$f":"IF(Hoja3!AS22=\"\",\"\",Hoja3!AS22)","v":""},null,null,{"$f":"IF(Hoja3!AV22=\"\",\"\",Hoja3!AV22)","v":"GEONET S.A."},{"$f":"IF(Hoja3!AW22=\"\",\"\",Hoja3!AW22)","v":"8110135966"},{"$f":"IF(Hoja3!AX22=\"\",\"\",Hoja3!AX22)","v":38483.671261574069},{"$f":"IF(Hoja3!AY22=\"\",\"\",Hoja3!AY22)","v":"D"},{"$f":"IF(Hoja3!AZ22=\"\",\"\",Hoja3!AZ22)","v":11001}]
[null,null,null,null,null,null,null,null,null,null,null,null,null,null,null,null,null,null,null,{"$f":"IF(Hoja3!T23=\"\",\"\",Hoja3!T23)","v":""},{"$f":"IF(Hoja3!U23=\"\",\"\",Hoja3!U23)","v":""},{"$f":"IF(Hoja3!V23=\"\",\"\",Hoja3!V23)","v":""},{"$f":"IF(Hoja3!W23=\"\",\"\",Hoja3!W23)","v":""},{"$f":"IF(Hoja3!X23=\"\",\"\",Hoja3!X23)","v":""},null,null,{"$f":"IF(Hoja3!AA23=\"\",\"\",Hoja3!AA23)","v":""},{"$f":"IF(Hoja3!AB23=\"\",\"\",Hoja3!AB23)","v":""},{"$f":"IF(Hoja3!AC23=\"\",\"\",Hoja3!AC23)","v":""},{"$f":"IF(Hoja3!AD23=\"\",\"\",Hoja3!AD23)","v":""},{"$f":"IF(Hoja3!AE23=\"\",\"\",Hoja3!AE23)","v":""},null,null,{"$f":"IF(Hoja3!AH23=\"\",\"\",Hoja3!AH23)","v":""},{"$f":"IF(Hoja3!AI23=\"\",\"\",Hoja3!AI23)","v":""},{"$f":"IF(Hoja3!AJ23=\"\",\"\",Hoja3!AJ23)","v":""},{"$f":"IF(Hoja3!AK23=\"\",\"\",Hoja3!AK23)","v":""},{"$f":"IF(Hoja3!AL23=\"\",\"\",Hoja3!AL23)","v":""},null,null,{"$f":"IF(Hoja3!AO23=\"\",\"\",Hoja3!AO23)","v":""},{"$f":"IF(Hoja3!AP23=\"\",\"\",Hoja3!AP23)","v":""},{"$f":"IF(Hoja3!AQ23=\"\",\"\",Hoja3!AQ23)","v":""},{"$f":"IF(Hoja3!AR23=\"\",\"\",Hoja3!AR23)","v":""},{"$f":"IF(Hoja3!AS23=\"\",\"\",Hoja3!AS23)","v":""},null,null,{"$f":"IF(Hoja3!AV23=\"\",\"\",Hoja3!AV23)","v":"UNIVERSIDAD DE LA SABANA"},{"$f":"IF(Hoja3!AW23=\"\",\"\",Hoja3!AW23)","v":"8600755581"},{"$f":"IF(Hoja3!AX23=\"\",\"\",Hoja3!AX23)","v":38484.341770833329},{"$f":"IF(Hoja3!AY23=\"\",\"\",Hoja3!AY23)","v":"D"},{"$f":"IF(Hoja3!AZ23=\"\",\"\",Hoja3!AZ23)","v":11001}]
[null,{"$f":"1+B19","v":10},"Búsqueda del Comercio",null,null,null,null,{"$f":"1+B24","v":11},"Seleccione el nombre del comercio para aplicar la novedad:",null,null,null,null,null,null,null,null,null,null,{"$f":"IF(Hoja3!T24=\"\",\"\",Hoja3!T24)","v":""},{"$f":"IF(Hoja3!U24=\"\",\"\",Hoja3!U24)","v":""},{"$f":"IF(Hoja3!V24=\"\",\"\",Hoja3!V24)","v":""},{"$f":"IF(Hoja3!W24=\"\",\"\",Hoja3!W24)","v":""},{"$f":"IF(Hoja3!X24=\"\",\"\",Hoja3!X24)","v":""},null,null,{"$f":"IF(Hoja3!AA24=\"\",\"\",Hoja3!AA24)","v":""},{"$f":"IF(Hoja3!AB24=\"\",\"\",Hoja3!AB24)","v":""},{"$f":"IF(Hoja3!AC24=\"\",\"\",Hoja3!AC24)","v":""},{"$f":"IF(Hoja3!AD24=\"\",\"\",Hoja3!AD24)","v":""},{"$f":"IF(Hoja3!AE24=\"\",\"\",Hoja3!AE24)","v":""},null,null,{"$f":"IF(Hoja3!AH24=\"\",\"\",Hoja3!AH24)","v":""},{"$f":"IF(Hoja3!AI24=\"\",\"\",Hoja3!AI24)","v":""},{"$f":"IF(Hoja3!AJ24=\"\",\"\",Hoja3!AJ24)","v":""},{"$f":"IF(Hoja3!AK24=\"\",\"\",Hoja3!AK24)","v":""},{"$f":"IF(Hoja3!AL24=\"\",\"\",Hoja3!AL24)","v":""},null,null,{"$f":"IF(Hoja3!AO24=\"\",\"\",Hoja3!AO24)","v":""},{"$f":"IF(Hoja3!AP24=\"\",\"\",Hoja3!AP24)","v":""},{"$f":"IF(Hoja3!AQ24=\"\",\"\",Hoja3!AQ24)","v":""},{"$f":"IF(Hoja3!AR24=\"\",\"\",Hoja3!AR24)","v":""},{"$f":"IF(Hoja3!AS24=\"\",\"\",Hoja3!AS24)","v":""},null,null,{"$f":"IF(Hoja3!AV24=\"\",\"\",Hoja3!AV24)","v":"UNIVERSIDAD DE LOS ANDES"},{"$f":"IF(Hoja3!AW24=\"\",\"\",Hoja3!AW24)","v":"8600073861"},{"$f":"IF(Hoja3!AX24=\"\",\"\",Hoja3!AX24)","v":38488.346331018518},{"$f":"IF(Hoja3!AY24=\"\",\"\",Hoja3!AY24)","v":"D"},{"$f":"IF(Hoja3!AZ24=\"\",\"\",Hoja3!AZ24)","v":11001}]
[null,null,null,null,null,null,null,null,null,null,null,null,null,null,null,null,null,null,null,{"$f":"IF(Hoja3!T25=\"\",\"\",Hoja3!T25)","v":""},{"$f":"IF(Hoja3!U25=\"\",\"\",Hoja3!U25)","v":""},{"$f":"IF(Hoja3!V25=\"\",\"\",Hoja3!V25)","v":""},{"$f":"IF(Hoja3!W25=\"\",\"\",Hoja3!W25)","v":""},{"$f":"IF(Hoja3!X25=\"\",\"\",Hoja3!X25)","v":""},null,null,{"$f":"IF(Hoja3!AA25=\"\",\"\",Hoja3!AA25)","v":""},{"$f":"IF(Hoja3!AB25=\"\",\"\",Hoja3!AB25)","v":""},{"$f":"IF(Hoja3!AC25=\"\",\"\",Hoja3!AC25)","v":""},{"$f":"IF(Hoja3!AD25=\"\",\"\",Hoja3!AD25)","v":""},{"$f":"IF(Hoja3!AE25=\"\",\"\",Hoja3!AE25)","v":""},null,null,{"$f":"IF(Hoja3!AH25=\"\",\"\",Hoja3!AH25)","v":""},{"$f":"IF(Hoja3!AI25=\"\",\"\",Hoja3!AI25)","v":""},{"$f":"IF(Hoja3!AJ25=\"\",\"\",Hoja3!AJ25)","v":""},{"$f":"IF(Hoja3!AK25=\"\",\"\",Hoja3!AK25)","v":""},{"$f":"IF(Hoja3!AL25=\"\",\"\",Hoja3!AL25)","v":""},null,null,{"$f":"IF(Hoja3!AO25=\"\",\"\",Hoja3!AO25)","v":""},{"$f":"IF(Hoja3!AP25=\"\",\"\",Hoja3!AP25)","v":""},{"$f":"IF(Hoja3!AQ25=\"\",\"\",Hoja3!AQ25)","v":""},{"$f":"IF(Hoja3!AR25=\"\",\"\",Hoja3!AR25)","v":""},{"$f":"IF(Hoja3!AS25=\"\",\"\",Hoja3!AS25)","v":""},null,null,{"$f":"IF(Hoja3!AV25=\"\",\"\",Hoja3!AV25)","v":"EDITORIAL NORMA S.A."},{"$f":"IF(Hoja3!AW25=\"\",\"\",Hoja3!AW25)","v":"8903089315"},{"$f":"IF(Hoja3!AX25=\"\",\"\",Hoja3!AX25)","v":38492.409409722219},{"$f":"IF(Hoja3!AY25=\"\",\"\",Hoja3!AY25)","v":"D"},{"$f":"IF(Hoja3!AZ25=\"\",\"\",Hoja3!AZ25)","v":11001}]
[null,{"$f":"1+H24","v":12},"Tipo de Novedad",null,null,null,null,null,null,null,null,null,null,6,null,null,null,null,null,{"$f":"IF(Hoja3!T26=\"\",\"\",Hoja3!T26)","v":""},{"$f":"IF(Hoja3!U26=\"\",\"\",Hoja3!U26)","v":""},{"$f":"IF(Hoja3!V26=\"\",\"\",Hoja3!V26)","v":""},{"$f":"IF(Hoja3!W26=\"\",\"\",Hoja3!W26)","v":""},{"$f":"IF(Hoja3!X26=\"\",\"\",Hoja3!X26)","v":""},null,null,{"$f":"IF(Hoja3!AA26=\"\",\"\",Hoja3!AA26)","v":""},{"$f":"IF(Hoja3!AB26=\"\",\"\",Hoja3!AB26)","v":""},{"$f":"IF(Hoja3!AC26=\"\",\"\",Hoja3!AC26)","v":""},{"$f":"IF(Hoja3!AD26=\"\",\"\",Hoja3!AD26)","v":""},{"$f":"IF(Hoja3!AE26=\"\",\"\",Hoja3!AE26)","v":""},null,null,{"$f":"IF(Hoja3!AH26=\"\",\"\",Hoja3!AH26)","v":""},{"$f":"IF(Hoja3!AI26=\"\",\"\",Hoja3!AI26)","v":""},{"$f":"IF(Hoja3!AJ26=\"\",\"\",Hoja3!AJ26)","v":""},{"$f":"IF(Hoja3!AK26=\"\",\"\",Hoja3!AK26)","v":""},{"$f":"IF(Hoja3!AL26=\"\",\"\",Hoja3!AL26)","v":""},null,null,{"$f":"IF(Hoja3!AO26=\"\",\"\",Hoja3!AO26)","v":""},{"$f":"IF(Hoja3!AP26=\"\",\"\",Hoja3!AP26)","v":""},{"$f":"IF(Hoja3!AQ26=\"\",\"\",Hoja3!AQ26)","v":""},{"$f":"IF(Hoja3!AR26=\"\",\"\",Hoja3!AR26)","v":""},{"$f":"IF(Hoja3!AS26=\"\",\"\",Hoja3!AS26)","v":""},null,null,{"$f":"IF(Hoja3!AV26=\"\",\"\",Hoja3!AV26)","v":"ALIMENTOS DON JACOBO S.A."},{"$f":"IF(Hoja3!AW26=\"\",\"\",Hoja3!AW26)","v":"8001561659"},{"$f":"IF(Hoja3!AX26=\"\",\"\",Hoja3!AX26)","v":38495.834594907406},{"$f":"IF(Hoja3!AY26=\"\",\"\",Hoja3!AY26)","v":"D"},{"$f":"IF(Hoja3!AZ26=\"\",\"\",Hoja3!AZ26)","v":11001}]
[null,null,null,null,null,null,null,null,null,null,null,null,null,null,null,null,null,null,null,{"$f":"IF(Hoja3!T27=\"\",\"\",Hoja3!T27)","v":""},{"$f":"IF(Hoja3!U27=\"\",\"\",Hoja3!U27)","v":""},{"$f":"IF(Hoja3!V27=\"\",\"\",Hoja3!V27)","v":""},{"$f":"IF(Hoja3!W27=\"\",\"\",Hoja3!W27)","v":""},{"$f":"IF(Hoja3!X27=\"\",\"\",Hoja3!X27)","v":""},null,null,{"$f":"IF(Hoja3!AA27=\"\",\"\",Hoja3!AA27)","v":""},{"$f":"IF(Hoja3!AB27=\"\",\"\",Hoja3!AB27)","v":""},{"$f":"IF(Hoja3!AC27=\"\",\"\",Hoja3!AC27)","v":""},{"$f":"IF(Hoja3!AD27=\"\",\"\",Hoja3!AD27)","v":""},{"$f":"IF(Hoja3!AE27=\"\",\"\",Hoja3!AE27)","v":""},null,null,{"$f":"IF(Hoja3!AH27=\"\",\"\",Hoja3!AH27)","v":""},{"$f":"IF(Hoja3!AI27=\"\",\"\",Hoja3!AI27)","v":""},{"$f":"IF(Hoja3!AJ27=\"\",\"\",Hoja3!AJ27)","v":""},{"$f":"IF(Hoja3!AK27=\"\",\"\",Hoja3!AK27)","v":""},{"$f":"IF(Hoja3!AL27=\"\",\"\",Hoja3!AL27)","v":""},null,null,{"$f":"IF(Hoja3!AO27=\"\",\"\",Hoja3!AO27)","v":""},{"$f":"IF(Hoja3!AP27=\"\",\"\",Hoja3!AP27)","v":""},{"$f":"IF(Hoja3!AQ27=\"\",\"\",Hoja3!AQ27)","v":""},{"$f":"IF(Hoja3!AR27=\"\",\"\",Hoja3!AR27)","v":""},{"$f":"IF(Hoja3!AS27=\"\",\"\",Hoja3!AS27)","v":""},null,null,{"$f":"IF(Hoja3!AV27=\"\",\"\",Hoja3!AV27)","v":"MAREIGUA LTDA"},{"$f":"IF(Hoja3!AW27=\"\",\"\",Hoja3!AW27)","v":"8001673534"},{"$f":"IF(Hoja3!AX27=\"\",\"\",Hoja3!AX27)","v":38496.785752314812},{"$f":"IF(Hoja3!AY27=\"\",\"\",Hoja3!AY27)","v":"D"},{"$f":"IF(Hoja3!AZ27=\"\",\"\",Hoja3!AZ27)","v":11001}]
[null,{"$f":"1+B26","v":13},"Nombre del comercio",null,null,null,null,{"$f":"1+B28","v":14},"Tipo ID Comercio",null,{"$f":"1+H28","v":15},"N° ID Comercio",null,null,null,null,null,null,null,{"$f":"IF(Hoja3!T28=\"\",\"\",Hoja3!T28)","v":""},{"$f":"IF(Hoja3!U28=\"\",\"\",Hoja3!U28)","v":""},{"$f":"IF(Hoja3!V28=\"\",\"\",Hoja3!V28)","v":""},{"$f":"IF(Hoja3!W28=\"\",\"\",Hoja3!W28)","v":""},{"$f":"IF(Hoja3!X28=\"\",\"\",Hoja3!X28)","v":""},null,null,{"$f":"IF(Hoja3!AA28=\"\",\"\",Hoja3!AA28)","v":""},{"$f":"IF(Hoja3!AB28=\"\",\"\",Hoja3!AB28)","v":""},{"$f":"IF(Hoja3!AC28=\"\",\"\",Hoja3!AC28)","v":""},{"$f":"IF(Hoja3!AD28=\"\",\"\",Hoja3!AD28)","v":""},{"$f":"IF(Hoja3!AE28=\"\",\"\",Hoja3!AE28)","v":""},null,null,{"$f":"IF(Hoja3!AH28=\"\",\"\",Hoja3!AH28)","v":""},{"$f":"IF(Hoja3!AI28=\"\",\"\",Hoja3!AI28)","v":""},{"$f":"IF(Hoja3!AJ28=\"\",\"\",Hoja3!AJ28)","v":""},{"$f":"IF(Hoja3!AK28=\"\",\"\",Hoja3!AK28)","v":""},{"$f":"IF(Hoja3!AL28=\"\",\"\",Hoja3!AL28)","v":""},null,null,{"$f":"IF(Hoja3!AO28=\"\",\"\",Hoja3!AO28)","v":""},{"$f":"IF(Hoja3!AP28=\"\",\"\",Hoja3!AP28)","v":""},{"$f":"IF(Hoja3!AQ28=\"\",\"\",Hoja3!AQ28)","v":""},{"$f":"IF(Hoja3!AR28=\"\",\"\",Hoja3!AR28)","v":""},{"$f":"IF(Hoja3!AS28=\"\",\"\",Hoja3!AS28)","v":""},null,null,{"$f":"IF(Hoja3!AV28=\"\",\"\",Hoja3!AV28)","v":"PORVENIR S.A. SSS"},{"$f":"IF(Hoja3!AW28=\"\",\"\",Hoja3!AW28)","v":"8002248088"},{"$f":"IF(Hoja3!AX28=\"\",\"\",Hoja3!AX28)","v":38496.788495370369},{"$f":"IF(Hoja3!AY28=\"\",\"\",Hoja3!AY28)","v":"D"},{"$f":"IF(Hoja3!AZ28=\"\",\"\",Hoja3!AZ28)","v":11001}]
[null,null,{"$f":"IF(I26=\"\",\"\",VLOOKUP(I26,Hoja3!T1:X112,1,0))","v":""},null,null,null,null,null,{"$f":"IF(C29<>\"\",S9,\"\")","v":""},null,null,{"$f":"IF(I26=\"\",\"\",VLOOKUP(I26,Hoja3!T1:X112,2,0))","v":""},null,null,null,null,null,null,null,{"$f":"IF(Hoja3!T29=\"\",\"\",Hoja3!T29)","v":""},{"$f":"IF(Hoja3!U29=\"\",\"\",Hoja3!U29)","v":""},{"$f":"IF(Hoja3!V29=\"\",\"\",Hoja3!V29)","v":""},{"$f":"IF(Hoja3!W29=\"\",\"\",Hoja3!W29)","v":""},{"$f":"IF(Hoja3!X29=\"\",\"\",Hoja3!X29)","v":""},null,null,{"$f":"IF(Hoja3!AA29=\"\",\"\",Hoja3!AA29)","v":""},{"$f":"IF(Hoja3!AB29=\"\",\"\",Hoja3!AB29)","v":""},{"$f":"IF(Hoja3!AC29=\"\",\"\",Hoja3!AC29)","v":""},{"$f":"IF(Hoja3!AD29=\"\",\"\",Hoja3!AD29)","v":""},{"$f":"IF(Hoja3!AE29=\"\",\"\",Hoja3!AE29)","v":""},null,null,{"$f":"IF(Hoja3!AH29=\"\",\"\",Hoja3!AH29)","v":""},{"$f":"IF(Hoja3!AI29=\"\",\"\",Hoja3!AI29)","v":""},{"$f":"IF(Hoja3!AJ29=\"\",\"\",Hoja3!AJ29)","v":""},{"$f":"IF(Hoja3!AK29=\"\",\"\",Hoja3!AK29)","v":""},{"$f":"IF(Hoja3!AL29=\"\",\"\",Hoja3!AL29)","v":""},null,null,{"$f":"IF(Hoja3!AO29=\"\",\"\",Hoja3!AO29)","v":""},{"$f":"IF(Hoja3!AP29=\"\",\"\",Hoja3!AP29)","v":""},{"$f":"IF(Hoja3!AQ29=\"\",\"\",Hoja3!AQ29)","v":""},{"$f":"IF(Hoja3!AR29=\"\",\"\",Hoja3!AR29)","v":""},{"$f":"IF(Hoja3!AS29=\"\",\"\",Hoja3!AS29)","v":""},null,null,{"$f":"IF(Hoja3!AV29=\"\",\"\",Hoja3!AV29)","v":"MARATON INTERNACIONAL DE MEDELLIN"},{"$f":"IF(Hoja3!AW29=\"\",\"\",Hoja3!AW29)","v":"8110408481"},{"$f":"IF(Hoja3!AX29=\"\",\"\",Hoja3!AX29)","v":38513.784189814811},{"$f":"IF(Hoja3!AY29=\"\",\"\",Hoja3!AY29)","v":"D"},{"$f":"IF(Hoja3!AZ29=\"\",\"\",Hoja3!AZ29)","v":11001}]
[null,null,null,null,null,null,null,null,null,null,null,null,null,null,null,null,null,null,null,{"$f":"IF(Hoja3!T30=\"\",\"\",Hoja3!T30)","v":""},{"$f":"IF(Hoja3!U30=\"\",\"\",Hoja3!U30)","v":""},{"$f":"IF(Hoja3!V30=\"\",\"\",Hoja3!V30)","v":""},{"$f":"IF(Hoja3!W30=\"\",\"\",Hoja3!W30)","v":""},{"$f":"IF(Hoja3!X30=\"\",\"\",Hoja3!X30)","v":""},null,null,{"$f":"IF(Hoja3!AA30=\"\",\"\",Hoja3!AA30)","v":""},{"$f":"IF(Hoja3!AB30=\"\",\"\",Hoja3!AB30)","v":""},{"$f":"IF(Hoja3!AC30=\"\",\"\",Hoja3!AC30)","v":""},{"$f":"IF(Hoja3!AD30=\"\",\"\",Hoja3!AD30)","v":""},{"$f":"IF(Hoja3!AE30=\"\",\"\",Hoja3!AE30)","v":""},null,null,{"$f":"IF(Hoja3!AH30=\"\",\"\",Hoja3!AH30)","v":""},{"$f":"IF(Hoja3!AI30=\"\",\"\",Hoja3!AI30)","v":""},{"$f":"IF(Hoja3!AJ30=\"\",\"\",Hoja3!AJ30)","v":""},{"$f":"IF(Hoja3!AK30=\"\",\"\",Hoja3!AK30)","v":""},{"$f":"IF(Hoja3!AL30=\"\",\"\",Hoja3!AL30)","v":""},null,null,{"$f":"IF(Hoja3!AO30=\"\",\"\",Hoja3!AO30)","v":""},{"$f":"IF(Hoja3!AP30=\"\",\"\",Hoja3!AP30)","v":""},{"$f":"IF(Hoja3!AQ30=\"\",\"\",Hoja3!AQ30)","v":""},{"$f":"IF(Hoja3!AR30=\"\",\"\",Hoja3!AR30)","v":""},{"$f":"IF(Hoja3!AS30=\"\",\"\",Hoja3!AS30)","v":""},null,null,{"$f":"IF(Hoja3!AV30=\"\",\"\",Hoja3!AV30)","v":"INPREL S.A."},{"$f":"IF(Hoja3!AW30=\"\",\"\",Hoja3!AW30)","v":"8001218537"},{"$f":"IF(Hoja3!AX30=\"\",\"\",Hoja3!AX30)","v":38517.393437499995},{"$f":"IF(Hoja3!AY30=\"\",\"\",Hoja3!AY30)","v":"D"},{"$f":"IF(Hoja3!AZ30=\"\",\"\",Hoja3!AZ30)","v":11001}]
[null,{"$f":"1+K28","v":16},"Entidad",null,{"$f":"1+B31","v":17},"Grupo",null,{"$f":"+E31+1","v":18},"Ciudad",null,null,null,null,null,null,null,null,null,null,{"$f":"IF(Hoja3!T31=\"\",\"\",Hoja3!T31)","v":""},{"$f":"IF(Hoja3!U31=\"\",\"\",Hoja3!U31)","v":""},{"$f":"IF(Hoja3!V31=\"\",\"\",Hoja3!V31)","v":""},{"$f":"IF(Hoja3!W31=\"\",\"\",Hoja3!W31)","v":""},{"$f":"IF(Hoja3!X31=\"\",\"\",Hoja3!X31)","v":""},null,null,{"$f":"IF(Hoja3!AA31=\"\",\"\",Hoja3!AA31)","v":""},{"$f":"IF(Hoja3!AB31=\"\",\"\",Hoja3!AB31)","v":""},{"$f":"IF(Hoja3!AC31=\"\",\"\",Hoja3!AC31)","v":""},{"$f":"IF(Hoja3!AD31=\"\",\"\",Hoja3!AD31)","v":""},{"$f":"IF(Hoja3!AE31=\"\",\"\",Hoja3!AE31)","v":""},null,null,{"$f":"IF(Hoja3!AH31=\"\",\"\",Hoja3!AH31)","v":""},{"$f":"IF(Hoja3!AI31=\"\",\"\",Hoja3!AI31)","v":""},{"$f":"IF(Hoja3!AJ31=\"\",\"\",Hoja3!AJ31)","v":""},{"$f":"IF(Hoja3!AK31=\"\",\"\",Hoja3!AK31)","v":""},{"$f":"IF(Hoja3!AL31=\"\",\"\",Hoja3!AL31)","v":""},null,null,{"$f":"IF(Hoja3!AO31=\"\",\"\",Hoja3!AO31)","v":""},{"$f":"IF(Hoja3!AP31=\"\",\"\",Hoja3!AP31)","v":""},{"$f":"IF(Hoja3!AQ31=\"\",\"\",Hoja3!AQ31)","v":""},{"$f":"IF(Hoja3!AR31=\"\",\"\",Hoja3!AR31)","v":""},{"$f":"IF(Hoja3!AS31=\"\",\"\",Hoja3!AS31)","v":""},null,null,{"$f":"IF(Hoja3!AV31=\"\",\"\",Hoja3!AV31)","v":"SOC. PORT. REG. CARTAGENA"},{"$f":"IF(Hoja3!AW31=\"\",\"\",Hoja3!AW31)","v":"8002009691"},{"$f":"IF(Hoja3!AX31=\"\",\"\",Hoja3!AX31)","v":38517.39738425926},{"$f":"IF(Hoja3!AY31=\"\",\"\",Hoja3!AY31)","v":"D"},{"$f":"IF(Hoja3!AZ31=\"\",\"\",Hoja3!AZ31)","v":11001}]
[null,null,{"$f":"IF(C29<>\"\",S8,\"\")","v":""},null,null,{"$f":"IF(I26=\"\",\"\",VLOOKUP(I26,Hoja3!T1:X112,4,0))","v":""},null,null,{"$f":"IF(I26=\"\",\"\",VLOOKUP(I26,Hoja3!T1:X112,5,0))","v":""},null,null,null,null,null,null,null,null,null,null,{"$f":"IF(Hoja3!T32=\"\",\"\",Hoja3!T32)","v":""},{"$f":"IF(Hoja3!U32=\"\",\"\",Hoja3!U32)","v":""},{"$f":"IF(Hoja3!V32=\"\",\"\",Hoja3!V32)","v":""},{"$f":"IF(Hoja3!W32=\"\",\"\",Hoja3!W32)","v":""},{"$f":"IF(Hoja3!X32=\"\",\"\",Hoja3!X32)","v":""},null,null,{"$f":"IF(Hoja3!AA32=\"\",\"\",Hoja3!AA32)","v":""},{"$f":"IF(Hoja3!AB32=\"\",\"\",Hoja3!AB32)","v":""},{"$f":"IF(Hoja3!AC32=\"\",\"\",Hoja3!AC32)","v":""},{"$f":"IF(Hoja3!AD32=\"\",\"\",Hoja3!AD32)","v":""},{"$f":"IF(Hoja3!AE32=\"\",\"\",Hoja3!AE32)","v":""},null,null,{"$f":"IF(Hoja3!AH32=\"\",\"\",Hoja3!AH32)","v":""},{"$f":"IF(Hoja3!AI32=\"\",\"\",Hoja3!AI32)","v":""},{"$f":"IF(Hoja3!AJ32=\"\",\"\",Hoja3!AJ32)","v":""},{"$f":"IF(Hoja3!AK32=\"\",\"\",Hoja3!AK32)","v":""},{"$f":"IF(Hoja3!AL32=\"\",\"\",Hoja3!AL32)","v":""},null,null,{"$f":"IF(Hoja3!AO32=\"\",\"\",Hoja3!AO32)","v":""},{"$f":"IF(Hoja3!AP32=\"\",\"\",Hoja3!AP32)","v":""},{"$f":"IF(Hoja3!AQ32=\"\",\"\",Hoja3!AQ32)","v":""},{"$f":"IF(Hoja3!AR32=\"\",\"\",Hoja3!AR32)","v":""},{"$f":"IF(Hoja3!AS32=\"\",\"\",Hoja3!AS32)","v":""},null,null,{"$f":"IF(Hoja3!AV32=\"\",\"\",Hoja3!AV32)","v":"UDES CORP UNIV DE SANTANDER"},{"$f":"IF(Hoja3!AW32=\"\",\"\",Hoja3!AW32)","v":"8040018901"},{"$f":"IF(Hoja3!AX32=\"\",\"\",Hoja3!AX32)","v":38530.397372685184},{"$f":"IF(Hoja3!AY32=\"\",\"\",Hoja3!AY32)","v":"D"},{"$f":"IF(Hoja3!AZ32=\"\",\"\",Hoja3!AZ32)","v":11001}]
[null,null,null,null,null,null,null,null,null,null,null,null,null,null,null,null,null,null,null,{"$f":"IF(Hoja3!T33=\"\",\"\",Hoja3!T33)","v":""},{"$f":"IF(Hoja3!U33=\"\",\"\",Hoja3!U33)","v":""},{"$f":"IF(Hoja3!V33=\"\",\"\",Hoja3!V33)","v":""},{"$f":"IF(Hoja3!W33=\"\",\"\",Hoja3!W33)","v":""},{"$f":"IF(Hoja3!X33=\"\",\"\",Hoja3!X33)","v":""},null,null,{"$f":"IF(Hoja3!AA33=\"\",\"\",Hoja3!AA33)","v":""},{"$f":"IF(Hoja3!AB33=\"\",\"\",Hoja3!AB33)","v":""},{"$f":"IF(Hoja3!AC33=\"\",\"\",Hoja3!AC33)","v":""},{"$f":"IF(Hoja3!AD33=\"\",\"\",Hoja3!AD33)","v":""},{"$f":"IF(Hoja3!AE33=\"\",\"\",Hoja3!AE33)","v":""},null,null,{"$f":"IF(Hoja3!AH33=\"\",\"\",Hoja3!AH33)","v":""},{"$f":"IF(Hoja3!AI33=\"\",\"\",Hoja3!AI33)","v":""},{"$f":"IF(Hoja3!AJ33=\"\",\"\",Hoja3!AJ33)","v":""},{"$f":"IF(Hoja3!AK33=\"\",\"\",Hoja3!AK33)","v":""},{"$f":"IF(Hoja3!AL33=\"\",\"\",Hoja3!AL33)","v":""},null,null,{"$f":"IF(Hoja3!AO33=\"\",\"\",Hoja3!AO33)","v":""},{"$f":"IF(Hoja3!AP33=\"\",\"\",Hoja3!AP33)","v":""},{"$f":"IF(Hoja3!AQ33=\"\",\"\",Hoja3!AQ33)","v":""},{"$f":"IF(Hoja3!AR33=\"\",\"\",Hoja3!AR33)","v":""},{"$f":"IF(Hoja3!AS33=\"\",\"\",Hoja3!AS33)","v":""},null,null,{"$f":"IF(Hoja3!AV33=\"\",\"\",Hoja3!AV33)","v":"CORPORACION CLUB CAMPESTRE DE CALI"},{"$f":"IF(Hoja3!AW33=\"\",\"\",Hoja3!AW33)","v":"8903080408"},{"$f":"IF(Hoja3!AX33=\"\",\"\",Hoja3!AX33)","v":38530.426944444444},{"$f":"IF(Hoja3!AY33=\"\",\"\",Hoja3!AY33)","v":"D"},{"$f":"IF(Hoja3!AZ33=\"\",\"\",Hoja3!AZ33)","v":11001}]
[null,{"$f":"1+H31","v":19},{"$f":"IF(F32=\"D\",\"\",\"Número de identificación del aportante\")","v":"Número de identificación del aportante"},null,null,null,null,null,null,null,null,null,null,null,null,null,null,null,null,{"$f":"IF(Hoja3!T34=\"\",\"\",Hoja3!T34)","v":""},{"$f":"IF(Hoja3!U34=\"\",\"\",Hoja3!U34)","v":""},{"$f":"IF(Hoja3!V34=\"\",\"\",Hoja3!V34)","v":""},{"$f":"IF(Hoja3!W34=\"\",\"\",Hoja3!W34)","v":""},{"$f":"IF(Hoja3!X34=\"\",\"\",Hoja3!X34)","v":""},null,null,{"$f":"IF(Hoja3!AA34=\"\",\"\",Hoja3!AA34)","v":""},{"$f":"IF(Hoja3!AB34=\"\",\"\",Hoja3!AB34)","v":""},{"$f":"IF(Hoja3!AC34=\"\",\"\",Hoja3!AC34)","v":""},{"$f":"IF(Hoja3!AD34=\"\",\"\",Hoja3!AD34)","v":""},{"$f":"IF(Hoja3!AE34=\"\",\"\",Hoja3!AE34)","v":""},null,null,{"$f":"IF(Hoja3!AH34=\"\",\"\",Hoja3!AH34)","v":""},{"$f":"IF(Hoja3!AI34=\"\",\"\",Hoja3!AI34)","v":""},{"$f":"IF(Hoja3!AJ34=\"\",\"\",Hoja3!AJ34)","v":""},{"$f":"IF(Hoja3!AK34=\"\",\"\",Hoja3!AK34)","v":""},{"$f":"IF(Hoja3!AL34=\"\",\"\",Hoja3!AL34)","v":""},null,null,{"$f":"IF(Hoja3!AO34=\"\",\"\",Hoja3!AO34)","v":""},{"$f":"IF(Hoja3!AP34=\"\",\"\",Hoja3!AP34)","v":""},{"$f":"IF(Hoja3!AQ34=\"\",\"\",Hoja3!AQ34)","v":""},{"$f":"IF(Hoja3!AR34=\"\",\"\",Hoja3!AR34)","v":""},{"$f":"IF(Hoja3!AS34=\"\",\"\",Hoja3!AS34)","v":""},null,null,{"$f":"IF(Hoja3!AV34=\"\",\"\",Hoja3!AV34)","v":"INSTITUTO DE SEGUROS SOCIALES"},{"$f":"IF(Hoja3!AW34=\"\",\"\",Hoja3!AW34)","v":"8600138161"},{"$f":"IF(Hoja3!AX34=\"\",\"\",Hoja3!AX34)","v":38531.568078703705},{"$f":"IF(Hoja3!AY34=\"\",\"\",Hoja3!AY34)","v":"D"},{"$f":"IF(Hoja3!AZ34=\"\",\"\",Hoja3!AZ34)","v":11001}]
[null,null,null,null,null,null,null,null,null,null,null,null,null,null,null,null,null,null,null,{"$f":"IF(Hoja3!T35=\"\",\"\",Hoja3!T35)","v":""},{"$f":"IF(Hoja3!U35=\"\",\"\",Hoja3!U35)","v":""},{"$f":"IF(Hoja3!V35=\"\",\"\",Hoja3!V35)","v":""},{"$f":"IF(Hoja3!W35=\"\",\"\",Hoja3!W35)","v":""},{"$f":"IF(Hoja3!X35=\"\",\"\",Hoja3!X35)","v":""},null,null,{"$f":"IF(Hoja3!AA35=\"\",\"\",Hoja3!AA35)","v":""},{"$f":"IF(Hoja3!AB35=\"\",\"\",Hoja3!AB35)","v":""},{"$f":"IF(Hoja3!AC35=\"\",\"\",Hoja3!AC35)","v":""},{"$f":"IF(Hoja3!AD35=\"\",\"\",Hoja3!AD35)","v":""},{"$f":"IF(Hoja3!AE35=\"\",\"\",Hoja3!AE35)","v":""},null,null,{"$f":"IF(Hoja3!AH35=\"\",\"\",Hoja3!AH35)","v":""},{"$f":"IF(Hoja3!AI35=\"\",\"\",Hoja3!AI35)","v":""},{"$f":"IF(Hoja3!AJ35=\"\",\"\",Hoja3!AJ35)","v":""},{"$f":"IF(Hoja3!AK35=\"\",\"\",Hoja3!AK35)","v":""},{"$f":"IF(Hoja3!AL35=\"\",\"\",Hoja3!AL35)","v":""},null,null,{"$f":"IF(Hoja3!AO35=\"\",\"\",Hoja3!AO35)","v":""},{"$f":"IF(Hoja3!AP35=\"\",\"\",Hoja3!AP35)","v":""},{"$f":"IF(Hoja3!AQ35=\"\",\"\",Hoja3!AQ35)","v":""},{"$f":"IF(Hoja3!AR35=\"\",\"\",Hoja3!AR35)","v":""},{"$f":"IF(Hoja3!AS35=\"\",\"\",Hoja3!AS35)","v":""},null,null,{"$f":"IF(Hoja3!AV35=\"\",\"\",Hoja3!AV35)","v":"Fondo de Pensiones Obligatorias Proteccion Moderado"},{"$f":"IF(Hoja3!AW35=\"\",\"\",Hoja3!AW35)","v":"8002297390"},{"$f":"IF(Hoja3!AX35=\"\",\"\",Hoja3!AX35)","v":38531.724895833329},{"$f":"IF(Hoja3!AY35=\"\",\"\",Hoja3!AY35)","v":"D"},{"$f":"IF(Hoja3!AZ35=\"\",\"\",Hoja3!AZ35)","v":11001}]
[null,{"$f":"1+B34","v":20},{"$f":"+IF(E26=\"Inactivar Inscripción\",\"\",\"Valor máximo por transacción\")","v":"Valor máximo por transacción"},null,null,null,{"$f":"+IF(ISTEXT(E36)=TRUE,\"*Digite solo valores numéricos\",IF(AND(E36<>\"\",E36<1000000),\"*El valor digitado no requiere inscripción\",\"\"))","v":""},null,null,null,null,null,null,null,null,null,null,null,null,{"$f":"IF(Hoja3!T36=\"\",\"\",Hoja3!T36)","v":""},{"$f":"IF(Hoja3!U36=\"\",\"\",Hoja3!U36)","v":""},{"$f":"IF(Hoja3!V36=\"\",\"\",Hoja3!V36)","v":""},{"$f":"IF(Hoja3!W36=\"\",\"\",Hoja3!W36)","v":""},{"$f":"IF(Hoja3!X36=\"\",\"\",Hoja3!X36)","v":""},null,null,{"$f":"IF(Hoja3!AA36=\"\",\"\",Hoja3!AA36)","v":""},{"$f":"IF(Hoja3!AB36=\"\",\"\",Hoja3!AB36)","v":""},{"$f":"IF(Hoja3!AC36=\"\",\"\",Hoja3!AC36)","v":""},{"$f":"IF(Hoja3!AD36=\"\",\"\",Hoja3!AD36)","v":""},{"$f":"IF(Hoja3!AE36=\"\",\"\",Hoja3!AE36)","v":""},null,null,{"$f":"IF(Hoja3!AH36=\"\",\"\",Hoja3!AH36)","v":""},{"$f":"IF(Hoja3!AI36=\"\",\"\",Hoja3!AI36)","v":""},{"$f":"IF(Hoja3!AJ36=\"\",\"\",Hoja3!AJ36)","v":""},{"$f":"IF(Hoja3!AK36=\"\",\"\",Hoja3!AK36)","v":""},{"$f":"IF(Hoja3!AL36=\"\",\"\",Hoja3!AL36)","v":""},null,null,{"$f":"IF(Hoja3!AO36=\"\",\"\",Hoja3!AO36)","v":""},{"$f":"IF(Hoja3!AP36=\"\",\"\",Hoja3!AP36)","v":""},{"$f":"IF(Hoja3!AQ36=\"\",\"\",Hoja3!AQ36)","v":""},{"$f":"IF(Hoja3!AR36=\"\",\"\",Hoja3!AR36)","v":""},{"$f":"IF(Hoja3!AS36=\"\",\"\",Hoja3!AS36)","v":""},null,null,{"$f":"IF(Hoja3!AV36=\"\",\"\",Hoja3!AV36)","v":"SURATEP S.A."},{"$f":"IF(Hoja3!AW36=\"\",\"\",Hoja3!AW36)","v":"8002561619"},{"$f":"IF(Hoja3!AX36=\"\",\"\",Hoja3!AX36)","v":38531.727430555555},{"$f":"IF(Hoja3!AY36=\"\",\"\",Hoja3!AY36)","v":"D"},{"$f":"IF(Hoja3!AZ36=\"\",\"\",Hoja3!AZ36)","v":11001}]
[null,null,null,null,null,null,null,null,null,null,null,null,null,null,null,null,null,null,null,{"$f":"IF(Hoja3!T37=\"\",\"\",Hoja3!T37)","v":""},{"$f":"IF(Hoja3!U37=\"\",\"\",Hoja3!U37)","v":""},{"$f":"IF(Hoja3!V37=\"\",\"\",Hoja3!V37)","v":""},{"$f":"IF(Hoja3!W37=\"\",\"\",Hoja3!W37)","v":""},{"$f":"IF(Hoja3!X37=\"\",\"\",Hoja3!X37)","v":""},null,null,{"$f":"IF(Hoja3!AA37=\"\",\"\",Hoja3!AA37)","v":""},{"$f":"IF(Hoja3!AB37=\"\",\"\",Hoja3!AB37)","v":""},{"$f":"IF(Hoja3!AC37=\"\",\"\",Hoja3!AC37)","v":""},{"$f":"IF(Hoja3!AD37=\"\",\"\",Hoja3!AD37)","v":""},{"$f":"IF(Hoja3!AE37=\"\",\"\",Hoja3!AE37)","v":""},null,null,{"$f":"IF(Hoja3!AH37=\"\",\"\",Hoja3!AH37)","v":""},{"$f":"IF(Hoja3!AI37=\"\",\"\",Hoja3!AI37)","v":""},{"$f":"IF(Hoja3!AJ37=\"\",\"\",Hoja3!AJ37)","v":""},{"$f":"IF(Hoja3!AK37=\"\",\"\",Hoja3!AK37)","v":""},{"$f":"IF(Hoja3!AL37=\"\",\"\",Hoja3!AL37)","v":""},null,null,{"$f":"IF(Hoja3!AO37=\"\",\"\",Hoja3!AO37)","v":""},{"$f":"IF(Hoja3!AP37=\"\",\"\",Hoja3!AP37)","v":""},{"$f":"IF(Hoja3!AQ37=\"\",\"\",Hoja3!AQ37)","v":""},{"$f":"IF(Hoja3!AR37=\"\",\"\",Hoja3!AR37)","v":""},{"$f":"IF(Hoja3!AS37=\"\",\"\",Hoja3!AS37)","v":""},null,null,{"$f":"IF(Hoja3!AV37=\"\",\"\",Hoja3!AV37)","v":"COMFENALCO SANTANDER"},{"$f":"IF(Hoja3!AW37=\"\",\"\",Hoja3!AW37)","v":"8902015787"},{"$f":"IF(Hoja3!AX37=\"\",\"\",Hoja3!AX37)","v":38531.750173611108},{"$f":"IF(Hoja3!AY37=\"\",\"\",Hoja3!AY37)","v":"D"},{"$f":"IF(Hoja3!AZ37=\"\",\"\",Hoja3!AZ37)","v":11001}]
[null,null,null,null,null,null,null,null,null,null,null,null,null,null,null,null,null,null,null,{"$f":"IF(Hoja3!T38=\"\",\"\",Hoja3!T38)","v":""},{"$f":"IF(Hoja3!U38=\"\",\"\",Hoja3!U38)","v":""},{"$f":"IF(Hoja3!V38=\"\",\"\",Hoja3!V38)","v":""},{"$f":"IF(Hoja3!W38=\"\",\"\",Hoja3!W38)","v":""},{"$f":"IF(Hoja3!X38=\"\",\"\",Hoja3!X38)","v":""},null,null,{"$f":"IF(Hoja3!AA38=\"\",\"\",Hoja3!AA38)","v":""},{"$f":"IF(Hoja3!AB38=\"\",\"\",Hoja3!AB38)","v":""},{"$f":"IF(Hoja3!AC38=\"\",\"\",Hoja3!AC38)","v":""},{"$f":"IF(Hoja3!AD38=\"\",\"\",Hoja3!AD38)","v":""},{"$f":"IF(Hoja3!AE38=\"\",\"\",Hoja3!AE38)","v":""},null,null,{"$f":"IF(Hoja3!AH38=\"\",\"\",Hoja3!AH38)","v":""},{"$f":"IF(Hoja3!AI38=\"\",\"\",Hoja3!AI38)","v":""},{"$f":"IF(Hoja3!AJ38=\"\",\"\",Hoja3!AJ38)","v":""},{"$f":"IF(Hoja3!AK38=\"\",\"\",Hoja3!AK38)","v":""},{"$f":"IF(Hoja3!AL38=\"\",\"\",Hoja3!AL38)","v":""},null,null,{"$f":"IF(Hoja3!AO38=\"\",\"\",Hoja3!AO38)","v":""},{"$f":"IF(Hoja3!AP38=\"\",\"\",Hoja3!AP38)","v":""},{"$f":"IF(Hoja3!AQ38=\"\",\"\",Hoja3!AQ38)","v":""},{"$f":"IF(Hoja3!AR38=\"\",\"\",Hoja3!AR38)","v":""},{"$f":"IF(Hoja3!AS38=\"\",\"\",Hoja3!AS38)","v":""},null,null,{"$f":"IF(Hoja3!AV38=\"\",\"\",Hoja3!AV38)","v":"CRUZ BLANCA EPS S.A."},{"$f":"IF(Hoja3!AW38=\"\",\"\",Hoja3!AW38)","v":"8300097830"},{"$f":"IF(Hoja3!AX38=\"\",\"\",Hoja3!AX38)","v":38531.753842592589},{"$f":"IF(Hoja3!AY38=\"\",\"\",Hoja3!AY38)","v":"D"},{"$f":"IF(Hoja3!AZ38=\"\",\"\",Hoja3!AZ38)","v":11001}]
[null,null,null,null,null,null,null,null,null,null,null,null,null,null,null,null,null,null,null,{"$f":"IF(Hoja3!T39=\"\",\"\",Hoja3!T39)","v":""},{"$f":"IF(Hoja3!U39=\"\",\"\",Hoja3!U39)","v":""},{"$f":"IF(Hoja3!V39=\"\",\"\",Hoja3!V39)","v":""},{"$f":"IF(Hoja3!W39=\"\",\"\",Hoja3!W39)","v":""},{"$f":"IF(Hoja3!X39=\"\",\"\",Hoja3!X39)","v":""},null,null,{"$f":"IF(Hoja3!AA39=\"\",\"\",Hoja3!AA39)","v":""},{"$f":"IF(Hoja3!AB39=\"\",\"\",Hoja3!AB39)","v":""},{"$f":"IF(Hoja3!AC39=\"\",\"\",Hoja3!AC39)","v":""},{"$f":"IF(Hoja3!AD39=\"\",\"\",Hoja3!AD39)","v":""},{"$f":"IF(Hoja3!AE39=\"\",\"\",Hoja3!AE39)","v":""},null,null,{"$f":"IF(Hoja3!AH39=\"\",\"\",Hoja3!AH39)","v":""},{"$f":"IF(Hoja3!AI39=\"\",\"\",Hoja3!AI39)","v":""},{"$f":"IF(Hoja3!AJ39=\"\",\"\",Hoja3!AJ39)","v":""},{"$f":"IF(Hoja3!AK39=\"\",\"\",Hoja3!AK39)","v":""},{"$f":"IF(Hoja3!AL39=\"\",\"\",Hoja3!AL39)","v":""},null,null,{"$f":"IF(Hoja3!AO39=\"\",\"\",Hoja3!AO39)","v":""},{"$f":"IF(Hoja3!AP39=\"\",\"\",Hoja3!AP39)","v":""},{"$f":"IF(Hoja3!AQ39=\"\",\"\",Hoja3!AQ39)","v":""},{"$f":"IF(Hoja3!AR39=\"\",\"\",Hoja3!AR39)","v":""},{"$f":"IF(Hoja3!AS39=\"\",\"\",Hoja3!AS39)","v":""},null,null,{"$f":"IF(Hoja3!AV39=\"\",\"\",Hoja3!AV39)","v":"CAFESALUD EPS S.A"},{"$f":"IF(Hoja3!AW39=\"\",\"\",Hoja3!AW39)","v":"8001409496"},{"$f":"IF(Hoja3!AX39=\"\",\"\",Hoja3!AX39)","v":38531.75644675926},{"$f":"IF(Hoja3!AY39=\"\",\"\",Hoja3!AY39)","v":"D"},{"$f":"IF(Hoja3!AZ39=\"\",\"\",Hoja3!AZ39)","v":11001}]
[null,{"$f":"1+B36","v":21},"Búsqueda del Comercio 2",null,null,null,null,{"$f":"1+B40","v":22},"Seleccione el nombre del comercio para aplicar la novedad:",null,null,null,null,null,null,null,null,null,null,{"$f":"IF(Hoja3!T40=\"\",\"\",Hoja3!T40)","v":""},{"$f":"IF(Hoja3!U40=\"\",\"\",Hoja3!U40)","v":""},{"$f":"IF(Hoja3!V40=\"\",\"\",Hoja3!V40)","v":""},{"$f":"IF(Hoja3!W40=\"\",\"\",Hoja3!W40)","v":""},{"$f":"IF(Hoja3!X40=\"\",\"\",Hoja3!X40)","v":""},null,null,{"$f":"IF(Hoja3!AA40=\"\",\"\",Hoja3!AA40)","v":""},{"$f":"IF(Hoja3!AB40=\"\",\"\",Hoja3!AB40)","v":""},{"$f":"IF(Hoja3!AC40=\"\",\"\",Hoja3!AC40)","v":""},{"$f":"IF(Hoja3!AD40=\"\",\"\",Hoja3!AD40)","v":""},{"$f":"IF(Hoja3!AE40=\"\",\"\",Hoja3!AE40)","v":""},null,null,{"$f":"IF(Hoja3!AH40=\"\",\"\",Hoja3!AH40)","v":""},{"$f":"IF(Hoja3!AI40=\"\",\"\",Hoja3!AI40)","v":""},{"$f":"IF(Hoja3!AJ40=\"\",\"\",Hoja3!AJ40)","v":""},{"$f":"IF(Hoja3!AK40=\"\",\"\",Hoja3!AK40)","v":""},{"$f":"IF(Hoja3!AL40=\"\",\"\",Hoja3!AL40)","v":""},null,null,{"$f":"IF(Hoja3!AO40=\"\",\"\",Hoja3!AO40)","v":""},{"$f":"IF(Hoja3!AP40=\"\",\"\",Hoja3!AP40)","v":""},{"$f":"IF(Hoja3!AQ40=\"\",\"\",Hoja3!AQ40)","v":""},{"$f":"IF(Hoja3!AR40=\"\",\"\",Hoja3!AR40)","v":""},{"$f":"IF(Hoja3!AS40=\"\",\"\",Hoja3!AS40)","v":""},null,null,{"$f":"IF(Hoja3!AV40=\"\",\"\",Hoja3!AV40)","v":"CAJA DE COMPENSACION FAMILIAR DEL MAGDALENA"},{"$f":"IF(Hoja3!AW40=\"\",\"\",Hoja3!AW40)","v":"8917800933"},{"$f":"IF(Hoja3!AX40=\"\",\"\",Hoja3!AX40)","v":38531.781331018516},{"$f":"IF(Hoja3!AY40=\"\",\"\",Hoja3!AY40)","v":"D"},{"$f":"IF(Hoja3!AZ40=\"\",\"\",Hoja3!AZ40)","v":11001}]
[null,null,null,null,null,null,null,null,null,null,null,null,null,null,null,null,null,null,null,{"$f":"IF(Hoja3!T41=\"\",\"\",Hoja3!T41)","v":""},{"$f":"IF(Hoja3!U41=\"\",\"\",Hoja3!U41)","v":""},{"$f":"IF(Hoja3!V41=\"\",\"\",Hoja3!V41)","v":""},{"$f":"IF(Hoja3!W41=\"\",\"\",Hoja3!W41)","v":""},{"$f":"IF(Hoja3!X41=\"\",\"\",Hoja3!X41)","v":""},null,null,{"$f":"IF(Hoja3!AA41=\"\",\"\",Hoja3!AA41)","v":""},{"$f":"IF(Hoja3!AB41=\"\",\"\",Hoja3!AB41)","v":""},{"$f":"IF(Hoja3!AC41=\"\",\"\",Hoja3!AC41)","v":""},{"$f":"IF(Hoja3!AD41=\"\",\"\",Hoja3!AD41)","v":""},{"$f":"IF(Hoja3!AE41=\"\",\"\",Hoja3!AE41)","v":""},null,null,{"$f":"IF(Hoja3!AH41=\"\",\"\",Hoja3!AH41)","v":""},{"$f":"IF(Hoja3!AI41=\"\",\"\",Hoja3!AI41)","v":""},{"$f":"IF(Hoja3!AJ41=\"\",\"\",Hoja3!AJ41)","v":""},{"$f":"IF(Hoja3!AK41=\"\",\"\",Hoja3!AK41)","v":""},{"$f":"IF(Hoja3!AL41=\"\",\"\",Hoja3!AL41)","v":""},null,null,{"$f":"IF(Hoja3!AO41=\"\",\"\",Hoja3!AO41)","v":""},{"$f":"IF(Hoja3!AP41=\"\",\"\",Hoja3!AP41)","v":""},{"$f":"IF(Hoja3!AQ41=\"\",\"\",Hoja3!AQ41)","v":""},{"$f":"IF(Hoja3!AR41=\"\",\"\",Hoja3!AR41)","v":""},{"$f":"IF(Hoja3!AS41=\"\",\"\",Hoja3!AS41)","v":""},null,null,{"$f":"IF(Hoja3!AV41=\"\",\"\",Hoja3!AV41)","v":"SALUDCOOP EPS"},{"$f":"IF(Hoja3!AW41=\"\",\"\",Hoja3!AW41)","v":"8002501191"},{"$f":"IF(Hoja3!AX41=\"\",\"\",Hoja3!AX41)","v":38531.796226851853},{"$f":"IF(Hoja3!AY41=\"\",\"\",Hoja3!AY41)","v":"D"},{"$f":"IF(Hoja3!AZ41=\"\",\"\",Hoja3!AZ41)","v":11001}]
[null,{"$f":"1+H40","v":23},"Tipo de Novedad",null,null,null,null,null,null,null,null,null,null,6,null,null,null,null,null,{"$f":"IF(Hoja3!T42=\"\",\"\",Hoja3!T42)","v":""},{"$f":"IF(Hoja3!U42=\"\",\"\",Hoja3!U42)","v":""},{"$f":"IF(Hoja3!V42=\"\",\"\",Hoja3!V42)","v":""},{"$f":"IF(Hoja3!W42=\"\",\"\",Hoja3!W42)","v":""},{"$f":"IF(Hoja3!X42=\"\",\"\",Hoja3!X42)","v":""},null,null,{"$f":"IF(Hoja3!AA42=\"\",\"\",Hoja3!AA42)","v":""},{"$f":"IF(Hoja3!AB42=\"\",\"\",Hoja3!AB42)","v":""},{"$f":"IF(Hoja3!AC42=\"\",\"\",Hoja3!AC42)","v":""},{"$f":"IF(Hoja3!AD42=\"\",\"\",Hoja3!AD42)","v":""},{"$f":"IF(Hoja3!AE42=\"\",\"\",Hoja3!AE42)","v":""},null,null,{"$f":"IF(Hoja3!AH42=\"\",\"\",Hoja3!AH42)","v":""},{"$f":"IF(Hoja3!AI42=\"\",\"\",Hoja3!AI42)","v":""},{"$f":"IF(Hoja3!AJ42=\"\",\"\",Hoja3!AJ42)","v":""},{"$f":"IF(Hoja3!AK42=\"\",\"\",Hoja3!AK42)","v":""},{"$f":"IF(Hoja3!AL42=\"\",\"\",Hoja3!AL42)","v":""},null,null,{"$f":"IF(Hoja3!AO42=\"\",\"\",Hoja3!AO42)","v":""},{"$f":"IF(Hoja3!AP42=\"\",\"\",Hoja3!AP42)","v":""},{"$f":"IF(Hoja3!AQ42=\"\",\"\",Hoja3!AQ42)","v":""},{"$f":"IF(Hoja3!AR42=\"\",\"\",Hoja3!AR42)","v":""},{"$f":"IF(Hoja3!AS42=\"\",\"\",Hoja3!AS42)","v":""},null,null,{"$f":"IF(Hoja3!AV42=\"\",\"\",Hoja3!AV42)","v":"COLFONDOS"},{"$f":"IF(Hoja3!AW42=\"\",\"\",Hoja3!AW42)","v":"8002279406"},{"$f":"IF(Hoja3!AX42=\"\",\"\",Hoja3!AX42)","v":38531.84951388889},{"$f":"IF(Hoja3!AY42=\"\",\"\",Hoja3!AY42)","v":"D"},{"$f":"IF(Hoja3!AZ42=\"\",\"\",Hoja3!AZ42)","v":11001}]
[null,null,null,null,null,null,null,null,null,null,null,null,null,null,null,null,null,null,null,{"$f":"IF(Hoja3!T43=\"\",\"\",Hoja3!T43)","v":""},{"$f":"IF(Hoja3!U43=\"\",\"\",Hoja3!U43)","v":""},{"$f":"IF(Hoja3!V43=\"\",\"\",Hoja3!V43)","v":""},{"$f":"IF(Hoja3!W43=\"\",\"\",Hoja3!W43)","v":""},{"$f":"IF(Hoja3!X43=\"\",\"\",Hoja3!X43)","v":""},null,null,{"$f":"IF(Hoja3!AA43=\"\",\"\",Hoja3!AA43)","v":""},{"$f":"IF(Hoja3!AB43=\"\",\"\",Hoja3!AB43)","v":""},{"$f":"IF(Hoja3!AC43=\"\",\"\",Hoja3!AC43)","v":""},{"$f":"IF(Hoja3!AD43=\"\",\"\",Hoja3!AD43)","v":""},{"$f":"IF(Hoja3!AE43=\"\",\"\",Hoja3!AE43)","v":""},null,null,{"$f":"IF(Hoja3!AH43=\"\",\"\",Hoja3!AH43)","v":""},{"$f":"IF(Hoja3!AI43=\"\",\"\",Hoja3!AI43)","v":""},{"$f":"IF(Hoja3!AJ43=\"\",\"\",Hoja3!AJ43)","v":""},{"$f":"IF(Hoja3!AK43=\"\",\"\",Hoja3!AK43)","v":""},{"$f":"IF(Hoja3!AL43=\"\",\"\",Hoja3!AL43)","v":""},null,null,{"$f":"IF(Hoja3!AO43=\"\",\"\",Hoja3!AO43)","v":""},{"$f":"IF(Hoja3!AP43=\"\",\"\",Hoja3!AP43)","v":""},{"$f":"IF(Hoja3!AQ43=\"\",\"\",Hoja3!AQ43)","v":""},{"$f":"IF(Hoja3!AR43=\"\",\"\",Hoja3!AR43)","v":""},{"$f":"IF(Hoja3!AS43=\"\",\"\",Hoja3!AS43)","v":""},null,null,{"$f":"IF(Hoja3!AV43=\"\",\"\",Hoja3!AV43)","v":"SOI ACH"},{"$f":"IF(Hoja3!AW43=\"\",\"\",Hoja3!AW43)","v":"9998300785126"},{"$f":"IF(Hoja3!AX43=\"\",\"\",Hoja3!AX43)","v":38534.014756944445},{"$f":"IF(Hoja3!AY43=\"\",\"\",Hoja3!AY43)","v":"F"},{"$f":"IF(Hoja3!AZ43=\"\",\"\",Hoja3!AZ43)","v":11001}]
[null,{"$f":"1+B42","v":24},"Nombre del Comercio",null,null,null,null,{"$f":"1+B44","v":25},"Tipo ID Comercio",null,{"$f":"1+H44","v":26},"N° ID Comercio",null,null,null,null,null,null,null,{"$f":"IF(Hoja3!T44=\"\",\"\",Hoja3!T44)","v":""},{"$f":"IF(Hoja3!U44=\"\",\"\",Hoja3!U44)","v":""},{"$f":"IF(Hoja3!V44=\"\",\"\",Hoja3!V44)","v":""},{"$f":"IF(Hoja3!W44=\"\",\"\",Hoja3!W44)","v":""},{"$f":"IF(Hoja3!X44=\"\",\"\",Hoja3!X44)","v":""},null,null,{"$f":"IF(Hoja3!AA44=\"\",\"\",Hoja3!AA44)","v":""},{"$f":"IF(Hoja3!AB44=\"\",\"\",Hoja3!AB44)","v":""},{"$f":"IF(Hoja3!AC44=\"\",\"\",Hoja3!AC44)","v":""},{"$f":"IF(Hoja3!AD44=\"\",\"\",Hoja3!AD44)","v":""},{"$f":"IF(Hoja3!AE44=\"\",\"\",Hoja3!AE44)","v":""},null,null,{"$f":"IF(Hoja3!AH44=\"\",\"\",Hoja3!AH44)","v":""},{"$f":"IF(Hoja3!AI44=\"\",\"\",Hoja3!AI44)","v":""},{"$f":"IF(Hoja3!AJ44=\"\",\"\",Hoja3!AJ44)","v":""},{"$f":"IF(Hoja3!AK44=\"\",\"\",Hoja3!AK44)","v":""},{"$f":"IF(Hoja3!AL44=\"\",\"\",Hoja3!AL44)","v":""},null,null,{"$f":"IF(Hoja3!AO44=\"\",\"\",Hoja3!AO44)","v":""},{"$f":"IF(Hoja3!AP44=\"\",\"\",Hoja3!AP44)","v":""},{"$f":"IF(Hoja3!AQ44=\"\",\"\",Hoja3!AQ44)","v":""},{"$f":"IF(Hoja3!AR44=\"\",\"\",Hoja3!AR44)","v":""},{"$f":"IF(Hoja3!AS44=\"\",\"\",Hoja3!AS44)","v":""},null,null,{"$f":"IF(Hoja3!AV44=\"\",\"\",Hoja3!AV44)","v":"COOMEVA EPS S.A."},{"$f":"IF(Hoja3!AW44=\"\",\"\",Hoja3!AW44)","v":"8050004271"},{"$f":"IF(Hoja3!AX44=\"\",\"\",Hoja3!AX44)","v":38534.655775462961},{"$f":"IF(Hoja3!AY44=\"\",\"\",Hoja3!AY44)","v":"D"},{"$f":"IF(Hoja3!AZ44=\"\",\"\",Hoja3!AZ44)","v":11001}]
[null,null,{"$f":"IF(I42=\"\",\"\",VLOOKUP(I42,Hoja3!AA1:AE112,1,0))","v":""},null,null,null,null,null,{"$f":"IF(C45<>\"\",S9,\"\")","v":""},null,null,{"$f":"IF(I42=\"\",\"\",VLOOKUP(I42,Hoja3!AA1:AE112,2,0))","v":""},null,null,null,null,null,null,null,{"$f":"IF(Hoja3!T45=\"\",\"\",Hoja3!T45)","v":""},{"$f":"IF(Hoja3!U45=\"\",\"\",Hoja3!U45)","v":""},{"$f":"IF(Hoja3!V45=\"\",\"\",Hoja3!V45)","v":""},{"$f":"IF(Hoja3!W45=\"\",\"\",Hoja3!W45)","v":""},{"$f":"IF(Hoja3!X45=\"\",\"\",Hoja3!X45)","v":""},null,null,{"$f":"IF(Hoja3!AA45=\"\",\"\",Hoja3!AA45)","v":""},{"$f":"IF(Hoja3!AB45=\"\",\"\",Hoja3!AB45)","v":""},{"$f":"IF(Hoja3!AC45=\"\",\"\",Hoja3!AC45)","v":""},{"$f":"IF(Hoja3!AD45=\"\",\"\",Hoja3!AD45)","v":""},{"$f":"IF(Hoja3!AE45=\"\",\"\",Hoja3!AE45)","v":""},null,null,{"$f":"IF(Hoja3!AH45=\"\",\"\",Hoja3!AH45)","v":""},{"$f":"IF(Hoja3!AI45=\"\",\"\",Hoja3!AI45)","v":""},{"$f":"IF(Hoja3!AJ45=\"\",\"\",Hoja3!AJ45)","v":""},{"$f":"IF(Hoja3!AK45=\"\",\"\",Hoja3!AK45)","v":""},{"$f":"IF(Hoja3!AL45=\"\",\"\",Hoja3!AL45)","v":""},null,null,{"$f":"IF(Hoja3!AO45=\"\",\"\",Hoja3!AO45)","v":""},{"$f":"IF(Hoja3!AP45=\"\",\"\",Hoja3!AP45)","v":""},{"$f":"IF(Hoja3!AQ45=\"\",\"\",Hoja3!AQ45)","v":""},{"$f":"IF(Hoja3!AR45=\"\",\"\",Hoja3!AR45)","v":""},{"$f":"IF(Hoja3!AS45=\"\",\"\",Hoja3!AS45)","v":""},null,null,{"$f":"IF(Hoja3!AV45=\"\",\"\",Hoja3!AV45)","v":"E.P.S. SANITAS S.A."},{"$f":"IF(Hoja3!AW45=\"\",\"\",Hoja3!AW45)","v":"8002514406"},{"$f":"IF(Hoja3!AX45=\"\",\"\",Hoja3!AX45)","v":38534.658125000002},{"$f":"IF(Hoja3!AY45=\"\",\"\",Hoja3!AY45)","v":"D"},{"$f":"IF(Hoja3!AZ45=\"\",\"\",Hoja3!AZ45)","v":11001}]
[null,null,null,null,null,null,null,null,null,null,null,null,null,null,null,null,null,null,null,{"$f":"IF(Hoja3!T46=\"\",\"\",Hoja3!T46)","v":""},{"$f":"IF(Hoja3!U46=\"\",\"\",Hoja3!U46)","v":""},{"$f":"IF(Hoja3!V46=\"\",\"\",Hoja3!V46)","v":""},{"$f":"IF(Hoja3!W46=\"\",\"\",Hoja3!W46)","v":""},{"$f":"IF(Hoja3!X46=\"\",\"\",Hoja3!X46)","v":""},null,null,{"$f":"IF(Hoja3!AA46=\"\",\"\",Hoja3!AA46)","v":""},{"$f":"IF(Hoja3!AB46=\"\",\"\",Hoja3!AB46)","v":""},{"$f":"IF(Hoja3!AC46=\"\",\"\",Hoja3!AC46)","v":""},{"$f":"IF(Hoja3!AD46=\"\",\"\",Hoja3!AD46)","v":""},{"$f":"IF(Hoja3!AE46=\"\",\"\",Hoja3!AE46)","v":""},null,null,{"$f":"IF(Hoja3!AH46=\"\",\"\",Hoja3!AH46)","v":""},{"$f":"IF(Hoja3!AI46=\"\",\"\",Hoja3!AI46)","v":""},{"$f":"IF(Hoja3!AJ46=\"\",\"\",Hoja3!AJ46)","v":""},{"$f":"IF(Hoja3!AK46=\"\",\"\",Hoja3!AK46)","v":""},{"$f":"IF(Hoja3!AL46=\"\",\"\",Hoja3!AL46)","v":""},null,null,{"$f":"IF(Hoja3!AO46=\"\",\"\",Hoja3!AO46)","v":""},{"$f":"IF(Hoja3!AP46=\"\",\"\",Hoja3!AP46)","v":""},{"$f":"IF(Hoja3!AQ46=\"\",\"\",Hoja3!AQ46)","v":""},{"$f":"IF(Hoja3!AR46=\"\",\"\",Hoja3!AR46)","v":""},{"$f":"IF(Hoja3!AS46=\"\",\"\",Hoja3!AS46)","v":""},null,null,{"$f":"IF(Hoja3!AV46=\"\",\"\",Hoja3!AV46)","v":"FONDO OBLIGATORIO DE PENSIONES SKANDIA"},{"$f":"IF(Hoja3!AW46=\"\",\"\",Hoja3!AW46)","v":"8002530552"},{"$f":"IF(Hoja3!AX46=\"\",\"\",Hoja3!AX46)","v":38534.660879629628},{"$f":"IF(Hoja3!AY46=\"\",\"\",Hoja3!AY46)","v":"D"},{"$f":"IF(Hoja3!AZ46=\"\",\"\",Hoja3!AZ46)","v":11001}]
[null,{"$f":"1+K44","v":27},"Entidad",null,{"$f":"1+B47","v":28},"Grupo",null,{"$f":"+E47+1","v":29},"Ciudad",null,null,null,null,null,null,null,null,null,null,{"$f":"IF(Hoja3!T47=\"\",\"\",Hoja3!T47)","v":""},{"$f":"IF(Hoja3!U47=\"\",\"\",Hoja3!U47)","v":""},{"$f":"IF(Hoja3!V47=\"\",\"\",Hoja3!V47)","v":""},{"$f":"IF(Hoja3!W47=\"\",\"\",Hoja3!W47)","v":""},{"$f":"IF(Hoja3!X47=\"\",\"\",Hoja3!X47)","v":""},null,null,{"$f":"IF(Hoja3!AA47=\"\",\"\",Hoja3!AA47)","v":""},{"$f":"IF(Hoja3!AB47=\"\",\"\",Hoja3!AB47)","v":""},{"$f":"IF(Hoja3!AC47=\"\",\"\",Hoja3!AC47)","v":""},{"$f":"IF(Hoja3!AD47=\"\",\"\",Hoja3!AD47)","v":""},{"$f":"IF(Hoja3!AE47=\"\",\"\",Hoja3!AE47)","v":""},null,null,{"$f":"IF(Hoja3!AH47=\"\",\"\",Hoja3!AH47)","v":""},{"$f":"IF(Hoja3!AI47=\"\",\"\",Hoja3!AI47)","v":""},{"$f":"IF(Hoja3!AJ47=\"\",\"\",Hoja3!AJ47)","v":""},{"$f":"IF(Hoja3!AK47=\"\",\"\",Hoja3!AK47)","v":""},{"$f":"IF(Hoja3!AL47=\"\",\"\",Hoja3!AL47)","v":""},null,null,{"$f":"IF(Hoja3!AO47=\"\",\"\",Hoja3!AO47)","v":""},{"$f":"IF(Hoja3!AP47=\"\",\"\",Hoja3!AP47)","v":""},{"$f":"IF(Hoja3!AQ47=\"\",\"\",Hoja3!AQ47)","v":""},{"$f":"IF(Hoja3!AR47=\"\",\"\",Hoja3!AR47)","v":""},{"$f":"IF(Hoja3!AS47=\"\",\"\",Hoja3!AS47)","v":""},null,null,{"$f":"IF(Hoja3!AV47=\"\",\"\",Hoja3!AV47)","v":"FONDO ALTERNATIVO DE PENSIONES SKANDIA"},{"$f":"IF(Hoja3!AW47=\"\",\"\",Hoja3!AW47)","v":"8301251322"},{"$f":"IF(Hoja3!AX47=\"\",\"\",Hoja3!AX47)","v":38534.663275462961},{"$f":"IF(Hoja3!AY47=\"\",\"\",Hoja3!AY47)","v":"D"},{"$f":"IF(Hoja3!AZ47=\"\",\"\",Hoja3!AZ47)","v":11001}]
[null,null,{"$f":"IF(C45<>\"\",S8,\"\")","v":""},null,null,{"$f":"IF(I42=\"\",\"\",VLOOKUP(I42,Hoja3!AA1:AE112,4,0))","v":""},null,null,{"$f":"IF(I42=\"\",\"\",VLOOKUP(I42,Hoja3!AA1:AE112,5,0))","v":""},null,null,null,null,null,null,null,null,null,null,{"$f":"IF(Hoja3!T48=\"\",\"\",Hoja3!T48)","v":""},{"$f":"IF(Hoja3!U48=\"\",\"\",Hoja3!U48)","v":""},{"$f":"IF(Hoja3!V48=\"\",\"\",Hoja3!V48)","v":""},{"$f":"IF(Hoja3!W48=\"\",\"\",Hoja3!W48)","v":""},{"$f":"IF(Hoja3!X48=\"\",\"\",Hoja3!X48)","v":""},null,null,{"$f":"IF(Hoja3!AA48=\"\",\"\",Hoja3!AA48)","v":""},{"$f":"IF(Hoja3!AB48=\"\",\"\",Hoja3!AB48)","v":""},{"$f":"IF(Hoja3!AC48=\"\",\"\",Hoja3!AC48)","v":""},{"$f":"IF(Hoja3!AD48=\"\",\"\",Hoja3!AD48)","v":""},{"$f":"IF(Hoja3!AE48=\"\",\"\",Hoja3!AE48)","v":""},null,null,{"$f":"IF(Hoja3!AH48=\"\",\"\",Hoja3!AH48)","v":""},{"$f":"IF(Hoja3!AI48=\"\",\"\",Hoja3!AI48)","v":""},{"$f":"IF(Hoja3!AJ48=\"\",\"\",Hoja3!AJ48)","v":""},{"$f":"IF(Hoja3!AK48=\"\",\"\",Hoja3!AK48)","v":""},{"$f":"IF(Hoja3!AL48=\"\",\"\",Hoja3!AL48)","v":""},null,null,{"$f":"IF(Hoja3!AO48=\"\",\"\",Hoja3!AO48)","v":""},{"$f":"IF(Hoja3!AP48=\"\",\"\",Hoja3!AP48)","v":""},{"$f":"IF(Hoja3!AQ48=\"\",\"\",Hoja3!AQ48)","v":""},{"$f":"IF(Hoja3!AR48=\"\",\"\",Hoja3!AR48)","v":""},{"$f":"IF(Hoja3!AS48=\"\",\"\",Hoja3!AS48)","v":""},null,null,{"$f":"IF(Hoja3!AV48=\"\",\"\",Hoja3!AV48)","v":"FONDO DE PREVISION SOCIAL DEL CONGRESO DE LA REPUBLICA"},{"$f":"IF(Hoja3!AW48=\"\",\"\",Hoja3!AW48)","v":"8999997347"},{"$f":"IF(Hoja3!AX48=\"\",\"\",Hoja3!AX48)","v":38534.667696759258},{"$f":"IF(Hoja3!AY48=\"\",\"\",Hoja3!AY48)","v":"D"},{"$f":"IF(Hoja3!AZ48=\"\",\"\",Hoja3!AZ48)","v":11001}]
[null,null,null,null,null,null,null,null,null,null,null,null,null,null,null,null,null,null,null,{"$f":"IF(Hoja3!T49=\"\",\"\",Hoja3!T49)","v":""},{"$f":"IF(Hoja3!U49=\"\",\"\",Hoja3!U49)","v":""},{"$f":"IF(Hoja3!V49=\"\",\"\",Hoja3!V49)","v":""},{"$f":"IF(Hoja3!W49=\"\",\"\",Hoja3!W49)","v":""},{"$f":"IF(Hoja3!X49=\"\",\"\",Hoja3!X49)","v":""},null,null,{"$f":"IF(Hoja3!AA49=\"\",\"\",Hoja3!AA49)","v":""},{"$f":"IF(Hoja3!AB49=\"\",\"\",Hoja3!AB49)","v":""},{"$f":"IF(Hoja3!AC49=\"\",\"\",Hoja3!AC49)","v":""},{"$f":"IF(Hoja3!AD49=\"\",\"\",Hoja3!AD49)","v":""},{"$f":"IF(Hoja3!AE49=\"\",\"\",Hoja3!AE49)","v":""},null,null,{"$f":"IF(Hoja3!AH49=\"\",\"\",Hoja3!AH49)","v":""},{"$f":"IF(Hoja3!AI49=\"\",\"\",Hoja3!AI49)","v":""},{"$f":"IF(Hoja3!AJ49=\"\",\"\",Hoja3!AJ49)","v":""},{"$f":"IF(Hoja3!AK49=\"\",\"\",Hoja3!AK49)","v":""},{"$f":"IF(Hoja3!AL49=\"\",\"\",Hoja3!AL49)","v":""},null,null,{"$f":"IF(Hoja3!AO49=\"\",\"\",Hoja3!AO49)","v":""},{"$f":"IF(Hoja3!AP49=\"\",\"\",Hoja3!AP49)","v":""},{"$f":"IF(Hoja3!AQ49=\"\",\"\",Hoja3!AQ49)","v":""},{"$f":"IF(Hoja3!AR49=\"\",\"\",Hoja3!AR49)","v":""},{"$f":"IF(Hoja3!AS49=\"\",\"\",Hoja3!AS49)","v":""},null,null,{"$f":"IF(Hoja3!AV49=\"\",\"\",Hoja3!AV49)","v":"EPS Y MEDICINA PREPAGADA SURAMERICANA"},{"$f":"IF(Hoja3!AW49=\"\",\"\",Hoja3!AW49)","v":"8000887022"},{"$f":"IF(Hoja3!AX49=\"\",\"\",Hoja3!AX49)","v":38534.72625},{"$f":"IF(Hoja3!AY49=\"\",\"\",Hoja3!AY49)","v":"D"},{"$f":"IF(Hoja3!AZ49=\"\",\"\",Hoja3!AZ49)","v":11001}]
[null,{"$f":"1+H47","v":30},{"$f":"IF(F48=\"D\",\"\",\"Número de identificación del aportante\")","v":"Número de identificación del aportante"},null,null,null,null,null,null,null,null,null,null,null,null,null,null,null,null,{"$f":"IF(Hoja3!T50=\"\",\"\",Hoja3!T50)","v":""},{"$f":"IF(Hoja3!U50=\"\",\"\",Hoja3!U50)","v":""},{"$f":"IF(Hoja3!V50=\"\",\"\",Hoja3!V50)","v":""},{"$f":"IF(Hoja3!W50=\"\",\"\",Hoja3!W50)","v":""},{"$f":"IF(Hoja3!X50=\"\",\"\",Hoja3!X50)","v":""},null,null,{"$f":"IF(Hoja3!AA50=\"\",\"\",Hoja3!AA50)","v":""},{"$f":"IF(Hoja3!AB50=\"\",\"\",Hoja3!AB50)","v":""},{"$f":"IF(Hoja3!AC50=\"\",\"\",Hoja3!AC50)","v":""},{"$f":"IF(Hoja3!AD50=\"\",\"\",Hoja3!AD50)","v":""},{"$f":"IF(Hoja3!AE50=\"\",\"\",Hoja3!AE50)","v":""},null,null,{"$f":"IF(Hoja3!AH50=\"\",\"\",Hoja3!AH50)","v":""},{"$f":"IF(Hoja3!AI50=\"\",\"\",Hoja3!AI50)","v":""},{"$f":"IF(Hoja3!AJ50=\"\",\"\",Hoja3!AJ50)","v":""},{"$f":"IF(Hoja3!AK50=\"\",\"\",Hoja3!AK50)","v":""},{"$f":"IF(Hoja3!AL50=\"\",\"\",Hoja3!AL50)","v":""},null,null,{"$f":"IF(Hoja3!AO50=\"\",\"\",Hoja3!AO50)","v":""},{"$f":"IF(Hoja3!AP50=\"\",\"\",Hoja3!AP50)","v":""},{"$f":"IF(Hoja3!AQ50=\"\",\"\",Hoja3!AQ50)","v":""},{"$f":"IF(Hoja3!AR50=\"\",\"\",Hoja3!AR50)","v":""},{"$f":"IF(Hoja3!AS50=\"\",\"\",Hoja3!AS50)","v":""},null,null,{"$f":"IF(Hoja3!AV50=\"\",\"\",Hoja3!AV50)","v":"FONDO DE PASIVO SOCIAL FERROCARRILES NACIONALES"},{"$f":"IF(Hoja3!AW50=\"\",\"\",Hoja3!AW50)","v":"8001128062"},{"$f":"IF(Hoja3!AX50=\"\",\"\",Hoja3!AX50)","v":38538.489432870367},{"$f":"IF(Hoja3!AY50=\"\",\"\",Hoja3!AY50)","v":"D"},{"$f":"IF(Hoja3!AZ50=\"\",\"\",Hoja3!AZ50)","v":11001}]
[null,null,null,null,null,null,null,null,null,null,null,null,null,null,null,null,null,null,null,{"$f":"IF(Hoja3!T51=\"\",\"\",Hoja3!T51)","v":""},{"$f":"IF(Hoja3!U51=\"\",\"\",Hoja3!U51)","v":""},{"$f":"IF(Hoja3!V51=\"\",\"\",Hoja3!V51)","v":""},{"$f":"IF(Hoja3!W51=\"\",\"\",Hoja3!W51)","v":""},{"$f":"IF(Hoja3!X51=\"\",\"\",Hoja3!X51)","v":""},null,null,{"$f":"IF(Hoja3!AA51=\"\",\"\",Hoja3!AA51)","v":""},{"$f":"IF(Hoja3!AB51=\"\",\"\",Hoja3!AB51)","v":""},{"$f":"IF(Hoja3!AC51=\"\",\"\",Hoja3!AC51)","v":""},{"$f":"IF(Hoja3!AD51=\"\",\"\",Hoja3!AD51)","v":""},{"$f":"IF(Hoja3!AE51=\"\",\"\",Hoja3!AE51)","v":""},null,null,{"$f":"IF(Hoja3!AH51=\"\",\"\",Hoja3!AH51)","v":""},{"$f":"IF(Hoja3!AI51=\"\",\"\",Hoja3!AI51)","v":""},{"$f":"IF(Hoja3!AJ51=\"\",\"\",Hoja3!AJ51)","v":""},{"$f":"IF(Hoja3!AK51=\"\",\"\",Hoja3!AK51)","v":""},{"$f":"IF(Hoja3!AL51=\"\",\"\",Hoja3!AL51)","v":""},null,null,{"$f":"IF(Hoja3!AO51=\"\",\"\",Hoja3!AO51)","v":""},{"$f":"IF(Hoja3!AP51=\"\",\"\",Hoja3!AP51)","v":""},{"$f":"IF(Hoja3!AQ51=\"\",\"\",Hoja3!AQ51)","v":""},{"$f":"IF(Hoja3!AR51=\"\",\"\",Hoja3!AR51)","v":""},{"$f":"IF(Hoja3!AS51=\"\",\"\",Hoja3!AS51)","v":""},null,null,{"$f":"IF(Hoja3!AV51=\"\",\"\",Hoja3!AV51)","v":"INSTITUTO COLOMBIANO DE BIENESTAR FAMILIAR I.C.B.F."},{"$f":"IF(Hoja3!AW51=\"\",\"\",Hoja3!AW51)","v":"8999992392"},{"$f":"IF(Hoja3!AX51=\"\",\"\",Hoja3!AX51)","v":38538.493310185186},{"$f":"IF(Hoja3!AY51=\"\",\"\",Hoja3!AY51)","v":"D"},{"$f":"IF(Hoja3!AZ51=\"\",\"\",Hoja3!AZ51)","v":11001}]
[null,{"$f":"1+B50","v":31},{"$f":"+IF(E42=\"Inactivar Inscripción\",\"\",\"Valor máximo por transacción\")","v":"Valor máximo por transacción"},null,null,null,{"$f":"+IF(ISTEXT(E52)=TRUE,\"*Digite solo valores numéricos\",IF(AND(E52<>\"\",E52<1000000),\"*El valor digitado no requiere inscripción\",\"\"))","v":""},null,null,null,null,null,null,null,null,null,null,null,null,{"$f":"IF(Hoja3!T52=\"\",\"\",Hoja3!T52)","v":""},{"$f":"IF(Hoja3!U52=\"\",\"\",Hoja3!U52)","v":""},{"$f":"IF(Hoja3!V52=\"\",\"\",Hoja3!V52)","v":""},{"$f":"IF(Hoja3!W52=\"\",\"\",Hoja3!W52)","v":""},{"$f":"IF(Hoja3!X52=\"\",\"\",Hoja3!X52)","v":""},null,null,{"$f":"IF(Hoja3!AA52=\"\",\"\",Hoja3!AA52)","v":""},{"$f":"IF(Hoja3!AB52=\"\",\"\",Hoja3!AB52)","v":""},{"$f":"IF(Hoja3!AC52=\"\",\"\",Hoja3!AC52)","v":""},{"$f":"IF(Hoja3!AD52=\"\",\"\",Hoja3!AD52)","v":""},{"$f":"IF(Hoja3!AE52=\"\",\"\",Hoja3!AE52)","v":""},null,null,{"$f":"IF(Hoja3!AH52=\"\",\"\",Hoja3!AH52)","v":""},{"$f":"IF(Hoja3!AI52=\"\",\"\",Hoja3!AI52)","v":""},{"$f":"IF(Hoja3!AJ52=\"\",\"\",Hoja3!AJ52)","v":""},{"$f":"IF(Hoja3!AK52=\"\",\"\",Hoja3!AK52)","v":""},{"$f":"IF(Hoja3!AL52=\"\",\"\",Hoja3!AL52)","v":""},null,null,{"$f":"IF(Hoja3!AO52=\"\",\"\",Hoja3!AO52)","v":""},{"$f":"IF(Hoja3!AP52=\"\",\"\",Hoja3!AP52)","v":""},{"$f":"IF(Hoja3!AQ52=\"\",\"\",Hoja3!AQ52)","v":""},{"$f":"IF(Hoja3!AR52=\"\",\"\",Hoja3!AR52)","v":""},{"$f":"IF(Hoja3!AS52=\"\",\"\",Hoja3!AS52)","v":""},null,null,{"$f":"IF(Hoja3!AV52=\"\",\"\",Hoja3!AV52)","v":"La Equidad Seguros de Vida Organismo Cooperativo"},{"$f":"IF(Hoja3!AW52=\"\",\"\",Hoja3!AW52)","v":"8300086861"},{"$f":"IF(Hoja3!AX52=\"\",\"\",Hoja3!AX52)","v":38538.496134259258},{"$f":"IF(Hoja3!AY52=\"\",\"\",Hoja3!AY52)","v":"D"},{"$f":"IF(Hoja3!AZ52=\"\",\"\",Hoja3!AZ52)","v":11001}]
[null,null,null,null,null,null,null,null,null,null,null,null,null,null,null,null,null,null,null,{"$f":"IF(Hoja3!T53=\"\",\"\",Hoja3!T53)","v":""},{"$f":"IF(Hoja3!U53=\"\",\"\",Hoja3!U53)","v":""},{"$f":"IF(Hoja3!V53=\"\",\"\",Hoja3!V53)","v":""},{"$f":"IF(Hoja3!W53=\"\",\"\",Hoja3!W53)","v":""},{"$f":"IF(Hoja3!X53=\"\",\"\",Hoja3!X53)","v":""},null,null,{"$f":"IF(Hoja3!AA53=\"\",\"\",Hoja3!AA53)","v":""},{"$f":"IF(Hoja3!AB53=\"\",\"\",Hoja3!AB53)","v":""},{"$f":"IF(Hoja3!AC53=\"\",\"\",Hoja3!AC53)","v":""},{"$f":"IF(Hoja3!AD53=\"\",\"\",Hoja3!AD53)","v":""},{"$f":"IF(Hoja3!AE53=\"\",\"\",Hoja3!AE53)","v":""},null,null,{"$f":"IF(Hoja3!AH53=\"\",\"\",Hoja3!AH53)","v":""},{"$f":"IF(Hoja3!AI53=\"\",\"\",Hoja3!AI53)","v":""},{"$f":"IF(Hoja3!AJ53=\"\",\"\",Hoja3!AJ53)","v":""},{"$f":"IF(Hoja3!AK53=\"\",\"\",Hoja3!AK53)","v":""},{"$f":"IF(Hoja3!AL53=\"\",\"\",Hoja3!AL53)","v":""},null,null,{"$f":"IF(Hoja3!AO53=\"\",\"\",Hoja3!AO53)","v":""},{"$f":"IF(Hoja3!AP53=\"\",\"\",Hoja3!AP53)","v":""},{"$f":"IF(Hoja3!AQ53=\"\",\"\",Hoja3!AQ53)","v":""},{"$f":"IF(Hoja3!AR53=\"\",\"\",Hoja3!AR53)","v":""},{"$f":"IF(Hoja3!AS53=\"\",\"\",Hoja3!AS53)","v":""},null,null,{"$f":"IF(Hoja3!AV53=\"\",\"\",Hoja3!AV53)","v":"E.P.S. FAMISANAR LTDA. CAFAM COLSUBSIDIO"},{"$f":"IF(Hoja3!AW53=\"\",\"\",Hoja3!AW53)","v":"8300035647"},{"$f":"IF(Hoja3!AX53=\"\",\"\",Hoja3!AX53)","v":38538.503101851849},{"$f":"IF(Hoja3!AY53=\"\",\"\",Hoja3!AY53)","v":"D"},{"$f":"IF(Hoja3!AZ53=\"\",\"\",Hoja3!AZ53)","v":11001}]
[null,null,null,null,null,null,null,null,null,null,null,null,null,null,null,null,null,null,null,{"$f":"IF(Hoja3!T54=\"\",\"\",Hoja3!T54)","v":""},{"$f":"IF(Hoja3!U54=\"\",\"\",Hoja3!U54)","v":""},{"$f":"IF(Hoja3!V54=\"\",\"\",Hoja3!V54)","v":""},{"$f":"IF(Hoja3!W54=\"\",\"\",Hoja3!W54)","v":""},{"$f":"IF(Hoja3!X54=\"\",\"\",Hoja3!X54)","v":""},null,null,{"$f":"IF(Hoja3!AA54=\"\",\"\",Hoja3!AA54)","v":""},{"$f":"IF(Hoja3!AB54=\"\",\"\",Hoja3!AB54)","v":""},{"$f":"IF(Hoja3!AC54=\"\",\"\",Hoja3!AC54)","v":""},{"$f":"IF(Hoja3!AD54=\"\",\"\",Hoja3!AD54)","v":""},{"$f":"IF(Hoja3!AE54=\"\",\"\",Hoja3!AE54)","v":""},null,null,{"$f":"IF(Hoja3!AH54=\"\",\"\",Hoja3!AH54)","v":""},{"$f":"IF(Hoja3!AI54=\"\",\"\",Hoja3!AI54)","v":""},{"$f":"IF(Hoja3!AJ54=\"\",\"\",Hoja3!AJ54)","v":""},{"$f":"IF(Hoja3!AK54=\"\",\"\",Hoja3!AK54)","v":""},{"$f":"IF(Hoja3!AL54=\"\",\"\",Hoja3!AL54)","v":""},null,null,{"$f":"IF(Hoja3!AO54=\"\",\"\",Hoja3!AO54)","v":""},{"$f":"IF(Hoja3!AP54=\"\",\"\",Hoja3!AP54)","v":""},{"$f":"IF(Hoja3!AQ54=\"\",\"\",Hoja3!AQ54)","v":""},{"$f":"IF(Hoja3!AR54=\"\",\"\",Hoja3!AR54)","v":""},{"$f":"IF(Hoja3!AS54=\"\",\"\",Hoja3!AS54)","v":""},null,null,{"$f":"IF(Hoja3!AV54=\"\",\"\",Hoja3!AV54)","v":"THE COLUMBUS SCHOOL"},{"$f":"IF(Hoja3!AW54=\"\",\"\",Hoja3!AW54)","v":"890902829"},{"$f":"IF(Hoja3!AX54=\"\",\"\",Hoja3!AX54)","v":38538.819004629629},{"$f":"IF(Hoja3!AY54=\"\",\"\",Hoja3!AY54)","v":"D"},{"$f":"IF(Hoja3!AZ54=\"\",\"\",Hoja3!AZ54)","v":11001}]
[null,null,null,null,null,null,null,null,null,null,null,null,null,null,null,null,null,null,null,{"$f":"IF(Hoja3!T55=\"\",\"\",Hoja3!T55)","v":""},{"$f":"IF(Hoja3!U55=\"\",\"\",Hoja3!U55)","v":""},{"$f":"IF(Hoja3!V55=\"\",\"\",Hoja3!V55)","v":""},{"$f":"IF(Hoja3!W55=\"\",\"\",Hoja3!W55)","v":""},{"$f":"IF(Hoja3!X55=\"\",\"\",Hoja3!X55)","v":""},null,null,{"$f":"IF(Hoja3!AA55=\"\",\"\",Hoja3!AA55)","v":""},{"$f":"IF(Hoja3!AB55=\"\",\"\",Hoja3!AB55)","v":""},{"$f":"IF(Hoja3!AC55=\"\",\"\",Hoja3!AC55)","v":""},{"$f":"IF(Hoja3!AD55=\"\",\"\",Hoja3!AD55)","v":""},{"$f":"IF(Hoja3!AE55=\"\",\"\",Hoja3!AE55)","v":""},null,null,{"$f":"IF(Hoja3!AH55=\"\",\"\",Hoja3!AH55)","v":""},{"$f":"IF(Hoja3!AI55=\"\",\"\",Hoja3!AI55)","v":""},{"$f":"IF(Hoja3!AJ55=\"\",\"\",Hoja3!AJ55)","v":""},{"$f":"IF(Hoja3!AK55=\"\",\"\",Hoja3!AK55)","v":""},{"$f":"IF(Hoja3!AL55=\"\",\"\",Hoja3!AL55)","v":""},null,null,{"$f":"IF(Hoja3!AO55=\"\",\"\",Hoja3!AO55)","v":""},{"$f":"IF(Hoja3!AP55=\"\",\"\",Hoja3!AP55)","v":""},{"$f":"IF(Hoja3!AQ55=\"\",\"\",Hoja3!AQ55)","v":""},{"$f":"IF(Hoja3!AR55=\"\",\"\",Hoja3!AR55)","v":""},{"$f":"IF(Hoja3!AS55=\"\",\"\",Hoja3!AS55)","v":""},null,null,{"$f":"IF(Hoja3!AV55=\"\",\"\",Hoja3!AV55)","v":"COMFENALCO TOLIMA"},{"$f":"IF(Hoja3!AW55=\"\",\"\",Hoja3!AW55)","v":"8907001484"},{"$f":"IF(Hoja3!AX55=\"\",\"\",Hoja3!AX55)","v":38540.657673611109},{"$f":"IF(Hoja3!AY55=\"\",\"\",Hoja3!AY55)","v":"D"},{"$f":"IF(Hoja3!AZ55=\"\",\"\",Hoja3!AZ55)","v":11001}]
[null,{"$f":"1+B52","v":32},"Búsqueda del Comercio 3",null,null,null,null,{"$f":"1+B56","v":33},"Seleccione el nombre del comercio para aplicar la novedad:",null,null,null,null,null,null,null,null,null,null,{"$f":"IF(Hoja3!T56=\"\",\"\",Hoja3!T56)","v":""},{"$f":"IF(Hoja3!U56=\"\",\"\",Hoja3!U56)","v":""},{"$f":"IF(Hoja3!V56=\"\",\"\",Hoja3!V56)","v":""},{"$f":"IF(Hoja3!W56=\"\",\"\",Hoja3!W56)","v":""},{"$f":"IF(Hoja3!X56=\"\",\"\",Hoja3!X56)","v":""},null,null,{"$f":"IF(Hoja3!AA56=\"\",\"\",Hoja3!AA56)","v":""},{"$f":"IF(Hoja3!AB56=\"\",\"\",Hoja3!AB56)","v":""},{"$f":"IF(Hoja3!AC56=\"\",\"\",Hoja3!AC56)","v":""},{"$f":"IF(Hoja3!AD56=\"\",\"\",Hoja3!AD56)","v":""},{"$f":"IF(Hoja3!AE56=\"\",\"\",Hoja3!AE56)","v":""},null,null,{"$f":"IF(Hoja3!AH56=\"\",\"\",Hoja3!AH56)","v":""},{"$f":"IF(Hoja3!AI56=\"\",\"\",Hoja3!AI56)","v":""},{"$f":"IF(Hoja3!AJ56=\"\",\"\",Hoja3!AJ56)","v":""},{"$f":"IF(Hoja3!AK56=\"\",\"\",Hoja3!AK56)","v":""},{"$f":"IF(Hoja3!AL56=\"\",\"\",Hoja3!AL56)","v":""},null,null,{"$f":"IF(Hoja3!AO56=\"\",\"\",Hoja3!AO56)","v":""},{"$f":"IF(Hoja3!AP56=\"\",\"\",Hoja3!AP56)","v":""},{"$f":"IF(Hoja3!AQ56=\"\",\"\",Hoja3!AQ56)","v":""},{"$f":"IF(Hoja3!AR56=\"\",\"\",Hoja3!AR56)","v":""},{"$f":"IF(Hoja3!AS56=\"\",\"\",Hoja3!AS56)","v":""},null,null,{"$f":"IF(Hoja3!AV56=\"\",\"\",Hoja3!AV56)","v":"CAJA DE COMPENSACION FAMILIAR DEL ORIENTE"},{"$f":"IF(Hoja3!AW56=\"\",\"\",Hoja3!AW56)","v":"8905006756"},{"$f":"IF(Hoja3!AX56=\"\",\"\",Hoja3!AX56)","v":38540.666678240741},{"$f":"IF(Hoja3!AY56=\"\",\"\",Hoja3!AY56)","v":"D"},{"$f":"IF(Hoja3!AZ56=\"\",\"\",Hoja3!AZ56)","v":11001}]
[null,null,null,null,null,null,null,null,null,null,null,null,null,null,null,null,null,null,null,{"$f":"IF(Hoja3!T57=\"\",\"\",Hoja3!T57)","v":""},{"$f":"IF(Hoja3!U57=\"\",\"\",Hoja3!U57)","v":""},{"$f":"IF(Hoja3!V57=\"\",\"\",Hoja3!V57)","v":""},{"$f":"IF(Hoja3!W57=\"\",\"\",Hoja3!W57)","v":""},{"$f":"IF(Hoja3!X57=\"\",\"\",Hoja3!X57)","v":""},null,null,{"$f":"IF(Hoja3!AA57=\"\",\"\",Hoja3!AA57)","v":""},{"$f":"IF(Hoja3!AB57=\"\",\"\",Hoja3!AB57)","v":""},{"$f":"IF(Hoja3!AC57=\"\",\"\",Hoja3!AC57)","v":""},{"$f":"IF(Hoja3!AD57=\"\",\"\",Hoja3!AD57)","v":""},{"$f":"IF(Hoja3!AE57=\"\",\"\",Hoja3!AE57)","v":""},null,null,{"$f":"IF(Hoja3!AH57=\"\",\"\",Hoja3!AH57)","v":""},{"$f":"IF(Hoja3!AI57=\"\",\"\",Hoja3!AI57)","v":""},{"$f":"IF(Hoja3!AJ57=\"\",\"\",Hoja3!AJ57)","v":""},{"$f":"IF(Hoja3!AK57=\"\",\"\",Hoja3!AK57)","v":""},{"$f":"IF(Hoja3!AL57=\"\",\"\",Hoja3!AL57)","v":""},null,null,{"$f":"IF(Hoja3!AO57=\"\",\"\",Hoja3!AO57)","v":""},{"$f":"IF(Hoja3!AP57=\"\",\"\",Hoja3!AP57)","v":""},{"$f":"IF(Hoja3!AQ57=\"\",\"\",Hoja3!AQ57)","v":""},{"$f":"IF(Hoja3!AR57=\"\",\"\",Hoja3!AR57)","v":""},{"$f":"IF(Hoja3!AS57=\"\",\"\",Hoja3!AS57)","v":""},null,null,{"$f":"IF(Hoja3!AV57=\"\",\"\",Hoja3!AV57)","v":"CAJA COLOMBIANA DE SUBSIDIO FAMILIAR COLSUBSIDIO"},{"$f":"IF(Hoja3!AW57=\"\",\"\",Hoja3!AW57)","v":"8600073361"},{"$f":"IF(Hoja3!AX57=\"\",\"\",Hoja3!AX57)","v":38540.684502314813},{"$f":"IF(Hoja3!AY57=\"\",\"\",Hoja3!AY57)","v":"D"},{"$f":"IF(Hoja3!AZ57=\"\",\"\",Hoja3!AZ57)","v":11001}]
[null,{"$f":"1+H56","v":34},"Tipo de Novedad",null,null,null,null,null,null,null,null,null,null,6,null,null,null,null,null,{"$f":"IF(Hoja3!T58=\"\",\"\",Hoja3!T58)","v":""},{"$f":"IF(Hoja3!U58=\"\",\"\",Hoja3!U58)","v":""},{"$f":"IF(Hoja3!V58=\"\",\"\",Hoja3!V58)","v":""},{"$f":"IF(Hoja3!W58=\"\",\"\",Hoja3!W58)","v":""},{"$f":"IF(Hoja3!X58=\"\",\"\",Hoja3!X58)","v":""},null,null,{"$f":"IF(Hoja3!AA58=\"\",\"\",Hoja3!AA58)","v":""},{"$f":"IF(Hoja3!AB58=\"\",\"\",Hoja3!AB58)","v":""},{"$f":"IF(Hoja3!AC58=\"\",\"\",Hoja3!AC58)","v":""},{"$f":"IF(Hoja3!AD58=\"\",\"\",Hoja3!AD58)","v":""},{"$f":"IF(Hoja3!AE58=\"\",\"\",Hoja3!AE58)","v":""},null,null,{"$f":"IF(Hoja3!AH58=\"\",\"\",Hoja3!AH58)","v":""},{"$f":"IF(Hoja3!AI58=\"\",\"\",Hoja3!AI58)","v":""},{"$f":"IF(Hoja3!AJ58=\"\",\"\",Hoja3!AJ58)","v":""},{"$f":"IF(Hoja3!AK58=\"\",\"\",Hoja3!AK58)","v":""},{"$f":"IF(Hoja3!AL58=\"\",\"\",Hoja3!AL58)","v":""},null,null,{"$f":"IF(Hoja3!AO58=\"\",\"\",Hoja3!AO58)","v":""},{"$f":"IF(Hoja3!AP58=\"\",\"\",Hoja3!AP58)","v":""},{"$f":"IF(Hoja3!AQ58=\"\",\"\",Hoja3!AQ58)","v":""},{"$f":"IF(Hoja3!AR58=\"\",\"\",Hoja3!AR58)","v":""},{"$f":"IF(Hoja3!AS58=\"\",\"\",Hoja3!AS58)","v":""},null,null,{"$f":"IF(Hoja3!AV58=\"\",\"\",Hoja3!AV58)","v":"COMFACASANARE"},{"$f":"IF(Hoja3!AW58=\"\",\"\",Hoja3!AW58)","v":"8440033928"},{"$f":"IF(Hoja3!AX58=\"\",\"\",Hoja3!AX58)","v":38540.697870370372},{"$f":"IF(Hoja3!AY58=\"\",\"\",Hoja3!AY58)","v":"D"},{"$f":"IF(Hoja3!AZ58=\"\",\"\",Hoja3!AZ58)","v":11001}]
[null,null,null,null,null,null,null,null,null,null,null,null,null,null,null,null,null,null,null,{"$f":"IF(Hoja3!T59=\"\",\"\",Hoja3!T59)","v":""},{"$f":"IF(Hoja3!U59=\"\",\"\",Hoja3!U59)","v":""},{"$f":"IF(Hoja3!V59=\"\",\"\",Hoja3!V59)","v":""},{"$f":"IF(Hoja3!W59=\"\",\"\",Hoja3!W59)","v":""},{"$f":"IF(Hoja3!X59=\"\",\"\",Hoja3!X59)","v":""},null,null,{"$f":"IF(Hoja3!AA59=\"\",\"\",Hoja3!AA59)","v":""},{"$f":"IF(Hoja3!AB59=\"\",\"\",Hoja3!AB59)","v":""},{"$f":"IF(Hoja3!AC59=\"\",\"\",Hoja3!AC59)","v":""},{"$f":"IF(Hoja3!AD59=\"\",\"\",Hoja3!AD59)","v":""},{"$f":"IF(Hoja3!AE59=\"\",\"\",Hoja3!AE59)","v":""},null,null,{"$f":"IF(Hoja3!AH59=\"\",\"\",Hoja3!AH59)","v":""},{"$f":"IF(Hoja3!AI59=\"\",\"\",Hoja3!AI59)","v":""},{"$f":"IF(Hoja3!AJ59=\"\",\"\",Hoja3!AJ59)","v":""},{"$f":"IF(Hoja3!AK59=\"\",\"\",Hoja3!AK59)","v":""},{"$f":"IF(Hoja3!AL59=\"\",\"\",Hoja3!AL59)","v":""},null,null,{"$f":"IF(Hoja3!AO59=\"\",\"\",Hoja3!AO59)","v":""},{"$f":"IF(Hoja3!AP59=\"\",\"\",Hoja3!AP59)","v":""},{"$f":"IF(Hoja3!AQ59=\"\",\"\",Hoja3!AQ59)","v":""},{"$f":"IF(Hoja3!AR59=\"\",\"\",Hoja3!AR59)","v":""},{"$f":"IF(Hoja3!AS59=\"\",\"\",Hoja3!AS59)","v":""},null,null,{"$f":"IF(Hoja3!AV59=\"\",\"\",Hoja3!AV59)","v":"CAJA DE AUXILIOS Y DE PRESTACIONES DE ACDAC"},{"$f":"IF(Hoja3!AW59=\"\",\"\",Hoja3!AW59)","v":"8600073798"},{"$f":"IF(Hoja3!AX59=\"\",\"\",Hoja3!AX59)","v":38540.699872685182},{"$f":"IF(Hoja3!AY59=\"\",\"\",Hoja3!AY59)","v":"D"},{"$f":"IF(Hoja3!AZ59=\"\",\"\",Hoja3!AZ59)","v":11001}]
[null,{"$f":"1+B58","v":35},"Nombre del Comercio",null,null,null,null,{"$f":"1+B60","v":36},"Tipo ID Comercio",null,{"$f":"1+H60","v":37},"N° ID Comercio",null,null,null,null,null,null,null,{"$f":"IF(Hoja3!T60=\"\",\"\",Hoja3!T60)","v":""},{"$f":"IF(Hoja3!U60=\"\",\"\",Hoja3!U60)","v":""},{"$f":"IF(Hoja3!V60=\"\",\"\",Hoja3!V60)","v":""},{"$f":"IF(Hoja3!W60=\"\",\"\",Hoja3!W60)","v":""},{"$f":"IF(Hoja3!X60=\"\",\"\",Hoja3!X60)","v":""},null,null,{"$f":"IF(Hoja3!AA60=\"\",\"\",Hoja3!AA60)","v":""},{"$f":"IF(Hoja3!AB60=\"\",\"\",Hoja3!AB60)","v":""},{"$f":"IF(Hoja3!AC60=\"\",\"\",Hoja3!AC60)","v":""},{"$f":"IF(Hoja3!AD60=\"\",\"\",Hoja3!AD60)","v":""},{"$f":"IF(Hoja3!AE60=\"\",\"\",Hoja3!AE60)","v":""},null,null,{"$f":"IF(Hoja3!AH60=\"\",\"\",Hoja3!AH60)","v":""},{"$f":"IF(Hoja3!AI60=\"\",\"\",Hoja3!AI60)","v":""},{"$f":"IF(Hoja3!AJ60=\"\",\"\",Hoja3!AJ60)","v":""},{"$f":"IF(Hoja3!AK60=\"\",\"\",Hoja3!AK60)","v":""},{"$f":"IF(Hoja3!AL60=\"\",\"\",Hoja3!AL60)","v":""},null,null,{"$f":"IF(Hoja3!AO60=\"\",\"\",Hoja3!AO60)","v":""},{"$f":"IF(Hoja3!AP60=\"\",\"\",Hoja3!AP60)","v":""},{"$f":"IF(Hoja3!AQ60=\"\",\"\",Hoja3!AQ60)","v":""},{"$f":"IF(Hoja3!AR60=\"\",\"\",Hoja3!AR60)","v":""},{"$f":"IF(Hoja3!AS60=\"\",\"\",Hoja3!AS60)","v":""},null,null,{"$f":"IF(Hoja3!AV60=\"\",\"\",Hoja3!AV60)","v":"CAJA DE COMPENSACION FAMILIAR DE ANTIOQUIA COMFAMA"},{"$f":"IF(Hoja3!AW60=\"\",\"\",Hoja3!AW60)","v":"8909008419"},{"$f":"IF(Hoja3!AX60=\"\",\"\",Hoja3!AX60)","v":38540.706840277773},{"$f":"IF(Hoja3!AY60=\"\",\"\",Hoja3!AY60)","v":"D"},{"$f":"IF(Hoja3!AZ60=\"\",\"\",Hoja3!AZ60)","v":11001}]
[null,null,{"$f":"IF(I58=\"\",\"\",VLOOKUP(I58,Hoja3!AH2:AL112,1,0))","v":""},null,null,null,null,null,{"$f":"IF(C61<>\"\",S9,\"\")","v":""},null,null,{"$f":"IF(I58=\"\",\"\",VLOOKUP(I58,Hoja3!AH2:AL112,2,0))","v":""},null,null,null,null,null,null,null,{"$f":"IF(Hoja3!T61=\"\",\"\",Hoja3!T61)","v":""},{"$f":"IF(Hoja3!U61=\"\",\"\",Hoja3!U61)","v":""},{"$f":"IF(Hoja3!V61=\"\",\"\",Hoja3!V61)","v":""},{"$f":"IF(Hoja3!W61=\"\",\"\",Hoja3!W61)","v":""},{"$f":"IF(Hoja3!X61=\"\",\"\",Hoja3!X61)","v":""},null,null,{"$f":"IF(Hoja3!AA61=\"\",\"\",Hoja3!AA61)","v":""},{"$f":"IF(Hoja3!AB61=\"\",\"\",Hoja3!AB61)","v":""},{"$f":"IF(Hoja3!AC61=\"\",\"\",Hoja3!AC61)","v":""},{"$f":"IF(Hoja3!AD61=\"\",\"\",Hoja3!AD61)","v":""},{"$f":"IF(Hoja3!AE61=\"\",\"\",Hoja3!AE61)","v":""},null,null,{"$f":"IF(Hoja3!AH61=\"\",\"\",Hoja3!AH61)","v":""},{"$f":"IF(Hoja3!AI61=\"\",\"\",Hoja3!AI61)","v":""},{"$f":"IF(Hoja3!AJ61=\"\",\"\",Hoja3!AJ61)","v":""},{"$f":"IF(Hoja3!AK61=\"\",\"\",Hoja3!AK61)","v":""},{"$f":"IF(Hoja3!AL61=\"\",\"\",Hoja3!AL61)","v":""},null,null,{"$f":"IF(Hoja3!AO61=\"\",\"\",Hoja3!AO61)","v":""},{"$f":"IF(Hoja3!AP61=\"\",\"\",Hoja3!AP61)","v":""},{"$f":"IF(Hoja3!AQ61=\"\",\"\",Hoja3!AQ61)","v":""},{"$f":"IF(Hoja3!AR61=\"\",\"\",Hoja3!AR61)","v":""},{"$f":"IF(Hoja3!AS61=\"\",\"\",Hoja3!AS61)","v":""},null,null,{"$f":"IF(Hoja3!AV61=\"\",\"\",Hoja3!AV61)","v":"SERVICIO NACIONAL DE APRENDIZAJE SENA"},{"$f":"IF(Hoja3!AW61=\"\",\"\",Hoja3!AW61)","v":"8999990341"},{"$f":"IF(Hoja3!AX61=\"\",\"\",Hoja3!AX61)","v":38540.753680555557},{"$f":"IF(Hoja3!AY61=\"\",\"\",Hoja3!AY61)","v":"D"},{"$f":"IF(Hoja3!AZ61=\"\",\"\",Hoja3!AZ61)","v":11001}]
[null,null,null,null,null,null,null,null,null,null,null,null,null,null,null,null,null,null,null,{"$f":"IF(Hoja3!T62=\"\",\"\",Hoja3!T62)","v":""},{"$f":"IF(Hoja3!U62=\"\",\"\",Hoja3!U62)","v":""},{"$f":"IF(Hoja3!V62=\"\",\"\",Hoja3!V62)","v":""},{"$f":"IF(Hoja3!W62=\"\",\"\",Hoja3!W62)","v":""},{"$f":"IF(Hoja3!X62=\"\",\"\",Hoja3!X62)","v":""},null,null,{"$f":"IF(Hoja3!AA62=\"\",\"\",Hoja3!AA62)","v":""},{"$f":"IF(Hoja3!AB62=\"\",\"\",Hoja3!AB62)","v":""},{"$f":"IF(Hoja3!AC62=\"\",\"\",Hoja3!AC62)","v":""},{"$f":"IF(Hoja3!AD62=\"\",\"\",Hoja3!AD62)","v":""},{"$f":"IF(Hoja3!AE62=\"\",\"\",Hoja3!AE62)","v":""},null,null,{"$f":"IF(Hoja3!AH62=\"\",\"\",Hoja3!AH62)","v":""},{"$f":"IF(Hoja3!AI62=\"\",\"\",Hoja3!AI62)","v":""},{"$f":"IF(Hoja3!AJ62=\"\",\"\",Hoja3!AJ62)","v":""},{"$f":"IF(Hoja3!AK62=\"\",\"\",Hoja3!AK62)","v":""},{"$f":"IF(Hoja3!AL62=\"\",\"\",Hoja3!AL62)","v":""},null,null,{"$f":"IF(Hoja3!AO62=\"\",\"\",Hoja3!AO62)","v":""},{"$f":"IF(Hoja3!AP62=\"\",\"\",Hoja3!AP62)","v":""},{"$f":"IF(Hoja3!AQ62=\"\",\"\",Hoja3!AQ62)","v":""},{"$f":"IF(Hoja3!AR62=\"\",\"\",Hoja3!AR62)","v":""},{"$f":"IF(Hoja3!AS62=\"\",\"\",Hoja3!AS62)","v":""},null,null,{"$f":"IF(Hoja3!AV62=\"\",\"\",Hoja3!AV62)","v":"ENTIDAD PROMOTORA DE SALUD SERVICIO OCCIDENTAL DE SALUD SA"},{"$f":"IF(Hoja3!AW62=\"\",\"\",Hoja3!AW62)","v":"8050011572"},{"$f":"IF(Hoja3!AX62=\"\",\"\",Hoja3!AX62)","v":38540.755532407406},{"$f":"IF(Hoja3!AY62=\"\",\"\",Hoja3!AY62)","v":"D"},{"$f":"IF(Hoja3!AZ62=\"\",\"\",Hoja3!AZ62)","v":11001}]
[null,{"$f":"1+K60","v":38},"Entidad",null,{"$f":"1+B63","v":39},"Grupo",null,{"$f":"+E63+1","v":40},"Ciudad",null,null,null,null,null,null,null,null,null,null,{"$f":"IF(Hoja3!T63=\"\",\"\",Hoja3!T63)","v":""},{"$f":"IF(Hoja3!U63=\"\",\"\",Hoja3!U63)","v":""},{"$f":"IF(Hoja3!V63=\"\",\"\",Hoja3!V63)","v":""},{"$f":"IF(Hoja3!W63=\"\",\"\",Hoja3!W63)","v":""},{"$f":"IF(Hoja3!X63=\"\",\"\",Hoja3!X63)","v":""},null,null,{"$f":"IF(Hoja3!AA63=\"\",\"\",Hoja3!AA63)","v":""},{"$f":"IF(Hoja3!AB63=\"\",\"\",Hoja3!AB63)","v":""},{"$f":"IF(Hoja3!AC63=\"\",\"\",Hoja3!AC63)","v":""},{"$f":"IF(Hoja3!AD63=\"\",\"\",Hoja3!AD63)","v":""},{"$f":"IF(Hoja3!AE63=\"\",\"\",Hoja3!AE63)","v":""},null,null,{"$f":"IF(Hoja3!AH63=\"\",\"\",Hoja3!AH63)","v":""},{"$f":"IF(Hoja3!AI63=\"\",\"\",Hoja3!AI63)","v":""},{"$f":"IF(Hoja3!AJ63=\"\",\"\",Hoja3!AJ63)","v":""},{"$f":"IF(Hoja3!AK63=\"\",\"\",Hoja3!AK63)","v":""},{"$f":"IF(Hoja3!AL63=\"\",\"\",Hoja3!AL63)","v":""},null,null,{"$f":"IF(Hoja3!AO63=\"\",\"\",Hoja3!AO63)","v":""},{"$f":"IF(Hoja3!AP63=\"\",\"\",Hoja3!AP63)","v":""},{"$f":"IF(Hoja3!AQ63=\"\",\"\",Hoja3!AQ63)","v":""},{"$f":"IF(Hoja3!AR63=\"\",\"\",Hoja3!AR63)","v":""},{"$f":"IF(Hoja3!AS63=\"\",\"\",Hoja3!AS63)","v":""},null,null,{"$f":"IF(Hoja3!AV63=\"\",\"\",Hoja3!AV63)","v":"ING ADMINISTRADORA DE FONDOS DE PENSIONES Y CESANTIAS"},{"$f":"IF(Hoja3!AW63=\"\",\"\",Hoja3!AW63)","v":"8002248278"},{"$f":"IF(Hoja3!AX63=\"\",\"\",Hoja3!AX63)","v":38540.829375000001},{"$f":"IF(Hoja3!AY63=\"\",\"\",Hoja3!AY63)","v":"D"},{"$f":"IF(Hoja3!AZ63=\"\",\"\",Hoja3!AZ63)","v":11001}]
[null,null,{"$f":"IF(C61<>\"\",S8,\"\")","v":""},null,null,{"$f":"IF(I58=\"\",\"\",VLOOKUP(I58,Hoja3!AH2:AL112,4,0))","v":""},null,null,{"$f":"IF(I58=\"\",\"\",VLOOKUP(I58,Hoja3!AH2:AL112,5,0))","v":""},null,null,null,null,null,null,null,null,null,null,{"$f":"IF(Hoja3!T64=\"\",\"\",Hoja3!T64)","v":""},{"$f":"IF(Hoja3!U64=\"\",\"\",Hoja3!U64)","v":""},{"$f":"IF(Hoja3!V64=\"\",\"\",Hoja3!V64)","v":""},{"$f":"IF(Hoja3!W64=\"\",\"\",Hoja3!W64)","v":""},{"$f":"IF(Hoja3!X64=\"\",\"\",Hoja3!X64)","v":""},null,null,{"$f":"IF(Hoja3!AA64=\"\",\"\",Hoja3!AA64)","v":""},{"$f":"IF(Hoja3!AB64=\"\",\"\",Hoja3!AB64)","v":""},{"$f":"IF(Hoja3!AC64=\"\",\"\",Hoja3!AC64)","v":""},{"$f":"IF(Hoja3!AD64=\"\",\"\",Hoja3!AD64)","v":""},{"$f":"IF(Hoja3!AE64=\"\",\"\",Hoja3!AE64)","v":""},null,null,{"$f":"IF(Hoja3!AH64=\"\",\"\",Hoja3!AH64)","v":""},{"$f":"IF(Hoja3!AI64=\"\",\"\",Hoja3!AI64)","v":""},{"$f":"IF(Hoja3!AJ64=\"\",\"\",Hoja3!AJ64)","v":""},{"$f":"IF(Hoja3!AK64=\"\",\"\",Hoja3!AK64)","v":""},{"$f":"IF(Hoja3!AL64=\"\",\"\",Hoja3!AL64)","v":""},null,null,{"$f":"IF(Hoja3!AO64=\"\",\"\",Hoja3!AO64)","v":""},{"$f":"IF(Hoja3!AP64=\"\",\"\",Hoja3!AP64)","v":""},{"$f":"IF(Hoja3!AQ64=\"\",\"\",Hoja3!AQ64)","v":""},{"$f":"IF(Hoja3!AR64=\"\",\"\",Hoja3!AR64)","v":""},{"$f":"IF(Hoja3!AS64=\"\",\"\",Hoja3!AS64)","v":""},null,null,{"$f":"IF(Hoja3!AV64=\"\",\"\",Hoja3!AV64)","v":"Aliansalud  EPS S.A."},{"$f":"IF(Hoja3!AW64=\"\",\"\",Hoja3!AW64)","v":"8301138310"},{"$f":"IF(Hoja3!AX64=\"\",\"\",Hoja3!AX64)","v":38544.723101851851},{"$f":"IF(Hoja3!AY64=\"\",\"\",Hoja3!AY64)","v":"D"},{"$f":"IF(Hoja3!AZ64=\"\",\"\",Hoja3!AZ64)","v":11001}]
[null,null,null,null,null,null,null,null,null,null,null,null,null,null,null,null,null,null,null,{"$f":"IF(Hoja3!T65=\"\",\"\",Hoja3!T65)","v":""},{"$f":"IF(Hoja3!U65=\"\",\"\",Hoja3!U65)","v":""},{"$f":"IF(Hoja3!V65=\"\",\"\",Hoja3!V65)","v":""},{"$f":"IF(Hoja3!W65=\"\",\"\",Hoja3!W65)","v":""},{"$f":"IF(Hoja3!X65=\"\",\"\",Hoja3!X65)","v":""},null,null,{"$f":"IF(Hoja3!AA65=\"\",\"\",Hoja3!AA65)","v":""},{"$f":"IF(Hoja3!AB65=\"\",\"\",Hoja3!AB65)","v":""},{"$f":"IF(Hoja3!AC65=\"\",\"\",Hoja3!AC65)","v":""},{"$f":"IF(Hoja3!AD65=\"\",\"\",Hoja3!AD65)","v":""},{"$f":"IF(Hoja3!AE65=\"\",\"\",Hoja3!AE65)","v":""},null,null,{"$f":"IF(Hoja3!AH65=\"\",\"\",Hoja3!AH65)","v":""},{"$f":"IF(Hoja3!AI65=\"\",\"\",Hoja3!AI65)","v":""},{"$f":"IF(Hoja3!AJ65=\"\",\"\",Hoja3!AJ65)","v":""},{"$f":"IF(Hoja3!AK65=\"\",\"\",Hoja3!AK65)","v":""},{"$f":"IF(Hoja3!AL65=\"\",\"\",Hoja3!AL65)","v":""},null,null,{"$f":"IF(Hoja3!AO65=\"\",\"\",Hoja3!AO65)","v":""},{"$f":"IF(Hoja3!AP65=\"\",\"\",Hoja3!AP65)","v":""},{"$f":"IF(Hoja3!AQ65=\"\",\"\",Hoja3!AQ65)","v":""},{"$f":"IF(Hoja3!AR65=\"\",\"\",Hoja3!AR65)","v":""},{"$f":"IF(Hoja3!AS65=\"\",\"\",Hoja3!AS65)","v":""},null,null,{"$f":"IF(Hoja3!AV65=\"\",\"\",Hoja3!AV65)","v":"CAJA DE COMPENSACION FAMILIAR DE BARRANQUILLA"},{"$f":"IF(Hoja3!AW65=\"\",\"\",Hoja3!AW65)","v":"8901020022"},{"$f":"IF(Hoja3!AX65=\"\",\"\",Hoja3!AX65)","v":38544.729270833333},{"$f":"IF(Hoja3!AY65=\"\",\"\",Hoja3!AY65)","v":"D"},{"$f":"IF(Hoja3!AZ65=\"\",\"\",Hoja3!AZ65)","v":11001}]
[null,{"$f":"1+H63","v":41},{"$f":"IF(F64=\"D\",\"\",\"Número de identificación del aportante\")","v":"Número de identificación del aportante"},null,null,null,null,null,null,null,null,null,null,null,null,null,null,null,null,{"$f":"IF(Hoja3!T66=\"\",\"\",Hoja3!T66)","v":""},{"$f":"IF(Hoja3!U66=\"\",\"\",Hoja3!U66)","v":""},{"$f":"IF(Hoja3!V66=\"\",\"\",Hoja3!V66)","v":""},{"$f":"IF(Hoja3!W66=\"\",\"\",Hoja3!W66)","v":""},{"$f":"IF(Hoja3!X66=\"\",\"\",Hoja3!X66)","v":""},null,null,{"$f":"IF(Hoja3!AA66=\"\",\"\",Hoja3!AA66)","v":""},{"$f":"IF(Hoja3!AB66=\"\",\"\",Hoja3!AB66)","v":""},{"$f":"IF(Hoja3!AC66=\"\",\"\",Hoja3!AC66)","v":""},{"$f":"IF(Hoja3!AD66=\"\",\"\",Hoja3!AD66)","v":""},{"$f":"IF(Hoja3!AE66=\"\",\"\",Hoja3!AE66)","v":""},null,null,{"$f":"IF(Hoja3!AH66=\"\",\"\",Hoja3!AH66)","v":""},{"$f":"IF(Hoja3!AI66=\"\",\"\",Hoja3!AI66)","v":""},{"$f":"IF(Hoja3!AJ66=\"\",\"\",Hoja3!AJ66)","v":""},{"$f":"IF(Hoja3!AK66=\"\",\"\",Hoja3!AK66)","v":""},{"$f":"IF(Hoja3!AL66=\"\",\"\",Hoja3!AL66)","v":""},null,null,{"$f":"IF(Hoja3!AO66=\"\",\"\",Hoja3!AO66)","v":""},{"$f":"IF(Hoja3!AP66=\"\",\"\",Hoja3!AP66)","v":""},{"$f":"IF(Hoja3!AQ66=\"\",\"\",Hoja3!AQ66)","v":""},{"$f":"IF(Hoja3!AR66=\"\",\"\",Hoja3!AR66)","v":""},{"$f":"IF(Hoja3!AS66=\"\",\"\",Hoja3!AS66)","v":""},null,null,{"$f":"IF(Hoja3!AV66=\"\",\"\",Hoja3!AV66)","v":"ESCUELA SUPERIOR DE ADMINISTRACION PUBLICA ESAP"},{"$f":"IF(Hoja3!AW66=\"\",\"\",Hoja3!AW66)","v":"8999990547"},{"$f":"IF(Hoja3!AX66=\"\",\"\",Hoja3!AX66)","v":38544.736770833333},{"$f":"IF(Hoja3!AY66=\"\",\"\",Hoja3!AY66)","v":"D"},{"$f":"IF(Hoja3!AZ66=\"\",\"\",Hoja3!AZ66)","v":11001}]
[null,null,null,null,null,null,null,null,null,null,null,null,null,null,null,null,null,null,null,{"$f":"IF(Hoja3!T67=\"\",\"\",Hoja3!T67)","v":""},{"$f":"IF(Hoja3!U67=\"\",\"\",Hoja3!U67)","v":""},{"$f":"IF(Hoja3!V67=\"\",\"\",Hoja3!V67)","v":""},{"$f":"IF(Hoja3!W67=\"\",\"\",Hoja3!W67)","v":""},{"$f":"IF(Hoja3!X67=\"\",\"\",Hoja3!X67)","v":""},null,null,{"$f":"IF(Hoja3!AA67=\"\",\"\",Hoja3!AA67)","v":""},{"$f":"IF(Hoja3!AB67=\"\",\"\",Hoja3!AB67)","v":""},{"$f":"IF(Hoja3!AC67=\"\",\"\",Hoja3!AC67)","v":""},{"$f":"IF(Hoja3!AD67=\"\",\"\",Hoja3!AD67)","v":""},{"$f":"IF(Hoja3!AE67=\"\",\"\",Hoja3!AE67)","v":""},null,null,{"$f":"IF(Hoja3!AH67=\"\",\"\",Hoja3!AH67)","v":""},{"$f":"IF(Hoja3!AI67=\"\",\"\",Hoja3!AI67)","v":""},{"$f":"IF(Hoja3!AJ67=\"\",\"\",Hoja3!AJ67)","v":""},{"$f":"IF(Hoja3!AK67=\"\",\"\",Hoja3!AK67)","v":""},{"$f":"IF(Hoja3!AL67=\"\",\"\",Hoja3!AL67)","v":""},null,null,{"$f":"IF(Hoja3!AO67=\"\",\"\",Hoja3!AO67)","v":""},{"$f":"IF(Hoja3!AP67=\"\",\"\",Hoja3!AP67)","v":""},{"$f":"IF(Hoja3!AQ67=\"\",\"\",Hoja3!AQ67)","v":""},{"$f":"IF(Hoja3!AR67=\"\",\"\",Hoja3!AR67)","v":""},{"$f":"IF(Hoja3!AS67=\"\",\"\",Hoja3!AS67)","v":""},null,null,{"$f":"IF(Hoja3!AV67=\"\",\"\",Hoja3!AV67)","v":"REDSALUD ATENCION HUMANA EPS S.A."},{"$f":"IF(Hoja3!AW67=\"\",\"\",Hoja3!AW67)","v":"8300965131"},{"$f":"IF(Hoja3!AX67=\"\",\"\",Hoja3!AX67)","v":38544.819467592592},{"$f":"IF(Hoja3!AY67=\"\",\"\",Hoja3!AY67)","v":"D"},{"$f":"IF(Hoja3!AZ67=\"\",\"\",Hoja3!AZ67)","v":11001}]
[null,{"$f":"1+B66","v":42},{"$f":"+IF(E58=\"Inactivar Inscripción\",\"\",\"Valor máximo por transacción\")","v":"Valor máximo por transacción"},null,null,null,{"$f":"+IF(ISTEXT(E68)=TRUE,\"*Digite solo valores numéricos\",IF(AND(E68<>\"\",E68<1000000),\"*El valor digitado no requiere inscripción\",\"\"))","v":""},null,null,null,null,null,null,null,null,null,null,null,null,{"$f":"IF(Hoja3!T68=\"\",\"\",Hoja3!T68)","v":""},{"$f":"IF(Hoja3!U68=\"\",\"\",Hoja3!U68)","v":""},{"$f":"IF(Hoja3!V68=\"\",\"\",Hoja3!V68)","v":""},{"$f":"IF(Hoja3!W68=\"\",\"\",Hoja3!W68)","v":""},{"$f":"IF(Hoja3!X68=\"\",\"\",Hoja3!X68)","v":""},null,null,{"$f":"IF(Hoja3!AA68=\"\",\"\",Hoja3!AA68)","v":""},{"$f":"IF(Hoja3!AB68=\"\",\"\",Hoja3!AB68)","v":""},{"$f":"IF(Hoja3!AC68=\"\",\"\",Hoja3!AC68)","v":""},{"$f":"IF(Hoja3!AD68=\"\",\"\",Hoja3!AD68)","v":""},{"$f":"IF(Hoja3!AE68=\"\",\"\",Hoja3!AE68)","v":""},null,null,{"$f":"IF(Hoja3!AH68=\"\",\"\",Hoja3!AH68)","v":""},{"$f":"IF(Hoja3!AI68=\"\",\"\",Hoja3!AI68)","v":""},{"$f":"IF(Hoja3!AJ68=\"\",\"\",Hoja3!AJ68)","v":""},{"$f":"IF(Hoja3!AK68=\"\",\"\",Hoja3!AK68)","v":""},{"$f":"IF(Hoja3!AL68=\"\",\"\",Hoja3!AL68)","v":""},null,null,{"$f":"IF(Hoja3!AO68=\"\",\"\",Hoja3!AO68)","v":""},{"$f":"IF(Hoja3!AP68=\"\",\"\",Hoja3!AP68)","v":""},{"$f":"IF(Hoja3!AQ68=\"\",\"\",Hoja3!AQ68)","v":""},{"$f":"IF(Hoja3!AR68=\"\",\"\",Hoja3!AR68)","v":""},{"$f":"IF(Hoja3!AS68=\"\",\"\",Hoja3!AS68)","v":""},null,null,{"$f":"IF(Hoja3!AV68=\"\",\"\",Hoja3!AV68)","v":"CAJA DE COMPENSACION FAMILIAR COMFENALCO CUNDINAMARCA"},{"$f":"IF(Hoja3!AW68=\"\",\"\",Hoja3!AW68)","v":"8600066060"},{"$f":"IF(Hoja3!AX68=\"\",\"\",Hoja3!AX68)","v":38544.822719907403},{"$f":"IF(Hoja3!AY68=\"\",\"\",Hoja3!AY68)","v":"D"},{"$f":"IF(Hoja3!AZ68=\"\",\"\",Hoja3!AZ68)","v":11001}]
[null,null,null,null,null,null,null,null,null,null,null,null,null,null,null,null,null,null,null,{"$f":"IF(Hoja3!T69=\"\",\"\",Hoja3!T69)","v":""},{"$f":"IF(Hoja3!U69=\"\",\"\",Hoja3!U69)","v":""},{"$f":"IF(Hoja3!V69=\"\",\"\",Hoja3!V69)","v":""},{"$f":"IF(Hoja3!W69=\"\",\"\",Hoja3!W69)","v":""},{"$f":"IF(Hoja3!X69=\"\",\"\",Hoja3!X69)","v":""},null,null,{"$f":"IF(Hoja3!AA69=\"\",\"\",Hoja3!AA69)","v":""},{"$f":"IF(Hoja3!AB69=\"\",\"\",Hoja3!AB69)","v":""},{"$f":"IF(Hoja3!AC69=\"\",\"\",Hoja3!AC69)","v":""},{"$f":"IF(Hoja3!AD69=\"\",\"\",Hoja3!AD69)","v":""},{"$f":"IF(Hoja3!AE69=\"\",\"\",Hoja3!AE69)","v":""},null,null,{"$f":"IF(Hoja3!AH69=\"\",\"\",Hoja3!AH69)","v":""},{"$f":"IF(Hoja3!AI69=\"\",\"\",Hoja3!AI69)","v":""},{"$f":"IF(Hoja3!AJ69=\"\",\"\",Hoja3!AJ69)","v":""},{"$f":"IF(Hoja3!AK69=\"\",\"\",Hoja3!AK69)","v":""},{"$f":"IF(Hoja3!AL69=\"\",\"\",Hoja3!AL69)","v":""},null,null,{"$f":"IF(Hoja3!AO69=\"\",\"\",Hoja3!AO69)","v":""},{"$f":"IF(Hoja3!AP69=\"\",\"\",Hoja3!AP69)","v":""},{"$f":"IF(Hoja3!AQ69=\"\",\"\",Hoja3!AQ69)","v":""},{"$f":"IF(Hoja3!AR69=\"\",\"\",Hoja3!AR69)","v":""},{"$f":"IF(Hoja3!AS69=\"\",\"\",Hoja3!AS69)","v":""},null,null,{"$f":"IF(Hoja3!AV69=\"\",\"\",Hoja3!AV69)","v":"COMFAMILIAR DEL ATLANTICO"},{"$f":"IF(Hoja3!AW69=\"\",\"\",Hoja3!AW69)","v":"8901019949"},{"$f":"IF(Hoja3!AX69=\"\",\"\",Hoja3!AX69)","v":38546.386354166665},{"$f":"IF(Hoja3!AY69=\"\",\"\",Hoja3!AY69)","v":"D"},{"$f":"IF(Hoja3!AZ69=\"\",\"\",Hoja3!AZ69)","v":11001}]
[null,null,null,null,null,null,null,null,null,null,null,null,null,null,null,null,null,null,null,{"$f":"IF(Hoja3!T70=\"\",\"\",Hoja3!T70)","v":""},{"$f":"IF(Hoja3!U70=\"\",\"\",Hoja3!U70)","v":""},{"$f":"IF(Hoja3!V70=\"\",\"\",Hoja3!V70)","v":""},{"$f":"IF(Hoja3!W70=\"\",\"\",Hoja3!W70)","v":""},{"$f":"IF(Hoja3!X70=\"\",\"\",Hoja3!X70)","v":""},null,null,{"$f":"IF(Hoja3!AA70=\"\",\"\",Hoja3!AA70)","v":""},{"$f":"IF(Hoja3!AB70=\"\",\"\",Hoja3!AB70)","v":""},{"$f":"IF(Hoja3!AC70=\"\",\"\",Hoja3!AC70)","v":""},{"$f":"IF(Hoja3!AD70=\"\",\"\",Hoja3!AD70)","v":""},{"$f":"IF(Hoja3!AE70=\"\",\"\",Hoja3!AE70)","v":""},null,null,{"$f":"IF(Hoja3!AH70=\"\",\"\",Hoja3!AH70)","v":""},{"$f":"IF(Hoja3!AI70=\"\",\"\",Hoja3!AI70)","v":""},{"$f":"IF(Hoja3!AJ70=\"\",\"\",Hoja3!AJ70)","v":""},{"$f":"IF(Hoja3!AK70=\"\",\"\",Hoja3!AK70)","v":""},{"$f":"IF(Hoja3!AL70=\"\",\"\",Hoja3!AL70)","v":""},null,null,{"$f":"IF(Hoja3!AO70=\"\",\"\",Hoja3!AO70)","v":""},{"$f":"IF(Hoja3!AP70=\"\",\"\",Hoja3!AP70)","v":""},{"$f":"IF(Hoja3!AQ70=\"\",\"\",Hoja3!AQ70)","v":""},{"$f":"IF(Hoja3!AR70=\"\",\"\",Hoja3!AR70)","v":""},{"$f":"IF(Hoja3!AS70=\"\",\"\",Hoja3!AS70)","v":""},null,null,{"$f":"IF(Hoja3!AV70=\"\",\"\",Hoja3!AV70)","v":"FUNDACION LICEO INGLES"},{"$f":"IF(Hoja3!AW70=\"\",\"\",Hoja3!AW70)","v":"8914129700"},{"$f":"IF(Hoja3!AX70=\"\",\"\",Hoja3!AX70)","v":38546.680625000001},{"$f":"IF(Hoja3!AY70=\"\",\"\",Hoja3!AY70)","v":"D"},{"$f":"IF(Hoja3!AZ70=\"\",\"\",Hoja3!AZ70)","v":11001}]
[null,null,null,null,null,null,null,null,null,null,null,null,null,null,null,null,null,null,null,{"$f":"IF(Hoja3!T71=\"\",\"\",Hoja3!T71)","v":""},{"$f":"IF(Hoja3!U71=\"\",\"\",Hoja3!U71)","v":""},{"$f":"IF(Hoja3!V71=\"\",\"\",Hoja3!V71)","v":""},{"$f":"IF(Hoja3!W71=\"\",\"\",Hoja3!W71)","v":""},{"$f":"IF(Hoja3!X71=\"\",\"\",Hoja3!X71)","v":""},null,null,{"$f":"IF(Hoja3!AA71=\"\",\"\",Hoja3!AA71)","v":""},{"$f":"IF(Hoja3!AB71=\"\",\"\",Hoja3!AB71)","v":""},{"$f":"IF(Hoja3!AC71=\"\",\"\",Hoja3!AC71)","v":""},{"$f":"IF(Hoja3!AD71=\"\",\"\",Hoja3!AD71)","v":""},{"$f":"IF(Hoja3!AE71=\"\",\"\",Hoja3!AE71)","v":""},null,null,{"$f":"IF(Hoja3!AH71=\"\",\"\",Hoja3!AH71)","v":""},{"$f":"IF(Hoja3!AI71=\"\",\"\",Hoja3!AI71)","v":""},{"$f":"IF(Hoja3!AJ71=\"\",\"\",Hoja3!AJ71)","v":""},{"$f":"IF(Hoja3!AK71=\"\",\"\",Hoja3!AK71)","v":""},{"$f":"IF(Hoja3!AL71=\"\",\"\",Hoja3!AL71)","v":""},null,null,{"$f":"IF(Hoja3!AO71=\"\",\"\",Hoja3!AO71)","v":""},{"$f":"IF(Hoja3!AP71=\"\",\"\",Hoja3!AP71)","v":""},{"$f":"IF(Hoja3!AQ71=\"\",\"\",Hoja3!AQ71)","v":""},{"$f":"IF(Hoja3!AR71=\"\",\"\",Hoja3!AR71)","v":""},{"$f":"IF(Hoja3!AS71=\"\",\"\",Hoja3!AS71)","v":""},null,null,{"$f":"IF(Hoja3!AV71=\"\",\"\",Hoja3!AV71)","v":"MIN-COMER. VUCE IMPORTACIONES"},{"$f":"IF(Hoja3!AW71=\"\",\"\",Hoja3!AW71)","v":"8301152976"},{"$f":"IF(Hoja3!AX71=\"\",\"\",Hoja3!AX71)","v":38546.687349537038},{"$f":"IF(Hoja3!AY71=\"\",\"\",Hoja3!AY71)","v":"D"},{"$f":"IF(Hoja3!AZ71=\"\",\"\",Hoja3!AZ71)","v":11001}]
[null,{"$f":"1+B68","v":43},"Búsqueda del Comercio 4",null,null,null,null,{"$f":"1+B72","v":44},"Seleccione el nombre del comercio para aplicar la novedad:",null,null,null,null,null,null,null,null,null,null,{"$f":"IF(Hoja3!T72=\"\",\"\",Hoja3!T72)","v":""},{"$f":"IF(Hoja3!U72=\"\",\"\",Hoja3!U72)","v":""},{"$f":"IF(Hoja3!V72=\"\",\"\",Hoja3!V72)","v":""},{"$f":"IF(Hoja3!W72=\"\",\"\",Hoja3!W72)","v":""},{"$f":"IF(Hoja3!X72=\"\",\"\",Hoja3!X72)","v":""},null,null,{"$f":"IF(Hoja3!AA72=\"\",\"\",Hoja3!AA72)","v":""},{"$f":"IF(Hoja3!AB72=\"\",\"\",Hoja3!AB72)","v":""},{"$f":"IF(Hoja3!AC72=\"\",\"\",Hoja3!AC72)","v":""},{"$f":"IF(Hoja3!AD72=\"\",\"\",Hoja3!AD72)","v":""},{"$f":"IF(Hoja3!AE72=\"\",\"\",Hoja3!AE72)","v":""},null,null,{"$f":"IF(Hoja3!AH72=\"\",\"\",Hoja3!AH72)","v":""},{"$f":"IF(Hoja3!AI72=\"\",\"\",Hoja3!AI72)","v":""},{"$f":"IF(Hoja3!AJ72=\"\",\"\",Hoja3!AJ72)","v":""},{"$f":"IF(Hoja3!AK72=\"\",\"\",Hoja3!AK72)","v":""},{"$f":"IF(Hoja3!AL72=\"\",\"\",Hoja3!AL72)","v":""},null,null,{"$f":"IF(Hoja3!AO72=\"\",\"\",Hoja3!AO72)","v":""},{"$f":"IF(Hoja3!AP72=\"\",\"\",Hoja3!AP72)","v":""},{"$f":"IF(Hoja3!AQ72=\"\",\"\",Hoja3!AQ72)","v":""},{"$f":"IF(Hoja3!AR72=\"\",\"\",Hoja3!AR72)","v":""},{"$f":"IF(Hoja3!AS72=\"\",\"\",Hoja3!AS72)","v":""},null,null,{"$f":"IF(Hoja3!AV72=\"\",\"\",Hoja3!AV72)","v":"CAJA DE COMPENSACION FAMILIAR CAFAM"},{"$f":"IF(Hoja3!AW72=\"\",\"\",Hoja3!AW72)","v":"8600135703"},{"$f":"IF(Hoja3!AX72=\"\",\"\",Hoja3!AX72)","v":38546.696597222224},{"$f":"IF(Hoja3!AY72=\"\",\"\",Hoja3!AY72)","v":"D"},{"$f":"IF(Hoja3!AZ72=\"\",\"\",Hoja3!AZ72)","v":11001}]
[null,null,null,null,null,null,null,null,null,null,null,null,null,null,null,null,null,null,null,{"$f":"IF(Hoja3!T73=\"\",\"\",Hoja3!T73)","v":""},{"$f":"IF(Hoja3!U73=\"\",\"\",Hoja3!U73)","v":""},{"$f":"IF(Hoja3!V73=\"\",\"\",Hoja3!V73)","v":""},{"$f":"IF(Hoja3!W73=\"\",\"\",Hoja3!W73)","v":""},{"$f":"IF(Hoja3!X73=\"\",\"\",Hoja3!X73)","v":""},null,null,{"$f":"IF(Hoja3!AA73=\"\",\"\",Hoja3!AA73)","v":""},{"$f":"IF(Hoja3!AB73=\"\",\"\",Hoja3!AB73)","v":""},{"$f":"IF(Hoja3!AC73=\"\",\"\",Hoja3!AC73)","v":""},{"$f":"IF(Hoja3!AD73=\"\",\"\",Hoja3!AD73)","v":""},{"$f":"IF(Hoja3!AE73=\"\",\"\",Hoja3!AE73)","v":""},null,null,{"$f":"IF(Hoja3!AH73=\"\",\"\",Hoja3!AH73)","v":""},{"$f":"IF(Hoja3!AI73=\"\",\"\",Hoja3!AI73)","v":""},{"$f":"IF(Hoja3!AJ73=\"\",\"\",Hoja3!AJ73)","v":""},{"$f":"IF(Hoja3!AK73=\"\",\"\",Hoja3!AK73)","v":""},{"$f":"IF(Hoja3!AL73=\"\",\"\",Hoja3!AL73)","v":""},null,null,{"$f":"IF(Hoja3!AO73=\"\",\"\",Hoja3!AO73)","v":""},{"$f":"IF(Hoja3!AP73=\"\",\"\",Hoja3!AP73)","v":""},{"$f":"IF(Hoja3!AQ73=\"\",\"\",Hoja3!AQ73)","v":""},{"$f":"IF(Hoja3!AR73=\"\",\"\",Hoja3!AR73)","v":""},{"$f":"IF(Hoja3!AS73=\"\",\"\",Hoja3!AS73)","v":""},null,null,{"$f":"IF(Hoja3!AV73=\"\",\"\",Hoja3!AV73)","v":"SALUDVIDA S.A. EPS"},{"$f":"IF(Hoja3!AW73=\"\",\"\",Hoja3!AW73)","v":"8300741845"},{"$f":"IF(Hoja3!AX73=\"\",\"\",Hoja3!AX73)","v":38546.745787037034},{"$f":"IF(Hoja3!AY73=\"\",\"\",Hoja3!AY73)","v":"D"},{"$f":"IF(Hoja3!AZ73=\"\",\"\",Hoja3!AZ73)","v":11001}]
[null,{"$f":"1+H72","v":45},"Tipo de Novedad",null,null,null,null,null,null,null,null,null,null,6,null,null,null,null,null,{"$f":"IF(Hoja3!T74=\"\",\"\",Hoja3!T74)","v":""},{"$f":"IF(Hoja3!U74=\"\",\"\",Hoja3!U74)","v":""},{"$f":"IF(Hoja3!V74=\"\",\"\",Hoja3!V74)","v":""},{"$f":"IF(Hoja3!W74=\"\",\"\",Hoja3!W74)","v":""},{"$f":"IF(Hoja3!X74=\"\",\"\",Hoja3!X74)","v":""},null,null,{"$f":"IF(Hoja3!AA74=\"\",\"\",Hoja3!AA74)","v":""},{"$f":"IF(Hoja3!AB74=\"\",\"\",Hoja3!AB74)","v":""},{"$f":"IF(Hoja3!AC74=\"\",\"\",Hoja3!AC74)","v":""},{"$f":"IF(Hoja3!AD74=\"\",\"\",Hoja3!AD74)","v":""},{"$f":"IF(Hoja3!AE74=\"\",\"\",Hoja3!AE74)","v":""},null,null,{"$f":"IF(Hoja3!AH74=\"\",\"\",Hoja3!AH74)","v":""},{"$f":"IF(Hoja3!AI74=\"\",\"\",Hoja3!AI74)","v":""},{"$f":"IF(Hoja3!AJ74=\"\",\"\",Hoja3!AJ74)","v":""},{"$f":"IF(Hoja3!AK74=\"\",\"\",Hoja3!AK74)","v":""},{"$f":"IF(Hoja3!AL74=\"\",\"\",Hoja3!AL74)","v":""},null,null,{"$f":"IF(Hoja3!AO74=\"\",\"\",Hoja3!AO74)","v":""},{"$f":"IF(Hoja3!AP74=\"\",\"\",Hoja3!AP74)","v":""},{"$f":"IF(Hoja3!AQ74=\"\",\"\",Hoja3!AQ74)","v":""},{"$f":"IF(Hoja3!AR74=\"\",\"\",Hoja3!AR74)","v":""},{"$f":"IF(Hoja3!AS74=\"\",\"\",Hoja3!AS74)","v":""},null,null,{"$f":"IF(Hoja3!AV74=\"\",\"\",Hoja3!AV74)","v":"MINISTERIO DE EDUCACION NACIONAL"},{"$f":"IF(Hoja3!AW74=\"\",\"\",Hoja3!AW74)","v":"8999990017"},{"$f":"IF(Hoja3!AX74=\"\",\"\",Hoja3!AX74)","v":38548.661273148144},{"$f":"IF(Hoja3!AY74=\"\",\"\",Hoja3!AY74)","v":"D"},{"$f":"IF(Hoja3!AZ74=\"\",\"\",Hoja3!AZ74)","v":11001}]
[null,null,null,null,null,null,null,null,null,null,null,null,null,null,null,null,null,null,null,{"$f":"IF(Hoja3!T75=\"\",\"\",Hoja3!T75)","v":""},{"$f":"IF(Hoja3!U75=\"\",\"\",Hoja3!U75)","v":""},{"$f":"IF(Hoja3!V75=\"\",\"\",Hoja3!V75)","v":""},{"$f":"IF(Hoja3!W75=\"\",\"\",Hoja3!W75)","v":""},{"$f":"IF(Hoja3!X75=\"\",\"\",Hoja3!X75)","v":""},null,null,{"$f":"IF(Hoja3!AA75=\"\",\"\",Hoja3!AA75)","v":""},{"$f":"IF(Hoja3!AB75=\"\",\"\",Hoja3!AB75)","v":""},{"$f":"IF(Hoja3!AC75=\"\",\"\",Hoja3!AC75)","v":""},{"$f":"IF(Hoja3!AD75=\"\",\"\",Hoja3!AD75)","v":""},{"$f":"IF(Hoja3!AE75=\"\",\"\",Hoja3!AE75)","v":""},null,null,{"$f":"IF(Hoja3!AH75=\"\",\"\",Hoja3!AH75)","v":""},{"$f":"IF(Hoja3!AI75=\"\",\"\",Hoja3!AI75)","v":""},{"$f":"IF(Hoja3!AJ75=\"\",\"\",Hoja3!AJ75)","v":""},{"$f":"IF(Hoja3!AK75=\"\",\"\",Hoja3!AK75)","v":""},{"$f":"IF(Hoja3!AL75=\"\",\"\",Hoja3!AL75)","v":""},null,null,{"$f":"IF(Hoja3!AO75=\"\",\"\",Hoja3!AO75)","v":""},{"$f":"IF(Hoja3!AP75=\"\",\"\",Hoja3!AP75)","v":""},{"$f":"IF(Hoja3!AQ75=\"\",\"\",Hoja3!AQ75)","v":""},{"$f":"IF(Hoja3!AR75=\"\",\"\",Hoja3!AR75)","v":""},{"$f":"IF(Hoja3!AS75=\"\",\"\",Hoja3!AS75)","v":""},null,null,{"$f":"IF(Hoja3!AV75=\"\",\"\",Hoja3!AV75)","v":"HUMANA VIVIR S.A."},{"$f":"IF(Hoja3!AW75=\"\",\"\",Hoja3!AW75)","v":"8300064040"},{"$f":"IF(Hoja3!AX75=\"\",\"\",Hoja3!AX75)","v":38551.615983796291},{"$f":"IF(Hoja3!AY75=\"\",\"\",Hoja3!AY75)","v":"D"},{"$f":"IF(Hoja3!AZ75=\"\",\"\",Hoja3!AZ75)","v":11001}]
[null,{"$f":"1+B74","v":46},"Nombre del Comercio",null,null,null,null,{"$f":"1+B76","v":47},"Tipo ID Comercio",null,{"$f":"1+H76","v":48},"N° ID Comercio",null,null,null,null,null,null,null,{"$f":"IF(Hoja3!T76=\"\",\"\",Hoja3!T76)","v":""},{"$f":"IF(Hoja3!U76=\"\",\"\",Hoja3!U76)","v":""},{"$f":"IF(Hoja3!V76=\"\",\"\",Hoja3!V76)","v":""},{"$f":"IF(Hoja3!W76=\"\",\"\",Hoja3!W76)","v":""},{"$f":"IF(Hoja3!X76=\"\",\"\",Hoja3!X76)","v":""},null,null,{"$f":"IF(Hoja3!AA76=\"\",\"\",Hoja3!AA76)","v":""},{"$f":"IF(Hoja3!AB76=\"\",\"\",Hoja3!AB76)","v":""},{"$f":"IF(Hoja3!AC76=\"\",\"\",Hoja3!AC76)","v":""},{"$f":"IF(Hoja3!AD76=\"\",\"\",Hoja3!AD76)","v":""},{"$f":"IF(Hoja3!AE76=\"\",\"\",Hoja3!AE76)","v":""},null,null,{"$f":"IF(Hoja3!AH76=\"\",\"\",Hoja3!AH76)","v":""},{"$f":"IF(Hoja3!AI76=\"\",\"\",Hoja3!AI76)","v":""},{"$f":"IF(Hoja3!AJ76=\"\",\"\",Hoja3!AJ76)","v":""},{"$f":"IF(Hoja3!AK76=\"\",\"\",Hoja3!AK76)","v":""},{"$f":"IF(Hoja3!AL76=\"\",\"\",Hoja3!AL76)","v":""},null,null,{"$f":"IF(Hoja3!AO76=\"\",\"\",Hoja3!AO76)","v":""},{"$f":"IF(Hoja3!AP76=\"\",\"\",Hoja3!AP76)","v":""},{"$f":"IF(Hoja3!AQ76=\"\",\"\",Hoja3!AQ76)","v":""},{"$f":"IF(Hoja3!AR76=\"\",\"\",Hoja3!AR76)","v":""},{"$f":"IF(Hoja3!AS76=\"\",\"\",Hoja3!AS76)","v":""},null,null,{"$f":"IF(Hoja3!AV76=\"\",\"\",Hoja3!AV76)","v":"CAJA DE COMPENSACION FAMILIAR CAJACOPI ATLANTICO"},{"$f":"IF(Hoja3!AW76=\"\",\"\",Hoja3!AW76)","v":"8901020441"},{"$f":"IF(Hoja3!AX76=\"\",\"\",Hoja3!AX76)","v":38551.622708333329},{"$f":"IF(Hoja3!AY76=\"\",\"\",Hoja3!AY76)","v":"D"},{"$f":"IF(Hoja3!AZ76=\"\",\"\",Hoja3!AZ76)","v":11001}]
[null,null,{"$f":"IF(I74=\"\",\"\",VLOOKUP(I74,Hoja3!AO2:AS112,1,0))","v":""},null,null,null,null,null,{"$f":"IF(C77<>\"\",S9,\"\")","v":""},null,null,{"$f":"IF(I74=\"\",\"\",VLOOKUP(I74,Hoja3!AO2:AS112,2,0))","v":""},null,null,null,null,null,null,null,{"$f":"IF(Hoja3!T77=\"\",\"\",Hoja3!T77)","v":""},{"$f":"IF(Hoja3!U77=\"\",\"\",Hoja3!U77)","v":""},{"$f":"IF(Hoja3!V77=\"\",\"\",Hoja3!V77)","v":""},{"$f":"IF(Hoja3!W77=\"\",\"\",Hoja3!W77)","v":""},{"$f":"IF(Hoja3!X77=\"\",\"\",Hoja3!X77)","v":""},null,null,{"$f":"IF(Hoja3!AA77=\"\",\"\",Hoja3!AA77)","v":""},{"$f":"IF(Hoja3!AB77=\"\",\"\",Hoja3!AB77)","v":""},{"$f":"IF(Hoja3!AC77=\"\",\"\",Hoja3!AC77)","v":""},{"$f":"IF(Hoja3!AD77=\"\",\"\",Hoja3!AD77)","v":""},{"$f":"IF(Hoja3!AE77=\"\",\"\",Hoja3!AE77)","v":""},null,null,{"$f":"IF(Hoja3!AH77=\"\",\"\",Hoja3!AH77)","v":""},{"$f":"IF(Hoja3!AI77=\"\",\"\",Hoja3!AI77)","v":""},{"$f":"IF(Hoja3!AJ77=\"\",\"\",Hoja3!AJ77)","v":""},{"$f":"IF(Hoja3!AK77=\"\",\"\",Hoja3!AK77)","v":""},{"$f":"IF(Hoja3!AL77=\"\",\"\",Hoja3!AL77)","v":""},null,null,{"$f":"IF(Hoja3!AO77=\"\",\"\",Hoja3!AO77)","v":""},{"$f":"IF(Hoja3!AP77=\"\",\"\",Hoja3!AP77)","v":""},{"$f":"IF(Hoja3!AQ77=\"\",\"\",Hoja3!AQ77)","v":""},{"$f":"IF(Hoja3!AR77=\"\",\"\",Hoja3!AR77)","v":""},{"$f":"IF(Hoja3!AS77=\"\",\"\",Hoja3!AS77)","v":""},null,null,{"$f":"IF(Hoja3!AV77=\"\",\"\",Hoja3!AV77)","v":"COMFACESAR"},{"$f":"IF(Hoja3!AW77=\"\",\"\",Hoja3!AW77)","v":"8923999898"},{"$f":"IF(Hoja3!AX77=\"\",\"\",Hoja3!AX77)","v":38551.67019675926},{"$f":"IF(Hoja3!AY77=\"\",\"\",Hoja3!AY77)","v":"D"},{"$f":"IF(Hoja3!AZ77=\"\",\"\",Hoja3!AZ77)","v":11001}]
[null,null,null,null,null,null,null,null,null,null,null,null,null,null,null,null,null,null,null,{"$f":"IF(Hoja3!T78=\"\",\"\",Hoja3!T78)","v":""},{"$f":"IF(Hoja3!U78=\"\",\"\",Hoja3!U78)","v":""},{"$f":"IF(Hoja3!V78=\"\",\"\",Hoja3!V78)","v":""},{"$f":"IF(Hoja3!W78=\"\",\"\",Hoja3!W78)","v":""},{"$f":"IF(Hoja3!X78=\"\",\"\",Hoja3!X78)","v":""},null,null,{"$f":"IF(Hoja3!AA78=\"\",\"\",Hoja3!AA78)","v":""},{"$f":"IF(Hoja3!AB78=\"\",\"\",Hoja3!AB78)","v":""},{"$f":"IF(Hoja3!AC78=\"\",\"\",Hoja3!AC78)","v":""},{"$f":"IF(Hoja3!AD78=\"\",\"\",Hoja3!AD78)","v":""},{"$f":"IF(Hoja3!AE78=\"\",\"\",Hoja3!AE78)","v":""},null,null,{"$f":"IF(Hoja3!AH78=\"\",\"\",Hoja3!AH78)","v":""},{"$f":"IF(Hoja3!AI78=\"\",\"\",Hoja3!AI78)","v":""},{"$f":"IF(Hoja3!AJ78=\"\",\"\",Hoja3!AJ78)","v":""},{"$f":"IF(Hoja3!AK78=\"\",\"\",Hoja3!AK78)","v":""},{"$f":"IF(Hoja3!AL78=\"\",\"\",Hoja3!AL78)","v":""},null,null,{"$f":"IF(Hoja3!AO78=\"\",\"\",Hoja3!AO78)","v":""},{"$f":"IF(Hoja3!AP78=\"\",\"\",Hoja3!AP78)","v":""},{"$f":"IF(Hoja3!AQ78=\"\",\"\",Hoja3!AQ78)","v":""},{"$f":"IF(Hoja3!AR78=\"\",\"\",Hoja3!AR78)","v":""},{"$f":"IF(Hoja3!AS78=\"\",\"\",Hoja3!AS78)","v":""},null,null,{"$f":"IF(Hoja3!AV78=\"\",\"\",Hoja3!AV78)","v":"CAJA DE COMPENSACION FAMILIAR DE LA GUAJIRA"},{"$f":"IF(Hoja3!AW78=\"\",\"\",Hoja3!AW78)","v":"8921150065"},{"$f":"IF(Hoja3!AX78=\"\",\"\",Hoja3!AX78)","v":38551.677777777775},{"$f":"IF(Hoja3!AY78=\"\",\"\",Hoja3!AY78)","v":"D"},{"$f":"IF(Hoja3!AZ78=\"\",\"\",Hoja3!AZ78)","v":11001}]
[null,{"$f":"1+K76","v":49},"Entidad",null,{"$f":"1+B79","v":50},"Grupo",null,{"$f":"+E79+1","v":51},"Ciudad",null,null,null,null,null,null,null,null,null,null,{"$f":"IF(Hoja3!T79=\"\",\"\",Hoja3!T79)","v":""},{"$f":"IF(Hoja3!U79=\"\",\"\",Hoja3!U79)","v":""},{"$f":"IF(Hoja3!V79=\"\",\"\",Hoja3!V79)","v":""},{"$f":"IF(Hoja3!W79=\"\",\"\",Hoja3!W79)","v":""},{"$f":"IF(Hoja3!X79=\"\",\"\",Hoja3!X79)","v":""},null,null,{"$f":"IF(Hoja3!AA79=\"\",\"\",Hoja3!AA79)","v":""},{"$f":"IF(Hoja3!AB79=\"\",\"\",Hoja3!AB79)","v":""},{"$f":"IF(Hoja3!AC79=\"\",\"\",Hoja3!AC79)","v":""},{"$f":"IF(Hoja3!AD79=\"\",\"\",Hoja3!AD79)","v":""},{"$f":"IF(Hoja3!AE79=\"\",\"\",Hoja3!AE79)","v":""},null,null,{"$f":"IF(Hoja3!AH79=\"\",\"\",Hoja3!AH79)","v":""},{"$f":"IF(Hoja3!AI79=\"\",\"\",Hoja3!AI79)","v":""},{"$f":"IF(Hoja3!AJ79=\"\",\"\",Hoja3!AJ79)","v":""},{"$f":"IF(Hoja3!AK79=\"\",\"\",Hoja3!AK79)","v":""},{"$f":"IF(Hoja3!AL79=\"\",\"\",Hoja3!AL79)","v":""},null,null,{"$f":"IF(Hoja3!AO79=\"\",\"\",Hoja3!AO79)","v":""},{"$f":"IF(Hoja3!AP79=\"\",\"\",Hoja3!AP79)","v":""},{"$f":"IF(Hoja3!AQ79=\"\",\"\",Hoja3!AQ79)","v":""},{"$f":"IF(Hoja3!AR79=\"\",\"\",Hoja3!AR79)","v":""},{"$f":"IF(Hoja3!AS79=\"\",\"\",Hoja3!AS79)","v":""},null,null,{"$f":"IF(Hoja3!AV79=\"\",\"\",Hoja3!AV79)","v":"CAJA DE COMPENSACION FAMILIAR DEL VALLE DE CAUCA - COMFANDI"},{"$f":"IF(Hoja3!AW79=\"\",\"\",Hoja3!AW79)","v":"8903032085"},{"$f":"IF(Hoja3!AX79=\"\",\"\",Hoja3!AX79)","v":38551.700983796298},{"$f":"IF(Hoja3!AY79=\"\",\"\",Hoja3!AY79)","v":"D"},{"$f":"IF(Hoja3!AZ79=\"\",\"\",Hoja3!AZ79)","v":11001}]
[null,null,{"$f":"IF(C77<>\"\",S8,\"\")","v":""},null,null,{"$f":"IF(I74=\"\",\"\",VLOOKUP(I74,Hoja3!AO2:AS112,4,0))","v":""},null,null,{"$f":"IF(I74=\"\",\"\",VLOOKUP(I74,Hoja3!AO2:AS112,5,0))","v":""},null,null,null,null,null,null,null,null,null,null,{"$f":"IF(Hoja3!T80=\"\",\"\",Hoja3!T80)","v":""},{"$f":"IF(Hoja3!U80=\"\",\"\",Hoja3!U80)","v":""},{"$f":"IF(Hoja3!V80=\"\",\"\",Hoja3!V80)","v":""},{"$f":"IF(Hoja3!W80=\"\",\"\",Hoja3!W80)","v":""},{"$f":"IF(Hoja3!X80=\"\",\"\",Hoja3!X80)","v":""},null,null,{"$f":"IF(Hoja3!AA80=\"\",\"\",Hoja3!AA80)","v":""},{"$f":"IF(Hoja3!AB80=\"\",\"\",Hoja3!AB80)","v":""},{"$f":"IF(Hoja3!AC80=\"\",\"\",Hoja3!AC80)","v":""},{"$f":"IF(Hoja3!AD80=\"\",\"\",Hoja3!AD80)","v":""},{"$f":"IF(Hoja3!AE80=\"\",\"\",Hoja3!AE80)","v":""},null,null,{"$f":"IF(Hoja3!AH80=\"\",\"\",Hoja3!AH80)","v":""},{"$f":"IF(Hoja3!AI80=\"\",\"\",Hoja3!AI80)","v":""},{"$f":"IF(Hoja3!AJ80=\"\",\"\",Hoja3!AJ80)","v":""},{"$f":"IF(Hoja3!AK80=\"\",\"\",Hoja3!AK80)","v":""},{"$f":"IF(Hoja3!AL80=\"\",\"\",Hoja3!AL80)","v":""},null,null,{"$f":"IF(Hoja3!AO80=\"\",\"\",Hoja3!AO80)","v":""},{"$f":"IF(Hoja3!AP80=\"\",\"\",Hoja3!AP80)","v":""},{"$f":"IF(Hoja3!AQ80=\"\",\"\",Hoja3!AQ80)","v":""},{"$f":"IF(Hoja3!AR80=\"\",\"\",Hoja3!AR80)","v":""},{"$f":"IF(Hoja3!AS80=\"\",\"\",Hoja3!AS80)","v":""},null,null,{"$f":"IF(Hoja3!AV80=\"\",\"\",Hoja3!AV80)","v":"CAJA DE COMPENSACION FAMILIAR DE BARRANCABERMEJA CAFABA"},{"$f":"IF(Hoja3!AW80=\"\",\"\",Hoja3!AW80)","v":"8902702755"},{"$f":"IF(Hoja3!AX80=\"\",\"\",Hoja3!AX80)","v":38551.728634259256},{"$f":"IF(Hoja3!AY80=\"\",\"\",Hoja3!AY80)","v":"D"},{"$f":"IF(Hoja3!AZ80=\"\",\"\",Hoja3!AZ80)","v":11001}]
[null,null,null,null,null,null,null,null,null,null,null,null,null,null,null,null,null,null,null,{"$f":"IF(Hoja3!T81=\"\",\"\",Hoja3!T81)","v":""},{"$f":"IF(Hoja3!U81=\"\",\"\",Hoja3!U81)","v":""},{"$f":"IF(Hoja3!V81=\"\",\"\",Hoja3!V81)","v":""},{"$f":"IF(Hoja3!W81=\"\",\"\",Hoja3!W81)","v":""},{"$f":"IF(Hoja3!X81=\"\",\"\",Hoja3!X81)","v":""},null,null,{"$f":"IF(Hoja3!AA81=\"\",\"\",Hoja3!AA81)","v":""},{"$f":"IF(Hoja3!AB81=\"\",\"\",Hoja3!AB81)","v":""},{"$f":"IF(Hoja3!AC81=\"\",\"\",Hoja3!AC81)","v":""},{"$f":"IF(Hoja3!AD81=\"\",\"\",Hoja3!AD81)","v":""},{"$f":"IF(Hoja3!AE81=\"\",\"\",Hoja3!AE81)","v":""},null,null,{"$f":"IF(Hoja3!AH81=\"\",\"\",Hoja3!AH81)","v":""},{"$f":"IF(Hoja3!AI81=\"\",\"\",Hoja3!AI81)","v":""},{"$f":"IF(Hoja3!AJ81=\"\",\"\",Hoja3!AJ81)","v":""},{"$f":"IF(Hoja3!AK81=\"\",\"\",Hoja3!AK81)","v":""},{"$f":"IF(Hoja3!AL81=\"\",\"\",Hoja3!AL81)","v":""},null,null,{"$f":"IF(Hoja3!AO81=\"\",\"\",Hoja3!AO81)","v":""},{"$f":"IF(Hoja3!AP81=\"\",\"\",Hoja3!AP81)","v":""},{"$f":"IF(Hoja3!AQ81=\"\",\"\",Hoja3!AQ81)","v":""},{"$f":"IF(Hoja3!AR81=\"\",\"\",Hoja3!AR81)","v":""},{"$f":"IF(Hoja3!AS81=\"\",\"\",Hoja3!AS81)","v":""},null,null,{"$f":"IF(Hoja3!AV81=\"\",\"\",Hoja3!AV81)","v":"CAJA DE COMPENSACION FAMILIAR DE NARIÑO"},{"$f":"IF(Hoja3!AW81=\"\",\"\",Hoja3!AW81)","v":"8912800081"},{"$f":"IF(Hoja3!AX81=\"\",\"\",Hoja3!AX81)","v":38551.732731481483},{"$f":"IF(Hoja3!AY81=\"\",\"\",Hoja3!AY81)","v":"D"},{"$f":"IF(Hoja3!AZ81=\"\",\"\",Hoja3!AZ81)","v":11001}]
[null,{"$f":"1+H79","v":52},{"$f":"IF(F80=\"D\",\"\",\"Número de identificación del aportante\")","v":"Número de identificación del aportante"},null,null,null,null,null,null,null,null,null,null,null,null,null,null,null,null,{"$f":"IF(Hoja3!T82=\"\",\"\",Hoja3!T82)","v":""},{"$f":"IF(Hoja3!U82=\"\",\"\",Hoja3!U82)","v":""},{"$f":"IF(Hoja3!V82=\"\",\"\",Hoja3!V82)","v":""},{"$f":"IF(Hoja3!W82=\"\",\"\",Hoja3!W82)","v":""},{"$f":"IF(Hoja3!X82=\"\",\"\",Hoja3!X82)","v":""},null,null,{"$f":"IF(Hoja3!AA82=\"\",\"\",Hoja3!AA82)","v":""},{"$f":"IF(Hoja3!AB82=\"\",\"\",Hoja3!AB82)","v":""},{"$f":"IF(Hoja3!AC82=\"\",\"\",Hoja3!AC82)","v":""},{"$f":"IF(Hoja3!AD82=\"\",\"\",Hoja3!AD82)","v":""},{"$f":"IF(Hoja3!AE82=\"\",\"\",Hoja3!AE82)","v":""},null,null,{"$f":"IF(Hoja3!AH82=\"\",\"\",Hoja3!AH82)","v":""},{"$f":"IF(Hoja3!AI82=\"\",\"\",Hoja3!AI82)","v":""},{"$f":"IF(Hoja3!AJ82=\"\",\"\",Hoja3!AJ82)","v":""},{"$f":"IF(Hoja3!AK82=\"\",\"\",Hoja3!AK82)","v":""},{"$f":"IF(Hoja3!AL82=\"\",\"\",Hoja3!AL82)","v":""},null,null,{"$f":"IF(Hoja3!AO82=\"\",\"\",Hoja3!AO82)","v":""},{"$f":"IF(Hoja3!AP82=\"\",\"\",Hoja3!AP82)","v":""},{"$f":"IF(Hoja3!AQ82=\"\",\"\",Hoja3!AQ82)","v":""},{"$f":"IF(Hoja3!AR82=\"\",\"\",Hoja3!AR82)","v":""},{"$f":"IF(Hoja3!AS82=\"\",\"\",Hoja3!AS82)","v":""},null,null,{"$f":"IF(Hoja3!AV82=\"\",\"\",Hoja3!AV82)","v":"SALUD COLPATRIA S.A."},{"$f":"IF(Hoja3!AW82=\"\",\"\",Hoja3!AW82)","v":"8605122376"},{"$f":"IF(Hoja3!AX82=\"\",\"\",Hoja3!AX82)","v":38552.614490740736},{"$f":"IF(Hoja3!AY82=\"\",\"\",Hoja3!AY82)","v":"D"},{"$f":"IF(Hoja3!AZ82=\"\",\"\",Hoja3!AZ82)","v":11001}]
[null,null,null,null,null,null,null,null,null,null,null,null,null,null,null,null,null,null,null,{"$f":"IF(Hoja3!T83=\"\",\"\",Hoja3!T83)","v":""},{"$f":"IF(Hoja3!U83=\"\",\"\",Hoja3!U83)","v":""},{"$f":"IF(Hoja3!V83=\"\",\"\",Hoja3!V83)","v":""},{"$f":"IF(Hoja3!W83=\"\",\"\",Hoja3!W83)","v":""},{"$f":"IF(Hoja3!X83=\"\",\"\",Hoja3!X83)","v":""},null,null,{"$f":"IF(Hoja3!AA83=\"\",\"\",Hoja3!AA83)","v":""},{"$f":"IF(Hoja3!AB83=\"\",\"\",Hoja3!AB83)","v":""},{"$f":"IF(Hoja3!AC83=\"\",\"\",Hoja3!AC83)","v":""},{"$f":"IF(Hoja3!AD83=\"\",\"\",Hoja3!AD83)","v":""},{"$f":"IF(Hoja3!AE83=\"\",\"\",Hoja3!AE83)","v":""},null,null,{"$f":"IF(Hoja3!AH83=\"\",\"\",Hoja3!AH83)","v":""},{"$f":"IF(Hoja3!AI83=\"\",\"\",Hoja3!AI83)","v":""},{"$f":"IF(Hoja3!AJ83=\"\",\"\",Hoja3!AJ83)","v":""},{"$f":"IF(Hoja3!AK83=\"\",\"\",Hoja3!AK83)","v":""},{"$f":"IF(Hoja3!AL83=\"\",\"\",Hoja3!AL83)","v":""},null,null,{"$f":"IF(Hoja3!AO83=\"\",\"\",Hoja3!AO83)","v":""},{"$f":"IF(Hoja3!AP83=\"\",\"\",Hoja3!AP83)","v":""},{"$f":"IF(Hoja3!AQ83=\"\",\"\",Hoja3!AQ83)","v":""},{"$f":"IF(Hoja3!AR83=\"\",\"\",Hoja3!AR83)","v":""},{"$f":"IF(Hoja3!AS83=\"\",\"\",Hoja3!AS83)","v":""},null,null,{"$f":"IF(Hoja3!AV83=\"\",\"\",Hoja3!AV83)","v":"SEGUROS DE VIDA COLPATRIA S.A."},{"$f":"IF(Hoja3!AW83=\"\",\"\",Hoja3!AW83)","v":"8600021839"},{"$f":"IF(Hoja3!AX83=\"\",\"\",Hoja3!AX83)","v":38552.635520833333},{"$f":"IF(Hoja3!AY83=\"\",\"\",Hoja3!AY83)","v":"D"},{"$f":"IF(Hoja3!AZ83=\"\",\"\",Hoja3!AZ83)","v":11001}]
[null,{"$f":"1+B82","v":53},{"$f":"+IF(E74=\"Inactivar Inscripción\",\"\",\"Valor máximo por transacción\")","v":"Valor máximo por transacción"},null,null,null,{"$f":"+IF(ISTEXT(E84)=TRUE,\"*Digite solo valores numéricos\",IF(AND(E84<>\"\",E84<1000000),\"*El valor digitado no requiere inscripción\",\"\"))","v":""},null,null,null,null,null,null,null,null,null,null,null,null,{"$f":"IF(Hoja3!T84=\"\",\"\",Hoja3!T84)","v":""},{"$f":"IF(Hoja3!U84=\"\",\"\",Hoja3!U84)","v":""},{"$f":"IF(Hoja3!V84=\"\",\"\",Hoja3!V84)","v":""},{"$f":"IF(Hoja3!W84=\"\",\"\",Hoja3!W84)","v":""},{"$f":"IF(Hoja3!X84=\"\",\"\",Hoja3!X84)","v":""},null,null,{"$f":"IF(Hoja3!AA84=\"\",\"\",Hoja3!AA84)","v":""},{"$f":"IF(Hoja3!AB84=\"\",\"\",Hoja3!AB84)","v":""},{"$f":"IF(Hoja3!AC84=\"\",\"\",Hoja3!AC84)","v":""},{"$f":"IF(Hoja3!AD84=\"\",\"\",Hoja3!AD84)","v":""},{"$f":"IF(Hoja3!AE84=\"\",\"\",Hoja3!AE84)","v":""},null,null,{"$f":"IF(Hoja3!AH84=\"\",\"\",Hoja3!AH84)","v":""},{"$f":"IF(Hoja3!AI84=\"\",\"\",Hoja3!AI84)","v":""},{"$f":"IF(Hoja3!AJ84=\"\",\"\",Hoja3!AJ84)","v":""},{"$f":"IF(Hoja3!AK84=\"\",\"\",Hoja3!AK84)","v":""},{"$f":"IF(Hoja3!AL84=\"\",\"\",Hoja3!AL84)","v":""},null,null,{"$f":"IF(Hoja3!AO84=\"\",\"\",Hoja3!AO84)","v":""},{"$f":"IF(Hoja3!AP84=\"\",\"\",Hoja3!AP84)","v":""},{"$f":"IF(Hoja3!AQ84=\"\",\"\",Hoja3!AQ84)","v":""},{"$f":"IF(Hoja3!AR84=\"\",\"\",Hoja3!AR84)","v":""},{"$f":"IF(Hoja3!AS84=\"\",\"\",Hoja3!AS84)","v":""},null,null,{"$f":"IF(Hoja3!AV84=\"\",\"\",Hoja3!AV84)","v":"CORPORACION INTERSOFTWARE"},{"$f":"IF(Hoja3!AW84=\"\",\"\",Hoja3!AW84)","v":"8110452310"},{"$f":"IF(Hoja3!AX84=\"\",\"\",Hoja3!AX84)","v":38552.639594907407},{"$f":"IF(Hoja3!AY84=\"\",\"\",Hoja3!AY84)","v":"D"},{"$f":"IF(Hoja3!AZ84=\"\",\"\",Hoja3!AZ84)","v":11001}]
[null,null,null,null,null,null,null,null,null,null,null,null,null,null,null,null,null,null,null,{"$f":"IF(Hoja3!T85=\"\",\"\",Hoja3!T85)","v":""},{"$f":"IF(Hoja3!U85=\"\",\"\",Hoja3!U85)","v":""},{"$f":"IF(Hoja3!V85=\"\",\"\",Hoja3!V85)","v":""},{"$f":"IF(Hoja3!W85=\"\",\"\",Hoja3!W85)","v":""},{"$f":"IF(Hoja3!X85=\"\",\"\",Hoja3!X85)","v":""},null,null,{"$f":"IF(Hoja3!AA85=\"\",\"\",Hoja3!AA85)","v":""},{"$f":"IF(Hoja3!AB85=\"\",\"\",Hoja3!AB85)","v":""},{"$f":"IF(Hoja3!AC85=\"\",\"\",Hoja3!AC85)","v":""},{"$f":"IF(Hoja3!AD85=\"\",\"\",Hoja3!AD85)","v":""},{"$f":"IF(Hoja3!AE85=\"\",\"\",Hoja3!AE85)","v":""},null,null,{"$f":"IF(Hoja3!AH85=\"\",\"\",Hoja3!AH85)","v":""},{"$f":"IF(Hoja3!AI85=\"\",\"\",Hoja3!AI85)","v":""},{"$f":"IF(Hoja3!AJ85=\"\",\"\",Hoja3!AJ85)","v":""},{"$f":"IF(Hoja3!AK85=\"\",\"\",Hoja3!AK85)","v":""},{"$f":"IF(Hoja3!AL85=\"\",\"\",Hoja3!AL85)","v":""},null,null,{"$f":"IF(Hoja3!AO85=\"\",\"\",Hoja3!AO85)","v":""},{"$f":"IF(Hoja3!AP85=\"\",\"\",Hoja3!AP85)","v":""},{"$f":"IF(Hoja3!AQ85=\"\",\"\",Hoja3!AQ85)","v":""},{"$f":"IF(Hoja3!AR85=\"\",\"\",Hoja3!AR85)","v":""},{"$f":"IF(Hoja3!AS85=\"\",\"\",Hoja3!AS85)","v":""},null,null,{"$f":"IF(Hoja3!AV85=\"\",\"\",Hoja3!AV85)","v":"CAJA DE COMPENSACION FAMILIAR DE CARTAGENA"},{"$f":"IF(Hoja3!AW85=\"\",\"\",Hoja3!AW85)","v":"8904801101"},{"$f":"IF(Hoja3!AX85=\"\",\"\",Hoja3!AX85)","v":38554.627476851849},{"$f":"IF(Hoja3!AY85=\"\",\"\",Hoja3!AY85)","v":"D"},{"$f":"IF(Hoja3!AZ85=\"\",\"\",Hoja3!AZ85)","v":11001}]
[null,null,null,null,null,null,null,null,null,null,null,null,null,null,null,null,null,null,null,{"$f":"IF(Hoja3!T86=\"\",\"\",Hoja3!T86)","v":""},{"$f":"IF(Hoja3!U86=\"\",\"\",Hoja3!U86)","v":""},{"$f":"IF(Hoja3!V86=\"\",\"\",Hoja3!V86)","v":""},{"$f":"IF(Hoja3!W86=\"\",\"\",Hoja3!W86)","v":""},{"$f":"IF(Hoja3!X86=\"\",\"\",Hoja3!X86)","v":""},null,null,{"$f":"IF(Hoja3!AA86=\"\",\"\",Hoja3!AA86)","v":""},{"$f":"IF(Hoja3!AB86=\"\",\"\",Hoja3!AB86)","v":""},{"$f":"IF(Hoja3!AC86=\"\",\"\",Hoja3!AC86)","v":""},{"$f":"IF(Hoja3!AD86=\"\",\"\",Hoja3!AD86)","v":""},{"$f":"IF(Hoja3!AE86=\"\",\"\",Hoja3!AE86)","v":""},null,null,{"$f":"IF(Hoja3!AH86=\"\",\"\",Hoja3!AH86)","v":""},{"$f":"IF(Hoja3!AI86=\"\",\"\",Hoja3!AI86)","v":""},{"$f":"IF(Hoja3!AJ86=\"\",\"\",Hoja3!AJ86)","v":""},{"$f":"IF(Hoja3!AK86=\"\",\"\",Hoja3!AK86)","v":""},{"$f":"IF(Hoja3!AL86=\"\",\"\",Hoja3!AL86)","v":""},null,null,{"$f":"IF(Hoja3!AO86=\"\",\"\",Hoja3!AO86)","v":""},{"$f":"IF(Hoja3!AP86=\"\",\"\",Hoja3!AP86)","v":""},{"$f":"IF(Hoja3!AQ86=\"\",\"\",Hoja3!AQ86)","v":""},{"$f":"IF(Hoja3!AR86=\"\",\"\",Hoja3!AR86)","v":""},{"$f":"IF(Hoja3!AS86=\"\",\"\",Hoja3!AS86)","v":""},null,null,{"$f":"IF(Hoja3!AV86=\"\",\"\",Hoja3!AV86)","v":"WACKENHUT DE COLOMBIA"},{"$f":"IF(Hoja3!AW86=\"\",\"\",Hoja3!AW86)","v":"8600139516"},{"$f":"IF(Hoja3!AX86=\"\",\"\",Hoja3!AX86)","v":38555.802604166667},{"$f":"IF(Hoja3!AY86=\"\",\"\",Hoja3!AY86)","v":"D"},{"$f":"IF(Hoja3!AZ86=\"\",\"\",Hoja3!AZ86)","v":11001}]
[null,null,null,null,null,null,null,null,null,null,null,null,null,null,null,null,null,null,null,{"$f":"IF(Hoja3!T87=\"\",\"\",Hoja3!T87)","v":""},{"$f":"IF(Hoja3!U87=\"\",\"\",Hoja3!U87)","v":""},{"$f":"IF(Hoja3!V87=\"\",\"\",Hoja3!V87)","v":""},{"$f":"IF(Hoja3!W87=\"\",\"\",Hoja3!W87)","v":""},{"$f":"IF(Hoja3!X87=\"\",\"\",Hoja3!X87)","v":""},null,null,{"$f":"IF(Hoja3!AA87=\"\",\"\",Hoja3!AA87)","v":""},{"$f":"IF(Hoja3!AB87=\"\",\"\",Hoja3!AB87)","v":""},{"$f":"IF(Hoja3!AC87=\"\",\"\",Hoja3!AC87)","v":""},{"$f":"IF(Hoja3!AD87=\"\",\"\",Hoja3!AD87)","v":""},{"$f":"IF(Hoja3!AE87=\"\",\"\",Hoja3!AE87)","v":""},null,null,{"$f":"IF(Hoja3!AH87=\"\",\"\",Hoja3!AH87)","v":""},{"$f":"IF(Hoja3!AI87=\"\",\"\",Hoja3!AI87)","v":""},{"$f":"IF(Hoja3!AJ87=\"\",\"\",Hoja3!AJ87)","v":""},{"$f":"IF(Hoja3!AK87=\"\",\"\",Hoja3!AK87)","v":""},{"$f":"IF(Hoja3!AL87=\"\",\"\",Hoja3!AL87)","v":""},null,null,{"$f":"IF(Hoja3!AO87=\"\",\"\",Hoja3!AO87)","v":""},{"$f":"IF(Hoja3!AP87=\"\",\"\",Hoja3!AP87)","v":""},{"$f":"IF(Hoja3!AQ87=\"\",\"\",Hoja3!AQ87)","v":""},{"$f":"IF(Hoja3!AR87=\"\",\"\",Hoja3!AR87)","v":""},{"$f":"IF(Hoja3!AS87=\"\",\"\",Hoja3!AS87)","v":""},null,null,{"$f":"IF(Hoja3!AV87=\"\",\"\",Hoja3!AV87)","v":"ESCUELA SUPERIOR DE ADMINISTRACION PUBLICA  - SSS"},{"$f":"IF(Hoja3!AW87=\"\",\"\",Hoja3!AW87)","v":"8001175196"},{"$f":"IF(Hoja3!AX87=\"\",\"\",Hoja3!AX87)","v":38560.477685185186},{"$f":"IF(Hoja3!AY87=\"\",\"\",Hoja3!AY87)","v":"D"},{"$f":"IF(Hoja3!AZ87=\"\",\"\",Hoja3!AZ87)","v":11001}]
[null,{"$f":"1+B84","v":54},"Búsqueda del Comercio 4",null,null,null,null,{"$f":"1+B88","v":55},"Seleccione el nombre del comercio para aplicar la novedad:",null,null,null,null,null,null,null,null,null,null,{"$f":"IF(Hoja3!T88=\"\",\"\",Hoja3!T88)","v":""},{"$f":"IF(Hoja3!U88=\"\",\"\",Hoja3!U88)","v":""},{"$f":"IF(Hoja3!V88=\"\",\"\",Hoja3!V88)","v":""},{"$f":"IF(Hoja3!W88=\"\",\"\",Hoja3!W88)","v":""},{"$f":"IF(Hoja3!X88=\"\",\"\",Hoja3!X88)","v":""},null,null,{"$f":"IF(Hoja3!AA88=\"\",\"\",Hoja3!AA88)","v":""},{"$f":"IF(Hoja3!AB88=\"\",\"\",Hoja3!AB88)","v":""},{"$f":"IF(Hoja3!AC88=\"\",\"\",Hoja3!AC88)","v":""},{"$f":"IF(Hoja3!AD88=\"\",\"\",Hoja3!AD88)","v":""},{"$f":"IF(Hoja3!AE88=\"\",\"\",Hoja3!AE88)","v":""},null,null,{"$f":"IF(Hoja3!AH88=\"\",\"\",Hoja3!AH88)","v":""},{"$f":"IF(Hoja3!AI88=\"\",\"\",Hoja3!AI88)","v":""},{"$f":"IF(Hoja3!AJ88=\"\",\"\",Hoja3!AJ88)","v":""},{"$f":"IF(Hoja3!AK88=\"\",\"\",Hoja3!AK88)","v":""},{"$f":"IF(Hoja3!AL88=\"\",\"\",Hoja3!AL88)","v":""},null,null,{"$f":"IF(Hoja3!AO88=\"\",\"\",Hoja3!AO88)","v":""},{"$f":"IF(Hoja3!AP88=\"\",\"\",Hoja3!AP88)","v":""},{"$f":"IF(Hoja3!AQ88=\"\",\"\",Hoja3!AQ88)","v":""},{"$f":"IF(Hoja3!AR88=\"\",\"\",Hoja3!AR88)","v":""},{"$f":"IF(Hoja3!AS88=\"\",\"\",Hoja3!AS88)","v":""},null,null,{"$f":"IF(Hoja3!AV88=\"\",\"\",Hoja3!AV88)","v":"ESCUELA SUPERIOR DE ADMINISTRACION PUBLICA  ESAP - SSS"},{"$f":"IF(Hoja3!AW88=\"\",\"\",Hoja3!AW88)","v":"8002485291"},{"$f":"IF(Hoja3!AX88=\"\",\"\",Hoja3!AX88)","v":38560.486203703702},{"$f":"IF(Hoja3!AY88=\"\",\"\",Hoja3!AY88)","v":"D"},{"$f":"IF(Hoja3!AZ88=\"\",\"\",Hoja3!AZ88)","v":11001}]
[null,null,null,null,null,null,null,null,null,null,null,null,null,null,null,null,null,null,null,{"$f":"IF(Hoja3!T89=\"\",\"\",Hoja3!T89)","v":""},{"$f":"IF(Hoja3!U89=\"\",\"\",Hoja3!U89)","v":""},{"$f":"IF(Hoja3!V89=\"\",\"\",Hoja3!V89)","v":""},{"$f":"IF(Hoja3!W89=\"\",\"\",Hoja3!W89)","v":""},{"$f":"IF(Hoja3!X89=\"\",\"\",Hoja3!X89)","v":""},null,null,{"$f":"IF(Hoja3!AA89=\"\",\"\",Hoja3!AA89)","v":""},{"$f":"IF(Hoja3!AB89=\"\",\"\",Hoja3!AB89)","v":""},{"$f":"IF(Hoja3!AC89=\"\",\"\",Hoja3!AC89)","v":""},{"$f":"IF(Hoja3!AD89=\"\",\"\",Hoja3!AD89)","v":""},{"$f":"IF(Hoja3!AE89=\"\",\"\",Hoja3!AE89)","v":""},null,null,{"$f":"IF(Hoja3!AH89=\"\",\"\",Hoja3!AH89)","v":""},{"$f":"IF(Hoja3!AI89=\"\",\"\",Hoja3!AI89)","v":""},{"$f":"IF(Hoja3!AJ89=\"\",\"\",Hoja3!AJ89)","v":""},{"$f":"IF(Hoja3!AK89=\"\",\"\",Hoja3!AK89)","v":""},{"$f":"IF(Hoja3!AL89=\"\",\"\",Hoja3!AL89)","v":""},null,null,{"$f":"IF(Hoja3!AO89=\"\",\"\",Hoja3!AO89)","v":""},{"$f":"IF(Hoja3!AP89=\"\",\"\",Hoja3!AP89)","v":""},{"$f":"IF(Hoja3!AQ89=\"\",\"\",Hoja3!AQ89)","v":""},{"$f":"IF(Hoja3!AR89=\"\",\"\",Hoja3!AR89)","v":""},{"$f":"IF(Hoja3!AS89=\"\",\"\",Hoja3!AS89)","v":""},null,null,{"$f":"IF(Hoja3!AV89=\"\",\"\",Hoja3!AV89)","v":"EL COLOMBIANO S.A. Y CIA S.C.A."},{"$f":"IF(Hoja3!AW89=\"\",\"\",Hoja3!AW89)","v":"8909013523"},{"$f":"IF(Hoja3!AX89=\"\",\"\",Hoja3!AX89)","v":38561.534189814811},{"$f":"IF(Hoja3!AY89=\"\",\"\",Hoja3!AY89)","v":"D"},{"$f":"IF(Hoja3!AZ89=\"\",\"\",Hoja3!AZ89)","v":11001}]
[null,{"$f":"1+H88","v":56},"Tipo de Novedad",null,null,null,null,null,null,null,null,null,null,6,null,null,null,null,null,{"$f":"IF(Hoja3!T90=\"\",\"\",Hoja3!T90)","v":""},{"$f":"IF(Hoja3!U90=\"\",\"\",Hoja3!U90)","v":""},{"$f":"IF(Hoja3!V90=\"\",\"\",Hoja3!V90)","v":""},{"$f":"IF(Hoja3!W90=\"\",\"\",Hoja3!W90)","v":""},{"$f":"IF(Hoja3!X90=\"\",\"\",Hoja3!X90)","v":""},null,null,{"$f":"IF(Hoja3!AA90=\"\",\"\",Hoja3!AA90)","v":""},{"$f":"IF(Hoja3!AB90=\"\",\"\",Hoja3!AB90)","v":""},{"$f":"IF(Hoja3!AC90=\"\",\"\",Hoja3!AC90)","v":""},{"$f":"IF(Hoja3!AD90=\"\",\"\",Hoja3!AD90)","v":""},{"$f":"IF(Hoja3!AE90=\"\",\"\",Hoja3!AE90)","v":""},null,null,{"$f":"IF(Hoja3!AH90=\"\",\"\",Hoja3!AH90)","v":""},{"$f":"IF(Hoja3!AI90=\"\",\"\",Hoja3!AI90)","v":""},{"$f":"IF(Hoja3!AJ90=\"\",\"\",Hoja3!AJ90)","v":""},{"$f":"IF(Hoja3!AK90=\"\",\"\",Hoja3!AK90)","v":""},{"$f":"IF(Hoja3!AL90=\"\",\"\",Hoja3!AL90)","v":""},null,null,{"$f":"IF(Hoja3!AO90=\"\",\"\",Hoja3!AO90)","v":""},{"$f":"IF(Hoja3!AP90=\"\",\"\",Hoja3!AP90)","v":""},{"$f":"IF(Hoja3!AQ90=\"\",\"\",Hoja3!AQ90)","v":""},{"$f":"IF(Hoja3!AR90=\"\",\"\",Hoja3!AR90)","v":""},{"$f":"IF(Hoja3!AS90=\"\",\"\",Hoja3!AS90)","v":""},null,null,{"$f":"IF(Hoja3!AV90=\"\",\"\",Hoja3!AV90)","v":"LIBERTY SEGUROS DE VIDA S.A."},{"$f":"IF(Hoja3!AW90=\"\",\"\",Hoja3!AW90)","v":"8600086457"},{"$f":"IF(Hoja3!AX90=\"\",\"\",Hoja3!AX90)","v":38561.598634259259},{"$f":"IF(Hoja3!AY90=\"\",\"\",Hoja3!AY90)","v":"D"},{"$f":"IF(Hoja3!AZ90=\"\",\"\",Hoja3!AZ90)","v":11001}]
[null,null,null,null,null,null,null,null,null,null,null,null,null,null,null,null,null,null,null,{"$f":"IF(Hoja3!T91=\"\",\"\",Hoja3!T91)","v":""},{"$f":"IF(Hoja3!U91=\"\",\"\",Hoja3!U91)","v":""},{"$f":"IF(Hoja3!V91=\"\",\"\",Hoja3!V91)","v":""},{"$f":"IF(Hoja3!W91=\"\",\"\",Hoja3!W91)","v":""},{"$f":"IF(Hoja3!X91=\"\",\"\",Hoja3!X91)","v":""},null,null,{"$f":"IF(Hoja3!AA91=\"\",\"\",Hoja3!AA91)","v":""},{"$f":"IF(Hoja3!AB91=\"\",\"\",Hoja3!AB91)","v":""},{"$f":"IF(Hoja3!AC91=\"\",\"\",Hoja3!AC91)","v":""},{"$f":"IF(Hoja3!AD91=\"\",\"\",Hoja3!AD91)","v":""},{"$f":"IF(Hoja3!AE91=\"\",\"\",Hoja3!AE91)","v":""},null,null,{"$f":"IF(Hoja3!AH91=\"\",\"\",Hoja3!AH91)","v":""},{"$f":"IF(Hoja3!AI91=\"\",\"\",Hoja3!AI91)","v":""},{"$f":"IF(Hoja3!AJ91=\"\",\"\",Hoja3!AJ91)","v":""},{"$f":"IF(Hoja3!AK91=\"\",\"\",Hoja3!AK91)","v":""},{"$f":"IF(Hoja3!AL91=\"\",\"\",Hoja3!AL91)","v":""},null,null,{"$f":"IF(Hoja3!AO91=\"\",\"\",Hoja3!AO91)","v":""},{"$f":"IF(Hoja3!AP91=\"\",\"\",Hoja3!AP91)","v":""},{"$f":"IF(Hoja3!AQ91=\"\",\"\",Hoja3!AQ91)","v":""},{"$f":"IF(Hoja3!AR91=\"\",\"\",Hoja3!AR91)","v":""},{"$f":"IF(Hoja3!AS91=\"\",\"\",Hoja3!AS91)","v":""},null,null,{"$f":"IF(Hoja3!AV91=\"\",\"\",Hoja3!AV91)","v":"COMPAÑIA AGRICOLA DE SEGUROS DE VIDA S.A."},{"$f":"IF(Hoja3!AW91=\"\",\"\",Hoja3!AW91)","v":"8600025286"},{"$f":"IF(Hoja3!AX91=\"\",\"\",Hoja3!AX91)","v":38561.605254629627},{"$f":"IF(Hoja3!AY91=\"\",\"\",Hoja3!AY91)","v":"D"},{"$f":"IF(Hoja3!AZ91=\"\",\"\",Hoja3!AZ91)","v":11001}]
[null,{"$f":"1+B90","v":57},"Nombre del Comercio",null,null,null,null,{"$f":"1+B92","v":58},"Tipo ID Comercio",null,{"$f":"1+H92","v":59},"N° ID Comercio",null,null,null,null,null,null,null,{"$f":"IF(Hoja3!T92=\"\",\"\",Hoja3!T92)","v":""},{"$f":"IF(Hoja3!U92=\"\",\"\",Hoja3!U92)","v":""},{"$f":"IF(Hoja3!V92=\"\",\"\",Hoja3!V92)","v":""},{"$f":"IF(Hoja3!W92=\"\",\"\",Hoja3!W92)","v":""},{"$f":"IF(Hoja3!X92=\"\",\"\",Hoja3!X92)","v":""},null,null,{"$f":"IF(Hoja3!AA92=\"\",\"\",Hoja3!AA92)","v":""},{"$f":"IF(Hoja3!AB92=\"\",\"\",Hoja3!AB92)","v":""},{"$f":"IF(Hoja3!AC92=\"\",\"\",Hoja3!AC92)","v":""},{"$f":"IF(Hoja3!AD92=\"\",\"\",Hoja3!AD92)","v":""},{"$f":"IF(Hoja3!AE92=\"\",\"\",Hoja3!AE92)","v":""},null,null,{"$f":"IF(Hoja3!AH92=\"\",\"\",Hoja3!AH92)","v":""},{"$f":"IF(Hoja3!AI92=\"\",\"\",Hoja3!AI92)","v":""},{"$f":"IF(Hoja3!AJ92=\"\",\"\",Hoja3!AJ92)","v":""},{"$f":"IF(Hoja3!AK92=\"\",\"\",Hoja3!AK92)","v":""},{"$f":"IF(Hoja3!AL92=\"\",\"\",Hoja3!AL92)","v":""},null,null,{"$f":"IF(Hoja3!AO92=\"\",\"\",Hoja3!AO92)","v":""},{"$f":"IF(Hoja3!AP92=\"\",\"\",Hoja3!AP92)","v":""},{"$f":"IF(Hoja3!AQ92=\"\",\"\",Hoja3!AQ92)","v":""},{"$f":"IF(Hoja3!AR92=\"\",\"\",Hoja3!AR92)","v":""},{"$f":"IF(Hoja3!AS92=\"\",\"\",Hoja3!AS92)","v":""},null,null,{"$f":"IF(Hoja3!AV92=\"\",\"\",Hoja3!AV92)","v":"PENSIONES DE ANTIOQUIA"},{"$f":"IF(Hoja3!AW92=\"\",\"\",Hoja3!AW92)","v":"8002162780"},{"$f":"IF(Hoja3!AX92=\"\",\"\",Hoja3!AX92)","v":38561.820150462961},{"$f":"IF(Hoja3!AY92=\"\",\"\",Hoja3!AY92)","v":"D"},{"$f":"IF(Hoja3!AZ92=\"\",\"\",Hoja3!AZ92)","v":11001}]
[null,null,{"$f":"IF(I90=\"\",\"\",VLOOKUP(I90,Hoja3!AV2:AZ43,1,0))","v":""},null,null,null,null,null,{"$f":"IF(C93<>\"\",S9,\"\")","v":""},null,null,{"$f":"IF(I90=\"\",\"\",VLOOKUP(I90,Hoja3!AV2:AZ43,2,0))","v":""},null,null,null,null,null,null,null,{"$f":"IF(Hoja3!T93=\"\",\"\",Hoja3!T93)","v":""},{"$f":"IF(Hoja3!U93=\"\",\"\",Hoja3!U93)","v":""},{"$f":"IF(Hoja3!V93=\"\",\"\",Hoja3!V93)","v":""},{"$f":"IF(Hoja3!W93=\"\",\"\",Hoja3!W93)","v":""},{"$f":"IF(Hoja3!X93=\"\",\"\",Hoja3!X93)","v":""},null,null,{"$f":"IF(Hoja3!AA93=\"\",\"\",Hoja3!AA93)","v":""},{"$f":"IF(Hoja3!AB93=\"\",\"\",Hoja3!AB93)","v":""},{"$f":"IF(Hoja3!AC93=\"\",\"\",Hoja3!AC93)","v":""},{"$f":"IF(Hoja3!AD93=\"\",\"\",Hoja3!AD93)","v":""},{"$f":"IF(Hoja3!AE93=\"\",\"\",Hoja3!AE93)","v":""},null,null,{"$f":"IF(Hoja3!AH93=\"\",\"\",Hoja3!AH93)","v":""},{"$f":"IF(Hoja3!AI93=\"\",\"\",Hoja3!AI93)","v":""},{"$f":"IF(Hoja3!AJ93=\"\",\"\",Hoja3!AJ93)","v":""},{"$f":"IF(Hoja3!AK93=\"\",\"\",Hoja3!AK93)","v":""},{"$f":"IF(Hoja3!AL93=\"\",\"\",Hoja3!AL93)","v":""},null,null,{"$f":"IF(Hoja3!AO93=\"\",\"\",Hoja3!AO93)","v":""},{"$f":"IF(Hoja3!AP93=\"\",\"\",Hoja3!AP93)","v":""},{"$f":"IF(Hoja3!AQ93=\"\",\"\",Hoja3!AQ93)","v":""},{"$f":"IF(Hoja3!AR93=\"\",\"\",Hoja3!AR93)","v":""},{"$f":"IF(Hoja3!AS93=\"\",\"\",Hoja3!AS93)","v":""},null,null,{"$f":"IF(Hoja3!AV93=\"\",\"\",Hoja3!AV93)","v":"CAJA DE COMPENSACION  FAMILIAR DE CALDAS CONFAMILIARES"},{"$f":"IF(Hoja3!AW93=\"\",\"\",Hoja3!AW93)","v":"8908064905"},{"$f":"IF(Hoja3!AX93=\"\",\"\",Hoja3!AX93)","v":38561.824814814812},{"$f":"IF(Hoja3!AY93=\"\",\"\",Hoja3!AY93)","v":"D"},{"$f":"IF(Hoja3!AZ93=\"\",\"\",Hoja3!AZ93)","v":11001}]
[null,null,null,null,null,null,null,null,null,null,null,null,null,null,null,null,null,null,null,{"$f":"IF(Hoja3!T94=\"\",\"\",Hoja3!T94)","v":""},{"$f":"IF(Hoja3!U94=\"\",\"\",Hoja3!U94)","v":""},{"$f":"IF(Hoja3!V94=\"\",\"\",Hoja3!V94)","v":""},{"$f":"IF(Hoja3!W94=\"\",\"\",Hoja3!W94)","v":""},{"$f":"IF(Hoja3!X94=\"\",\"\",Hoja3!X94)","v":""},null,null,{"$f":"IF(Hoja3!AA94=\"\",\"\",Hoja3!AA94)","v":""},{"$f":"IF(Hoja3!AB94=\"\",\"\",Hoja3!AB94)","v":""},{"$f":"IF(Hoja3!AC94=\"\",\"\",Hoja3!AC94)","v":""},{"$f":"IF(Hoja3!AD94=\"\",\"\",Hoja3!AD94)","v":""},{"$f":"IF(Hoja3!AE94=\"\",\"\",Hoja3!AE94)","v":""},null,null,{"$f":"IF(Hoja3!AH94=\"\",\"\",Hoja3!AH94)","v":""},{"$f":"IF(Hoja3!AI94=\"\",\"\",Hoja3!AI94)","v":""},{"$f":"IF(Hoja3!AJ94=\"\",\"\",Hoja3!AJ94)","v":""},{"$f":"IF(Hoja3!AK94=\"\",\"\",Hoja3!AK94)","v":""},{"$f":"IF(Hoja3!AL94=\"\",\"\",Hoja3!AL94)","v":""},null,null,{"$f":"IF(Hoja3!AO94=\"\",\"\",Hoja3!AO94)","v":""},{"$f":"IF(Hoja3!AP94=\"\",\"\",Hoja3!AP94)","v":""},{"$f":"IF(Hoja3!AQ94=\"\",\"\",Hoja3!AQ94)","v":""},{"$f":"IF(Hoja3!AR94=\"\",\"\",Hoja3!AR94)","v":""},{"$f":"IF(Hoja3!AS94=\"\",\"\",Hoja3!AS94)","v":""},null,null,{"$f":"IF(Hoja3!AV94=\"\",\"\",Hoja3!AV94)","v":"SEMINARIO REDEMPTORIS MATER"},{"$f":"IF(Hoja3!AW94=\"\",\"\",Hoja3!AW94)","v":"8000886626"},{"$f":"IF(Hoja3!AX94=\"\",\"\",Hoja3!AX94)","v":38562.404317129629},{"$f":"IF(Hoja3!AY94=\"\",\"\",Hoja3!AY94)","v":"D"},{"$f":"IF(Hoja3!AZ94=\"\",\"\",Hoja3!AZ94)","v":11001}]
[null,{"$f":"1+K92","v":60},"Entidad",null,{"$f":"1+B95","v":61},"Grupo",null,{"$f":"+E95+1","v":62},"Ciudad",null,null,null,null,null,null,null,null,null,null,{"$f":"IF(Hoja3!T95=\"\",\"\",Hoja3!T95)","v":""},{"$f":"IF(Hoja3!U95=\"\",\"\",Hoja3!U95)","v":""},{"$f":"IF(Hoja3!V95=\"\",\"\",Hoja3!V95)","v":""},{"$f":"IF(Hoja3!W95=\"\",\"\",Hoja3!W95)","v":""},{"$f":"IF(Hoja3!X95=\"\",\"\",Hoja3!X95)","v":""},null,null,{"$f":"IF(Hoja3!AA95=\"\",\"\",Hoja3!AA95)","v":""},{"$f":"IF(Hoja3!AB95=\"\",\"\",Hoja3!AB95)","v":""},{"$f":"IF(Hoja3!AC95=\"\",\"\",Hoja3!AC95)","v":""},{"$f":"IF(Hoja3!AD95=\"\",\"\",Hoja3!AD95)","v":""},{"$f":"IF(Hoja3!AE95=\"\",\"\",Hoja3!AE95)","v":""},null,null,{"$f":"IF(Hoja3!AH95=\"\",\"\",Hoja3!AH95)","v":""},{"$f":"IF(Hoja3!AI95=\"\",\"\",Hoja3!AI95)","v":""},{"$f":"IF(Hoja3!AJ95=\"\",\"\",Hoja3!AJ95)","v":""},{"$f":"IF(Hoja3!AK95=\"\",\"\",Hoja3!AK95)","v":""},{"$f":"IF(Hoja3!AL95=\"\",\"\",Hoja3!AL95)","v":""},null,null,{"$f":"IF(Hoja3!AO95=\"\",\"\",Hoja3!AO95)","v":""},{"$f":"IF(Hoja3!AP95=\"\",\"\",Hoja3!AP95)","v":""},{"$f":"IF(Hoja3!AQ95=\"\",\"\",Hoja3!AQ95)","v":""},{"$f":"IF(Hoja3!AR95=\"\",\"\",Hoja3!AR95)","v":""},{"$f":"IF(Hoja3!AS95=\"\",\"\",Hoja3!AS95)","v":""},null,null,{"$f":"IF(Hoja3!AV95=\"\",\"\",Hoja3!AV95)","v":"CAJA DE COMPENSACION FAMILIAR DEL HUILA"},{"$f":"IF(Hoja3!AW95=\"\",\"\",Hoja3!AW95)","v":"8911800082"},{"$f":"IF(Hoja3!AX95=\"\",\"\",Hoja3!AX95)","v":38562.617766203701},{"$f":"IF(Hoja3!AY95=\"\",\"\",Hoja3!AY95)","v":"D"},{"$f":"IF(Hoja3!AZ95=\"\",\"\",Hoja3!AZ95)","v":11001}]
[null,null,{"$f":"IF(C93<>\"\",S8,\"\")","v":""},null,null,{"$f":"IF(I90=\"\",\"\",VLOOKUP(I90,Hoja3!AV2:AZ43,4,0))","v":""},null,null,{"$f":"IF(I90=\"\",\"\",VLOOKUP(I90,Hoja3!AV2:AZ43,5,0))","v":""},null,null,null,null,null,null,null,null,null,null,{"$f":"IF(Hoja3!T96=\"\",\"\",Hoja3!T96)","v":""},{"$f":"IF(Hoja3!U96=\"\",\"\",Hoja3!U96)","v":""},{"$f":"IF(Hoja3!V96=\"\",\"\",Hoja3!V96)","v":""},{"$f":"IF(Hoja3!W96=\"\",\"\",Hoja3!W96)","v":""},{"$f":"IF(Hoja3!X96=\"\",\"\",Hoja3!X96)","v":""},null,null,{"$f":"IF(Hoja3!AA96=\"\",\"\",Hoja3!AA96)","v":""},{"$f":"IF(Hoja3!AB96=\"\",\"\",Hoja3!AB96)","v":""},{"$f":"IF(Hoja3!AC96=\"\",\"\",Hoja3!AC96)","v":""},{"$f":"IF(Hoja3!AD96=\"\",\"\",Hoja3!AD96)","v":""},{"$f":"IF(Hoja3!AE96=\"\",\"\",Hoja3!AE96)","v":""},null,null,{"$f":"IF(Hoja3!AH96=\"\",\"\",Hoja3!AH96)","v":""},{"$f":"IF(Hoja3!AI96=\"\",\"\",Hoja3!AI96)","v":""},{"$f":"IF(Hoja3!AJ96=\"\",\"\",Hoja3!AJ96)","v":""},{"$f":"IF(Hoja3!AK96=\"\",\"\",Hoja3!AK96)","v":""},{"$f":"IF(Hoja3!AL96=\"\",\"\",Hoja3!AL96)","v":""},null,null,{"$f":"IF(Hoja3!AO96=\"\",\"\",Hoja3!AO96)","v":""},{"$f":"IF(Hoja3!AP96=\"\",\"\",Hoja3!AP96)","v":""},{"$f":"IF(Hoja3!AQ96=\"\",\"\",Hoja3!AQ96)","v":""},{"$f":"IF(Hoja3!AR96=\"\",\"\",Hoja3!AR96)","v":""},{"$f":"IF(Hoja3!AS96=\"\",\"\",Hoja3!AS96)","v":""},null,null,{"$f":"IF(Hoja3!AV96=\"\",\"\",Hoja3!AV96)","v":"RED MULTIBANCA COLPATRIA"},{"$f":"IF(Hoja3!AW96=\"\",\"\",Hoja3!AW96)","v":"860034594"},{"$f":"IF(Hoja3!AX96=\"\",\"\",Hoja3!AX96)","v":38562.773622685185},{"$f":"IF(Hoja3!AY96=\"\",\"\",Hoja3!AY96)","v":"D"},{"$f":"IF(Hoja3!AZ96=\"\",\"\",Hoja3!AZ96)","v":11001}]
[null,null,null,null,null,null,null,null,null,null,null,null,null,null,null,null,null,null,null,{"$f":"IF(Hoja3!T97=\"\",\"\",Hoja3!T97)","v":""},{"$f":"IF(Hoja3!U97=\"\",\"\",Hoja3!U97)","v":""},{"$f":"IF(Hoja3!V97=\"\",\"\",Hoja3!V97)","v":""},{"$f":"IF(Hoja3!W97=\"\",\"\",Hoja3!W97)","v":""},{"$f":"IF(Hoja3!X97=\"\",\"\",Hoja3!X97)","v":""},null,null,{"$f":"IF(Hoja3!AA97=\"\",\"\",Hoja3!AA97)","v":""},{"$f":"IF(Hoja3!AB97=\"\",\"\",Hoja3!AB97)","v":""},{"$f":"IF(Hoja3!AC97=\"\",\"\",Hoja3!AC97)","v":""},{"$f":"IF(Hoja3!AD97=\"\",\"\",Hoja3!AD97)","v":""},{"$f":"IF(Hoja3!AE97=\"\",\"\",Hoja3!AE97)","v":""},null,null,{"$f":"IF(Hoja3!AH97=\"\",\"\",Hoja3!AH97)","v":""},{"$f":"IF(Hoja3!AI97=\"\",\"\",Hoja3!AI97)","v":""},{"$f":"IF(Hoja3!AJ97=\"\",\"\",Hoja3!AJ97)","v":""},{"$f":"IF(Hoja3!AK97=\"\",\"\",Hoja3!AK97)","v":""},{"$f":"IF(Hoja3!AL97=\"\",\"\",Hoja3!AL97)","v":""},null,null,{"$f":"IF(Hoja3!AO97=\"\",\"\",Hoja3!AO97)","v":""},{"$f":"IF(Hoja3!AP97=\"\",\"\",Hoja3!AP97)","v":""},{"$f":"IF(Hoja3!AQ97=\"\",\"\",Hoja3!AQ97)","v":""},{"$f":"IF(Hoja3!AR97=\"\",\"\",Hoja3!AR97)","v":""},{"$f":"IF(Hoja3!AS97=\"\",\"\",Hoja3!AS97)","v":""},null,null,{"$f":"IF(Hoja3!AV97=\"\",\"\",Hoja3!AV97)","v":"SEGUROS BOLIVAR S.A."},{"$f":"IF(Hoja3!AW97=\"\",\"\",Hoja3!AW97)","v":"8600025032"},{"$f":"IF(Hoja3!AX97=\"\",\"\",Hoja3!AX97)","v":38565.60796296296},{"$f":"IF(Hoja3!AY97=\"\",\"\",Hoja3!AY97)","v":"D"},{"$f":"IF(Hoja3!AZ97=\"\",\"\",Hoja3!AZ97)","v":11001}]
[null,{"$f":"1+H95","v":63},{"$f":"IF(F96=\"D\",\"\",\"Número de identificación del aportante\")","v":"Número de identificación del aportante"},null,null,null,null,null,null,null,null,null,null,null,null,null,null,null,null,{"$f":"IF(Hoja3!T98=\"\",\"\",Hoja3!T98)","v":""},{"$f":"IF(Hoja3!U98=\"\",\"\",Hoja3!U98)","v":""},{"$f":"IF(Hoja3!V98=\"\",\"\",Hoja3!V98)","v":""},{"$f":"IF(Hoja3!W98=\"\",\"\",Hoja3!W98)","v":""},{"$f":"IF(Hoja3!X98=\"\",\"\",Hoja3!X98)","v":""},null,null,{"$f":"IF(Hoja3!AA98=\"\",\"\",Hoja3!AA98)","v":""},{"$f":"IF(Hoja3!AB98=\"\",\"\",Hoja3!AB98)","v":""},{"$f":"IF(Hoja3!AC98=\"\",\"\",Hoja3!AC98)","v":""},{"$f":"IF(Hoja3!AD98=\"\",\"\",Hoja3!AD98)","v":""},{"$f":"IF(Hoja3!AE98=\"\",\"\",Hoja3!AE98)","v":""},null,null,{"$f":"IF(Hoja3!AH98=\"\",\"\",Hoja3!AH98)","v":""},{"$f":"IF(Hoja3!AI98=\"\",\"\",Hoja3!AI98)","v":""},{"$f":"IF(Hoja3!AJ98=\"\",\"\",Hoja3!AJ98)","v":""},{"$f":"IF(Hoja3!AK98=\"\",\"\",Hoja3!AK98)","v":""},{"$f":"IF(Hoja3!AL98=\"\",\"\",Hoja3!AL98)","v":""},null,null,{"$f":"IF(Hoja3!AO98=\"\",\"\",Hoja3!AO98)","v":""},{"$f":"IF(Hoja3!AP98=\"\",\"\",Hoja3!AP98)","v":""},{"$f":"IF(Hoja3!AQ98=\"\",\"\",Hoja3!AQ98)","v":""},{"$f":"IF(Hoja3!AR98=\"\",\"\",Hoja3!AR98)","v":""},{"$f":"IF(Hoja3!AS98=\"\",\"\",Hoja3!AS98)","v":""},null,null,{"$f":"IF(Hoja3!AV98=\"\",\"\",Hoja3!AV98)","v":"COMFENALCO QUINDIO"},{"$f":"IF(Hoja3!AW98=\"\",\"\",Hoja3!AW98)","v":"8900003810"},{"$f":"IF(Hoja3!AX98=\"\",\"\",Hoja3!AX98)","v":38565.692650462959},{"$f":"IF(Hoja3!AY98=\"\",\"\",Hoja3!AY98)","v":"D"},{"$f":"IF(Hoja3!AZ98=\"\",\"\",Hoja3!AZ98)","v":11001}]
[null,null,null,null,null,null,null,null,null,null,null,null,null,null,null,null,null,null,null,{"$f":"IF(Hoja3!T99=\"\",\"\",Hoja3!T99)","v":""},{"$f":"IF(Hoja3!U99=\"\",\"\",Hoja3!U99)","v":""},{"$f":"IF(Hoja3!V99=\"\",\"\",Hoja3!V99)","v":""},{"$f":"IF(Hoja3!W99=\"\",\"\",Hoja3!W99)","v":""},{"$f":"IF(Hoja3!X99=\"\",\"\",Hoja3!X99)","v":""},null,null,{"$f":"IF(Hoja3!AA99=\"\",\"\",Hoja3!AA99)","v":""},{"$f":"IF(Hoja3!AB99=\"\",\"\",Hoja3!AB99)","v":""},{"$f":"IF(Hoja3!AC99=\"\",\"\",Hoja3!AC99)","v":""},{"$f":"IF(Hoja3!AD99=\"\",\"\",Hoja3!AD99)","v":""},{"$f":"IF(Hoja3!AE99=\"\",\"\",Hoja3!AE99)","v":""},null,null,{"$f":"IF(Hoja3!AH99=\"\",\"\",Hoja3!AH99)","v":""},{"$f":"IF(Hoja3!AI99=\"\",\"\",Hoja3!AI99)","v":""},{"$f":"IF(Hoja3!AJ99=\"\",\"\",Hoja3!AJ99)","v":""},{"$f":"IF(Hoja3!AK99=\"\",\"\",Hoja3!AK99)","v":""},{"$f":"IF(Hoja3!AL99=\"\",\"\",Hoja3!AL99)","v":""},null,null,{"$f":"IF(Hoja3!AO99=\"\",\"\",Hoja3!AO99)","v":""},{"$f":"IF(Hoja3!AP99=\"\",\"\",Hoja3!AP99)","v":""},{"$f":"IF(Hoja3!AQ99=\"\",\"\",Hoja3!AQ99)","v":""},{"$f":"IF(Hoja3!AR99=\"\",\"\",Hoja3!AR99)","v":""},{"$f":"IF(Hoja3!AS99=\"\",\"\",Hoja3!AS99)","v":""},null,null,{"$f":"IF(Hoja3!AV99=\"\",\"\",Hoja3!AV99)","v":"CAJA DE COMPENSACION FAMILIAR DEL CAUCA COMFACAUCA"},{"$f":"IF(Hoja3!AW99=\"\",\"\",Hoja3!AW99)","v":"8915001820"},{"$f":"IF(Hoja3!AX99=\"\",\"\",Hoja3!AX99)","v":38565.700428240736},{"$f":"IF(Hoja3!AY99=\"\",\"\",Hoja3!AY99)","v":"D"},{"$f":"IF(Hoja3!AZ99=\"\",\"\",Hoja3!AZ99)","v":11001}]
[null,{"$f":"1+B98","v":64},{"$f":"+IF(E90=\"Inactivar Inscripción\",\"\",\"Valor máximo por transacción\")","v":"Valor máximo por transacción"},null,null,null,{"$f":"+IF(ISTEXT(E100)=TRUE,\"*Digite solo valores numéricos\",IF(AND(E100<>\"\",E100<1000000),\"*El valor digitado no requiere inscripción\",\"\"))","v":""},null,null,null,null,null,null,null,null,null,null,null,null,{"$f":"IF(Hoja3!T100=\"\",\"\",Hoja3!T100)","v":""},{"$f":"IF(Hoja3!U100=\"\",\"\",Hoja3!U100)","v":""},{"$f":"IF(Hoja3!V100=\"\",\"\",Hoja3!V100)","v":""},{"$f":"IF(Hoja3!W100=\"\",\"\",Hoja3!W100)","v":""},{"$f":"IF(Hoja3!X100=\"\",\"\",Hoja3!X100)","v":""},null,null,{"$f":"IF(Hoja3!AA100=\"\",\"\",Hoja3!AA100)","v":""},{"$f":"IF(Hoja3!AB100=\"\",\"\",Hoja3!AB100)","v":""},{"$f":"IF(Hoja3!AC100=\"\",\"\",Hoja3!AC100)","v":""},{"$f":"IF(Hoja3!AD100=\"\",\"\",Hoja3!AD100)","v":""},{"$f":"IF(Hoja3!AE100=\"\",\"\",Hoja3!AE100)","v":""},null,null,{"$f":"IF(Hoja3!AH100=\"\",\"\",Hoja3!AH100)","v":""},{"$f":"IF(Hoja3!AI100=\"\",\"\",Hoja3!AI100)","v":""},{"$f":"IF(Hoja3!AJ100=\"\",\"\",Hoja3!AJ100)","v":""},{"$f":"IF(Hoja3!AK100=\"\",\"\",Hoja3!AK100)","v":""},{"$f":"IF(Hoja3!AL100=\"\",\"\",Hoja3!AL100)","v":""},null,null,{"$f":"IF(Hoja3!AO100=\"\",\"\",Hoja3!AO100)","v":""},{"$f":"IF(Hoja3!AP100=\"\",\"\",Hoja3!AP100)","v":""},{"$f":"IF(Hoja3!AQ100=\"\",\"\",Hoja3!AQ100)","v":""},{"$f":"IF(Hoja3!AR100=\"\",\"\",Hoja3!AR100)","v":""},{"$f":"IF(Hoja3!AS100=\"\",\"\",Hoja3!AS100)","v":""},null,null,{"$f":"IF(Hoja3!AV100=\"\",\"\",Hoja3!AV100)","v":"PAYU COLOMBIA S.A.S"},{"$f":"IF(Hoja3!AW100=\"\",\"\",Hoja3!AW100)","v":"8301097238"},{"$f":"IF(Hoja3!AX100=\"\",\"\",Hoja3!AX100)","v":38565.876539351848},{"$f":"IF(Hoja3!AY100=\"\",\"\",Hoja3!AY100)","v":"D"},{"$f":"IF(Hoja3!AZ100=\"\",\"\",Hoja3!AZ100)","v":11001}]
[null,null,null,null,null,null,null,null,null,null,null,null,null,null,null,null,null,null,null,{"$f":"IF(Hoja3!T101=\"\",\"\",Hoja3!T101)","v":""},{"$f":"IF(Hoja3!U101=\"\",\"\",Hoja3!U101)","v":""},{"$f":"IF(Hoja3!V101=\"\",\"\",Hoja3!V101)","v":""},{"$f":"IF(Hoja3!W101=\"\",\"\",Hoja3!W101)","v":""},{"$f":"IF(Hoja3!X101=\"\",\"\",Hoja3!X101)","v":""},null,null,{"$f":"IF(Hoja3!AA101=\"\",\"\",Hoja3!AA101)","v":""},{"$f":"IF(Hoja3!AB101=\"\",\"\",Hoja3!AB101)","v":""},{"$f":"IF(Hoja3!AC101=\"\",\"\",Hoja3!AC101)","v":""},{"$f":"IF(Hoja3!AD101=\"\",\"\",Hoja3!AD101)","v":""},{"$f":"IF(Hoja3!AE101=\"\",\"\",Hoja3!AE101)","v":""},null,null,{"$f":"IF(Hoja3!AH101=\"\",\"\",Hoja3!AH101)","v":""},{"$f":"IF(Hoja3!AI101=\"\",\"\",Hoja3!AI101)","v":""},{"$f":"IF(Hoja3!AJ101=\"\",\"\",Hoja3!AJ101)","v":""},{"$f":"IF(Hoja3!AK101=\"\",\"\",Hoja3!AK101)","v":""},{"$f":"IF(Hoja3!AL101=\"\",\"\",Hoja3!AL101)","v":""},null,null,{"$f":"IF(Hoja3!AO101=\"\",\"\",Hoja3!AO101)","v":""},{"$f":"IF(Hoja3!AP101=\"\",\"\",Hoja3!AP101)","v":""},{"$f":"IF(Hoja3!AQ101=\"\",\"\",Hoja3!AQ101)","v":""},{"$f":"IF(Hoja3!AR101=\"\",\"\",Hoja3!AR101)","v":""},{"$f":"IF(Hoja3!AS101=\"\",\"\",Hoja3!AS101)","v":""},null,null,{"$f":"IF(Hoja3!AV101=\"\",\"\",Hoja3!AV101)","v":"CAJA DE COMPENSACION FAMILIAR CAMPESINA - COMCAJA -"},{"$f":"IF(Hoja3!AW101=\"\",\"\",Hoja3!AW101)","v":"8002319694"},{"$f":"IF(Hoja3!AX101=\"\",\"\",Hoja3!AX101)","v":38566.753749999996},{"$f":"IF(Hoja3!AY101=\"\",\"\",Hoja3!AY101)","v":"D"},{"$f":"IF(Hoja3!AZ101=\"\",\"\",Hoja3!AZ101)","v":11001}]
[null,"*Esta solicitud no corresponde a cambios en los montos máximos definidos para pagos virtuales del Portal Empresarial y Corporativo, y no constituye cambios a las medidas de seguridad que se tienen ya definidas por el Portal Empresarial y Corporativo.",null,null,null,null,null,null,null,null,null,null,null,null,null,null,null,null,null,{"$f":"IF(Hoja3!T102=\"\",\"\",Hoja3!T102)","v":""},{"$f":"IF(Hoja3!U102=\"\",\"\",Hoja3!U102)","v":""},{"$f":"IF(Hoja3!V102=\"\",\"\",Hoja3!V102)","v":""},{"$f":"IF(Hoja3!W102=\"\",\"\",Hoja3!W102)","v":""},{"$f":"IF(Hoja3!X102=\"\",\"\",Hoja3!X102)","v":""},null,null,{"$f":"IF(Hoja3!AA102=\"\",\"\",Hoja3!AA102)","v":""},{"$f":"IF(Hoja3!AB102=\"\",\"\",Hoja3!AB102)","v":""},{"$f":"IF(Hoja3!AC102=\"\",\"\",Hoja3!AC102)","v":""},{"$f":"IF(Hoja3!AD102=\"\",\"\",Hoja3!AD102)","v":""},{"$f":"IF(Hoja3!AE102=\"\",\"\",Hoja3!AE102)","v":""},null,null,{"$f":"IF(Hoja3!AH102=\"\",\"\",Hoja3!AH102)","v":""},{"$f":"IF(Hoja3!AI102=\"\",\"\",Hoja3!AI102)","v":""},{"$f":"IF(Hoja3!AJ102=\"\",\"\",Hoja3!AJ102)","v":""},{"$f":"IF(Hoja3!AK102=\"\",\"\",Hoja3!AK102)","v":""},{"$f":"IF(Hoja3!AL102=\"\",\"\",Hoja3!AL102)","v":""},null,null,{"$f":"IF(Hoja3!AO102=\"\",\"\",Hoja3!AO102)","v":""},{"$f":"IF(Hoja3!AP102=\"\",\"\",Hoja3!AP102)","v":""},{"$f":"IF(Hoja3!AQ102=\"\",\"\",Hoja3!AQ102)","v":""},{"$f":"IF(Hoja3!AR102=\"\",\"\",Hoja3!AR102)","v":""},{"$f":"IF(Hoja3!AS102=\"\",\"\",Hoja3!AS102)","v":""},null,null,{"$f":"IF(Hoja3!AV102=\"\",\"\",Hoja3!AV102)","v":"CAJA DE COMPENSACION FAMILIAR DEL AMAZONAS"},{"$f":"IF(Hoja3!AW102=\"\",\"\",Hoja3!AW102)","v":"8000031226"},{"$f":"IF(Hoja3!AX102=\"\",\"\",Hoja3!AX102)","v":38566.758356481478},{"$f":"IF(Hoja3!AY102=\"\",\"\",Hoja3!AY102)","v":"D"},{"$f":"IF(Hoja3!AZ102=\"\",\"\",Hoja3!AZ102)","v":11001}]
[null,"Firma Representante Legal:",null,null,null,null,null,null,null,null,null,null,null,null,null,null,null,null,null,{"$f":"IF(Hoja3!T103=\"\",\"\",Hoja3!T103)","v":""},{"$f":"IF(Hoja3!U103=\"\",\"\",Hoja3!U103)","v":""},{"$f":"IF(Hoja3!V103=\"\",\"\",Hoja3!V103)","v":""},{"$f":"IF(Hoja3!W103=\"\",\"\",Hoja3!W103)","v":""},{"$f":"IF(Hoja3!X103=\"\",\"\",Hoja3!X103)","v":""},null,null,{"$f":"IF(Hoja3!AA103=\"\",\"\",Hoja3!AA103)","v":""},{"$f":"IF(Hoja3!AB103=\"\",\"\",Hoja3!AB103)","v":""},{"$f":"IF(Hoja3!AC103=\"\",\"\",Hoja3!AC103)","v":""},{"$f":"IF(Hoja3!AD103=\"\",\"\",Hoja3!AD103)","v":""},{"$f":"IF(Hoja3!AE103=\"\",\"\",Hoja3!AE103)","v":""},null,null,{"$f":"IF(Hoja3!AH103=\"\",\"\",Hoja3!AH103)","v":""},{"$f":"IF(Hoja3!AI103=\"\",\"\",Hoja3!AI103)","v":""},{"$f":"IF(Hoja3!AJ103=\"\",\"\",Hoja3!AJ103)","v":""},{"$f":"IF(Hoja3!AK103=\"\",\"\",Hoja3!AK103)","v":""},{"$f":"IF(Hoja3!AL103=\"\",\"\",Hoja3!AL103)","v":""},null,null,{"$f":"IF(Hoja3!AO103=\"\",\"\",Hoja3!AO103)","v":""},{"$f":"IF(Hoja3!AP103=\"\",\"\",Hoja3!AP103)","v":""},{"$f":"IF(Hoja3!AQ103=\"\",\"\",Hoja3!AQ103)","v":""},{"$f":"IF(Hoja3!AR103=\"\",\"\",Hoja3!AR103)","v":""},{"$f":"IF(Hoja3!AS103=\"\",\"\",Hoja3!AS103)","v":""},null,null,{"$f":"IF(Hoja3!AV103=\"\",\"\",Hoja3!AV103)","v":"CAJA DE COMPENSACION FAMILIAR CAMACOL"},{"$f":"IF(Hoja3!AW103=\"\",\"\",Hoja3!AW103)","v":"8909008401"},{"$f":"IF(Hoja3!AX103=\"\",\"\",Hoja3!AX103)","v":38566.761967592589},{"$f":"IF(Hoja3!AY103=\"\",\"\",Hoja3!AY103)","v":"D"},{"$f":"IF(Hoja3!AZ103=\"\",\"\",Hoja3!AZ103)","v":11001}]
[null,null,null,null,null,null,null,null,null,null,null,null,null,null,null,null,null,null,null,{"$f":"IF(Hoja3!T104=\"\",\"\",Hoja3!T104)","v":""},{"$f":"IF(Hoja3!U104=\"\",\"\",Hoja3!U104)","v":""},{"$f":"IF(Hoja3!V104=\"\",\"\",Hoja3!V104)","v":""},{"$f":"IF(Hoja3!W104=\"\",\"\",Hoja3!W104)","v":""},{"$f":"IF(Hoja3!X104=\"\",\"\",Hoja3!X104)","v":""},null,null,{"$f":"IF(Hoja3!AA104=\"\",\"\",Hoja3!AA104)","v":""},{"$f":"IF(Hoja3!AB104=\"\",\"\",Hoja3!AB104)","v":""},{"$f":"IF(Hoja3!AC104=\"\",\"\",Hoja3!AC104)","v":""},{"$f":"IF(Hoja3!AD104=\"\",\"\",Hoja3!AD104)","v":""},{"$f":"IF(Hoja3!AE104=\"\",\"\",Hoja3!AE104)","v":""},null,null,{"$f":"IF(Hoja3!AH104=\"\",\"\",Hoja3!AH104)","v":""},{"$f":"IF(Hoja3!AI104=\"\",\"\",Hoja3!AI104)","v":""},{"$f":"IF(Hoja3!AJ104=\"\",\"\",Hoja3!AJ104)","v":""},{"$f":"IF(Hoja3!AK104=\"\",\"\",Hoja3!AK104)","v":""},{"$f":"IF(Hoja3!AL104=\"\",\"\",Hoja3!AL104)","v":""},null,null,{"$f":"IF(Hoja3!AO104=\"\",\"\",Hoja3!AO104)","v":""},{"$f":"IF(Hoja3!AP104=\"\",\"\",Hoja3!AP104)","v":""},{"$f":"IF(Hoja3!AQ104=\"\",\"\",Hoja3!AQ104)","v":""},{"$f":"IF(Hoja3!AR104=\"\",\"\",Hoja3!AR104)","v":""},{"$f":"IF(Hoja3!AS104=\"\",\"\",Hoja3!AS104)","v":""},null,null,{"$f":"IF(Hoja3!AV104=\"\",\"\",Hoja3!AV104)","v":"SEGUROS DE VIDA ALFA S.A."},{"$f":"IF(Hoja3!AW104=\"\",\"\",Hoja3!AW104)","v":"8605036173"},{"$f":"IF(Hoja3!AX104=\"\",\"\",Hoja3!AX104)","v":38567.609375},{"$f":"IF(Hoja3!AY104=\"\",\"\",Hoja3!AY104)","v":"D"},{"$f":"IF(Hoja3!AZ104=\"\",\"\",Hoja3!AZ104)","v":11001}]
[null,"Nombre Representante Legal:",null,null,{"$f":"IF(E13=\"\",\"\",E13)","v":""},null,null,null,null,null,null,null,null,null,null,null,null,null,null,{"$f":"IF(Hoja3!T105=\"\",\"\",Hoja3!T105)","v":""},{"$f":"IF(Hoja3!U105=\"\",\"\",Hoja3!U105)","v":""},{"$f":"IF(Hoja3!V105=\"\",\"\",Hoja3!V105)","v":""},{"$f":"IF(Hoja3!W105=\"\",\"\",Hoja3!W105)","v":""},{"$f":"IF(Hoja3!X105=\"\",\"\",Hoja3!X105)","v":""},null,null,{"$f":"IF(Hoja3!AA105=\"\",\"\",Hoja3!AA105)","v":""},{"$f":"IF(Hoja3!AB105=\"\",\"\",Hoja3!AB105)","v":""},{"$f":"IF(Hoja3!AC105=\"\",\"\",Hoja3!AC105)","v":""},{"$f":"IF(Hoja3!AD105=\"\",\"\",Hoja3!AD105)","v":""},{"$f":"IF(Hoja3!AE105=\"\",\"\",Hoja3!AE105)","v":""},null,null,{"$f":"IF(Hoja3!AH105=\"\",\"\",Hoja3!AH105)","v":""},{"$f":"IF(Hoja3!AI105=\"\",\"\",Hoja3!AI105)","v":""},{"$f":"IF(Hoja3!AJ105=\"\",\"\",Hoja3!AJ105)","v":""},{"$f":"IF(Hoja3!AK105=\"\",\"\",Hoja3!AK105)","v":""},{"$f":"IF(Hoja3!AL105=\"\",\"\",Hoja3!AL105)","v":""},null,null,{"$f":"IF(Hoja3!AO105=\"\",\"\",Hoja3!AO105)","v":""},{"$f":"IF(Hoja3!AP105=\"\",\"\",Hoja3!AP105)","v":""},{"$f":"IF(Hoja3!AQ105=\"\",\"\",Hoja3!AQ105)","v":""},{"$f":"IF(Hoja3!AR105=\"\",\"\",Hoja3!AR105)","v":""},{"$f":"IF(Hoja3!AS105=\"\",\"\",Hoja3!AS105)","v":""},null,null,{"$f":"IF(Hoja3!AV105=\"\",\"\",Hoja3!AV105)","v":"CAPRECOM"},{"$f":"IF(Hoja3!AW105=\"\",\"\",Hoja3!AW105)","v":"8999990260"},{"$f":"IF(Hoja3!AX105=\"\",\"\",Hoja3!AX105)","v":38567.663368055553},{"$f":"IF(Hoja3!AY105=\"\",\"\",Hoja3!AY105)","v":"D"},{"$f":"IF(Hoja3!AZ105=\"\",\"\",Hoja3!AZ105)","v":11001}]
[null,null,null,null,null,null,null,null,null,null,null,null,null,null,null,null,null,null,null,{"$f":"IF(Hoja3!T106=\"\",\"\",Hoja3!T106)","v":""},{"$f":"IF(Hoja3!U106=\"\",\"\",Hoja3!U106)","v":""},{"$f":"IF(Hoja3!V106=\"\",\"\",Hoja3!V106)","v":""},{"$f":"IF(Hoja3!W106=\"\",\"\",Hoja3!W106)","v":""},{"$f":"IF(Hoja3!X106=\"\",\"\",Hoja3!X106)","v":""},null,null,{"$f":"IF(Hoja3!AA106=\"\",\"\",Hoja3!AA106)","v":""},{"$f":"IF(Hoja3!AB106=\"\",\"\",Hoja3!AB106)","v":""},{"$f":"IF(Hoja3!AC106=\"\",\"\",Hoja3!AC106)","v":""},{"$f":"IF(Hoja3!AD106=\"\",\"\",Hoja3!AD106)","v":""},{"$f":"IF(Hoja3!AE106=\"\",\"\",Hoja3!AE106)","v":""},null,null,{"$f":"IF(Hoja3!AH106=\"\",\"\",Hoja3!AH106)","v":""},{"$f":"IF(Hoja3!AI106=\"\",\"\",Hoja3!AI106)","v":""},{"$f":"IF(Hoja3!AJ106=\"\",\"\",Hoja3!AJ106)","v":""},{"$f":"IF(Hoja3!AK106=\"\",\"\",Hoja3!AK106)","v":""},{"$f":"IF(Hoja3!AL106=\"\",\"\",Hoja3!AL106)","v":""},null,null,{"$f":"IF(Hoja3!AO106=\"\",\"\",Hoja3!AO106)","v":""},{"$f":"IF(Hoja3!AP106=\"\",\"\",Hoja3!AP106)","v":""},{"$f":"IF(Hoja3!AQ106=\"\",\"\",Hoja3!AQ106)","v":""},{"$f":"IF(Hoja3!AR106=\"\",\"\",Hoja3!AR106)","v":""},{"$f":"IF(Hoja3!AS106=\"\",\"\",Hoja3!AS106)","v":""},null,null,{"$f":"IF(Hoja3!AV106=\"\",\"\",Hoja3!AV106)","v":"POSITIVA COMPAÑIA DE SEGUROS S.A."},{"$f":"IF(Hoja3!AW106=\"\",\"\",Hoja3!AW106)","v":"8600111536"},{"$f":"IF(Hoja3!AX106=\"\",\"\",Hoja3!AX106)","v":38572.623333333329},{"$f":"IF(Hoja3!AY106=\"\",\"\",Hoja3!AY106)","v":"D"},{"$f":"IF(Hoja3!AZ106=\"\",\"\",Hoja3!AZ106)","v":11001}]
[null,"Tipo y Número de Documento:",null,null,{"$f":"IF(AND(E15=\"\",L15=\"\"),\"\",E15&\" N° \"&L15)","v":""},null,null,null,null,null,null,null,null,null,null,null,null,null,null,{"$f":"IF(Hoja3!T107=\"\",\"\",Hoja3!T107)","v":""},{"$f":"IF(Hoja3!U107=\"\",\"\",Hoja3!U107)","v":""},{"$f":"IF(Hoja3!V107=\"\",\"\",Hoja3!V107)","v":""},{"$f":"IF(Hoja3!W107=\"\",\"\",Hoja3!W107)","v":""},{"$f":"IF(Hoja3!X107=\"\",\"\",Hoja3!X107)","v":""},null,null,{"$f":"IF(Hoja3!AA107=\"\",\"\",Hoja3!AA107)","v":""},{"$f":"IF(Hoja3!AB107=\"\",\"\",Hoja3!AB107)","v":""},{"$f":"IF(Hoja3!AC107=\"\",\"\",Hoja3!AC107)","v":""},{"$f":"IF(Hoja3!AD107=\"\",\"\",Hoja3!AD107)","v":""},{"$f":"IF(Hoja3!AE107=\"\",\"\",Hoja3!AE107)","v":""},null,null,{"$f":"IF(Hoja3!AH107=\"\",\"\",Hoja3!AH107)","v":""},{"$f":"IF(Hoja3!AI107=\"\",\"\",Hoja3!AI107)","v":""},{"$f":"IF(Hoja3!AJ107=\"\",\"\",Hoja3!AJ107)","v":""},{"$f":"IF(Hoja3!AK107=\"\",\"\",Hoja3!AK107)","v":""},{"$f":"IF(Hoja3!AL107=\"\",\"\",Hoja3!AL107)","v":""},null,null,{"$f":"IF(Hoja3!AO107=\"\",\"\",Hoja3!AO107)","v":""},{"$f":"IF(Hoja3!AP107=\"\",\"\",Hoja3!AP107)","v":""},{"$f":"IF(Hoja3!AQ107=\"\",\"\",Hoja3!AQ107)","v":""},{"$f":"IF(Hoja3!AR107=\"\",\"\",Hoja3!AR107)","v":""},{"$f":"IF(Hoja3!AS107=\"\",\"\",Hoja3!AS107)","v":""},null,null,{"$f":"IF(Hoja3!AV107=\"\",\"\",Hoja3!AV107)","v":"Comfenalco Cartagena"},{"$f":"IF(Hoja3!AW107=\"\",\"\",Hoja3!AW107)","v":"8904800237"},{"$f":"IF(Hoja3!AX107=\"\",\"\",Hoja3!AX107)","v":38572.632685185185},{"$f":"IF(Hoja3!AY107=\"\",\"\",Hoja3!AY107)","v":"D"},{"$f":"IF(Hoja3!AZ107=\"\",\"\",Hoja3!AZ107)","v":11001}]
[null,null,null,null,null,null,null,null,null,null,null,null,null,null,null,null,null,null,null,{"$f":"IF(Hoja3!T108=\"\",\"\",Hoja3!T108)","v":""},{"$f":"IF(Hoja3!U108=\"\",\"\",Hoja3!U108)","v":""},{"$f":"IF(Hoja3!V108=\"\",\"\",Hoja3!V108)","v":""},{"$f":"IF(Hoja3!W108=\"\",\"\",Hoja3!W108)","v":""},{"$f":"IF(Hoja3!X108=\"\",\"\",Hoja3!X108)","v":""},null,null,{"$f":"IF(Hoja3!AA108=\"\",\"\",Hoja3!AA108)","v":""},{"$f":"IF(Hoja3!AB108=\"\",\"\",Hoja3!AB108)","v":""},{"$f":"IF(Hoja3!AC108=\"\",\"\",Hoja3!AC108)","v":""},{"$f":"IF(Hoja3!AD108=\"\",\"\",Hoja3!AD108)","v":""},{"$f":"IF(Hoja3!AE108=\"\",\"\",Hoja3!AE108)","v":""},null,null,{"$f":"IF(Hoja3!AH108=\"\",\"\",Hoja3!AH108)","v":""},{"$f":"IF(Hoja3!AI108=\"\",\"\",Hoja3!AI108)","v":""},{"$f":"IF(Hoja3!AJ108=\"\",\"\",Hoja3!AJ108)","v":""},{"$f":"IF(Hoja3!AK108=\"\",\"\",Hoja3!AK108)","v":""},{"$f":"IF(Hoja3!AL108=\"\",\"\",Hoja3!AL108)","v":""},null,null,{"$f":"IF(Hoja3!AO108=\"\",\"\",Hoja3!AO108)","v":""},{"$f":"IF(Hoja3!AP108=\"\",\"\",Hoja3!AP108)","v":""},{"$f":"IF(Hoja3!AQ108=\"\",\"\",Hoja3!AQ108)","v":""},{"$f":"IF(Hoja3!AR108=\"\",\"\",Hoja3!AR108)","v":""},{"$f":"IF(Hoja3!AS108=\"\",\"\",Hoja3!AS108)","v":""},null,null,{"$f":"IF(Hoja3!AV108=\"\",\"\",Hoja3!AV108)","v":"CAJA DE COMPENSACION FAMILIAR DEL SUR DEL TOLIMA CAFASUR"},{"$f":"IF(Hoja3!AW108=\"\",\"\",Hoja3!AW108)","v":"8907047370"},{"$f":"IF(Hoja3!AX108=\"\",\"\",Hoja3!AX108)","v":38572.637997685182},{"$f":"IF(Hoja3!AY108=\"\",\"\",Hoja3!AY108)","v":"D"},{"$f":"IF(Hoja3!AZ108=\"\",\"\",Hoja3!AZ108)","v":11001}]
[null,null,null,null,null,null,null,null,null,null,null,null,null,null,null,null,null,null,null,{"$f":"IF(Hoja3!T109=\"\",\"\",Hoja3!T109)","v":""},{"$f":"IF(Hoja3!U109=\"\",\"\",Hoja3!U109)","v":""},{"$f":"IF(Hoja3!V109=\"\",\"\",Hoja3!V109)","v":""},{"$f":"IF(Hoja3!W109=\"\",\"\",Hoja3!W109)","v":""},{"$f":"IF(Hoja3!X109=\"\",\"\",Hoja3!X109)","v":""},null,null,{"$f":"IF(Hoja3!AA109=\"\",\"\",Hoja3!AA109)","v":""},{"$f":"IF(Hoja3!AB109=\"\",\"\",Hoja3!AB109)","v":""},{"$f":"IF(Hoja3!AC109=\"\",\"\",Hoja3!AC109)","v":""},{"$f":"IF(Hoja3!AD109=\"\",\"\",Hoja3!AD109)","v":""},{"$f":"IF(Hoja3!AE109=\"\",\"\",Hoja3!AE109)","v":""},null,null,{"$f":"IF(Hoja3!AH109=\"\",\"\",Hoja3!AH109)","v":""},{"$f":"IF(Hoja3!AI109=\"\",\"\",Hoja3!AI109)","v":""},{"$f":"IF(Hoja3!AJ109=\"\",\"\",Hoja3!AJ109)","v":""},{"$f":"IF(Hoja3!AK109=\"\",\"\",Hoja3!AK109)","v":""},{"$f":"IF(Hoja3!AL109=\"\",\"\",Hoja3!AL109)","v":""},null,null,{"$f":"IF(Hoja3!AO109=\"\",\"\",Hoja3!AO109)","v":""},{"$f":"IF(Hoja3!AP109=\"\",\"\",Hoja3!AP109)","v":""},{"$f":"IF(Hoja3!AQ109=\"\",\"\",Hoja3!AQ109)","v":""},{"$f":"IF(Hoja3!AR109=\"\",\"\",Hoja3!AR109)","v":""},{"$f":"IF(Hoja3!AS109=\"\",\"\",Hoja3!AS109)","v":""},null,null,{"$f":"IF(Hoja3!AV109=\"\",\"\",Hoja3!AV109)","v":"CAJA SANTANDEREANA DE SUBSIDIO FAMILIAR CAJASAN"},{"$f":"IF(Hoja3!AW109=\"\",\"\",Hoja3!AW109)","v":"8902001061"},{"$f":"IF(Hoja3!AX109=\"\",\"\",Hoja3!AX109)","v":38572.645196759258},{"$f":"IF(Hoja3!AY109=\"\",\"\",Hoja3!AY109)","v":"D"},{"$f":"IF(Hoja3!AZ109=\"\",\"\",Hoja3!AZ109)","v":11001}]
[null,null,null,null,null,null,null,null,null,null,null,null,null,null,null,null,null,null,null,{"$f":"IF(Hoja3!T110=\"\",\"\",Hoja3!T110)","v":""},{"$f":"IF(Hoja3!U110=\"\",\"\",Hoja3!U110)","v":""},{"$f":"IF(Hoja3!V110=\"\",\"\",Hoja3!V110)","v":""},{"$f":"IF(Hoja3!W110=\"\",\"\",Hoja3!W110)","v":""},{"$f":"IF(Hoja3!X110=\"\",\"\",Hoja3!X110)","v":""},null,null,{"$f":"IF(Hoja3!AA110=\"\",\"\",Hoja3!AA110)","v":""},{"$f":"IF(Hoja3!AB110=\"\",\"\",Hoja3!AB110)","v":""},{"$f":"IF(Hoja3!AC110=\"\",\"\",Hoja3!AC110)","v":""},{"$f":"IF(Hoja3!AD110=\"\",\"\",Hoja3!AD110)","v":""},{"$f":"IF(Hoja3!AE110=\"\",\"\",Hoja3!AE110)","v":""},null,null,{"$f":"IF(Hoja3!AH110=\"\",\"\",Hoja3!AH110)","v":""},{"$f":"IF(Hoja3!AI110=\"\",\"\",Hoja3!AI110)","v":""},{"$f":"IF(Hoja3!AJ110=\"\",\"\",Hoja3!AJ110)","v":""},{"$f":"IF(Hoja3!AK110=\"\",\"\",Hoja3!AK110)","v":""},{"$f":"IF(Hoja3!AL110=\"\",\"\",Hoja3!AL110)","v":""},null,null,{"$f":"IF(Hoja3!AO110=\"\",\"\",Hoja3!AO110)","v":""},{"$f":"IF(Hoja3!AP110=\"\",\"\",Hoja3!AP110)","v":""},{"$f":"IF(Hoja3!AQ110=\"\",\"\",Hoja3!AQ110)","v":""},{"$f":"IF(Hoja3!AR110=\"\",\"\",Hoja3!AR110)","v":""},{"$f":"IF(Hoja3!AS110=\"\",\"\",Hoja3!AS110)","v":""},null,null,{"$f":"IF(Hoja3!AV110=\"\",\"\",Hoja3!AV110)","v":"CAJA DE COMPENSACION FAMILIAR DE SAI Y PROV CAJASAI"},{"$f":"IF(Hoja3!AW110=\"\",\"\",Hoja3!AW110)","v":"8924003205"},{"$f":"IF(Hoja3!AX110=\"\",\"\",Hoja3!AX110)","v":38572.654074074075},{"$f":"IF(Hoja3!AY110=\"\",\"\",Hoja3!AY110)","v":"D"},{"$f":"IF(Hoja3!AZ110=\"\",\"\",Hoja3!AZ110)","v":11001}]
[null,null,null,null,null,null,null,null,null,null,null,null,null,null,null,null,null,null,null,{"$f":"IF(Hoja3!T111=\"\",\"\",Hoja3!T111)","v":""},{"$f":"IF(Hoja3!U111=\"\",\"\",Hoja3!U111)","v":""},{"$f":"IF(Hoja3!V111=\"\",\"\",Hoja3!V111)","v":""},{"$f":"IF(Hoja3!W111=\"\",\"\",Hoja3!W111)","v":""},{"$f":"IF(Hoja3!X111=\"\",\"\",Hoja3!X111)","v":""},null,null,{"$f":"IF(Hoja3!AA111=\"\",\"\",Hoja3!AA111)","v":""},{"$f":"IF(Hoja3!AB111=\"\",\"\",Hoja3!AB111)","v":""},{"$f":"IF(Hoja3!AC111=\"\",\"\",Hoja3!AC111)","v":""},{"$f":"IF(Hoja3!AD111=\"\",\"\",Hoja3!AD111)","v":""},{"$f":"IF(Hoja3!AE111=\"\",\"\",Hoja3!AE111)","v":""},null,null,{"$f":"IF(Hoja3!AH111=\"\",\"\",Hoja3!AH111)","v":""},{"$f":"IF(Hoja3!AI111=\"\",\"\",Hoja3!AI111)","v":""},{"$f":"IF(Hoja3!AJ111=\"\",\"\",Hoja3!AJ111)","v":""},{"$f":"IF(Hoja3!AK111=\"\",\"\",Hoja3!AK111)","v":""},{"$f":"IF(Hoja3!AL111=\"\",\"\",Hoja3!AL111)","v":""},null,null,{"$f":"IF(Hoja3!AO111=\"\",\"\",Hoja3!AO111)","v":""},{"$f":"IF(Hoja3!AP111=\"\",\"\",Hoja3!AP111)","v":""},{"$f":"IF(Hoja3!AQ111=\"\",\"\",Hoja3!AQ111)","v":""},{"$f":"IF(Hoja3!AR111=\"\",\"\",Hoja3!AR111)","v":""},{"$f":"IF(Hoja3!AS111=\"\",\"\",Hoja3!AS111)","v":""},null,null,{"$f":"IF(Hoja3!AV111=\"\",\"\",Hoja3!AV111)","v":"COMFASUCRE"},{"$f":"IF(Hoja3!AW111=\"\",\"\",Hoja3!AW111)","v":"8922000155"},{"$f":"IF(Hoja3!AX111=\"\",\"\",Hoja3!AX111)","v":38572.66070601852},{"$f":"IF(Hoja3!AY111=\"\",\"\",Hoja3!AY111)","v":"D"},{"$f":"IF(Hoja3!AZ111=\"\",\"\",Hoja3!AZ111)","v":11001}]
[null,null,null,null,null,null,null,null,null,null,null,null,null,null,null,null,null,null,null,{"$f":"IF(Hoja3!T112=\"\",\"\",Hoja3!T112)","v":""},{"$f":"IF(Hoja3!U112=\"\",\"\",Hoja3!U112)","v":""},{"$f":"IF(Hoja3!V112=\"\",\"\",Hoja3!V112)","v":""},{"$f":"IF(Hoja3!W112=\"\",\"\",Hoja3!W112)","v":""},{"$f":"IF(Hoja3!X112=\"\",\"\",Hoja3!X112)","v":""},null,null,{"$f":"IF(Hoja3!AA112=\"\",\"\",Hoja3!AA112)","v":""},{"$f":"IF(Hoja3!AB112=\"\",\"\",Hoja3!AB112)","v":""},{"$f":"IF(Hoja3!AC112=\"\",\"\",Hoja3!AC112)","v":""},{"$f":"IF(Hoja3!AD112=\"\",\"\",Hoja3!AD112)","v":""},{"$f":"IF(Hoja3!AE112=\"\",\"\",Hoja3!AE112)","v":""},null,null,{"$f":"IF(Hoja3!AH112=\"\",\"\",Hoja3!AH112)","v":""},{"$f":"IF(Hoja3!AI112=\"\",\"\",Hoja3!AI112)","v":""},{"$f":"IF(Hoja3!AJ112=\"\",\"\",Hoja3!AJ112)","v":""},{"$f":"IF(Hoja3!AK112=\"\",\"\",Hoja3!AK112)","v":""},{"$f":"IF(Hoja3!AL112=\"\",\"\",Hoja3!AL112)","v":""},null,null,{"$f":"IF(Hoja3!AO112=\"\",\"\",Hoja3!AO112)","v":""},{"$f":"IF(Hoja3!AP112=\"\",\"\",Hoja3!AP112)","v":""},{"$f":"IF(Hoja3!AQ112=\"\",\"\",Hoja3!AQ112)","v":""},{"$f":"IF(Hoja3!AR112=\"\",\"\",Hoja3!AR112)","v":""},{"$f":"IF(Hoja3!AS112=\"\",\"\",Hoja3!AS112)","v":""},null,null,{"$f":"IF(Hoja3!AV112=\"\",\"\",Hoja3!AV112)","v":"COMFENALCO ANTIOQUIA"},{"$f":"IF(Hoja3!AW112=\"\",\"\",Hoja3!AW112)","v":"8909008426"},{"$f":"IF(Hoja3!AX112=\"\",\"\",Hoja3!AX112)","v":38573.73332175926},{"$f":"IF(Hoja3!AY112=\"\",\"\",Hoja3!AY112)","v":"D"},{"$f":"IF(Hoja3!AZ112=\"\",\"\",Hoja3!AZ112)","v":11001}]

{"sheet":"Hoja3","index":1,"n_rows":5684,"n_cols":52,"rows_kept":1125,"cut":true,"hidden":true,"merged":[[0,1,0,3],[0,4,0,6]],"bounds":{"rows_first":500,"rows_last":125,"rows_between":500,"halvings":2}}
[null,"FORMATO DE INSCRIPCIÓN DE COMERCIOS PARA PSE",null,null,"Código: VSE_FOR_057\nVersión: V1\nFecha de actualización: 02/11/2015",null,null,null,null,null,null,null,null,null,null,null,null,null,"Nombre","Nombre","Identificación","Fecha-Hora de creación de la empresa","TIPO CUENTA","CIUDAD",null,"Nombre","Nombre","Identificación","Fecha-Hora de creación de la empresa","TIPO CUENTA","CIUDAD",null,"Nombre","Nombre","Identificación","Fecha-Hora de creación de la empresa","TIPO CUENTA","CIUDAD",null,"Nombre","Nombre","Identificación","Fecha-Hora de creación de la empresa","TIPO CUENTA","CIUDAD",null,"Nombre","Nombre","Identificación","Fecha-Hora de creación de la empresa","TIPO CUENTA","CIUDAD"]
["Nombre","Identificación","Fecha-Hora de creación de la empresa","TIPO CUENTA","CIUDAD","Entidad","Tipo de identificación",null,null,null,null,null,null,null,null,null,null,null,{"$f":"+Hoja1!S2","v":"**"},"AL4 SAS","900555758","2015-12-14T16:02:16","D",11001,null,{"$f":"+Hoja1!Z2","v":0},"GRUPO RICELI LTDA","9003194403","2015-10-26T08:31:34","D",11001,null,{"$f":"+Hoja1!AG2","v":"**"},"Medifertil SAS","900452020","2015-10-30T11:00:12","D",11001,null,{"$f":"+Hoja1!AN2","v":"**"},"INVERSIONES POMAR ROA & CIA SAS","9000438021","2015-10-30T14:54:38","D",11001,null,{"$f":"+Hoja1!AU2","v":"**"},"ZONAPAGOS.COM - PAGOS EN LINEA","8110153541","2003-09-23T10:29:04","D",11001]
["ZONAPAGOS.COM - PAGOS EN LINEA","8110153541","2003-09-23T10:29:04","D",11001,9999,"NIT",null,null,null,null,null,null,null,null,null,null,null,"Nombre",null,null,null,null,null,null,"Nombre",null,null,null,null,null,null,"Nombre",null,null,null,null,null,null,"Nombre",null,null,null,null,null,null,"Nombre","GS1 COLOMBIA (IAC)","8000473260","2004-01-17T14:04:14","D",11001]
["GS1 COLOMBIA (IAC)","8000473260","2004-01-17T14:04:14","D",11001,9999,"NIT",null,null,null,null,null,null,null,null,null,null,null,"Identificación",null,null,null,null,null,null,"Identificación",null,null,null,null,null,null,"Identificación",null,null,null,null,null,null,"Identificación",null,null,null,null,null,null,"Identificación","COMPENSAR","8600669427","2004-04-05T09:50:01","D",11001]
["COMPENSAR","8600669427","2004-04-05T09:50:01","D",11001,9999,"NIT",null,null,null,null,null,null,null,null,null,null,null,"Fecha-Hora de creación de la empresa",null,null,null,null,null,null,"Fecha-Hora de creación de la empresa",null,null,null,null,null,null,"Fecha-Hora de creación de la empresa",null,null,null,null,null,null,"Fecha-Hora de creación de la empresa",null,null,null,null,null,null,"Fecha-Hora de creación de la empresa","AVISOR TECHNOLOGIES LTDA","8300986588","2004-09-07T10:13:46","D",11001]
["AVISOR TECHNOLOGIES LTDA","8300986588","2004-09-07T10:13:46","D",11001,9999,"NIT",null,null,null,null,null,null,null,null,null,null,null,"TIPO CUENTA",null,null,null,null,null,null,"TIPO CUENTA",null,null,null,null,null,null,"TIPO CUENTA",null,null,null,null,null,null,"TIPO CUENTA",null,null,null,null,null,null,"TIPO CUENTA","PONTIFICIA UNIVERSIDAD JAVERIANA","8600137201","2004-11-05T19:11:39","D",11001]
["PONTIFICIA UNIVERSIDAD JAVERIANA","8600137201","2004-11-05T19:11:39","D",11001,9999,"NIT",null,null,null,null,null,null,null,null,null,null,null,"CIUDAD",null,null,null,null,null,null,"CIUDAD",null,null,null,null,null,null,"CIUDAD",null,null,null,null,null,null,"CIUDAD",null,null,null,null,null,null,"CIUDAD","F U EXTERNADO DE COLOMBIA","8600149187","2004-11-08T16:32:22","D",11001]
["F U EXTERNADO DE COLOMBIA","8600149187","2004-11-08T16:32:22","D",11001,9999,"NIT",null,null,null,null,null,null,null,null,null,null,null,9999,null,null,null,null,null,null,9999,null,null,null,null,null,null,9999,null,null,null,null,null,null,9999,null,null,null,null,null,null,9999,"FUNDACION POLITECNICO GRANCOLOMBIANO","8600786431","2004-12-20T18:52:22","D",11001]
["FUNDACION POLITECNICO GRANCOLOMBIANO","8600786431","2004-12-20T18:52:22","D",11001,9999,"NIT",null,null,null,null,null,null,null,null,null,null,null,"NIT",null,null,null,null,null,null,"NIT",null,null,null,null,null,null,"NIT",null,null,null,null,null,null,"NIT",null,null,null,null,null,null,"NIT","AGENCIA MARITIMA TRANSMARES LTDA","8001162498","2005-01-04T11:18:55","D",11001]
["AGENCIA MARITIMA TRANSMARES LTDA","8001162498","2005-01-04T11:18:55","D",11001,9999,"NIT",null,null,null,null,null,null,null,null,null,null,null,null,null,null,null,null,null,null,null,null,null,null,null,null,null,null,null,null,null,null,null,null,null,null,null,null,null,null,null,null,"UNIVERSIDAD MILITAR NUEVA GRANADA","8002253408","2005-01-06T20:25:23","D",11001]
["UNIVERSIDAD MILITAR NUEVA GRANADA","8002253408","2005-01-06T20:25:23","D",11001,9999,"NIT",null,null,null,null,null,null,null,null,null,null,null,null,null,null,null,null,null,null,null,null,null,null,null,null,null,null,null,null,null,null,null,null,null,null,null,null,null,null,null,null,"TELECORP COLOMBIA S.A.","8300644252","2005-01-17T20:02:17","D",11001]
["TELECORP COLOMBIA S.A.","8300644252","2005-01-17T20:02:17","D",11001,9999,"NIT",null,null,null,null,null,null,null,null,null,null,null,null,null,null,null,null,null,null,null,null,null,null,null,null,null,null,null,null,null,null,null,null,null,null,null,null,null,null,null,null,"SALUD TOTAL S.A.","8001309074","2005-02-04T18:06:43","D",11001]
["SALUD TOTAL S.A.","8001309074","2005-02-04T18:06:43","D",11001,9999,"NIT",null,null,null,null,null,null,null,null,null,null,null,null,null,null,null,null,null,null,null,null,null,null,null,null,null,null,null,null,null,null,null,null,null,null,null,null,null,null,null,null,"INVIMA","8300001672","2005-02-14T18:36:02","D",11001]
["INVIMA","8300001672","2005-02-14T18:36:02","D",11001,9999,"NIT",null,null,null,null,null,null,null,null,null,null,null,null,null,null,null,null,null,null,null,null,null,null,null,null,null,null,null,null,null,null,null,null,null,null,null,null,null,null,null,null,"BANCO DE CREDITO DE COLOMBIA Helm","86000766031","2005-02-18T17:48:45","D",11001]
["BANCO DE CREDITO DE COLOMBIA Helm","86000766031","2005-02-18T17:48:45","D",11001,9999,"NIT",null,null,null,null,null,null,null,null,null,null,null,null,null,null,null,null,null,null,null,null,null,null,null,null,null,null,null,null,null,null,null,null,null,null,null,null,null,null,null,null,"FUNDACION GIMNASIO CAMPESTRE","8600431067","2005-03-01T16:09:43","D",11001]
["FUNDACION GIMNASIO CAMPESTRE","8600431067","2005-03-01T16:09:43","D",11001,9999,"NIT",null,null,null,null,null,null,null,null,null,null,null,null,null,null,null,null,null,null,null,null,null,null,null,null,null,null,null,null,null,null,null,null,null,null,null,null,null,null,null,null,"COLMENA RIESGOS PROFESIONALES","8002261753","2005-03-04T09:20:10","D",11001]
["COLMENA RIESGOS PROFESIONALES","8002261753","2005-03-04T09:20:10","D",11001,9999,"NIT",null,null,null,null,null,null,null,null,null,null,null,null,null,null,null,null,null,null,null,null,null,null,null,null,null,null,null,null,null,null,null,null,null,null,null,null,null,null,null,null,"TPC COLOMBIA S.A.","8300747591","2005-04-15T18:08:55","D",11001]
["TPC COLOMBIA S.A.","8300747591","2005-04-15T18:08:55","D",11001,9999,"NIT",null,null,null,null,null,null,null,null,null,null,null,null,null,null,null,null,null,null,null,null,null,null,null,null,null,null,null,null,null,null,null,null,null,null,null,null,null,null,null,null,"SIDEL Ltda.","900052580","2005-04-15T18:12:26","D",11001]
["SIDEL Ltda.","900052580","2005-04-15T18:12:26","D",11001,9999,"NIT",null,null,null,null,null,null,null,null,null,null,null,null,null,null,null,null,null,null,null,null,null,null,null,null,null,null,null,null,null,null,null,null,null,null,null,null,null,null,null,null,"COMUNIKE LTDA.","811043951","2005-04-19T17:16:24","D",11001]
["COMUNIKE LTDA.","811043951","2005-04-19T17:16:24","D",11001,9999,"NIT",null,null,null,null,null,null,null,null,null,null,null,null,null,null,null,null,null,null,null,null,null,null,null,null,null,null,null,null,null,null,null,null,null,null,null,null,null,null,null,null,"UNIVERSIDAD DE LA SALLE","8600155426","2005-04-27T18:35:05","D",11001]
["UNIVERSIDAD DE LA SALLE","8600155426","2005-04-27T18:35:05","D",11001,9999,"NIT",null,null,null,null,null,null,null,null,null,null,null,null,null,null,null,null,null,null,null,null,null,null,null,null,null,null,null,null,null,null,null,null,null,null,null,null,null,null,null,null,"AVIANCA S.A.","8901005776","2005-04-27T18:38:10","D",11001]
["AVIANCA S.A.","8901005776","2005-04-27T18:38:10","D",11001,9999,"NIT",null,null,null,null,null,null,null,null,null,null,null,null,null,null,null,null,null,null,null,null,null,null,null,null,null,null,null,null,null,null,null,null,null,null,null,null,null,null,null,null,"GEONET S.A.","8110135966","2005-05-11T16:06:37","D",11001]
["GEONET S.A.","8110135966","2005-05-11T16:06:37","D",11001,9999,"NIT",null,null,null,null,null,null,null,null,null,null,null,null,null,null,null,null,null,null,null,null,null,null,null,null,null,null,null,null,null,null,null,null,null,null,null,null,null,null,null,null,"UNIVERSIDAD DE LA SABANA","8600755581","2005-05-12T08:12:09","D",11001]
["UNIVERSIDAD DE LA SABANA","8600755581","2005-05-12T08:12:09","D",11001,9999,"NIT",null,null,null,null,null,null,null,null,null,null,null,null,null,null,null,null,null,null,null,null,null,null,null,null,null,null,null,null,null,null,null,null,null,null,null,null,null,null,null,null,"UNIVERSIDAD DE LOS ANDES","8600073861","2005-05-16T08:18:43","D",11001]
["UNIVERSIDAD DE LOS ANDES","8600073861","2005-05-16T08:18:43","D",11001,9999,"NIT",null,null,null,null,null,null,null,null,null,null,null,null,null,null,null,null,null,null,null,null,null,null,null,null,null,null,null,null,null,null,null,null,null,null,null,null,null,null,null,null,"EDITORIAL NORMA S.A.","8903089315","2005-05-20T09:49:33","D",11001]
["EDITORIAL NORMA S.A.","8903089315","2005-05-20T09:49:33","D",11001,9999,"NIT",null,null,null,null,null,null,null,null,null,null,null,null,null,null,null,null,null,null,null,null,null,null,null,null,null,null,null,null,null,null,null,null,null,null,null,null,null,null,null,null,"ALIMENTOS DON JACOBO S.A.","8001561659","2005-05-23T20:01:49","D",11001]
["ALIMENTOS DON JACOBO S.A.","8001561659","2005-05-23T20:01:49","D",11001,9999,"NIT",null,null,null,null,null,null,null,null,null,null,null,null,null,null,null,null,null,null,null,null,null,null,null,null,null,null,null,null,null,null,null,null,null,null,null,null,null,null,null,null,"MAREIGUA LTDA","8001673534","2005-05-24T18:51:29","D",11001]
["MAREIGUA LTDA","8001673534","2005-05-24T18:51:29","D",11001,9999,"NIT",null,null,null,null,null,null,null,null,null,null,null,null,null,null,null,null,null,null,null,null,null,null,null,null,null,null,null,null,null,null,null,null,null,null,null,null,null,null,null,null,"PORVENIR S.A. SSS","8002248088","2005-05-24T18:55:26","D",11001]
["PORVENIR S.A. SSS","8002248088","2005-05-24T18:55:26","D",11001,9999,"NIT",null,null,null,null,null,null,null,null,null,null,null,null,null,null,null,null,null,null,null,null,null,null,null,null,null,null,null,null,null,null,null,null,null,null,null,null,null,null,null,null,"MARATON INTERNACIONAL DE MEDELLIN","8110408481","2005-06-10T18:49:14","D",11001]
["MARATON INTERNACIONAL DE MEDELLIN","8110408481","2005-06-10T18:49:14","D",11001,9999,"NIT",null,null,null,null,null,null,null,null,null,null,null,null,null,null,null,null,null,null,null,null,null,null,null,null,null,null,null,null,null,null,null,null,null,null,null,null,null,null,null,null,"INPREL S.A.","8001218537","2005-06-14T09:26:33","D",11001]
["INPREL S.A.","8001218537","2005-06-14T09:26:33","D",11001,9999,"NIT",null,null,null,null,null,null,null,null,null,null,null,null,null,null,null,null,null,null,null,null,null,null,null,null,null,null,null,null,null,null,null,null,null,null,null,null,null,null,null,null,"SOC. PORT. REG. CARTAGENA","8002009691","2005-06-14T09:32:14","D",11001]
["SOC. PORT. REG. CARTAGENA","8002009691","2005-06-14T09:32:14","D",11001,9999,"NIT",null,null,null,null,null,null,null,null,null,null,null,null,null,null,null,null,null,null,null,null,null,null,null,null,null,null,null,null,null,null,null,null,null,null,null,null,null,null,null,null,"UDES CORP UNIV DE SANTANDER","8040018901","2005-06-27T09:32:13","D",11001]
["UDES CORP UNIV DE SANTANDER","8040018901","2005-06-27T09:32:13","D",11001,9999,"NIT",null,null,null,null,null,null,null,null,null,null,null,null,null,null,null,null,null,null,null,null,null,null,null,null,null,null,null,null,null,null,null,null,null,null,null,null,null,null,null,null,"CORPORACION CLUB CAMPESTRE DE CALI","8903080408","2005-06-27T10:14:48","D",11001]
["CORPORACION CLUB CAMPESTRE DE CALI","8903080408","2005-06-27T10:14:48","D",11001,9999,"NIT",null,null,null,null,null,null,null,null,null,null,null,null,null,null,null,null,null,null,null,null,null,null,null,null,null,null,null,null,null,null,null,null,null,null,null,null,null,null,null,null,"INSTITUTO DE SEGUROS SOCIALES","8600138161","2005-06-28T13:38:02","D",11001]
["INSTITUTO DE SEGUROS SOCIALES","8600138161","2005-06-28T13:38:02","D",11001,9999,"NIT",null,null,null,null,null,null,null,null,null,null,null,null,null,null,null,null,null,null,null,null,null,null,null,null,null,null,null,null,null,null,null,null,null,null,null,null,null,null,null,null,"Fondo de Pensiones Obligatorias Proteccion Moderado","8002297390","2005-06-28T17:23:51","D",11001]
["Fondo de Pensiones Obligatorias Proteccion Moderado","8002297390","2005-06-28T17:23:51","D",11001,9999,"NIT",null,null,null,null,null,null,null,null,null,null,null,null,null,null,null,null,null,null,null,null,null,null,null,null,null,null,null,null,null,null,null,null,null,null,null,null,null,null,null,null,"SURATEP S.A.","8002561619","2005-06-28T17:27:30","D",11001]
["SURATEP S.A.","8002561619","2005-06-28T17:27:30","D",11001,9999,"NIT",null,null,null,null,null,null,null,null,null,null,null,null,null,null,null,null,null,null,null,null,null,null,null,null,null,null,null,null,null,null,null,null,null,null,null,null,null,null,null,null,"COMFENALCO SANTANDER","8902015787","2005-06-28T18:00:15","D",11001]
["COMFENALCO SANTANDER","8902015787","2005-06-28T18:00:15","D",11001,9999,"NIT",null,null,null,null,null,null,null,null,null,null,null,null,null,null,null,null,null,null,null,null,null,null,null,null,null,null,null,null,null,null,null,null,null,null,null,null,null,null,null,null,"CRUZ BLANCA EPS S.A.","8300097830","2005-06-28T18:05:32","D",11001]
["CRUZ BLANCA EPS S.A.","8300097830","2005-06-28T18:05:32","D",11001,9999,"NIT",null,null,null,null,null,null,null,null,null,null,null,null,null,null,null,null,null,null,null,null,null,null,null,null,null,null,null,null,null,null,null,null,null,null,null,null,null,null,null,null,"CAFESALUD EPS S.A","8001409496","2005-06-28T18:09:17","D",11001]
["CAFESALUD EPS S.A","8001409496","2005-06-28T18:09:17","D",11001,9999,"NIT",null,null,null,null,null,null,null,null,null,null,null,null,null,null,null,null,null,null,null,null,null,null,null,null,null,null,null,null,null,null,null,null,null,null,null,null,null,null,null,null,"CAJA DE COMPENSACION FAMILIAR DEL MAGDALENA","8917800933","2005-06-28T18:45:07","D",11001]
["CAJA DE COMPENSACION FAMILIAR DEL MAGDALENA","8917800933","2005-06-28T18:45:07","D",11001,9999,"NIT",null,null,null,null,null,null,null,null,null,null,null,null,null,null,null,null,null,null,null,null,null,null,null,null,null,null,null,null,null,null,null,null,null,null,null,null,null,null,null,null,"SALUDCOOP EPS","8002501191","2005-06-28T19:06:34","D",11001]
["SALUDCOOP EPS","8002501191","2005-06-28T19:06:34","D",11001,9999,"NIT",null,null,null,null,null,null,null,null,null,null,null,null,null,null,null,null,null,null,null,null,null,null,null,null,null,null,null,null,null,null,null,null,null,null,null,null,null,null,null,null,"COLFONDOS","8002279406","2005-06-28T20:23:18","D",11001]
["COLFONDOS","8002279406","2005-06-28T20:23:18","D",11001,9999,"NIT",null,null,null,null,null,null,null,null,null,null,null,null,null,null,null,null,null,null,null,null,null,null,null,null,null,null,null,null,null,null,null,null,null,null,null,null,null,null,null,null,"SOI ACH","9998300785126","2005-07-01T00:21:15","F",11001]
["PAGOS PILA – PSE","99999999999","2005-07-01T00:21:15","F",11001,9999,"NIT",null,null,null,null,null,null,null,null,null,null,null,null,null,null,null,null,null,null,null,null,null,null,null,null,null,null,null,null,null,null,null,null,null,null,null,null,null,null,null,null,"COOMEVA EPS S.A.","8050004271","2005-07-01T15:44:19","D",11001]
["COOMEVA EPS S.A.","8050004271","2005-07-01T15:44:19","D",11001,9999,"NIT",null,null,null,null,null,null,null,null,null,null,null,null,null,null,null,null,null,null,null,null,null,null,null,null,null,null,null,null,null,null,null,null,null,null,null,null,null,null,null,null,"E.P.S. SANITAS S.A.","8002514406","2005-07-01T15:47:42","D",11001]
["E.P.S. SANITAS S.A.","8002514406","2005-07-01T15:47:42","D",11001,9999,"NIT",null,null,null,null,null,null,null,null,null,null,null,null,null,null,null,null,null,null,null,null,null,null,null,null,null,null,null,null,null,null,null,null,null,null,null,null,null,null,null,null,"FONDO OBLIGATORIO DE PENSIONES SKANDIA","8002530552","2005-07-01T15:51:40","D",11001]
["FONDO OBLIGATORIO DE PENSIONES SKANDIA","8002530552","2005-07-01T15:51:40","D",11001,9999,"NIT",null,null,null,null,null,null,null,null,null,null,null,null,null,null,null,null,null,null,null,null,null,null,null,null,null,null,null,null,null,null,null,null,null,null,null,null,null,null,null,null,"FONDO ALTERNATIVO DE PENSIONES SKANDIA","8301251322","2005-07-01T15:55:07","D",11001]
["FONDO ALTERNATIVO DE PENSIONES SKANDIA","8301251322","2005-07-01T15:55:07","D",11001,9999,"NIT",null,null,null,null,null,null,null,null,null,null,null,null,null,null,null,null,null,null,null,null,null,null,null,null,null,null,null,null,null,null,null,null,null,null,null,null,null,null,null,null,"FONDO DE PREVISION SOCIAL DEL CONGRESO DE LA REPUBLICA","8999997347","2005-07-01T16:01:29","D",11001]
["FONDO DE PREVISION SOCIAL DEL CONGRESO DE LA REPUBLICA","8999997347","2005-07-01T16:01:29","D",11001,9999,"NIT",null,null,null,null,null,null,null,null,null,null,null,null,null,null,null,null,null,null,null,null,null,null,null,null,null,null,null,null,null,null,null,null,null,null,null,null,null,null,null,null,"EPS Y MEDICINA PREPAGADA SURAMERICANA","8000887022","2005-07-01T17:25:48","D",11001]
["EPS Y MEDICINA PREPAGADA SURAMERICANA","8000887022","2005-07-01T17:25:48","D",11001,9999,"NIT",null,null,null,null,null,null,null,null,null,null,null,null,null,null,null,null,null,null,null,null,null,null,null,null,null,null,null,null,null,null,null,null,null,null,null,null,null,null,null,null,"FONDO DE PASIVO SOCIAL FERROCARRILES NACIONALES","8001128062","2005-07-05T11:44:47","D",11001]
["FONDO DE PASIVO SOCIAL FERROCARRILES NACIONALES","8001128062","2005-07-05T11:44:47","D",11001,9999,"NIT",null,null,null,null,null,null,null,null,null,null,null,null,null,null,null,null,null,null,null,null,null,null,null,null,null,null,null,null,null,null,null,null,null,null,null,null,null,null,null,null,"INSTITUTO COLOMBIANO DE BIENESTAR FAMILIAR I.C.B.F.","8999992392","2005-07-05T11:50:22","D",11001]
["INSTITUTO COLOMBIANO DE BIENESTAR FAMILIAR I.C.B.F.","8999992392","2005-07-05T11:50:22","D",11001,9999,"NIT",null,null,null,null,null,null,null,null,null,null,null,null,null,null,null,null,null,null,null,null,null,null,null,null,null,null,null,null,null,null,null,null,null,null,null,null,null,null,null,null,"La Equidad Seguros de Vida Organismo Cooperativo","8300086861","2005-07-05T11:54:26","D",11001]
["La Equidad Seguros de Vida Organismo Cooperativo","8300086861","2005-07-05T11:54:26","D",11001,9999,"NIT",null,null,null,null,null,null,null,null,null,null,null,null,null,null,null,null,null,null,null,null,null,null,null,null,null,null,null,null,null,null,null,null,null,null,null,null,null,null,null,null,"E.P.S. FAMISANAR LTDA. CAFAM COLSUBSIDIO","8300035647","2005-07-05T12:04:28","D",11001]
["E.P.S. FAMISANAR LTDA. CAFAM COLSUBSIDIO","8300035647","2005-07-05T12:04:28","D",11001,9999,"NIT",null,null,null,null,null,null,null,null,null,null,null,null,null,null,null,null,null,null,null,null,null,null,null,null,null,null,null,null,null,null,null,null,null,null,null,null,null,null,null,null,"THE COLUMBUS SCHOOL","890902829","2005-07-05T19:39:22","D",11001]
["THE COLUMBUS SCHOOL","890902829","2005-07-05T19:39:22","D",11001,9999,"NIT",null,null,null,null,null,null,null,null,null,null,null,null,null,null,null,null,null,null,null,null,null,null,null,null,null,null,null,null,null,null,null,null,null,null,null,null,null,null,null,null,"COMFENALCO TOLIMA","8907001484","2005-07-07T15:47:03","D",11001]
["COMFENALCO TOLIMA","8907001484","2005-07-07T15:47:03","D",11001,9999,"NIT",null,null,null,null,null,null,null,null,null,null,null,null,null,null,null,null,null,null,null,null,null,null,null,null,null,null,null,null,null,null,null,null,null,null,null,null,null,null,null,null,"CAJA DE COMPENSACION FAMILIAR DEL ORIENTE","8905006756","2005-07-07T16:00:01","D",11001]
["CAJA DE COMPENSACION FAMILIAR DEL ORIENTE","8905006756","2005-07-07T16:00:01","D",11001,9999,"NIT",null,null,null,null,null,null,null,null,null,null,null,null,null,null,null,null,null,null,null,null,null,null,null,null,null,null,null,null,null,null,null,null,null,null,null,null,null,null,null,null,"CAJA COLOMBIANA DE SUBSIDIO FAMILIAR COLSUBSIDIO","8600073361","2005-07-07T16:25:41","D",11001]
["CAJA COLOMBIANA DE SUBSIDIO FAMILIAR COLSUBSIDIO","8600073361","2005-07-07T16:25:41","D",11001,9999,"NIT",null,null,null,null,null,null,null,null,null,null,null,null,null,null,null,null,null,null,null,null,null,null,null,null,null,null,null,null,null,null,null,null,null,null,null,null,null,null,null,null,"COMFACASANARE","8440033928","2005-07-07T16:44:56","D",11001]
["COMFACASANARE","8440033928","2005-07-07T16:44:56","D",11001,9999,"NIT",null,null,null,null,null,null,null,null,null,null,null,null,null,null,null,null,null,null,null,null,null,null,null,null,null,null,null,null,null,null,null,null,null,null,null,null,null,null,null,null,"CAJA DE AUXILIOS Y DE PRESTACIONES DE ACDAC","8600073798","2005-07-07T16:47:49","D",11001]
["CAJA DE AUXILIOS Y DE PRESTACIONES DE ACDAC","8600073798","2005-07-07T16:47:49","D",11001,9999,"NIT",null,null,null,null,null,null,null,null,null,null,null,null,null,null,null,null,null,null,null,null,null,null,null,null,null,null,null,null,null,null,null,null,null,null,null,null,null,null,null,null,"CAJA DE COMPENSACION FAMILIAR DE ANTIOQUIA COMFAMA","8909008419","2005-07-07T16:57:51","D",11001]
["CAJA DE COMPENSACION FAMILIAR DE ANTIOQUIA COMFAMA","8909008419","2005-07-07T16:57:51","D",11001,9999,"NIT",null,null,null,null,null,null,null,null,null,null,null,null,null,null,null,null,null,null,null,null,null,null,null,null,null,null,null,null,null,null,null,null,null,null,null,null,null,null,null,null,"SERVICIO NACIONAL DE APRENDIZAJE SENA","8999990341","2005-07-07T18:05:18","D",11001]
["SERVICIO NACIONAL DE APRENDIZAJE SENA","8999990341","2005-07-07T18:05:18","D",11001,9999,"NIT",null,null,null,null,null,null,null,null,null,null,null,null,null,null,null,null,null,null,null,null,null,null,null,null,null,null,null,null,null,null,null,null,null,null,null,null,null,null,null,null,"ENTIDAD PROMOTORA DE SALUD SERVICIO OCCIDENTAL DE SALUD SA","8050011572","2005-07-07T18:07:58","D",11001]
["ENTIDAD PROMOTORA DE SALUD SERVICIO OCCIDENTAL DE SALUD SA","8050011572","2005-07-07T18:07:58","D",11001,9999,"NIT",null,null,null,null,null,null,null,null,null,null,null,null,null,null,null,null,null,null,null,null,null,null,null,null,null,null,null,null,null,null,null,null,null,null,null,null,null,null,null,null,"ING ADMINISTRADORA DE FONDOS DE PENSIONES Y CESANTIAS","8002248278","2005-07-07T19:54:18","D",11001]
["ING ADMINISTRADORA DE FONDOS DE PENSIONES Y CESANTIAS","8002248278","2005-07-07T19:54:18","D",11001,9999,"NIT",null,null,null,null,null,null,null,null,null,null,null,null,null,null,null,null,null,null,null,null,null,null,null,null,null,null,null,null,null,null,null,null,null,null,null,null,null,null,null,null,"Aliansalud  EPS S.A.","8301138310","2005-07-11T17:21:16","D",11001]
["Aliansalud  EPS S.A.","8301138310","2005-07-11T17:21:16","D",11001,9999,"NIT",null,null,null,null,null,null,null,null,null,null,null,null,null,null,null,null,null,null,null,null,null,null,null,null,null,null,null,null,null,null,null,null,null,null,null,null,null,null,null,null,"CAJA DE COMPENSACION FAMILIAR DE BARRANQUILLA","8901020022","2005-07-11T17:30:09","D",11001]
["CAJA DE COMPENSACION FAMILIAR DE BARRANQUILLA","8901020022","2005-07-11T17:30:09","D",11001,9999,"NIT",null,null,null,null,null,null,null,null,null,null,null,null,null,null,null,null,null,null,null,null,null,null,null,null,null,null,null,null,null,null,null,null,null,null,null,null,null,null,null,null,"ESCUELA SUPERIOR DE ADMINISTRACION PUBLICA ESAP","8999990547","2005-07-11T17:40:57","D",11001]
["ESCUELA SUPERIOR DE ADMINISTRACION PUBLICA ESAP","8999990547","2005-07-11T17:40:57","D",11001,9999,"NIT",null,null,null,null,null,null,null,null,null,null,null,null,null,null,null,null,null,null,null,null,null,null,null,null,null,null,null,null,null,null,null,null,null,null,null,null,null,null,null,null,"REDSALUD ATENCION HUMANA EPS S.A.","8300965131","2005-07-11T19:40:02","D",11001]
["REDSALUD ATENCION HUMANA EPS S.A.","8300965131","2005-07-11T19:40:02","D",11001,9999,"NIT",null,null,null,null,null,null,null,null,null,null,null,null,null,null,null,null,null,null,null,null,null,null,null,null,null,null,null,null,null,null,null,null,null,null,null,null,null,null,null,null,"CAJA DE COMPENSACION FAMILIAR COMFENALCO CUNDINAMARCA","8600066060","2005-07-11T19:44:43","D",11001]
["CAJA DE COMPENSACION FAMILIAR COMFENALCO CUNDINAMARCA","8600066060","2005-07-11T19:44:43","D",11001,9999,"NIT",null,null,null,null,null,null,null,null,null,null,null,null,null,null,null,null,null,null,null,null,null,null,null,null,null,null,null,null,null,null,null,null,null,null,null,null,null,null,null,null,"COMFAMILIAR DEL ATLANTICO","8901019949","2005-07-13T09:16:21","D",11001]
["COMFAMILIAR DEL ATLANTICO","8901019949","2005-07-13T09:16:21","D",11001,9999,"NIT",null,null,null,null,null,null,null,null,null,null,null,null,null,null,null,null,null,null,null,null,null,null,null,null,null,null,null,null,null,null,null,null,null,null,null,null,null,null,null,null,"FUNDACION LICEO INGLES","8914129700","2005-07-13T16:20:06","D",11001]
["FUNDACION LICEO INGLES","8914129700","2005-07-13T16:20:06","D",11001,9999,"NIT",null,null,null,null,null,null,null,null,null,null,null,null,null,null,null,null,null,null,null,null,null,null,null,null,null,null,null,null,null,null,null,null,null,null,null,null,null,null,null,null,"MIN-COMER. VUCE IMPORTACIONES","8301152976","2005-07-13T16:29:47","D",11001]
["MIN-COMER. VUCE IMPORTACIONES","8301152976","2005-07-13T16:29:47","D",11001,9999,"NIT",null,null,null,null,null,null,null,null,null,null,null,null,null,null,null,null,null,null,null,null,null,null,null,null,null,null,null,null,null,null,null,null,null,null,null,null,null,null,null,null,"CAJA DE COMPENSACION FAMILIAR CAFAM","8600135703","2005-07-13T16:43:06","D",11001]
["CAJA DE COMPENSACION FAMILIAR CAFAM","8600135703","2005-07-13T16:43:06","D",11001,9999,"NIT",null,null,null,null,null,null,null,null,null,null,null,null,null,null,null,null,null,null,null,null,null,null,null,null,null,null,null,null,null,null,null,null,null,null,null,null,null,null,null,null,"SALUDVIDA S.A. EPS","8300741845","2005-07-13T17:53:56","D",11001]
["SALUDVIDA S.A. EPS","8300741845","2005-07-13T17:53:56","D",11001,9999,"NIT",null,null,null,null,null,null,null,null,null,null,null,null,null,null,null,null,null,null,null,null,null,null,null,null,null,null,null,null,null,null,null,null,null,null,null,null,null,null,null,null,"MINISTERIO DE EDUCACION NACIONAL","8999990017","2005-07-15T15:52:14","D",11001]
["MINISTERIO DE EDUCACION NACIONAL","8999990017","2005-07-15T15:52:14","D",11001,9999,"NIT",null,null,null,null,null,null,null,null,null,null,null,null,null,null,null,null,null,null,null,null,null,null,null,null,null,null,null,null,null,null,null,null,null,null,null,null,null,null,null,null,"HUMANA VIVIR S.A.","8300064040","2005-07-18T14:47:01","D",11001]
["HUMANA VIVIR S.A.","8300064040","2005-07-18T14:47:01","D",11001,9999,"NIT",null,null,null,null,null,null,null,null,null,null,null,null,null,null,null,null,null,null,null,null,null,null,null,null,null,null,null,null,null,null,null,null,null,null,null,null,null,null,null,null,"CAJA DE COMPENSACION FAMILIAR CAJACOPI ATLANTICO","8901020441","2005-07-18T14:56:42","D",11001]
["CAJA DE COMPENSACION FAMILIAR CAJACOPI ATLANTICO","8901020441","2005-07-18T14:56:42","D",11001,9999,"NIT",null,null,null,null,null,null,null,null,null,null,null,null,null,null,null,null,null,null,null,null,null,null,null,null,null,null,null,null,null,null,null,null,null,null,null,null,null,null,null,null,"COMFACESAR","8923999898","2005-07-18T16:05:05","D",11001]
["COMFACESAR","8923999898","2005-07-18T16:05:05","D",11001,9999,"NIT",null,null,null,null,null,null,null,null,null,null,null,null,null,null,null,null,null,null,null,null,null,null,null,null,null,null,null,null,null,null,null,null,null,null,null,null,null,null,null,null,"CAJA DE COMPENSACION FAMILIAR DE LA GUAJIRA","8921150065","2005-07-18T16:16:00","D",11001]
["CAJA DE COMPENSACION FAMILIAR DE LA GUAJIRA","8921150065","2005-07-18T16:16:00","D",11001,9999,"NIT",null,null,null,null,null,null,null,null,null,null,null,null,null,null,null,null,null,null,null,null,null,null,null,null,null,null,null,null,null,null,null,null,null,null,null,null,null,null,null,null,"CAJA DE COMPENSACION FAMILIAR DEL VALLE DE CAUCA - COMFANDI","8903032085","2005-07-18T16:49:25","D",11001]
["CAJA DE COMPENSACION FAMILIAR DEL VALLE DE CAUCA - COMFANDI","8903032085","2005-07-18T16:49:25","D",11001,9999,"NIT",null,null,null,null,null,null,null,null,null,null,null,null,null,null,null,null,null,null,null,null,null,null,null,null,null,null,null,null,null,null,null,null,null,null,null,null,null,null,null,null,"CAJA DE COMPENSACION FAMILIAR DE BARRANCABERMEJA CAFABA","8902702755","2005-07-18T17:29:14","D",11001]
["CAJA DE COMPENSACION FAMILIAR DE BARRANCABERMEJA CAFABA","8902702755","2005-07-18T17:29:14","D",11001,9999,"NIT",null,null,null,null,null,null,null,null,null,null,null,null,null,null,null,null,null,null,null,null,null,null,null,null,null,null,null,null,null,null,null,null,null,null,null,null,null,null,null,null,"CAJA DE COMPENSACION FAMILIAR DE NARIÑO","8912800081","2005-07-18T17:35:08","D",11001]
["CAJA DE COMPENSACION FAMILIAR DE NARIÑO","8912800081","2005-07-18T17:35:08","D",11001,9999,"NIT",null,null,null,null,null,null,null,null,null,null,null,null,null,null,null,null,null,null,null,null,null,null,null,null,null,null,null,null,null,null,null,null,null,null,null,null,null,null,null,null,"SALUD COLPATRIA S.A.","8605122376","2005-07-19T14:44:52","D",11001]
["SALUD COLPATRIA S.A.","8605122376","2005-07-19T14:44:52","D",11001,9999,"NIT",null,null,null,null,null,null,null,null,null,null,null,null,null,null,null,null,null,null,null,null,null,null,null,null,null,null,null,null,null,null,null,null,null,null,null,null,null,null,null,null,"SEGUROS DE VIDA COLPATRIA S.A.","8600021839","2005-07-19T15:15:09","D",11001]
["SEGUROS DE VIDA COLPATRIA S.A.","8600021839","2005-07-19T15:15:09","D",11001,9999,"NIT",null,null,null,null,null,null,null,null,null,null,null,null,null,null,null,null,null,null,null,null,null,null,null,null,null,null,null,null,null,null,null,null,null,null,null,null,null,null,null,null,"CORPORACION INTERSOFTWARE","8110452310","2005-07-19T15:21:01","D",11001]
["CORPORACION INTERSOFTWARE","8110452310","2005-07-19T15:21:01","D",11001,9999,"NIT",null,null,null,null,null,null,null,null,null,null,null,null,null,null,null,null,null,null,null,null,null,null,null,null,null,null,null,null,null,null,null,null,null,null,null,null,null,null,null,null,"CAJA DE COMPENSACION FAMILIAR DE CARTAGENA","8904801101","2005-07-21T15:03:34","D",11001]
["CAJA DE COMPENSACION FAMILIAR DE CARTAGENA","8904801101","2005-07-21T15:03:34","D",11001,9999,"NIT",null,null,null,null,null,null,null,null,null,null,null,null,null,null,null,null,null,null,null,null,null,null,null,null,null,null,null,null,null,null,null,null,null,null,null,null,null,null,null,null,"WACKENHUT DE COLOMBIA","8600139516","2005-07-22T19:15:45","D",11001]
["WACKENHUT DE COLOMBIA","8600139516","2005-07-22T19:15:45","D",11001,9999,"NIT",null,null,null,null,null,null,null,null,null,null,null,null,null,null,null,null,null,null,null,null,null,null,null,null,null,null,null,null,null,null,null,null,null,null,null,null,null,null,null,null,"ESCUELA SUPERIOR DE ADMINISTRACION PUBLICA  - SSS","8001175196","2005-07-27T11:27:52","D",11001]
["ESCUELA SUPERIOR DE ADMINISTRACION PUBLICA  - SSS","8001175196","2005-07-27T11:27:52","D",11001,9999,"NIT",null,null,null,null,null,null,null,null,null,null,null,null,null,null,null,null,null,null,null,null,null,null,null,null,null,null,null,null,null,null,null,null,null,null,null,null,null,null,null,null,"ESCUELA SUPERIOR DE ADMINISTRACION PUBLICA  ESAP - SSS","8002485291","2005-07-27T11:40:08","D",11001]
["ESCUELA SUPERIOR DE ADMINISTRACION PUBLICA  ESAP - SSS","8002485291","2005-07-27T11:40:08","D",11001,9999,"NIT",null,null,null,null,null,null,null,null,null,null,null,null,null,null,null,null,null,null,null,null,null,null,null,null,null,null,null,null,null,null,null,null,null,null,null,null,null,null,null,null,"EL COLOMBIANO S.A. Y CIA S.C.A.","8909013523","2005-07-28T12:49:14","D",11001]
["EL COLOMBIANO S.A. Y CIA S.C.A.","8909013523","2005-07-28T12:49:14","D",11001,9999,"NIT",null,null,null,null,null,null,null,null,null,null,null,null,null,null,null,null,null,null,null,null,null,null,null,null,null,null,null,null,null,null,null,null,null,null,null,null,null,null,null,null,"LIBERTY SEGUROS DE VIDA S.A.","8600086457","2005-07-28T14:22:02","D",11001]
["LIBERTY SEGUROS DE VIDA S.A.","8600086457","2005-07-28T14:22:02","D",11001,9999,"NIT",null,null,null,null,null,null,null,null,null,null,null,null,null,null,null,null,null,null,null,null,null,null,null,null,null,null,null,null,null,null,null,null,null,null,null,null,null,null,null,null,"COMPAÑIA AGRICOLA DE SEGUROS DE VIDA S.A.","8600025286","2005-07-28T14:31:34","D",11001]
["COMPAÑIA AGRICOLA DE SEGUROS DE VIDA S.A.","8600025286","2005-07-28T14:31:34","D",11001,9999,"NIT",null,null,null,null,null,null,null,null,null,null,null,null,null,null,null,null,null,null,null,null,null,null,null,null,null,null,null,null,null,null,null,null,null,null,null,null,null,null,null,null,"PENSIONES DE ANTIOQUIA","8002162780","2005-07-28T19:41:01","D",11001]
["PENSIONES DE ANTIOQUIA","8002162780","2005-07-28T19:41:01","D",11001,9999,"NIT",null,null,null,null,null,null,null,null,null,null,null,null,null,null,null,null,null,null,null,null,null,null,null,null,null,null,null,null,null,null,null,null,null,null,null,null,null,null,null,null,"CAJA DE COMPENSACION  FAMILIAR DE CALDAS CONFAMILIARES","8908064905","2005-07-28T19:47:44","D",11001]
["CAJA DE COMPENSACION  FAMILIAR DE CALDAS CONFAMILIARES","8908064905","2005-07-28T19:47:44","D",11001,9999,"NIT",null,null,null,null,null,null,null,null,null,null,null,null,null,null,null,null,null,null,null,null,null,null,null,null,null,null,null,null,null,null,null,null,null,null,null,null,null,null,null,null,"SEMINARIO REDEMPTORIS MATER","8000886626","2005-07-29T09:42:13","D",11001]
["SEMINARIO REDEMPTORIS MATER","8000886626","2005-07-29T09:42:13","D",11001,9999,"NIT",null,null,null,null,null,null,null,null,null,null,null,null,null,null,null,null,null,null,null,null,null,null,null,null,null,null,null,null,null,null,null,null,null,null,null,null,null,null,null,null,"CAJA DE COMPENSACION FAMILIAR DEL HUILA","8911800082","2005-07-29T14:49:35","D",11001]
["CAJA DE COMPENSACION FAMILIAR DEL HUILA","8911800082","2005-07-29T14:49:35","D",11001,9999,"NIT",null,null,null,null,null,null,null,null,null,null,null,null,null,null,null,null,null,null,null,null,null,null,null,null,null,null,null,null,null,null,null,null,null,null,null,null,null,null,null,null,"RED MULTIBANCA COLPATRIA","860034594","2005-07-29T18:34:01","D",11001]
["RED MULTIBANCA COLPATRIA","860034594","2005-07-29T18:34:01","D",11001,9999,"NIT",null,null,null,null,null,null,null,null,null,null,null,null,null,null,null,null,null,null,null,null,null,null,null,null,null,null,null,null,null,null,null,null,null,null,null,null,null,null,null,null,"SEGUROS BOLIVAR S.A.","8600025032","2005-08-01T14:35:28","D",11001]
["SEGUROS BOLIVAR S.A.","8600025032","2005-08-01T14:35:28","D",11001,9999,"NIT",null,null,null,null,null,null,null,null,null,null,null,null,null,null,null,null,null,null,null,null,null,null,null,null,null,null,null,null,null,null,null,null,null,null,null,null,null,null,null,null,"COMFENALCO QUINDIO","8900003810","2005-08-01T16:37:25","D",11001]
["COMFENALCO QUINDIO","8900003810","2005-08-01T16:37:25","D",11001,9999,"NIT",null,null,null,null,null,null,null,null,null,null,null,null,null,null,null,null,null,null,null,null,null,null,null,null,null,null,null,null,null,null,null,null,null,null,null,null,null,null,null,null,"CAJA DE COMPENSACION FAMILIAR DEL CAUCA COMFACAUCA","8915001820","2005-08-01T16:48:37","D",11001]
["CAJA DE COMPENSACION FAMILIAR DEL CAUCA COMFACAUCA","8915001820","2005-08-01T16:48:37","D",11001,9999,"NIT",null,null,null,null,null,null,null,null,null,null,null,null,null,null,null,null,null,null,null,null,null,null,null,null,null,null,null,null,null,null,null,null,null,null,null,null,null,null,null,null,"PAYU COLOMBIA S.A.S","8301097238","2005-08-01T21:02:13","D",11001]
["PAYU COLOMBIA S.A.S","8301097238","2005-08-01T21:02:13","D",11001,9999,"NIT",null,null,null,null,null,null,null,null,null,null,null,null,null,null,null,null,null,null,null,null,null,null,null,null,null,null,null,null,null,null,null,null,null,null,null,null,null,null,null,null,"CAJA DE COMPENSACION FAMILIAR CAMPESINA - COMCAJA -","8002319694","2005-08-02T18:05:24","D",11001]
["CAJA DE COMPENSACION FAMILIAR CAMPESINA - COMCAJA -","8002319694","2005-08-02T18:05:24","D",11001,9999,"NIT",null,null,null,null,null,null,null,null,null,null,null,null,null,null,null,null,null,null,null,null,null,null,null,null,null,null,null,null,null,null,null,null,null,null,null,null,null,null,null,null,"CAJA DE COMPENSACION FAMILIAR DEL AMAZONAS","8000031226","2005-08-02T18:12:02","D",11001]
["CAJA DE COMPENSACION FAMILIAR DEL AMAZONAS","8000031226","2005-08-02T18:12:02","D",11001,9999,"NIT",null,null,null,null,null,null,null,null,null,null,null,null,null,null,null,null,null,null,null,null,null,null,null,null,null,null,null,null,null,null,null,null,null,null,null,null,null,null,null,null,"CAJA DE COMPENSACION FAMILIAR CAMACOL","8909008401","2005-08-02T18:17:14","D",11001]
["CAJA DE COMPENSACION FAMILIAR CAMACOL","8909008401","2005-08-02T18:17:14","D",11001,9999,"NIT",null,null,null,null,null,null,null,null,null,null,null,null,null,null,null,null,null,null,null,null,null,null,null,null,null,null,null,null,null,null,null,null,null,null,null,null,null,null,null,null,"SEGUROS DE VIDA ALFA S.A.","8605036173","2005-08-03T14:37:30","D",11001]
["SEGUROS DE VIDA ALFA S.A.","8605036173","2005-08-03T14:37:30","D",11001,9999,"NIT",null,null,null,null,null,null,null,null,null,null,null,null,null,null,null,null,null,null,null,null,null,null,null,null,null,null,null,null,null,null,null,null,null,null,null,null,null,null,null,null,"CAPRECOM","8999990260","2005-08-03T15:55:15","D",11001]
["CAPRECOM","8999990260","2005-08-03T15:55:15","D",11001,9999,"NIT",null,null,null,null,null,null,null,null,null,null,null,null,null,null,null,null,null,null,null,null,null,null,null,null,null,null,null,null,null,null,null,null,null,null,null,null,null,null,null,null,"POSITIVA COMPAÑIA DE SEGUROS S.A.","8600111536","2005-08-08T14:57:36","D",11001]
["POSITIVA COMPAÑIA DE SEGUROS S.A.","8600111536","2005-08-08T14:57:36","D",11001,9999,"NIT",null,null,null,null,null,null,null,null,null,null,null,null,null,null,null,null,null,null,null,null,null,null,null,null,null,null,null,null,null,null,null,null,null,null,null,null,null,null,null,null,"Comfenalco Cartagena","8904800237","2005-08-08T15:11:04","D",11001]
["Comfenalco Cartagena","8904800237","2005-08-08T15:11:04","D",11001,9999,"NIT",null,null,null,null,null,null,null,null,null,null,null,null,null,null,null,null,null,null,null,null,null,null,null,null,null,null,null,null,null,null,null,null,null,null,null,null,null,null,null,null,"CAJA DE COMPENSACION FAMILIAR DEL SUR DEL TOLIMA CAFASUR","8907047370","2005-08-08T15:18:43","D",11001]
["CAJA DE COMPENSACION FAMILIAR DEL SUR DEL TOLIMA CAFASUR","8907047370","2005-08-08T15:18:43","D",11001,9999,"NIT",null,null,null,null,null,null,null,null,null,null,null,null,null,null,null,null,null,null,null,null,null,null,null,null,null,null,null,null,null,null,null,null,null,null,null,null,null,null,null,null,"CAJA SANTANDEREANA DE SUBSIDIO FAMILIAR CAJASAN","8902001061","2005-08-08T15:29:05","D",11001]
["CAJA SANTANDEREANA DE SUBSIDIO FAMILIAR CAJASAN","8902001061","2005-08-08T15:29:05","D",11001,9999,"NIT",null,null,null,null,null,null,null,null,null,null,null,null,null,null,null,null,null,null,null,null,null,null,null,null,null,null,null,null,null,null,null,null,null,null,null,null,null,null,null,null,"CAJA DE COMPENSACION FAMILIAR DE SAI Y PROV CAJASAI","8924003205","2005-08-08T15:41:52","D",11001]
["CAJA DE COMPENSACION FAMILIAR DE SAI Y PROV CAJASAI","8924003205","2005-08-08T15:41:52","D",11001,9999,"NIT",null,null,null,null,null,null,null,null,null,null,null,null,null,null,null,null,null,null,null,null,null,null,null,null,null,null,null,null,null,null,null,null,null,null,null,null,null,null,null,null,"COMFASUCRE","8922000155","2005-08-08T15:51:25","D",11001]
["COMFASUCRE","8922000155","2005-08-08T15:51:25","D",11001,9999,"NIT",null,null,null,null,null,null,null,null,null,null,null,null,null,null,null,null,null,null,null,null,null,null,null,null,null,null,null,null,null,null,null,null,null,null,null,null,null,null,null,null,"COMFENALCO ANTIOQUIA","8909008426","2005-08-09T17:35:59","D",11001]
["COMFENALCO ANTIOQUIA","8909008426","2005-08-09T17:35:59","D",11001,9999,"NIT",null,null,null,null,null,null,null,null,null,null,null,null,null,null,null,null,null,null,null,null,null,null,null,null,null,null,null,null,null,null,null,null,null,null,null,null,null,null,null,null,"COMFENALCO VALLE","8903030935","2005-08-10T12:21:55","D",11001]
["COMFENALCO VALLE","8903030935","2005-08-10T12:21:55","D",11001,9999,"NIT",null,null,null,null,null,null,null,null,null,null,null,null,null,null,null,null,null,null,null,null,null,null,null,null,null,null,null,null,null,null,null,null,null,null,null,null,null,null,null,null,"SEGUROS DE VIDA AURORA S.A.","8600221375","2005-08-10T12:26:44","D",11001]
["SEGUROS DE VIDA AURORA S.A.","8600221375","2005-08-10T12:26:44","D",11001,9999,"NIT",null,null,null,null,null,null,null,null,null,null,null,null,null,null,null,null,null,null,null,null,null,null,null,null,null,null,null,null,null,null,null,null,null,null,null,null,null,null,null,null,"CAJA DE COMPENSACION FAMILIAR DE CORDOBA COMFACOR","8910800051","2005-08-11T11:20:38","D",11001]
["CAJA DE COMPENSACION FAMILIAR DE CORDOBA COMFACOR","8910800051","2005-08-11T11:20:38","D",11001,9999,"NIT",null,null,null,null,null,null,null,null,null,null,null,null,null,null,null,null,null,null,null,null,null,null,null,null,null,null,null,null,null,null,null,null,null,null,null,null,null,null,null,null,"CAJA DE COMPENSACION FAMILIAR REGIONAL DEL META COFREM","8920001463","2005-08-11T11:31:44","D",11001]
["CAJA DE COMPENSACION FAMILIAR REGIONAL DEL META COFREM","8920001463","2005-08-11T11:31:44","D",11001,9999,"NIT",null,null,null,null,null,null,null,null,null,null,null,null,null,null,null,null,null,null,null,null,null,null,null,null,null,null,null,null,null,null,null,null,null,null,null,null,null,null,null,null,"COLMEDICA MEDICINA PREPAGADA S.A.","8001063391","2005-08-12T06:46:56","D",11001]
["COLMEDICA MEDICINA PREPAGADA S.A.","8001063391","2005-08-12T06:46:56","D",11001,9999,"NIT",null,null,null,null,null,null,null,null,null,null,null,null,null,null,null,null,null,null,null,null,null,null,null,null,null,null,null,null,null,null,null,null,null,null,null,null,null,null,null,null,"CAJA DE COMPENSACION FAMILIAR DEL PUTUMAYO","8912003378","2005-08-17T18:56:27","D",11001]
["CAJA DE COMPENSACION FAMILIAR DEL PUTUMAYO","8912003378","2005-08-17T18:56:27","D",11001,9999,"NIT",null,null,null,null,null,null,null,null,null,null,null,null,null,null,null,null,null,null,null,null,null,null,null,null,null,null,null,null,null,null,null,null,null,null,null,null,null,null,null,null,"CORPORACION GUSTAVO MATAMOROS","8605338350","2005-08-22T09:35:30","D",11001]
["CORPORACION GUSTAVO MATAMOROS","8605338350","2005-08-22T09:35:30","D",11001,9999,"NIT",null,null,null,null,null,null,null,null,null,null,null,null,null,null,null,null,null,null,null,null,null,null,null,null,null,null,null,null,null,null,null,null,null,null,null,null,null,null,null,null,"CAJA DE COMPENSACION FAMILIAR DE BOYACA","8918002138","2005-08-22T17:56:45","D",11001]
["CAJA DE COMPENSACION FAMILIAR DE BOYACA","8918002138","2005-08-22T17:56:45","D",11001,9999,"NIT",null,null,null,null,null,null,null,null,null,null,null,null,null,null,null,null,null,null,null,null,null,null,null,null,null,null,null,null,null,null,null,null,null,null,null,null,null,null,null,null,"DANN REGIONAL S.A.","8110077294","2005-08-24T08:01:58","D",11001]
["DANN REGIONAL S.A.","8110077294","2005-08-24T08:01:58","D",11001,9999,"NIT",null,null,null,null,null,null,null,null,null,null,null,null,null,null,null,null,null,null,null,null,null,null,null,null,null,null,null,null,null,null,null,null,null,null,null,null,null,null,null,null,"COMFANORTE","8905005163","2005-08-24T10:32:30","D",11001]
["COMFANORTE","8905005163","2005-08-24T10:32:30","D",11001,9999,"NIT",null,null,null,null,null,null,null,null,null,null,null,null,null,null,null,null,null,null,null,null,null,null,null,null,null,null,null,null,null,null,null,null,null,null,null,null,null,null,null,null,"CAJA DE COMP. FAMILIAR DEL CAQUETA -COMFACA-","8911900472","2005-08-24T10:57:36","D",11001]
["CAJA DE COMP. FAMILIAR DEL CAQUETA -COMFACA-","8911900472","2005-08-24T10:57:36","D",11001,9999,"NIT",null,null,null,null,null,null,null,null,null,null,null,null,null,null,null,null,null,null,null,null,null,null,null,null,null,null,null,null,null,null,null,null,null,null,null,null,null,null,null,null,"COLTEFINANCIERA S.A.","8909270349","2005-08-26T17:26:21","D",11001]
["COLTEFINANCIERA S.A.","8909270349","2005-08-26T17:26:21","D",11001,9999,"NIT",null,null,null,null,null,null,null,null,null,null,null,null,null,null,null,null,null,null,null,null,null,null,null,null,null,null,null,null,null,null,null,null,null,null,null,null,null,null,null,null,"UNIVERSIDAD DE MANIZALES","8908060017","2005-08-26T17:35:54","D",11001]
["UNIVERSIDAD DE MANIZALES","8908060017","2005-08-26T17:35:54","D",11001,9999,"NIT",null,null,null,null,null,null,null,null,null,null,null,null,null,null,null,null,null,null,null,null,null,null,null,null,null,null,null,null,null,null,null,null,null,null,null,null,null,null,null,null,"FUNERARIA GAVIRIA S.A.","8600677869","2005-09-01T16:32:53","D",11001]
["FUNERARIA GAVIRIA S.A.","8600677869","2005-09-01T16:32:53","D",11001,9999,"NIT",null,null,null,null,null,null,null,null,null,null,null,null,null,null,null,null,null,null,null,null,null,null,null,null,null,null,null,null,null,null,null,null,null,null,null,null,null,null,null,null,"CAJA DE COMPENSACION FAMILIAR DEL CHOCO","8916000918","2005-09-01T16:49:02","D",11001]
["CAJA DE COMPENSACION FAMILIAR DEL CHOCO","8916000918","2005-09-01T16:49:02","D",11001,9999,"NIT",null,null,null,null,null,null,null,null,null,null,null,null,null,null,null,null,null,null,null,null,null,null,null,null,null,null,null,null,null,null,null,null,null,null,null,null,null,null,null,null,"EMPRESAS PUBLICAS DE MEDELLIN","8909049961","2005-09-01T17:03:26","D",11001]
["EMPRESAS PUBLICAS DE MEDELLIN","8909049961","2005-09-01T17:03:26","D",11001,9999,"NIT",null,null,null,null,null,null,null,null,null,null,null,null,null,null,null,null,null,null,null,null,null,null,null,null,null,null,null,null,null,null,null,null,null,null,null,null,null,null,null,null,"Caja de Compensacion Familiar de Cundinamarca COMFACUNDI","8600459047","2005-09-01T19:04:22","D",11001]
["Caja de Compensacion Familiar de Cundinamarca COMFACUNDI","8600459047","2005-09-01T19:04:22","D",11001,9999,"NIT",null,null,null,null,null,null,null,null,null,null,null,null,null,null,null,null,null,null,null,null,null,null,null,null,null,null,null,null,null,null,null,null,null,null,null,null,null,null,null,null,"COMFATOLIMA","8002110251","2005-09-01T19:06:52","D",11001]
["COMFATOLIMA","8002110251","2005-09-01T19:06:52","D",11001,9999,"NIT",null,null,null,null,null,null,null,null,null,null,null,null,null,null,null,null,null,null,null,null,null,null,null,null,null,null,null,null,null,null,null,null,null,null,null,null,null,null,null,null,"CAJA DE COMPENSACION FAMILIAR RISARALDA","8914800001","2005-09-02T15:34:20","D",11001]
["CAJA DE COMPENSACION FAMILIAR RISARALDA","8914800001","2005-09-02T15:34:20","D",11001,9999,"NIT",null,null,null,null,null,null,null,null,null,null,null,null,null,null,null,null,null,null,null,null,null,null,null,null,null,null,null,null,null,null,null,null,null,null,null,null,null,null,null,null,"BANSUPERIOR","8600316295","2005-09-03T15:47:30","D",11001]
["BANSUPERIOR","8600316295","2005-09-03T15:47:30","D",11001,9999,"NIT",null,null,null,null,null,null,null,null,null,null,null,null,null,null,null,null,null,null,null,null,null,null,null,null,null,null,null,null,null,null,null,null,null,null,null,null,null,null,null,null,"SPEED TRANSPORT DE COLOMBIA S.A.","8605119347","2005-09-05T14:27:05","D",11001]
["SPEED TRANSPORT DE COLOMBIA S.A.","8605119347","2005-09-05T14:27:05","D",11001,9999,"NIT",null,null,null,null,null,null,null,null,null,null,null,null,null,null,null,null,null,null,null,null,null,null,null,null,null,null,null,null,null,null,null,null,null,null,null,null,null,null,null,null,"FOSYGA (Consorcio SAYP 2011)","9004624475","2005-09-15T18:36:22","D",11001]
["FOSYGA (Consorcio SAYP 2011)","9004624475","2005-09-15T18:36:22","D",11001,9999,"NIT",null,null,null,null,null,null,null,null,null,null,null,null,null,null,null,null,null,null,null,null,null,null,null,null,null,null,null,null,null,null,null,null,null,null,null,null,null,null,null,null,"MALUMA Ltda.","8909102358","2005-09-20T18:33:30","D",11001]
["MALUMA Ltda.","8909102358","2005-09-20T18:33:30","D",11001,9999,"NIT",null,null,null,null,null,null,null,null,null,null,null,null,null,null,null,null,null,null,null,null,null,null,null,null,null,null,null,null,null,null,null,null,null,null,null,null,null,null,null,null,"FUNDACION NUEVO MARYMOUNT","8600263577","2005-10-01T10:30:38","D",11001]
["FUNDACION NUEVO MARYMOUNT","8600263577","2005-10-01T10:30:38","D",11001,9999,"NIT",null,null,null,null,null,null,null,null,null,null,null,null,null,null,null,null,null,null,null,null,null,null,null,null,null,null,null,null,null,null,null,null,null,null,null,null,null,null,null,null,"TELEGUARDIA LTDA","8001967222","2005-10-01T10:35:06","D",11001]
["TELEGUARDIA LTDA","8001967222","2005-10-01T10:35:06","D",11001,9999,"NIT",null,null,null,null,null,null,null,null,null,null,null,null,null,null,null,null,null,null,null,null,null,null,null,null,null,null,null,null,null,null,null,null,null,null,null,null,null,null,null,null,"METROCUADRADO","8300724905","2005-10-04T17:25:47","D",11001]
["METROCUADRADO","8300724905","2005-10-04T17:25:47","D",11001,9999,"NIT",null,null,null,null,null,null,null,null,null,null,null,null,null,null,null,null,null,null,null,null,null,null,null,null,null,null,null,null,null,null,null,null,null,null,null,null,null,null,null,null,"IFX NETWORKS COLOMBIA LTDA","8300586777","2005-10-04T17:40:25","D",11001]
["IFX NETWORKS COLOMBIA LTDA","8300586777","2005-10-04T17:40:25","D",11001,9999,"NIT",null,null,null,null,null,null,null,null,null,null,null,null,null,null,null,null,null,null,null,null,null,null,null,null,null,null,null,null,null,null,null,null,null,null,null,null,null,null,null,null,"FUNDACION COLEGIO SANTA MARIA","8600450946","2005-10-27T12:41:24","D",11001]
["FUNDACION COLEGIO SANTA MARIA","8600450946","2005-10-27T12:41:24","D",11001,9999,"NIT",null,null,null,null,null,null,null,null,null,null,null,null,null,null,null,null,null,null,null,null,null,null,null,null,null,null,null,null,null,null,null,null,null,null,null,null,null,null,null,null,"DISTRIB. ORTIZ VIDALES Y CIA","8300438438","2005-11-01T17:53:30","D",11001]
["DISTRIB. ORTIZ VIDALES Y CIA","8300438438","2005-11-01T17:53:30","D",11001,9999,"NIT",null,null,null,null,null,null,null,null,null,null,null,null,null,null,null,null,null,null,null,null,null,null,null,null,null,null,null,null,null,null,null,null,null,null,null,null,null,null,null,null,"FUNDACION UNIVERSIDAD CENTRAL","8600247461","2005-11-04T16:00:29","D",11001]
["FUNDACION UNIVERSIDAD CENTRAL","8600247461","2005-11-04T16:00:29","D",11001,9999,"NIT",null,null,null,null,null,null,null,null,null,null,null,null,null,null,null,null,null,null,null,null,null,null,null,null,null,null,null,null,null,null,null,null,null,null,null,null,null,null,null,null,"COL MAYOR NTRA SRA DEL ROSARIO","8600077593","2005-11-04T17:50:00","D",11001]
["COL MAYOR NTRA SRA DEL ROSARIO","8600077593","2005-11-04T17:50:00","D",11001,9999,"NIT",null,null,null,null,null,null,null,null,null,null,null,null,null,null,null,null,null,null,null,null,null,null,null,null,null,null,null,null,null,null,null,null,null,null,null,null,null,null,null,null,"RESULTADO TOTAL RT LTDA","8300559019","2005-11-15T09:41:43","D",11001]
["RESULTADO TOTAL RT LTDA","8300559019","2005-11-15T09:41:43","D",11001,9999,"NIT",null,null,null,null,null,null,null,null,null,null,null,null,null,null,null,null,null,null,null,null,null,null,null,null,null,null,null,null,null,null,null,null,null,null,null,null,null,null,null,null,"CARULLA VIVERO S.A.","8600020959","2005-11-15T15:25:20","D",11001]
["CARULLA VIVERO S.A.","8600020959","2005-11-15T15:25:20","D",11001,9999,"NIT",null,null,null,null,null,null,null,null,null,null,null,null,null,null,null,null,null,null,null,null,null,null,null,null,null,null,null,null,null,null,null,null,null,null,null,null,null,null,null,null,"AGRINAL COLOMBIA S.A.","890400514","2005-11-15T15:42:19","D",11001]
["AGRINAL COLOMBIA S.A.","890400514","2005-11-15T15:42:19","D",11001,9999,"NIT",null,null,null,null,null,null,null,null,null,null,null,null,null,null,null,null,null,null,null,null,null,null,null,null,null,null,null,null,null,null,null,null,null,null,null,null,null,null,null,null,"F COLEGIO ANGLO COLOMBIANO","8600091070","2005-11-15T15:52:05","D",11001]
["F COLEGIO ANGLO COLOMBIANO","8600091070","2005-11-15T15:52:05","D",11001,9999,"NIT",null,null,null,null,null,null,null,null,null,null,null,null,null,null,null,null,null,null,null,null,null,null,null,null,null,null,null,null,null,null,null,null,null,null,null,null,null,null,null,null,"COLEGIO NUEVA GRANADA","8600065220","2005-11-21T14:47:04","D",11001]
["COLEGIO NUEVA GRANADA","8600065220","2005-11-21T14:47:04","D",11001,9999,"NIT",null,null,null,null,null,null,null,null,null,null,null,null,null,null,null,null,null,null,null,null,null,null,null,null,null,null,null,null,null,null,null,null,null,null,null,null,null,null,null,null,"UNIVERSIDAD SANTIAGO DE CALI","8903037971","2005-11-21T15:03:44","D",11001]
["UNIVERSIDAD SANTIAGO DE CALI","8903037971","2005-11-21T15:03:44","D",11001,9999,"NIT",null,null,null,null,null,null,null,null,null,null,null,null,null,null,null,null,null,null,null,null,null,null,null,null,null,null,null,null,null,null,null,null,null,null,null,null,null,null,null,null,"LEGISLACION ECONOMICA S.A.","8600014989","2005-11-22T17:09:52","D",11001]
["LEGISLACION ECONOMICA S.A.","8600014989","2005-11-22T17:09:52","D",11001,9999,"NIT",null,null,null,null,null,null,null,null,null,null,null,null,null,null,null,null,null,null,null,null,null,null,null,null,null,null,null,null,null,null,null,null,null,null,null,null,null,null,null,null,"FUNDACION LUICEJOTA","8320031136","2005-11-25T15:49:06","D",11001]
["FUNDACION LUICEJOTA","8320031136","2005-11-25T15:49:06","D",11001,9999,"NIT",null,null,null,null,null,null,null,null,null,null,null,null,null,null,null,null,null,null,null,null,null,null,null,null,null,null,null,null,null,null,null,null,null,null,null,null,null,null,null,null,"INST. CIENCIAS DE LA SALUD CES","8909840026","2005-11-25T18:01:55","D",11001]
["INST. CIENCIAS DE LA SALUD CES","8909840026","2005-11-25T18:01:55","D",11001,9999,"NIT",null,null,null,null,null,null,null,null,null,null,null,null,null,null,null,null,null,null,null,null,null,null,null,null,null,null,null,null,null,null,null,null,null,null,null,null,null,null,null,null,"G4S Technology Colombia S.A.","8002152270","2005-11-30T11:08:17","D",11001]
["G4S Technology Colombia S.A.","8002152270","2005-11-30T11:08:17","D",11001,9999,"NIT",null,null,null,null,null,null,null,null,null,null,null,null,null,null,null,null,null,null,null,null,null,null,null,null,null,null,null,null,null,null,null,null,null,null,null,null,null,null,null,null,"LA RED SISTEMAS DE INFORMACION","101284981","2005-12-01T18:03:25","D",11001]
["LA RED SISTEMAS DE INFORMACION","101284981","2005-12-01T18:03:25","D",11001,9999,"NIT",null,null,null,null,null,null,null,null,null,null,null,null,null,null,null,null,null,null,null,null,null,null,null,null,null,null,null,null,null,null,null,null,null,null,null,null,null,null,null,null,"ASOPANGLO","8600270140","2005-12-02T17:19:25","D",11001]
["ASOPANGLO","8600270140","2005-12-02T17:19:25","D",11001,9999,"NIT",null,null,null,null,null,null,null,null,null,null,null,null,null,null,null,null,null,null,null,null,null,null,null,null,null,null,null,null,null,null,null,null,null,null,null,null,null,null,null,null,"LICEO JUAN RAMON JIMENEZ LTDA","8605107432","2005-12-07T08:05:56","D",11001]
["LICEO JUAN RAMON JIMENEZ LTDA","8605107432","2005-12-07T08:05:56","D",11001,9999,"NIT",null,null,null,null,null,null,null,null,null,null,null,null,null,null,null,null,null,null,null,null,null,null,null,null,null,null,null,null,null,null,null,null,null,null,null,null,null,null,null,null,"ASOPAGOS S.A.S.","9998605023278","2005-12-09T13:24:44","F",11001]
["Instituto de Transito del Atlantico","8001151021","2005-12-09T19:36:49","D",11001,9999,"NIT",null,null,null,null,null,null,null,null,null,null,null,null,null,null,null,null,null,null,null,null,null,null,null,null,null,null,null,null,null,null,null,null,null,null,null,null,null,null,null,null,"ALMACENES MAXIMO S.A.","8600458547","2005-12-21T16:27:16","D",11001]
["ALMACENES MAXIMO S.A.","8600458547","2005-12-21T16:27:16","D",11001,9999,"NIT",null,null,null,null,null,null,null,null,null,null,null,null,null,null,null,null,null,null,null,null,null,null,null,null,null,null,null,null,null,null,null,null,null,null,null,null,null,null,null,null,"AEROREPUBLICA S.A. - COPA","8001857811","2005-12-28T12:03:46","D",11001]
["AEROREPUBLICA S.A. - COPA","8001857811","2005-12-28T12:03:46","D",11001,9999,"NIT",null,null,null,null,null,null,null,null,null,null,null,null,null,null,null,null,null,null,null,null,null,null,null,null,null,null,null,null,null,null,null,null,null,null,null,null,null,null,null,null,"ARDISA S.A.","8902000506","2005-12-28T15:05:04","D",11001]
["ARDISA S.A.","8902000506","2005-12-28T15:05:04","D",11001,9999,"NIT",null,null,null,null,null,null,null,null,null,null,null,null,null,null,null,null,null,null,null,null,null,null,null,null,null,null,null,null,null,null,null,null,null,null,null,null,null,null,null,null,"EDITORA DEL MAR S.A.","8904042738","2005-12-29T11:32:59","D",11001]
["EDITORA DEL MAR S.A.","8904042738","2005-12-29T11:32:59","D",11001,9999,"NIT",null,null,null,null,null,null,null,null,null,null,null,null,null,null,null,null,null,null,null,null,null,null,null,null,null,null,null,null,null,null,null,null,null,null,null,null,null,null,null,null,"CAMARA DE COMERCIO DE MEDELLIN","8909050803","2006-01-03T08:19:28","D",11001]
["CAMARA DE COMERCIO DE MEDELLIN","8909050803","2006-01-03T08:19:28","D",11001,9999,"NIT",null,null,null,null,null,null,null,null,null,null,null,null,null,null,null,null,null,null,null,null,null,null,null,null,null,null,null,null,null,null,null,null,null,null,null,null,null,null,null,null,"MUNICIPIO DE SANTIAGO DE CALI","8903990113","2006-01-06T14:47:16","D",11001]
["MUNICIPIO DE SANTIAGO DE CALI","8903990113","2006-01-06T14:47:16","D",11001,9999,"NIT",null,null,null,null,null,null,null,null,null,null,null,null,null,null,null,null,null,null,null,null,null,null,null,null,null,null,null,null,null,null,null,null,null,null,null,null,null,null,null,null,"CAMARA DE COMERCIO DE CALI","8903990011","2006-01-11T16:19:02","D",11001]
["CAMARA DE COMERCIO DE CALI","8903990011","2006-01-11T16:19:02","D",11001,9999,"NIT",null,null,null,null,null,null,null,null,null,null,null,null,null,null,null,null,null,null,null,null,null,null,null,null,null,null,null,null,null,null,null,null,null,null,null,null,null,null,null,null,"CHEVYPLAN / MEGAPLAN S.A. ","8300011337","2006-01-12T12:48:49","D",11001]
["CHEVYPLAN / MEGAPLAN S.A. ","8300011337","2006-01-12T12:48:49","D",11001,9999,"NIT",null,null,null,null,null,null,null,null,null,null,null,null,null,null,null,null,null,null,null,null,null,null,null,null,null,null,null,null,null,null,null,null,null,null,null,null,null,null,null,null,"APARTAMENTOS CARTAGENA","731226632","2006-01-13T20:51:02","D",11001]
["APARTAMENTOS CARTAGENA","731226632","2006-01-13T20:51:02","D",11001,9999,"NIT",null,null,null,null,null,null,null,null,null,null,null,null,null,null,null,null,null,null,null,null,null,null,null,null,null,null,null,null,null,null,null,null,null,null,null,null,null,null,null,null,"FUNDACION SALVADME REINA","8301389736","2006-01-17T16:35:01","D",11001]
["FUNDACION SALVADME REINA","8301389736","2006-01-17T16:35:01","D",11001,9999,"NIT",null,null,null,null,null,null,null,null,null,null,null,null,null,null,null,null,null,null,null,null,null,null,null,null,null,null,null,null,null,null,null,null,null,null,null,null,null,null,null,null,"ALMACENES EXITO-PROVEEDORES","8909006089","2006-01-21T12:57:40","D",11001]
["ALMACENES EXITO-PROVEEDORES","8909006089","2006-01-21T12:57:40","D",11001,9999,"NIT",null,null,null,null,null,null,null,null,null,null,null,null,null,null,null,null,null,null,null,null,null,null,null,null,null,null,null,null,null,null,null,null,null,null,null,null,null,null,null,null,"Universidad del Quindio","8900004328","2006-01-31T11:22:32","D",11001]
["Universidad del Quindio","8900004328","2006-01-31T11:22:32","D",11001,9999,"NIT",null,null,null,null,null,null,null,null,null,null,null,null,null,null,null,null,null,null,null,null,null,null,null,null,null,null,null,null,null,null,null,null,null,null,null,null,null,null,null,null,"AXESAT S.A.","8301190511","2006-02-03T17:59:47","D",11001]
["AXESAT S.A.","8301190511","2006-02-03T17:59:47","D",11001,9999,"NIT",null,null,null,null,null,null,null,null,null,null,null,null,null,null,null,null,null,null,null,null,null,null,null,null,null,null,null,null,null,null,null,null,null,null,null,null,null,null,null,null,"COLEGIO BOLIVAR","8903005394","2006-02-07T18:42:13","D",11001]
["COLEGIO BOLIVAR","8903005394","2006-02-07T18:42:13","D",11001,9999,"NIT",null,null,null,null,null,null,null,null,null,null,null,null,null,null,null,null,null,null,null,null,null,null,null,null,null,null,null,null,null,null,null,null,null,null,null,null,null,null,null,null,"CCF DE ANTIOQUIA COMFAMA","890900841","2006-02-08T18:52:24","D",11001]
["CCF DE ANTIOQUIA COMFAMA","890900841","2006-02-08T18:52:24","D",11001,9999,"NIT",null,null,null,null,null,null,null,null,null,null,null,null,null,null,null,null,null,null,null,null,null,null,null,null,null,null,null,null,null,null,null,null,null,null,null,null,null,null,null,null,"FOTO DEL ORIENTE LTDA.","8000109729","2006-02-09T16:49:04","D",11001]
["FOTO DEL ORIENTE LTDA.","8000109729","2006-02-09T16:49:04","D",11001,9999,"NIT",null,null,null,null,null,null,null,null,null,null,null,null,null,null,null,null,null,null,null,null,null,null,null,null,null,null,null,null,null,null,null,null,null,null,null,null,null,null,null,null,"MAPFRE SEGUROS GENERALES","8917000379","2006-02-15T17:41:14","D",11001]
["MAPFRE SEGUROS GENERALES","8917000379","2006-02-15T17:41:14","D",11001,9999,"NIT",null,null,null,null,null,null,null,null,null,null,null,null,null,null,null,null,null,null,null,null,null,null,null,null,null,null,null,null,null,null,null,null,null,null,null,null,null,null,null,null,"DEPARTAMENTO DE CUNDINAMARCA","8999991140","2006-02-20T17:24:47","D",11001]
["DEPARTAMENTO DE CUNDINAMARCA","8999991140","2006-02-20T17:24:47","D",11001,9999,"NIT",null,null,null,null,null,null,null,null,null,null,null,null,null,null,null,null,null,null,null,null,null,null,null,null,null,null,null,null,null,null,null,null,null,null,null,null,null,null,null,null,"TOURING & AUTOMOVIL CLUB COLOMBIA","8600076373","2006-02-24T18:48:03","D",11001]
["TOURING & AUTOMOVIL CLUB COLOMBIA","8600076373","2006-02-24T18:48:03","D",11001,9999,"NIT",null,null,null,null,null,null,null,null,null,null,null,null,null,null,null,null,null,null,null,null,null,null,null,null,null,null,null,null,null,null,null,null,null,null,null,null,null,null,null,null,"FUNDACION PRODEBILES AUDITIVOS","8909041688","2006-02-24T18:51:40","D",11001]
["FUNDACION PRODEBILES AUDITIVOS","8909041688","2006-02-24T18:51:40","D",11001,9999,"NIT",null,null,null,null,null,null,null,null,null,null,null,null,null,null,null,null,null,null,null,null,null,null,null,null,null,null,null,null,null,null,null,null,null,null,null,null,null,null,null,null,"UNIVERSIDAD NACIONAL DE COLOMBIA - SEDE BOGOTA","8999990630","2006-02-24T19:06:20","D",11001]
["UNIVERSIDAD NACIONAL DE COLOMBIA - SEDE BOGOTA","8999990630","2006-02-24T19:06:20","D",11001,9999,"NIT",null,null,null,null,null,null,null,null,null,null,null,null,null,null,null,null,null,null,null,null,null,null,null,null,null,null,null,null,null,null,null,null,null,null,null,null,null,null,null,null,"OMNILIFE DE COLOMBIA LTDA","8002088650","2006-02-28T12:00:45","D",11001]
["OMNILIFE DE COLOMBIA LTDA","8002088650","2006-02-28T12:00:45","D",11001,9999,"NIT",null,null,null,null,null,null,null,null,null,null,null,null,null,null,null,null,null,null,null,null,null,null,null,null,null,null,null,null,null,null,null,null,null,null,null,null,null,null,null,null,"ESTUDIO DE MODA S.A.","8909268031","2006-03-02T18:24:30","D",11001]
["ESTUDIO DE MODA S.A.","8909268031","2006-03-02T18:24:30","D",11001,9999,"NIT",null,null,null,null,null,null,null,null,null,null,null,null,null,null,null,null,null,null,null,null,null,null,null,null,null,null,null,null,null,null,null,null,null,null,null,null,null,null,null,null,"FUND HOSP SAN VICENTE DE PAUL","8909005184","2006-03-07T11:04:48","D",11001]
["FUND HOSP SAN VICENTE DE PAUL","8909005184","2006-03-07T11:04:48","D",11001,9999,"NIT",null,null,null,null,null,null,null,null,null,null,null,null,null,null,null,null,null,null,null,null,null,null,null,null,null,null,null,null,null,null,null,null,null,null,null,null,null,null,null,null,"COMUNIDAD BERCHMANS CIA DE JESUS","8903321270","2006-03-10T17:27:12","D",11001]
["COMUNIDAD BERCHMANS CIA DE JESUS","8903321270","2006-03-10T17:27:12","D",11001,9999,"NIT",null,null,null,null,null,null,null,null,null,null,null,null,null,null,null,null,null,null,null,null,null,null,null,null,null,null,null,null,null,null,null,null,null,null,null,null,null,null,null,null,"Innovadora de Seguros  Corredora de Seguros S.A","8001380844","2006-03-10T18:07:18","D",11001]
["Innovadora de Seguros  Corredora de Seguros S.A","8001380844","2006-03-10T18:07:18","D",11001,9999,"NIT",null,null,null,null,null,null,null,null,null,null,null,null,null,null,null,null,null,null,null,null,null,null,null,null,null,null,null,null,null,null,null,null,null,null,null,null,null,null,null,null,"COLEGIO SAN CARLOS","8600062842","2006-03-10T18:10:57","D",11001]
["COLEGIO SAN CARLOS","8600062842","2006-03-10T18:10:57","D",11001,9999,"NIT",null,null,null,null,null,null,null,null,null,null,null,null,null,null,null,null,null,null,null,null,null,null,null,null,null,null,null,null,null,null,null,null,null,null,null,null,null,null,null,null,"GOODYEAR DE COLOMBIA S.A.","8600048559","2006-03-28T08:39:14","D",11001]
["GOODYEAR DE COLOMBIA S.A.","8600048559","2006-03-28T08:39:14","D",11001,9999,"NIT",null,null,null,null,null,null,null,null,null,null,null,null,null,null,null,null,null,null,null,null,null,null,null,null,null,null,null,null,null,null,null,null,null,null,null,null,null,null,null,null,"CASA EDITORIAL EL TIEMPO S.A.","8600010227","2006-03-28T12:19:29","D",11001]
["CASA EDITORIAL EL TIEMPO S.A.","8600010227","2006-03-28T12:19:29","D",11001,9999,"NIT",null,null,null,null,null,null,null,null,null,null,null,null,null,null,null,null,null,null,null,null,null,null,null,null,null,null,null,null,null,null,null,null,null,null,null,null,null,null,null,null,"ARAUJO Y SEGOVIA S.A.","8904000489","2006-03-31T22:33:35","D",11001]
["ARAUJO Y SEGOVIA S.A.","8904000489","2006-03-31T22:33:35","D",11001,9999,"NIT",null,null,null,null,null,null,null,null,null,null,null,null,null,null,null,null,null,null,null,null,null,null,null,null,null,null,null,null,null,null,null,null,null,null,null,null,null,null,null,null,"UDCA","8604037212","2006-04-07T09:05:50","D",11001]
["UDCA","8604037212","2006-04-07T09:05:50","D",11001,9999,"NIT",null,null,null,null,null,null,null,null,null,null,null,null,null,null,null,null,null,null,null,null,null,null,null,null,null,null,null,null,null,null,null,null,null,null,null,null,null,null,null,null,"CORP UNIV PILOTO DE COLOMBIA","8600223823","2006-04-11T09:49:37","D",11001]
["CORP UNIV PILOTO DE COLOMBIA","8600223823","2006-04-11T09:49:37","D",11001,9999,"NIT",null,null,null,null,null,null,null,null,null,null,null,null,null,null,null,null,null,null,null,null,null,null,null,null,null,null,null,null,null,null,null,null,null,null,null,null,null,null,null,null,"CREDIVALORES S. A.","8050270061","2006-04-20T12:25:34","D",11001]
["CREDIVALORES S. A.","8050270061","2006-04-20T12:25:34","D",11001,9999,"NIT",null,null,null,null,null,null,null,null,null,null,null,null,null,null,null,null,null,null,null,null,null,null,null,null,null,null,null,null,null,null,null,null,null,null,null,null,null,null,null,null,"UNIVERSIA COLOMBIA S.A.","8300769792","2006-04-20T12:40:57","D",11001]
["UNIVERSIA COLOMBIA S.A.","8300769792","2006-04-20T12:40:57","D",11001,9999,"NIT",null,null,null,null,null,null,null,null,null,null,null,null,null,null,null,null,null,null,null,null,null,null,null,null,null,null,null,null,null,null,null,null,null,null,null,null,null,null,null,null,"ECONOMIZADORES.NET S.A.","8110438201","2006-04-21T19:32:07","D",11001]
["ECONOMIZADORES.NET S.A.","8110438201","2006-04-21T19:32:07","D",11001,9999,"NIT",null,null,null,null,null,null,null,null,null,null,null,null,null,null,null,null,null,null,null,null,null,null,null,null,null,null,null,null,null,null,null,null,null,null,null,null,null,null,null,null,"SISTEMA MULTIGYM LTDA","9000520212","2006-04-21T19:44:17","D",11001]
["SISTEMA MULTIGYM LTDA","9000520212","2006-04-21T19:44:17","D",11001,9999,"NIT",null,null,null,null,null,null,null,null,null,null,null,null,null,null,null,null,null,null,null,null,null,null,null,null,null,null,null,null,null,null,null,null,null,null,null,null,null,null,null,null,"EQUANT COLOMBIA S. A.","8001953264","2006-04-27T18:19:24","D",11001]
["EQUANT COLOMBIA S. A.","8001953264","2006-04-27T18:19:24","D",11001,9999,"NIT",null,null,null,null,null,null,null,null,null,null,null,null,null,null,null,null,null,null,null,null,null,null,null,null,null,null,null,null,null,null,null,null,null,null,null,null,null,null,null,null,"IMPACT AND LASER IMPACT LTDA","8300113271","2006-04-27T18:36:04","D",11001]
["IMPACT AND LASER IMPACT LTDA","8300113271","2006-04-27T18:36:04","D",11001,9999,"NIT",null,null,null,null,null,null,null,null,null,null,null,null,null,null,null,null,null,null,null,null,null,null,null,null,null,null,null,null,null,null,null,null,null,null,null,null,null,null,null,null,"PROGRAMA SALUD UNIVERSIDAD DE ANTIOQUIA","8909800408","2006-05-04T12:45:53","D",11001]
["PROGRAMA SALUD UNIVERSIDAD DE ANTIOQUIA","8909800408","2006-05-04T12:45:53","D",11001,9999,"NIT",null,null,null,null,null,null,null,null,null,null,null,null,null,null,null,null,null,null,null,null,null,null,null,null,null,null,null,null,null,null,null,null,null,null,null,null,null,null,null,null,"UNIV NAL ABIERTA DISTANCIA UNAD","8605127804","2006-05-04T16:57:57","D",11001]
["UNIV NAL ABIERTA DISTANCIA UNAD","8605127804","2006-05-04T16:57:57","D",11001,9999,"NIT",null,null,null,null,null,null,null,null,null,null,null,null,null,null,null,null,null,null,null,null,null,null,null,null,null,null,null,null,null,null,null,null,null,null,null,null,null,null,null,null,"UNIVERSIDAD DEL BOSQUE","8600667896","2006-05-04T17:20:25","D",11001]
["UNIVERSIDAD DEL BOSQUE","8600667896","2006-05-04T17:20:25","D",11001,9999,"NIT",null,null,null,null,null,null,null,null,null,null,null,null,null,null,null,null,null,null,null,null,null,null,null,null,null,null,null,null,null,null,null,null,null,null,null,null,null,null,null,null,"UNIVERSIDAD COOPERATIVA DE COLOMBIA","8600299247","2006-05-08T13:01:49","D",11001]
["UNIVERSIDAD COOPERATIVA DE COLOMBIA","8600299247","2006-05-08T13:01:49","D",11001,9999,"NIT",null,null,null,null,null,null,null,null,null,null,null,null,null,null,null,null,null,null,null,null,null,null,null,null,null,null,null,null,null,null,null,null,null,null,null,null,null,null,null,null,"EMPRESA DE TELECOMUNICACIONES DE BOGOTA S. A. E.S.P","8999991158","2006-05-09T15:38:32","D",11001]
["EMPRESA DE TELECOMUNICACIONES DE BOGOTA S. A. E.S.P","8999991158","2006-05-09T15:38:32","D",11001,9999,"NIT",null,null,null,null,null,null,null,null,null,null,null,null,null,null,null,null,null,null,null,null,null,null,null,null,null,null,null,null,null,null,null,null,null,null,null,null,null,null,null,null,"CAMARA DE COMERCIO DE PEREIRA","8914006696","2006-05-10T18:06:51","D",11001]
["CAMARA DE COMERCIO DE PEREIRA","8914006696","2006-05-10T18:06:51","D",11001,9999,"NIT",null,null,null,null,null,null,null,null,null,null,null,null,null,null,null,null,null,null,null,null,null,null,null,null,null,null,null,null,null,null,null,null,null,null,null,null,null,null,null,null,"ARL DISTRIBUCIONES E.U.","8110311612","2006-05-12T18:43:35","D",11001]
["ARL DISTRIBUCIONES E.U.","8110311612","2006-05-12T18:43:35","D",11001,9999,"NIT",null,null,null,null,null,null,null,null,null,null,null,null,null,null,null,null,null,null,null,null,null,null,null,null,null,null,null,null,null,null,null,null,null,null,null,null,null,null,null,null,"DEPARTAMENTO DE ANTIOQUIA","8909002860","2006-05-18T16:37:21","D",11001]
["DEPARTAMENTO DE ANTIOQUIA","8909002860","2006-05-18T16:37:21","D",11001,9999,"NIT",null,null,null,null,null,null,null,null,null,null,null,null,null,null,null,null,null,null,null,null,null,null,null,null,null,null,null,null,null,null,null,null,null,null,null,null,null,null,null,null,"GIMNASIO FEMENINO","8600089111","2006-05-18T17:35:49","D",11001]
["GIMNASIO FEMENINO","8600089111","2006-05-18T17:35:49","D",11001,9999,"NIT",null,null,null,null,null,null,null,null,null,null,null,null,null,null,null,null,null,null,null,null,null,null,null,null,null,null,null,null,null,null,null,null,null,null,null,null,null,null,null,null,"IMPRESISTEM S.A.","8000915492","2006-05-25T11:08:58","D",11001]
["IMPRESISTEM S.A.","8000915492","2006-05-25T11:08:58","D",11001,9999,"NIT",null,null,null,null,null,null,null,null,null,null,null,null,null,null,null,null,null,null,null,null,null,null,null,null,null,null,null,null,null,null,null,null,null,null,null,null,null,null,null,null,"EPM BOGOTA S.A. E.S.P.","8300321609","2006-06-01T10:16:09","D",11001]
["EPM BOGOTA S.A. E.S.P.","8300321609","2006-06-01T10:16:09","D",11001,9999,"NIT",null,null,null,null,null,null,null,null,null,null,null,null,null,null,null,null,null,null,null,null,null,null,null,null,null,null,null,null,null,null,null,null,null,null,null,null,null,null,null,null,"BOLSA DE VALORES DE COLOMBIA","8300854261","2006-06-08T15:13:52","D",11001]
["BOLSA DE VALORES DE COLOMBIA","8300854261","2006-06-08T15:13:52","D",11001,9999,"NIT",null,null,null,null,null,null,null,null,null,null,null,null,null,null,null,null,null,null,null,null,null,null,null,null,null,null,null,null,null,null,null,null,null,null,null,null,null,null,null,null,"EMP REGIONAL DE TELECOM ERT ESP","8001357292","2006-06-08T15:27:07","D",11001]
["EMP REGIONAL DE TELECOM ERT ESP","8001357292","2006-06-08T15:27:07","D",11001,9999,"NIT",null,null,null,null,null,null,null,null,null,null,null,null,null,null,null,null,null,null,null,null,null,null,null,null,null,null,null,null,null,null,null,null,null,null,null,null,null,null,null,null,"BIO GERENCIA VIRTUAL LTDA","8110237981","2006-06-08T18:34:55","D",11001]
["BIO GERENCIA VIRTUAL LTDA","8110237981","2006-06-08T18:34:55","D",11001,9999,"NIT",null,null,null,null,null,null,null,null,null,null,null,null,null,null,null,null,null,null,null,null,null,null,null,null,null,null,null,null,null,null,null,null,null,null,null,null,null,null,null,null,"Colegio San Jorge de Inglaterra SAS","900698804","2006-06-13T19:43:09","D",11001]
["Colegio San Jorge de Inglaterra SAS","900698804","2006-06-13T19:43:09","D",11001,9999,"NIT",null,null,null,null,null,null,null,null,null,null,null,null,null,null,null,null,null,null,null,null,null,null,null,null,null,null,null,null,null,null,null,null,null,null,null,null,null,null,null,null,"INST UNIVERSITARIA DE ENVIGADO","8110002782","2006-06-13T19:51:20","D",11001]
["INST UNIVERSITARIA DE ENVIGADO","8110002782","2006-06-13T19:51:20","D",11001,9999,"NIT",null,null,null,null,null,null,null,null,null,null,null,null,null,null,null,null,null,null,null,null,null,null,null,null,null,null,null,null,null,null,null,null,null,null,null,null,null,null,null,null,"INSTIT COLOMBIANO AGROPECUARIO","8999990697","2006-06-13T20:04:12","D",11001]
["INSTIT COLOMBIANO AGROPECUARIO","8999990697","2006-06-13T20:04:12","D",11001,9999,"NIT",null,null,null,null,null,null,null,null,null,null,null,null,null,null,null,null,null,null,null,null,null,null,null,null,null,null,null,null,null,null,null,null,null,null,null,null,null,null,null,null,"ENERTOTAL S.A. E.S.P.","9000399015","2006-06-13T20:10:09","D",11001]
["ENERTOTAL S.A. E.S.P.","9000399015","2006-06-13T20:10:09","D",11001,9999,"NIT",null,null,null,null,null,null,null,null,null,null,null,null,null,null,null,null,null,null,null,null,null,null,null,null,null,null,null,null,null,null,null,null,null,null,null,null,null,null,null,null,"LAFAYETTE S.A.","8600019657","2006-07-05T17:10:45","D",11001]
["LAFAYETTE S.A.","8600019657","2006-07-05T17:10:45","D",11001,9999,"NIT",null,null,null,null,null,null,null,null,null,null,null,null,null,null,null,null,null,null,null,null,null,null,null,null,null,null,null,null,null,null,null,null,null,null,null,null,null,null,null,null,"FUNDACION COLOMBO CANADIENSE","9000026422","2006-07-05T17:14:39","D",11001]
["FUNDACION COLOMBO CANADIENSE","9000026422","2006-07-05T17:14:39","D",11001,9999,"NIT",null,null,null,null,null,null,null,null,null,null,null,null,null,null,null,null,null,null,null,null,null,null,null,null,null,null,null,null,null,null,null,null,null,null,null,null,null,null,null,null,"SIMPLE OI","9999000973339","2006-07-06T19:16:05","F",11001]
["BIENCO S.A. I.N.C.","8050000824","2006-07-10T10:00:05","D",11001,9999,"NIT",null,null,null,null,null,null,null,null,null,null,null,null,null,null,null,null,null,null,null,null,null,null,null,null,null,null,null,null,null,null,null,null,null,null,null,null,null,null,null,null,"InfoeEmpleo Carlos A Morales V","717441721","2006-07-10T10:09:54","D",11001]
["InfoeEmpleo Carlos A Morales V","717441721","2006-07-10T10:09:54","D",11001,9999,"NIT",null,null,null,null,null,null,null,null,null,null,null,null,null,null,null,null,null,null,null,null,null,null,null,null,null,null,null,null,null,null,null,null,null,null,null,null,null,null,null,null,"UNIVERSIDAD DE MEDELLIN","8909029201","2006-07-21T15:39:42","D",11001]
["UNIVERSIDAD DE MEDELLIN","8909029201","2006-07-21T15:39:42","D",11001,9999,"NIT",null,null,null,null,null,null,null,null,null,null,null,null,null,null,null,null,null,null,null,null,null,null,null,null,null,null,null,null,null,null,null,null,null,null,null,null,null,null,null,null,"MERCALISTO.COM E.U.","9000825118","2006-07-21T17:48:33","D",11001]
["MERCALISTO.COM E.U.","9000825118","2006-07-21T17:48:33","D",11001,9999,"NIT",null,null,null,null,null,null,null,null,null,null,null,null,null,null,null,null,null,null,null,null,null,null,null,null,null,null,null,null,null,null,null,null,null,null,null,null,null,null,null,null,"SAN ANGELO LTDA","8000651769","2006-07-21T17:52:24","D",11001]
["SAN ANGELO LTDA","8000651769","2006-07-21T17:52:24","D",11001,9999,"NIT",null,null,null,null,null,null,null,null,null,null,null,null,null,null,null,null,null,null,null,null,null,null,null,null,null,null,null,null,null,null,null,null,null,null,null,null,null,null,null,null,"FUNDACION UNIVERSITARIA CEIPA","8909109617","2006-07-21T18:01:04","D",11001]
["FUNDACION UNIVERSITARIA CEIPA","8909109617","2006-07-21T18:01:04","D",11001,9999,"NIT",null,null,null,null,null,null,null,null,null,null,null,null,null,null,null,null,null,null,null,null,null,null,null,null,null,null,null,null,null,null,null,null,null,null,null,null,null,null,null,null,"CONSORCIO COLOMBIA MAYOR 2013","9006196589","2006-07-31T18:49:12","D",11001]
["CONSORCIO COLOMBIA MAYOR 2013","9006196589","2006-07-31T18:49:12","D",11001,9999,"NIT",null,null,null,null,null,null,null,null,null,null,null,null,null,null,null,null,null,null,null,null,null,null,null,null,null,null,null,null,null,null,null,null,null,null,null,null,null,null,null,null,"ENLACE OPERATIVO S.A.","9999000891045","2006-08-01T12:08:38","F",11001]
["COLEGIO AGUSTINIANO SALITRE","8600063342","2006-08-02T15:13:57","D",11001,9999,"NIT",null,null,null,null,null,null,null,null,null,null,null,null,null,null,null,null,null,null,null,null,null,null,null,null,null,null,null,null,null,null,null,null,null,null,null,null,null,null,null,null,"Medplus Medicina prepagada","9001787243","2006-08-03T15:04:00","D",11001]
["Medplus Medicina prepagada","9001787243","2006-08-03T15:04:00","D",11001,9999,"NIT",null,null,null,null,null,null,null,null,null,null,null,null,null,null,null,null,null,null,null,null,null,null,null,null,null,null,null,null,null,null,null,null,null,null,null,null,null,null,null,null,"CORPORACION GIMNASIO LA MONTAÑA","8000748083","2006-08-15T10:49:41","D",11001]
["CORPORACION GIMNASIO LA MONTAÑA","8000748083","2006-08-15T10:49:41","D",11001,9999,"NIT",null,null,null,null,null,null,null,null,null,null,null,null,null,null,null,null,null,null,null,null,null,null,null,null,null,null,null,null,null,null,null,null,null,null,null,null,null,null,null,null,"ALARMAR LTDA","8909192674","2006-08-15T12:33:57","D",11001]
["ALARMAR LTDA","8909192674","2006-08-15T12:33:57","D",11001,9999,"NIT",null,null,null,null,null,null,null,null,null,null,null,null,null,null,null,null,null,null,null,null,null,null,null,null,null,null,null,null,null,null,null,null,null,null,null,null,null,null,null,null,"TIGO - COLOMBIA MOVIL S.A. ESP","8301149211","2006-08-15T17:54:14","D",11001]
["TIGO - COLOMBIA MOVIL S.A. ESP","8301149211","2006-08-15T17:54:14","D",11001,9999,"NIT",null,null,null,null,null,null,null,null,null,null,null,null,null,null,null,null,null,null,null,null,null,null,null,null,null,null,null,null,null,null,null,null,null,null,null,null,null,null,null,null,"FEDECAJAS OI","9998600786741","2006-08-23T09:56:13","F",11001]
["COLEGIO ANGLOAMERICANO","8000166359","2006-08-24T16:39:04","D",11001,9999,"NIT",null,null,null,null,null,null,null,null,null,null,null,null,null,null,null,null,null,null,null,null,null,null,null,null,null,null,null,null,null,null,null,null,null,null,null,null,null,null,null,null,"CCF COLSUBSIDIO","860007336","2006-08-24T16:49:56","D",11001]
["CCF COLSUBSIDIO","860007336","2006-08-24T16:49:56","D",11001,9999,"NIT",null,null,null,null,null,null,null,null,null,null,null,null,null,null,null,null,null,null,null,null,null,null,null,null,null,null,null,null,null,null,null,null,null,null,null,null,null,null,null,null,"PRIMAVERA CAMPING TOURS LTDA","8000857701","2006-08-24T16:57:23","D",11001]
["PRIMAVERA CAMPING TOURS LTDA","8000857701","2006-08-24T16:57:23","D",11001,9999,"NIT",null,null,null,null,null,null,null,null,null,null,null,null,null,null,null,null,null,null,null,null,null,null,null,null,null,null,null,null,null,null,null,null,null,null,null,null,null,null,null,null,"CLUB DE VINOS SELECTOS S.A.","8110464920","2006-08-24T17:37:42","D",11001]
["CLUB DE VINOS SELECTOS S.A.","8110464920","2006-08-24T17:37:42","D",11001,9999,"NIT",null,null,null,null,null,null,null,null,null,null,null,null,null,null,null,null,null,null,null,null,null,null,null,null,null,null,null,null,null,null,null,null,null,null,null,null,null,null,null,null,"FUNDACION QUINDIO SIGLO 21","8300553399","2006-08-25T12:20:21","D",11001]
["FUNDACION QUINDIO SIGLO 21","8300553399","2006-08-25T12:20:21","D",11001,9999,"NIT",null,null,null,null,null,null,null,null,null,null,null,null,null,null,null,null,null,null,null,null,null,null,null,null,null,null,null,null,null,null,null,null,null,null,null,null,null,null,null,null,"VENTAS Y SERVICIOS S.A.","8600504204","2006-08-29T23:33:25","D",11001]
["VENTAS Y SERVICIOS S.A.","8600504204","2006-08-29T23:33:25","D",11001,9999,"NIT",null,null,null,null,null,null,null,null,null,null,null,null,null,null,null,null,null,null,null,null,null,null,null,null,null,null,null,null,null,null,null,null,null,null,null,null,null,null,null,null,"FONDO NACIONAL DEL AHORRO","8999992844","2006-09-08T10:37:42","D",11001]
["FONDO NACIONAL DEL AHORRO","8999992844","2006-09-08T10:37:42","D",11001,9999,"NIT",null,null,null,null,null,null,null,null,null,null,null,null,null,null,null,null,null,null,null,null,null,null,null,null,null,null,null,null,null,null,null,null,null,null,null,null,null,null,null,null,"UNIVERSIDAD SAN BUENAVENTURA","8903074001","2006-09-12T13:51:45","D",11001]
["UNIVERSIDAD SAN BUENAVENTURA","8903074001","2006-09-12T13:51:45","D",11001,9999,"NIT",null,null,null,null,null,null,null,null,null,null,null,null,null,null,null,null,null,null,null,null,null,null,null,null,null,null,null,null,null,null,null,null,null,null,null,null,null,null,null,null,"CAMARA DE COMERCIO CARTAGENA","8904800411","2006-09-12T13:54:56","D",11001]
["CAMARA DE COMERCIO CARTAGENA","8904800411","2006-09-12T13:54:56","D",11001,9999,"NIT",null,null,null,null,null,null,null,null,null,null,null,null,null,null,null,null,null,null,null,null,null,null,null,null,null,null,null,null,null,null,null,null,null,null,null,null,null,null,null,null,"Colombia Telecomunicaciones S.A. E.S.P. (Movil)","830122566","2006-09-14T18:02:22","D",11001]
["Colombia Telecomunicaciones S.A. E.S.P. (Movil)","830122566","2006-09-14T18:02:22","D",11001,9999,"NIT",null,null,null,null,null,null,null,null,null,null,null,null,null,null,null,null,null,null,null,null,null,null,null,null,null,null,null,null,null,null,null,null,null,null,null,null,null,null,null,null,"JULIO FONTAN Y CIA LTDA","8002176321","2006-09-15T09:09:13","D",11001]
["JULIO FONTAN Y CIA LTDA","8002176321","2006-09-15T09:09:13","D",11001,9999,"NIT",null,null,null,null,null,null,null,null,null,null,null,null,null,null,null,null,null,null,null,null,null,null,null,null,null,null,null,null,null,null,null,null,null,null,null,null,null,null,null,null,"BOTICA SAP LTDA","9000800386","2006-09-15T16:21:03","D",11001]
["BOTICA SAP LTDA","9000800386","2006-09-15T16:21:03","D",11001,9999,"NIT",null,null,null,null,null,null,null,null,null,null,null,null,null,null,null,null,null,null,null,null,null,null,null,null,null,null,null,null,null,null,null,null,null,null,null,null,null,null,null,null,"FUND INST TECNOLOG COMFENALCO","8904811831","2006-09-15T16:28:51","D",11001]
["FUND INST TECNOLOG COMFENALCO","8904811831","2006-09-15T16:28:51","D",11001,9999,"NIT",null,null,null,null,null,null,null,null,null,null,null,null,null,null,null,null,null,null,null,null,null,null,null,null,null,null,null,null,null,null,null,null,null,null,null,null,null,null,null,null,"COMPAÑIA NACIONAL DE CHOCOLATES","8110360309","2006-09-20T10:15:54","D",11001]
["COMPAÑIA NACIONAL DE CHOCOLATES","8110360309","2006-09-20T10:15:54","D",11001,9999,"NIT",null,null,null,null,null,null,null,null,null,null,null,null,null,null,null,null,null,null,null,null,null,null,null,null,null,null,null,null,null,null,null,null,null,null,null,null,null,null,null,null,"PSIGMA CORPORATION","8300594657","2006-09-20T16:57:51","D",11001]
["PSIGMA CORPORATION","8300594657","2006-09-20T16:57:51","D",11001,9999,"NIT",null,null,null,null,null,null,null,null,null,null,null,null,null,null,null,null,null,null,null,null,null,null,null,null,null,null,null,null,null,null,null,null,null,null,null,null,null,null,null,null,"CORPORACION MARYMOUNT","8901117938","2006-09-26T12:16:24","D",11001]
["CORPORACION MARYMOUNT","8901117938","2006-09-26T12:16:24","D",11001,9999,"NIT",null,null,null,null,null,null,null,null,null,null,null,null,null,null,null,null,null,null,null,null,null,null,null,null,null,null,null,null,null,null,null,null,null,null,null,null,null,null,null,null,"COLPISA - COLOMB. DE PINTURAS S.A.","8909157914","2006-09-27T17:44:54","D",11001]
["COLPISA - COLOMB. DE PINTURAS S.A.","8909157914","2006-09-27T17:44:54","D",11001,9999,"NIT",null,null,null,null,null,null,null,null,null,null,null,null,null,null,null,null,null,null,null,null,null,null,null,null,null,null,null,null,null,null,null,null,null,null,null,null,null,null,null,null,"DIAMOX NETWORKS","10171290997","2006-09-27T18:36:25","D",11001]
["DIAMOX NETWORKS","10171290997","2006-09-27T18:36:25","D",11001,9999,"NIT",null,null,null,null,null,null,null,null,null,null,null,null,null,null,null,null,null,null,null,null,null,null,null,null,null,null,null,null,null,null,null,null,null,null,null,null,null,null,null,null,"COLEGIO PADRE MANYANET","8909822213","2006-10-05T18:27:59","D",11001]
["COLEGIO PADRE MANYANET","8909822213","2006-10-05T18:27:59","D",11001,9999,"NIT",null,null,null,null,null,null,null,null,null,null,null,null,null,null,null,null,null,null,null,null,null,null,null,null,null,null,null,null,null,null,null,null,null,null,null,null,null,null,null,null,"UNILEVER ANDINA COLOMBIA","8600025182","2006-10-06T19:46:07","D",11001]
["UNILEVER ANDINA COLOMBIA","8600025182","2006-10-06T19:46:07","D",11001,9999,"NIT",null,null,null,null,null,null,null,null,null,null,null,null,null,null,null,null,null,null,null,null,null,null,null,null,null,null,null,null,null,null,null,null,null,null,null,null,null,null,null,null,"Instituto Colombiano para la Evaluacion  de la Educacion ICFES","8600243016","2006-10-11T12:30:23","D",11001]
["Instituto Colombiano para la Evaluacion  de la Educacion ICFES","8600243016","2006-10-11T12:30:23","D",11001,9999,"NIT",null,null,null,null,null,null,null,null,null,null,null,null,null,null,null,null,null,null,null,null,null,null,null,null,null,null,null,null,null,null,null,null,null,null,null,null,null,null,null,null,"SEGUROS COMERCIALES BOLIVAR S.A.","8600021807","2006-10-17T18:34:55","D",11001]
["SEGUROS COMERCIALES BOLIVAR S.A.","8600021807","2006-10-17T18:34:55","D",11001,9999,"NIT",null,null,null,null,null,null,null,null,null,null,null,null,null,null,null,null,null,null,null,null,null,null,null,null,null,null,null,null,null,null,null,null,null,null,null,null,null,null,null,null,"ORBITEL-UNE EPM","900092385","2006-10-18T08:15:34","D",11001]
["ORBITEL-UNE EPM","900092385","2006-10-18T08:15:34","D",11001,9999,"NIT",null,null,null,null,null,null,null,null,null,null,null,null,null,null,null,null,null,null,null,null,null,null,null,null,null,null,null,null,null,null,null,null,null,null,null,null,null,null,null,null,"DOH IMPORTACIONES","9000626751","2006-10-25T17:51:48","D",11001]
["DOH IMPORTACIONES","9000626751","2006-10-25T17:51:48","D",11001,9999,"NIT",null,null,null,null,null,null,null,null,null,null,null,null,null,null,null,null,null,null,null,null,null,null,null,null,null,null,null,null,null,null,null,null,null,null,null,null,null,null,null,null,"CAMARA DE COMERCIO DE BOGOTA","8600073229","2006-10-26T08:09:30","D",11001]
["CAMARA DE COMERCIO DE BOGOTA","8600073229","2006-10-26T08:09:30","D",11001,9999,"NIT",null,null,null,null,null,null,null,null,null,null,null,null,null,null,null,null,null,null,null,null,null,null,null,null,null,null,null,null,null,null,null,null,null,null,null,null,null,null,null,null,"CIBERCOLEGIOS - TBF SISTEMAS","8300108049","2006-10-26T17:37:37","D",11001]
["CIBERCOLEGIOS - TBF SISTEMAS","8300108049","2006-10-26T17:37:37","D",11001,9999,"NIT",null,null,null,null,null,null,null,null,null,null,null,null,null,null,null,null,null,null,null,null,null,null,null,null,null,null,null,null,null,null,null,null,null,null,null,null,null,null,null,null,"COMPENSAR-OI","9998600669427","2006-10-27T18:16:40","F",11001]
["Polipropileno del Caribe SA PROPILCO ","8000594705","2006-10-30T18:08:18","D",11001,9999,"NIT",null,null,null,null,null,null,null,null,null,null,null,null,null,null,null,null,null,null,null,null,null,null,null,null,null,null,null,null,null,null,null,null,null,null,null,null,null,null,null,null,"PC MADRIGAL","702524474","2006-10-31T15:02:41","D",11001]
["PC MADRIGAL","702524474","2006-10-31T15:02:41","D",11001,9999,"NIT",null,null,null,null,null,null,null,null,null,null,null,null,null,null,null,null,null,null,null,null,null,null,null,null,null,null,null,null,null,null,null,null,null,null,null,null,null,null,null,null,"COMUNIDAD SAN IGNACIO-COLEGIO","8909858327","2006-10-31T16:51:21","D",11001]
["COMUNIDAD SAN IGNACIO-COLEGIO","8909858327","2006-10-31T16:51:21","D",11001,9999,"NIT",null,null,null,null,null,null,null,null,null,null,null,null,null,null,null,null,null,null,null,null,null,null,null,null,null,null,null,null,null,null,null,null,null,null,null,null,null,null,null,null,"ESCUELA COLOMBIANA DE INGENIERIA","8600348113","2006-11-01T08:14:10","D",11001]
["ESCUELA COLOMBIANA DE INGENIERIA","8600348113","2006-11-01T08:14:10","D",11001,9999,"NIT",null,null,null,null,null,null,null,null,null,null,null,null,null,null,null,null,null,null,null,null,null,null,null,null,null,null,null,null,null,null,null,null,null,null,null,null,null,null,null,null,"TRANSFIRIENDO S.A.","9000321594","2006-11-01T08:19:28","D",11001]
["TRANSFIRIENDO S.A.","9000321594","2006-11-01T08:19:28","D",11001,9999,"NIT",null,null,null,null,null,null,null,null,null,null,null,null,null,null,null,null,null,null,null,null,null,null,null,null,null,null,null,null,null,null,null,null,null,null,null,null,null,null,null,null,"EGM INGENIERIA SIN FRONTERAS","9002992280","2006-11-02T11:10:12","D",11001]
["EGM INGENIERIA SIN FRONTERAS","9002992280","2006-11-02T11:10:12","D",11001,9999,"NIT",null,null,null,null,null,null,null,null,null,null,null,null,null,null,null,null,null,null,null,null,null,null,null,null,null,null,null,null,null,null,null,null,null,null,null,null,null,null,null,null,"TILATA LTDA. [CIBERCOLEGIOS]","8001647415","2006-11-02T11:20:13","D",11001]
["TILATA LTDA. [CIBERCOLEGIOS]","8001647415","2006-11-02T11:20:13","D",11001,9999,"NIT",null,null,null,null,null,null,null,null,null,null,null,null,null,null,null,null,null,null,null,null,null,null,null,null,null,null,null,null,null,null,null,null,null,null,null,null,null,null,null,null,"SOCIEDAD EDUCACIONAL ANDINA S.A.","8605233769","2006-11-02T11:48:15","D",11001]
["SOCIEDAD EDUCACIONAL ANDINA S.A.","8605233769","2006-11-02T11:48:15","D",11001,9999,"NIT",null,null,null,null,null,null,null,null,null,null,null,null,null,null,null,null,null,null,null,null,null,null,null,null,null,null,null,null,null,null,null,null,null,null,null,null,null,null,null,null,"INVIMA-VUCE","830000167","2006-11-09T09:29:15","D",11001]
["INVIMA-VUCE","830000167","2006-11-09T09:29:15","D",11001,9999,"NIT",null,null,null,null,null,null,null,null,null,null,null,null,null,null,null,null,null,null,null,null,null,null,null,null,null,null,null,null,null,null,null,null,null,null,null,null,null,null,null,null,"LABORATORIOS SYNTHESIS","8600007601","2006-11-10T18:24:45","D",11001]
["LABORATORIOS SYNTHESIS","8600007601","2006-11-10T18:24:45","D",11001,9999,"NIT",null,null,null,null,null,null,null,null,null,null,null,null,null,null,null,null,null,null,null,null,null,null,null,null,null,null,null,null,null,null,null,null,null,null,null,null,null,null,null,null,"SURAMERICANA DE SEGUROS","8909034079","2006-11-10T18:31:27","D",11001]
["SURAMERICANA DE SEGUROS","8909034079","2006-11-10T18:31:27","D",11001,9999,"NIT",null,null,null,null,null,null,null,null,null,null,null,null,null,null,null,null,null,null,null,null,null,null,null,null,null,null,null,null,null,null,null,null,null,null,null,null,null,null,null,null,"Organizacion de las Naciones Unidas para la Infancia","8001769943","2006-11-10T18:37:05","D",11001]
["Organizacion de las Naciones Unidas para la Infancia","8001769943","2006-11-10T18:37:05","D",11001,9999,"NIT",null,null,null,null,null,null,null,null,null,null,null,null,null,null,null,null,null,null,null,null,null,null,null,null,null,null,null,null,null,null,null,null,null,null,null,null,null,null,null,null,"ACE SEGUROS S.A.","8600265186","2006-11-14T08:48:09","D",11001]
["ACE SEGUROS S.A.","8600265186","2006-11-14T08:48:09","D",11001,9999,"NIT",null,null,null,null,null,null,null,null,null,null,null,null,null,null,null,null,null,null,null,null,null,null,null,null,null,null,null,null,null,null,null,null,null,null,null,null,null,null,null,null,"VIPSA 2004","8301323231","2006-11-17T12:57:45","D",11001]
["VIPSA 2004","8301323231","2006-11-17T12:57:45","D",11001,9999,"NIT",null,null,null,null,null,null,null,null,null,null,null,null,null,null,null,null,null,null,null,null,null,null,null,null,null,null,null,null,null,null,null,null,null,null,null,null,null,null,null,null,"CONENERGIA S.A. ESP","8160038790","2006-11-17T17:47:28","D",11001]
["CONENERGIA S.A. ESP","8160038790","2006-11-17T17:47:28","D",11001,9999,"NIT",null,null,null,null,null,null,null,null,null,null,null,null,null,null,null,null,null,null,null,null,null,null,null,null,null,null,null,null,null,null,null,null,null,null,null,null,null,null,null,null,"EMGESA S.A. ESP","8600638758","2006-11-21T16:08:23","D",11001]
["EMGESA S.A. ESP","8600638758","2006-11-21T16:08:23","D",11001,9999,"NIT",null,null,null,null,null,null,null,null,null,null,null,null,null,null,null,null,null,null,null,null,null,null,null,null,null,null,null,null,null,null,null,null,null,null,null,null,null,null,null,null,"POLITECNICO COLOMBIANO JAIME ISAZA CADAVID","8909801366","2006-11-21T16:34:15","D",11001]
["POLITECNICO COLOMBIANO JAIME ISAZA CADAVID","8909801366","2006-11-21T16:34:15","D",11001,9999,"NIT",null,null,null,null,null,null,null,null,null,null,null,null,null,null,null,null,null,null,null,null,null,null,null,null,null,null,null,null,null,null,null,null,null,null,null,null,null,null,null,null,"UNIVERSIDAD CATOLICA DE COLOMBIA","8600289719","2006-11-23T17:27:50","D",11001]
["UNIVERSIDAD CATOLICA DE COLOMBIA","8600289719","2006-11-23T17:27:50","D",11001,9999,"NIT",null,null,null,null,null,null,null,null,null,null,null,null,null,null,null,null,null,null,null,null,null,null,null,null,null,null,null,null,null,null,null,null,null,null,null,null,null,null,null,null,"COLTEBIENES LTDA.","8909281570","2006-11-23T17:35:20","D",11001]
["COLTEBIENES LTDA.","8909281570","2006-11-23T17:35:20","D",11001,9999,"NIT",null,null,null,null,null,null,null,null,null,null,null,null,null,null,null,null,null,null,null,null,null,null,null,null,null,null,null,null,null,null,null,null,null,null,null,null,null,null,null,null,"MILENIUM CONNECTION E.U.","8050162481","2006-11-23T17:49:41","D",11001]
["MILENIUM CONNECTION E.U.","8050162481","2006-11-23T17:49:41","D",11001,9999,"NIT",null,null,null,null,null,null,null,null,null,null,null,null,null,null,null,null,null,null,null,null,null,null,null,null,null,null,null,null,null,null,null,null,null,null,null,null,null,null,null,null,"SUPERINTENDENCIA DE SOCIEDADES","8999990862","2006-11-24T18:22:57","D",11001]
["SUPERINTENDENCIA DE SOCIEDADES","8999990862","2006-11-24T18:22:57","D",11001,9999,"NIT",null,null,null,null,null,null,null,null,null,null,null,null,null,null,null,null,null,null,null,null,null,null,null,null,null,null,null,null,null,null,null,null,null,null,null,null,null,null,null,null,"UNIVERSIDAD DEL CAUCA","8915003192","2006-11-24T18:34:42","D",11001]
["UNIVERSIDAD DEL CAUCA","8915003192","2006-11-24T18:34:42","D",11001,9999,"NIT",null,null,null,null,null,null,null,null,null,null,null,null,null,null,null,null,null,null,null,null,null,null,null,null,null,null,null,null,null,null,null,null,null,null,null,null,null,null,null,null,"SOC. ESCUELA KARL PARRISH","8901015810","2006-11-27T16:38:46","D",11001]
["SOC. ESCUELA KARL PARRISH","8901015810","2006-11-27T16:38:46","D",11001,9999,"NIT",null,null,null,null,null,null,null,null,null,null,null,null,null,null,null,null,null,null,null,null,null,null,null,null,null,null,null,null,null,null,null,null,null,null,null,null,null,null,null,null,"KAREN TOURS S.A.","8002146967","2006-11-29T17:51:15","D",11001]
["KAREN TOURS S.A.","8002146967","2006-11-29T17:51:15","D",11001,9999,"NIT",null,null,null,null,null,null,null,null,null,null,null,null,null,null,null,null,null,null,null,null,null,null,null,null,null,null,null,null,null,null,null,null,null,null,null,null,null,null,null,null,"COLEGIO BRITANICO AMERICANO","8901103471","2006-12-06T09:38:27","D",11001]
["COLEGIO BRITANICO AMERICANO","8901103471","2006-12-06T09:38:27","D",11001,9999,"NIT",null,null,null,null,null,null,null,null,null,null,null,null,null,null,null,null,null,null,null,null,null,null,null,null,null,null,null,null,null,null,null,null,null,null,null,null,null,null,null,null,"MULTINTERNET LTDA.","900065740","2006-12-06T09:58:14","D",11001]
["MULTINTERNET LTDA.","900065740","2006-12-06T09:58:14","D",11001,9999,"NIT",null,null,null,null,null,null,null,null,null,null,null,null,null,null,null,null,null,null,null,null,null,null,null,null,null,null,null,null,null,null,null,null,null,null,null,null,null,null,null,null,"COLEGIO BRITANICO INTERNACIONAL S.A.","8001971432","2006-12-06T10:27:17","D",11001]
["COLEGIO BRITANICO INTERNACIONAL S.A.","8001971432","2006-12-06T10:27:17","D",11001,9999,"NIT",null,null,null,null,null,null,null,null,null,null,null,null,null,null,null,null,null,null,null,null,null,null,null,null,null,null,null,null,null,null,null,null,null,null,null,null,null,null,null,null,"LA TIENDA NATURISTA","193692641","2006-12-07T16:10:47","D",11001]
["LA TIENDA NATURISTA","193692641","2006-12-07T16:10:47","D",11001,9999,"NIT",null,null,null,null,null,null,null,null,null,null,null,null,null,null,null,null,null,null,null,null,null,null,null,null,null,null,null,null,null,null,null,null,null,null,null,null,null,null,null,null,"UNIVERSIDAD DE SAN BUENAVENTURA DE CALI","890307400","2006-12-12T06:41:19","D",11001]
["UNIVERSIDAD DE SAN BUENAVENTURA DE CALI","890307400","2006-12-12T06:41:19","D",11001,9999,"NIT",null,null,null,null,null,null,null,null,null,null,null,null,null,null,null,null,null,null,null,null,null,null,null,null,null,null,null,null,null,null,null,null,null,null,null,null,null,null,null,null,"FUNDACION CENTRO DE INVESTIGACION Y ESTUDIOS ODONTOLOGICOS CIEO","8605239625","2006-12-14T18:08:30","D",11001]
["FUNDACION CENTRO DE INVESTIGACION Y ESTUDIOS ODONTOLOGICOS CIEO","8605239625","2006-12-14T18:08:30","D",11001,9999,"NIT",null,null,null,null,null,null,null,null,null,null,null,null,null,null,null,null,null,null,null,null,null,null,null,null,null,null,null,null,null,null,null,null,null,null,null,null,null,null,null,null,"UNIVERSIDAD AUTONOMA DEL CARIBE","8901025729","2006-12-15T10:27:54","D",11001]
["UNIVERSIDAD AUTONOMA DEL CARIBE","8901025729","2006-12-15T10:27:54","D",11001,9999,"NIT",null,null,null,null,null,null,null,null,null,null,null,null,null,null,null,null,null,null,null,null,null,null,null,null,null,null,null,null,null,null,null,null,null,null,null,null,null,null,null,null,"CAM. DE COMERCIO BARRANQUILLA","8901020101","2006-12-19T08:44:28","D",11001]
["CAM. DE COMERCIO BARRANQUILLA","8901020101","2006-12-19T08:44:28","D",11001,9999,"NIT",null,null,null,null,null,null,null,null,null,null,null,null,null,null,null,null,null,null,null,null,null,null,null,null,null,null,null,null,null,null,null,null,null,null,null,null,null,null,null,null,"BENEFICENCIA DEL VALLE","8903990270","2006-12-26T12:01:37","D",11001]
["BENEFICENCIA DEL VALLE","8903990270","2006-12-26T12:01:37","D",11001,9999,"NIT",null,null,null,null,null,null,null,null,null,null,null,null,null,null,null,null,null,null,null,null,null,null,null,null,null,null,null,null,null,null,null,null,null,null,null,null,null,null,null,null,"Sociedad Portuaria Regional de Buenaventura S.A.","8002157755","2006-12-26T12:11:11","D",11001]
["Sociedad Portuaria Regional de Buenaventura S.A.","8002157755","2006-12-26T12:11:11","D",11001,9999,"NIT",null,null,null,null,null,null,null,null,null,null,null,null,null,null,null,null,null,null,null,null,null,null,null,null,null,null,null,null,null,null,null,null,null,null,null,null,null,null,null,null,"PHILIPS COLOMBIANA SAS [AVISOR]","8600053964","2006-12-26T12:17:45","D",11001]
["PHILIPS COLOMBIANA SAS [AVISOR]","8600053964","2006-12-26T12:17:45","D",11001,9999,"NIT",null,null,null,null,null,null,null,null,null,null,null,null,null,null,null,null,null,null,null,null,null,null,null,null,null,null,null,null,null,null,null,null,null,null,null,null,null,null,null,null,"FEDEPALMA","8600244236","2006-12-26T14:43:58","D",11001]
["FEDEPALMA","8600244236","2006-12-26T14:43:58","D",11001,9999,"NIT",null,null,null,null,null,null,null,null,null,null,null,null,null,null,null,null,null,null,null,null,null,null,null,null,null,null,null,null,null,null,null,null,null,null,null,null,null,null,null,null,"CORPORACION EL MINUTO DE DIOS","8600103710","2006-12-26T15:07:08","D",11001]
["CORPORACION EL MINUTO DE DIOS","8600103710","2006-12-26T15:07:08","D",11001,9999,"NIT",null,null,null,null,null,null,null,null,null,null,null,null,null,null,null,null,null,null,null,null,null,null,null,null,null,null,null,null,null,null,null,null,null,null,null,null,null,null,null,null,"CIRCULO DE VIAJES UNIVERSAL S.A.","8600290021","2006-12-26T17:36:48","D",11001]
["CIRCULO DE VIAJES UNIVERSAL S.A.","8600290021","2006-12-26T17:36:48","D",11001,9999,"NIT",null,null,null,null,null,null,null,null,null,null,null,null,null,null,null,null,null,null,null,null,null,null,null,null,null,null,null,null,null,null,null,null,null,null,null,null,null,null,null,null,"SKYNET DE COLOMBIA S.A.","8300597343","2006-12-26T17:46:48","D",11001]
["SKYNET DE COLOMBIA S.A.","8300597343","2006-12-26T17:46:48","D",11001,9999,"NIT",null,null,null,null,null,null,null,null,null,null,null,null,null,null,null,null,null,null,null,null,null,null,null,null,null,null,null,null,null,null,null,null,null,null,null,null,null,null,null,null,"EXPRESO BOLIVARIANO","8600051081","2006-12-27T10:49:55","D",11001]
["EXPRESO BOLIVARIANO","8600051081","2006-12-27T10:49:55","D",11001,9999,"NIT",null,null,null,null,null,null,null,null,null,null,null,null,null,null,null,null,null,null,null,null,null,null,null,null,null,null,null,null,null,null,null,null,null,null,null,null,null,null,null,null,"Tickets Fast S.A.S","9005691930","2006-12-28T12:33:28","D",11001]
["Tickets Fast S.A.S","9005691930","2006-12-28T12:33:28","D",11001,9999,"NIT",null,null,null,null,null,null,null,null,null,null,null,null,null,null,null,null,null,null,null,null,null,null,null,null,null,null,null,null,null,null,null,null,null,null,null,null,null,null,null,null,"IMAPAR LTDA.","8000441941","2007-01-11T10:04:10","D",11001]
["IMAPAR LTDA.","8000441941","2007-01-11T10:04:10","D",11001,9999,"NIT",null,null,null,null,null,null,null,null,null,null,null,null,null,null,null,null,null,null,null,null,null,null,null,null,null,null,null,null,null,null,null,null,null,null,null,null,null,null,null,null,"CORPORACION CLUB MEDELLIN","8904804713","2007-01-15T12:23:28","D",11001]
["CORPORACION CLUB MEDELLIN","8904804713","2007-01-15T12:23:28","D",11001,9999,"NIT",null,null,null,null,null,null,null,null,null,null,null,null,null,null,null,null,null,null,null,null,null,null,null,null,null,null,null,null,null,null,null,null,null,null,null,null,null,null,null,null,"AVANTEL S.A.S.","8300160461","2007-01-18T14:54:13","D",11001]
["AVANTEL S.A.S.","8300160461","2007-01-18T14:54:13","D",11001,9999,"NIT",null,null,null,null,null,null,null,null,null,null,null,null,null,null,null,null,null,null,null,null,null,null,null,null,null,null,null,null,null,null,null,null,null,null,null,null,null,null,null,null,"COLOMBIANA DE COMUNICACIONES COLDECOM","8050124234","2007-01-30T17:59:12","D",11001]
["COLOMBIANA DE COMUNICACIONES COLDECOM","8050124234","2007-01-30T17:59:12","D",11001,9999,"NIT",null,null,null,null,null,null,null,null,null,null,null,null,null,null,null,null,null,null,null,null,null,null,null,null,null,null,null,null,null,null,null,null,null,null,null,null,null,null,null,null,"Gimnasio Fontana S.A.","8000021436","2007-01-30T18:10:01","D",11001]
["Gimnasio Fontana S.A.","8000021436","2007-01-30T18:10:01","D",11001,9999,"NIT",null,null,null,null,null,null,null,null,null,null,null,null,null,null,null,null,null,null,null,null,null,null,null,null,null,null,null,null,null,null,null,null,null,null,null,null,null,null,null,null,"COMPAÑIA AGRICOLA DE SEGUROS S.A.","8600025279","2007-02-09T16:50:49","D",11001]
["COMPAÑIA AGRICOLA DE SEGUROS S.A.","8600025279","2007-02-09T16:50:49","D",11001,9999,"NIT",null,null,null,null,null,null,null,null,null,null,null,null,null,null,null,null,null,null,null,null,null,null,null,null,null,null,null,null,null,null,null,null,null,null,null,null,null,null,null,null,"ARIARI LTDA.","8110021665","2007-02-09T18:15:13","D",11001]
["ARIARI LTDA.","8110021665","2007-02-09T18:15:13","D",11001,9999,"NIT",null,null,null,null,null,null,null,null,null,null,null,null,null,null,null,null,null,null,null,null,null,null,null,null,null,null,null,null,null,null,null,null,null,null,null,null,null,null,null,null,"EMPRESA DE ENERGIA DE CUNDINAMARCA S.A. ESP.","8600076380","2007-02-12T09:20:26","D",11001]
["EMPRESA DE ENERGIA DE CUNDINAMARCA S.A. ESP.","8600076380","2007-02-12T09:20:26","D",11001,9999,"NIT",null,null,null,null,null,null,null,null,null,null,null,null,null,null,null,null,null,null,null,null,null,null,null,null,null,null,null,null,null,null,null,null,null,null,null,null,null,null,null,null,"INSTITUTO NACIONAL DE VIAS","8002158072","2007-02-19T11:57:58","D",11001]
["INSTITUTO NACIONAL DE VIAS","8002158072","2007-02-19T11:57:58","D",11001,9999,"NIT",null,null,null,null,null,null,null,null,null,null,null,null,null,null,null,null,null,null,null,null,null,null,null,null,null,null,null,null,null,null,null,null,null,null,null,null,null,null,null,null,"BLUEFIELDS NON-PROFITFOUNDATION","9000490157","2007-02-23T10:07:18","D",11001]
["BLUEFIELDS NON-PROFITFOUNDATION","9000490157","2007-02-23T10:07:18","D",11001,9999,"NIT",null,null,null,null,null,null,null,null,null,null,null,null,null,null,null,null,null,null,null,null,null,null,null,null,null,null,null,null,null,null,null,null,null,null,null,null,null,null,null,null,"EDICIONES GAMMA S.A.","8600620013","2007-03-20T18:25:14","D",11001]
["EDICIONES GAMMA S.A.","8600620013","2007-03-20T18:25:14","D",11001,9999,"NIT",null,null,null,null,null,null,null,null,null,null,null,null,null,null,null,null,null,null,null,null,null,null,null,null,null,null,null,null,null,null,null,null,null,null,null,null,null,null,null,null,"PRODUCTOS FAMILIA S.A.","8909001619","2007-03-20T18:31:23","D",11001]
["PRODUCTOS FAMILIA S.A.","8909001619","2007-03-20T18:31:23","D",11001,9999,"NIT",null,null,null,null,null,null,null,null,null,null,null,null,null,null,null,null,null,null,null,null,null,null,null,null,null,null,null,null,null,null,null,null,null,null,null,null,null,null,null,null,"CREDIMAPFRE S.A.","8605243376","2007-03-21T15:07:37","D",11001]
["CREDIMAPFRE S.A.","8605243376","2007-03-21T15:07:37","D",11001,9999,"NIT",null,null,null,null,null,null,null,null,null,null,null,null,null,null,null,null,null,null,null,null,null,null,null,null,null,null,null,null,null,null,null,null,null,null,null,null,null,null,null,null,"Banco Finandina S.A.","8600518946","2007-03-26T09:55:54","D",11001]
["Banco Finandina S.A.","8600518946","2007-03-26T09:55:54","D",11001,9999,"NIT",null,null,null,null,null,null,null,null,null,null,null,null,null,null,null,null,null,null,null,null,null,null,null,null,null,null,null,null,null,null,null,null,null,null,null,null,null,null,null,null,"FONDO NACIONAL AMBIENTAL- FONAM","8300252679","2007-03-26T10:05:16","D",11001]
["FONDO NACIONAL AMBIENTAL- FONAM","8300252679","2007-03-26T10:05:16","D",11001,9999,"NIT",null,null,null,null,null,null,null,null,null,null,null,null,null,null,null,null,null,null,null,null,null,null,null,null,null,null,null,null,null,null,null,null,null,null,null,null,null,null,null,null,"SLIDE DEPOT LTDA","8300426064","2007-03-30T08:40:27","D",11001]
["SLIDE DEPOT LTDA","8300426064","2007-03-30T08:40:27","D",11001,9999,"NIT",null,null,null,null,null,null,null,null,null,null,null,null,null,null,null,null,null,null,null,null,null,null,null,null,null,null,null,null,null,null,null,null,null,null,null,null,null,null,null,null,"SEGUROS DEL ESTADO S.A.","8600095786","2007-03-30T09:08:44","D",11001]
["SEGUROS DEL ESTADO S.A.","8600095786","2007-03-30T09:08:44","D",11001,9999,"NIT",null,null,null,null,null,null,null,null,null,null,null,null,null,null,null,null,null,null,null,null,null,null,null,null,null,null,null,null,null,null,null,null,null,null,null,null,null,null,null,null,"MUNICIPIO DE RIONEGRO","8909073172","2007-03-30T09:37:32","D",11001]
["MUNICIPIO DE RIONEGRO","8909073172","2007-03-30T09:37:32","D",11001,9999,"NIT",null,null,null,null,null,null,null,null,null,null,null,null,null,null,null,null,null,null,null,null,null,null,null,null,null,null,null,null,null,null,null,null,null,null,null,null,null,null,null,null,"ICA-VUCE EXPORTACIONES","899999069","2007-03-30T09:56:27","D",11001]
["ICA-VUCE EXPORTACIONES","899999069","2007-03-30T09:56:27","D",11001,9999,"NIT",null,null,null,null,null,null,null,null,null,null,null,null,null,null,null,null,null,null,null,null,null,null,null,null,null,null,null,null,null,null,null,null,null,null,null,null,null,null,null,null,"E-TRAINING LTDA.","8301475471","2007-04-10T06:34:51","D",11001]
["E-TRAINING LTDA.","8301475471","2007-04-10T06:34:51","D",11001,9999,"NIT",null,null,null,null,null,null,null,null,null,null,null,null,null,null,null,null,null,null,null,null,null,null,null,null,null,null,null,null,null,null,null,null,null,null,null,null,null,null,null,null,"BERLINAS DEL FONCE TRANSPORTE Y TURISMO S.A.","8600156241","2007-04-18T12:23:05","D",11001]
["BERLINAS DEL FONCE TRANSPORTE Y TURISMO S.A.","8600156241","2007-04-18T12:23:05","D",11001,9999,"NIT",null,null,null,null,null,null,null,null,null,null,null,null,null,null,null,null,null,null,null,null,null,null,null,null,null,null,null,null,null,null,null,null,null,null,null,null,null,null,null,null,"COLEGIO ANDINO-CORPORACION CULTURAL ALEJANDRO VON HUMBOLDT","8600067542","2007-04-23T16:27:48","D",11001]
["COLEGIO ANDINO-CORPORACION CULTURAL ALEJANDRO VON HUMBOLDT","8600067542","2007-04-23T16:27:48","D",11001,9999,"NIT",null,null,null,null,null,null,null,null,null,null,null,null,null,null,null,null,null,null,null,null,null,null,null,null,null,null,null,null,null,null,null,null,null,null,null,null,null,null,null,null,"C.I. DISAN S.A.","8600488676","2007-04-23T17:02:04","D",11001]
["C.I. DISAN S.A.","8600488676","2007-04-23T17:02:04","D",11001,9999,"NIT",null,null,null,null,null,null,null,null,null,null,null,null,null,null,null,null,null,null,null,null,null,null,null,null,null,null,null,null,null,null,null,null,null,null,null,null,null,null,null,null,"FUNDACION UNIVERSIDAD DE BOGOTA JORGE TADEO LOZANO","8600068486","2007-05-15T06:29:10","D",11001]
["FUNDACION UNIVERSIDAD DE BOGOTA JORGE TADEO LOZANO","8600068486","2007-05-15T06:29:10","D",11001,9999,"NIT",null,null,null,null,null,null,null,null,null,null,null,null,null,null,null,null,null,null,null,null,null,null,null,null,null,null,null,null,null,null,null,null,null,null,null,null,null,null,null,null,"FUNDACION INFANTIL CARLA CRISTINA","8909015243","2007-05-15T06:46:07","D",11001]
["FUNDACION INFANTIL CARLA CRISTINA","8909015243","2007-05-15T06:46:07","D",11001,9999,"NIT",null,null,null,null,null,null,null,null,null,null,null,null,null,null,null,null,null,null,null,null,null,null,null,null,null,null,null,null,null,null,null,null,null,null,null,null,null,null,null,null,"MOBRY LTDA.","8270004493","2007-05-31T08:16:18","D",11001]
["MOBRY LTDA.","8270004493","2007-05-31T08:16:18","D",11001,9999,"NIT",null,null,null,null,null,null,null,null,null,null,null,null,null,null,null,null,null,null,null,null,null,null,null,null,null,null,null,null,null,null,null,null,null,null,null,null,null,null,null,null,"UNIVERSIDAD PEDAGOGICA Y TECNOLOGICA DE COLOMBIA","8918003301","2007-05-31T08:27:13","D",11001]
["UNIVERSIDAD PEDAGOGICA Y TECNOLOGICA DE COLOMBIA","8918003301","2007-05-31T08:27:13","D",11001,9999,"NIT",null,null,null,null,null,null,null,null,null,null,null,null,null,null,null,null,null,null,null,null,null,null,null,null,null,null,null,null,null,null,null,null,null,null,null,null,null,null,null,null,"ARTE ELECTRONICO E.U.","8110319055","2007-05-31T09:07:50","D",11001]
["ARTE ELECTRONICO E.U.","8110319055","2007-05-31T09:07:50","D",11001,9999,"NIT",null,null,null,null,null,null,null,null,null,null,null,null,null,null,null,null,null,null,null,null,null,null,null,null,null,null,null,null,null,null,null,null,null,null,null,null,null,null,null,null,"MEGAINSENTIVOS S.A.S. - MEGASTORE GROUP LTDA","9002704495","2007-06-08T11:28:01","D",11001]
["MEGAINSENTIVOS S.A.S. - MEGASTORE GROUP LTDA","9002704495","2007-06-08T11:28:01","D",11001,9999,"NIT",null,null,null,null,null,null,null,null,null,null,null,null,null,null,null,null,null,null,null,null,null,null,null,null,null,null,null,null,null,null,null,null,null,null,null,null,null,null,null,null,"FUNDACION UNIVERSIDAD DEL NORTE","8901016819","2007-06-20T13:19:07","D",11001]
["FUNDACION UNIVERSIDAD DEL NORTE","8901016819","2007-06-20T13:19:07","D",11001,9999,"NIT",null,null,null,null,null,null,null,null,null,null,null,null,null,null,null,null,null,null,null,null,null,null,null,null,null,null,null,null,null,null,null,null,null,null,null,null,null,null,null,null,"INTERASESORES ASESORES EMPRESARIALES ADMINISTRATIVOS S.A","8000191029","2007-06-20T18:01:49","D",11001]
["INTERASESORES ASESORES EMPRESARIALES ADMINISTRATIVOS S.A","8000191029","2007-06-20T18:01:49","D",11001,9999,"NIT",null,null,null,null,null,null,null,null,null,null,null,null,null,null,null,null,null,null,null,null,null,null,null,null,null,null,null,null,null,null,null,null,null,null,null,null,null,null,null,null,"UNIVERSIDAD EAFIT","8909013895","2007-06-20T18:08:41","D",11001]
["UNIVERSIDAD EAFIT","8909013895","2007-06-20T18:08:41","D",11001,9999,"NIT",null,null,null,null,null,null,null,null,null,null,null,null,null,null,null,null,null,null,null,null,null,null,null,null,null,null,null,null,null,null,null,null,null,null,null,null,null,null,null,null,"AGUAS DE RIONEGRO S.A. ESP","8110086846","2007-06-25T11:16:35","D",11001]
["AGUAS DE RIONEGRO S.A. ESP","8110086846","2007-06-25T11:16:35","D",11001,9999,"NIT",null,null,null,null,null,null,null,null,null,null,null,null,null,null,null,null,null,null,null,null,null,null,null,null,null,null,null,null,null,null,null,null,null,null,null,null,null,null,null,null,"HOSPITAL PABLO TOBON URIBE","8909018262","2007-06-25T11:30:45","D",11001]
["HOSPITAL PABLO TOBON URIBE","8909018262","2007-06-25T11:30:45","D",11001,9999,"NIT",null,null,null,null,null,null,null,null,null,null,null,null,null,null,null,null,null,null,null,null,null,null,null,null,null,null,null,null,null,null,null,null,null,null,null,null,null,null,null,null,"EMPRESAS PUBLICAS DE LA CEJA E.S.P.","8110093290","2007-06-26T19:51:15","D",11001]
["EMPRESAS PUBLICAS DE LA CEJA E.S.P.","8110093290","2007-06-26T19:51:15","D",11001,9999,"NIT",null,null,null,null,null,null,null,null,null,null,null,null,null,null,null,null,null,null,null,null,null,null,null,null,null,null,null,null,null,null,null,null,null,null,null,null,null,null,null,null,"Municipio de el Retiro","8909836740","2007-06-26T20:07:09","D",11001]
["Municipio de el Retiro","8909836740","2007-06-26T20:07:09","D",11001,9999,"NIT",null,null,null,null,null,null,null,null,null,null,null,null,null,null,null,null,null,null,null,null,null,null,null,null,null,null,null,null,null,null,null,null,null,null,null,null,null,null,null,null,"MUNICIPIO DE LA CEJA DEL TAMBO","8909812074","2007-06-26T20:20:32","D",11001]
["MUNICIPIO DE LA CEJA DEL TAMBO","8909812074","2007-06-26T20:20:32","D",11001,9999,"NIT",null,null,null,null,null,null,null,null,null,null,null,null,null,null,null,null,null,null,null,null,null,null,null,null,null,null,null,null,null,null,null,null,null,null,null,null,null,null,null,null,"EPS FAMISANAR LTDA.","830003564","2007-06-29T19:19:24","D",11001]
["EPS FAMISANAR LTDA.","830003564","2007-06-29T19:19:24","D",11001,9999,"NIT",null,null,null,null,null,null,null,null,null,null,null,null,null,null,null,null,null,null,null,null,null,null,null,null,null,null,null,null,null,null,null,null,null,null,null,null,null,null,null,null,"COMPAÑIA SURAMERICANA DE SEGUROS S.A. / ISOAT","890903407","2007-06-29T19:29:54","D",11001]
["COMPAÑIA SURAMERICANA DE SEGUROS S.A. / ISOAT","890903407","2007-06-29T19:29:54","D",11001,9999,"NIT",null,null,null,null,null,null,null,null,null,null,null,null,null,null,null,null,null,null,null,null,null,null,null,null,null,null,null,null,null,null,null,null,null,null,null,null,null,null,null,null,"UNIVERSAL LANGUAGE ACADEMY","8110244291","2007-07-05T16:55:43","D",11001]
["UNIVERSAL LANGUAGE ACADEMY","8110244291","2007-07-05T16:55:43","D",11001,9999,"NIT",null,null,null,null,null,null,null,null,null,null,null,null,null,null,null,null,null,null,null,null,null,null,null,null,null,null,null,null,null,null,null,null,null,null,null,null,null,null,null,null,"Gla Education SAS","9006298785","2007-07-06T16:24:17","D",11001]
["Gla Education SAS","9006298785","2007-07-06T16:24:17","D",11001,9999,"NIT",null,null,null,null,null,null,null,null,null,null,null,null,null,null,null,null,null,null,null,null,null,null,null,null,null,null,null,null,null,null,null,null,null,null,null,null,null,null,null,null,"TELEVENTAS S.A.","8000493030","2007-07-06T16:49:28","D",11001]
["TELEVENTAS S.A.","8000493030","2007-07-06T16:49:28","D",11001,9999,"NIT",null,null,null,null,null,null,null,null,null,null,null,null,null,null,null,null,null,null,null,null,null,null,null,null,null,null,null,null,null,null,null,null,null,null,null,null,null,null,null,null,"ALMACENES EXITO S.A.","890900608","2007-07-06T18:50:47","D",11001]
["ALMACENES EXITO S.A.","890900608","2007-07-06T18:50:47","D",11001,9999,"NIT",null,null,null,null,null,null,null,null,null,null,null,null,null,null,null,null,null,null,null,null,null,null,null,null,null,null,null,null,null,null,null,null,null,null,null,null,null,null,null,null,"UNIVERSIDAD LA GRAN COLOMBIA (Avisor)","8600156850","2007-07-12T17:27:35","D",11001]
["UNIVERSIDAD LA GRAN COLOMBIA (Avisor)","8600156850","2007-07-12T17:27:35","D",11001,9999,"NIT",null,null,null,null,null,null,null,null,null,null,null,null,null,null,null,null,null,null,null,null,null,null,null,null,null,null,null,null,null,null,null,null,null,null,null,null,null,null,null,null,"LUIS FERNANDO CUIDA GOMEZ-PRODUCCIONES ESPERANZA","794319706","2007-07-13T18:13:07","D",11001]
["LUIS FERNANDO CUIDA GOMEZ-PRODUCCIONES ESPERANZA","794319706","2007-07-13T18:13:07","D",11001,9999,"NIT",null,null,null,null,null,null,null,null,null,null,null,null,null,null,null,null,null,null,null,null,null,null,null,null,null,null,null,null,null,null,null,null,null,null,null,null,null,null,null,null,"KNOWLEDGE TRADING SOLUTIONS S.A.","9001393427","2007-07-19T17:29:35","D",11001]
["KNOWLEDGE TRADING SOLUTIONS S.A.","9001393427","2007-07-19T17:29:35","D",11001,9999,"NIT",null,null,null,null,null,null,null,null,null,null,null,null,null,null,null,null,null,null,null,null,null,null,null,null,null,null,null,null,null,null,null,null,null,null,null,null,null,null,null,null,"CORPORACION UNIVERSITARIA REMINGTON","8110054251","2007-07-19T17:49:41","D",11001]
["CORPORACION UNIVERSITARIA REMINGTON","8110054251","2007-07-19T17:49:41","D",11001,9999,"NIT",null,null,null,null,null,null,null,null,null,null,null,null,null,null,null,null,null,null,null,null,null,null,null,null,null,null,null,null,null,null,null,null,null,null,null,null,null,null,null,null,"CAMARA DE COMERCIO DE BUCARAMANGA","8902001101","2007-07-19T18:04:03","D",11001]
["CAMARA DE COMERCIO DE BUCARAMANGA","8902001101","2007-07-19T18:04:03","D",11001,9999,"NIT",null,null,null,null,null,null,null,null,null,null,null,null,null,null,null,null,null,null,null,null,null,null,null,null,null,null,null,null,null,null,null,null,null,null,null,null,null,null,null,null,"INDUSTRIA MILITAR","8999990443","2007-07-19T18:19:13","D",11001]
["INDUSTRIA MILITAR","8999990443","2007-07-19T18:19:13","D",11001,9999,"NIT",null,null,null,null,null,null,null,null,null,null,null,null,null,null,null,null,null,null,null,null,null,null,null,null,null,null,null,null,null,null,null,null,null,null,null,null,null,null,null,null,"COLOMBIA QUEST LTDA","9000895600","2007-07-19T18:30:00","D",11001]
["COLOMBIA QUEST LTDA","9000895600","2007-07-19T18:30:00","D",11001,9999,"NIT",null,null,null,null,null,null,null,null,null,null,null,null,null,null,null,null,null,null,null,null,null,null,null,null,null,null,null,null,null,null,null,null,null,null,null,null,null,null,null,null,"MUNICIPIO DE LA ESTRELLA","8909807824","2007-07-31T19:51:49","D",11001]
["MUNICIPIO DE LA ESTRELLA","8909807824","2007-07-31T19:51:49","D",11001,9999,"NIT",null,null,null,null,null,null,null,null,null,null,null,null,null,null,null,null,null,null,null,null,null,null,null,null,null,null,null,null,null,null,null,null,null,null,null,null,null,null,null,null,"CORPORACION UNIVERSITARIA IBEROAMERICANA","8605038377","2007-07-31T20:14:26","D",11001]
["CORPORACION UNIVERSITARIA IBEROAMERICANA","8605038377","2007-07-31T20:14:26","D",11001,9999,"NIT",null,null,null,null,null,null,null,null,null,null,null,null,null,null,null,null,null,null,null,null,null,null,null,null,null,null,null,null,null,null,null,null,null,null,null,null,null,null,null,null,"ORGANIZACION SAYCO-ACINPRO","8000218119","2007-08-01T19:50:58","D",11001]
["ORGANIZACION SAYCO-ACINPRO","8000218119","2007-08-01T19:50:58","D",11001,9999,"NIT",null,null,null,null,null,null,null,null,null,null,null,null,null,null,null,null,null,null,null,null,null,null,null,null,null,null,null,null,null,null,null,null,null,null,null,null,null,null,null,null,"3M COLOMBIA S.A.","8600026933","2007-08-01T21:23:19","D",11001]
["3M COLOMBIA S.A.","8600026933","2007-08-01T21:23:19","D",11001,9999,"NIT",null,null,null,null,null,null,null,null,null,null,null,null,null,null,null,null,null,null,null,null,null,null,null,null,null,null,null,null,null,null,null,null,null,null,null,null,null,null,null,null,"TLC SUPERMERCADOS DOSQUEBRADAS - MESA GONZALEZ LUIS FERNANDO","716274898","2007-08-10T18:22:51","D",11001]
["TLC SUPERMERCADOS DOSQUEBRADAS - MESA GONZALEZ LUIS FERNANDO","716274898","2007-08-10T18:22:51","D",11001,9999,"NIT",null,null,null,null,null,null,null,null,null,null,null,null,null,null,null,null,null,null,null,null,null,null,null,null,null,null,null,null,null,null,null,null,null,null,null,null,null,null,null,null,"IVAN BOTERO GOMEZ S.A.","8900016003","2007-08-10T18:35:41","D",11001]
["IVAN BOTERO GOMEZ S.A.","8900016003","2007-08-10T18:35:41","D",11001,9999,"NIT",null,null,null,null,null,null,null,null,null,null,null,null,null,null,null,null,null,null,null,null,null,null,null,null,null,null,null,null,null,null,null,null,null,null,null,null,null,null,null,null,"COMERCIAL NUEVO MUNDO E.U.","9001178598","2007-08-10T18:52:24","D",11001]
["COMERCIAL NUEVO MUNDO E.U.","9001178598","2007-08-10T18:52:24","D",11001,9999,"NIT",null,null,null,null,null,null,null,null,null,null,null,null,null,null,null,null,null,null,null,null,null,null,null,null,null,null,null,null,null,null,null,null,null,null,null,null,null,null,null,null,"FUNDACION JUAN FELIPE GOMEZ ESCOBAR","8060092271","2007-08-15T06:49:59","D",11001]
["FUNDACION JUAN FELIPE GOMEZ ESCOBAR","8060092271","2007-08-15T06:49:59","D",11001,9999,"NIT",null,null,null,null,null,null,null,null,null,null,null,null,null,null,null,null,null,null,null,null,null,null,null,null,null,null,null,null,null,null,null,null,null,null,null,null,null,null,null,null,"NOVAVENTA S.A.","8110252891","2007-08-17T11:33:08","D",11001]
["NOVAVENTA S.A.","8110252891","2007-08-17T11:33:08","D",11001,9999,"NIT",null,null,null,null,null,null,null,null,null,null,null,null,null,null,null,null,null,null,null,null,null,null,null,null,null,null,null,null,null,null,null,null,null,null,null,null,null,null,null,null,"PUBLICACIONES SEMANA S.A.","8605092651","2007-08-24T06:45:25","D",11001]
["PUBLICACIONES SEMANA S.A.","8605092651","2007-08-24T06:45:25","D",11001,9999,"NIT",null,null,null,null,null,null,null,null,null,null,null,null,null,null,null,null,null,null,null,null,null,null,null,null,null,null,null,null,null,null,null,null,null,null,null,null,null,null,null,null,"FUNDACION EDUCATIVA DE INGLATERRA","8600238148","2007-08-24T06:55:59","D",11001]
["FUNDACION EDUCATIVA DE INGLATERRA","8600238148","2007-08-24T06:55:59","D",11001,9999,"NIT",null,null,null,null,null,null,null,null,null,null,null,null,null,null,null,null,null,null,null,null,null,null,null,null,null,null,null,null,null,null,null,null,null,null,null,null,null,null,null,null,"JUAN GAVIRIA RESTREPO & CIA S.A.","8605168477","2007-08-24T16:47:30","D",11001]
["JUAN GAVIRIA RESTREPO & CIA S.A.","8605168477","2007-08-24T16:47:30","D",11001,9999,"NIT",null,null,null,null,null,null,null,null,null,null,null,null,null,null,null,null,null,null,null,null,null,null,null,null,null,null,null,null,null,null,null,null,null,null,null,null,null,null,null,null,"DISTRIBUIDORA RAYCO S.A.","8902066115","2007-09-03T19:14:57","D",11001]
["DISTRIBUIDORA RAYCO S.A.","8902066115","2007-09-03T19:14:57","D",11001,9999,"NIT",null,null,null,null,null,null,null,null,null,null,null,null,null,null,null,null,null,null,null,null,null,null,null,null,null,null,null,null,null,null,null,null,null,null,null,null,null,null,null,null,"PROYECTOS SEMANA S.A.","9000916952","2007-09-03T19:21:38","D",11001]
["PROYECTOS SEMANA S.A.","9000916952","2007-09-03T19:21:38","D",11001,9999,"NIT",null,null,null,null,null,null,null,null,null,null,null,null,null,null,null,null,null,null,null,null,null,null,null,null,null,null,null,null,null,null,null,null,null,null,null,null,null,null,null,null,"ASIA IGNACIANA","8909825644","2007-09-03T19:31:56","D",11001]
["ASIA IGNACIANA","8909825644","2007-09-03T19:31:56","D",11001,9999,"NIT",null,null,null,null,null,null,null,null,null,null,null,null,null,null,null,null,null,null,null,null,null,null,null,null,null,null,null,null,null,null,null,null,null,null,null,null,null,null,null,null,"CORPORACION COLEGIO CUMBRES","8002500161","2007-09-07T18:19:27","D",11001]
["CORPORACION COLEGIO CUMBRES","8002500161","2007-09-07T18:19:27","D",11001,9999,"NIT",null,null,null,null,null,null,null,null,null,null,null,null,null,null,null,null,null,null,null,null,null,null,null,null,null,null,null,null,null,null,null,null,null,null,null,null,null,null,null,null,"INVERDESA S.A.","8300332063","2007-09-07T18:29:08","D",11001]
["INVERDESA S.A.","8300332063","2007-09-07T18:29:08","D",11001,9999,"NIT",null,null,null,null,null,null,null,null,null,null,null,null,null,null,null,null,null,null,null,null,null,null,null,null,null,null,null,null,null,null,null,null,null,null,null,null,null,null,null,null,"SOCIEDAD AIR FRANCE","8600073694","2007-09-07T18:35:23","D",11001]
["SOCIEDAD AIR FRANCE","8600073694","2007-09-07T18:35:23","D",11001,9999,"NIT",null,null,null,null,null,null,null,null,null,null,null,null,null,null,null,null,null,null,null,null,null,null,null,null,null,null,null,null,null,null,null,null,null,null,null,null,null,null,null,null,"CONGREGACION DE LOS HERMANOS DE LAS ESCUELAS CRISTIANAS","8909011305","2007-09-07T18:42:03","D",11001]
["CONGREGACION DE LOS HERMANOS DE LAS ESCUELAS CRISTIANAS","8909011305","2007-09-07T18:42:03","D",11001,9999,"NIT",null,null,null,null,null,null,null,null,null,null,null,null,null,null,null,null,null,null,null,null,null,null,null,null,null,null,null,null,null,null,null,null,null,null,null,null,null,null,null,null,"FUNDACION UNIVERSITARIA BELLAS ARTES","9001260623","2007-09-07T18:48:30","D",11001]
["FUNDACION UNIVERSITARIA BELLAS ARTES","9001260623","2007-09-07T18:48:30","D",11001,9999,"NIT",null,null,null,null,null,null,null,null,null,null,null,null,null,null,null,null,null,null,null,null,null,null,null,null,null,null,null,null,null,null,null,null,null,null,null,null,null,null,null,null,"TICKET FACTORY EXPRESS LTDA","9002005455","2007-09-07T18:55:41","D",11001]
["TICKET FACTORY EXPRESS LTDA","9002005455","2007-09-07T18:55:41","D",11001,9999,"NIT",null,null,null,null,null,null,null,null,null,null,null,null,null,null,null,null,null,null,null,null,null,null,null,null,null,null,null,null,null,null,null,null,null,null,null,null,null,null,null,null,"SOCIEDAD DE MEJORAS PUBLICAS DE MEDELLIN","8909041411","2007-09-07T19:02:43","D",11001]
["SOCIEDAD DE MEJORAS PUBLICAS DE MEDELLIN","8909041411","2007-09-07T19:02:43","D",11001,9999,"NIT",null,null,null,null,null,null,null,null,null,null,null,null,null,null,null,null,null,null,null,null,null,null,null,null,null,null,null,null,null,null,null,null,null,null,null,null,null,null,null,null,"COLEGIO SAN LUIS GONZAGA CALI - COMUN.HERMANOS MARISTAS ENSEÑANZ","860006744","2007-09-10T14:03:08","D",11001]
["COLEGIO SAN LUIS GONZAGA CALI - COMUN.HERMANOS MARISTAS ENSEÑANZ","860006744","2007-09-10T14:03:08","D",11001,9999,"NIT",null,null,null,null,null,null,null,null,null,null,null,null,null,null,null,null,null,null,null,null,null,null,null,null,null,null,null,null,null,null,null,null,null,null,null,null,null,null,null,null,"COLEGIO CHAMPAGNAT IBAGUE - COMUN.HERMANOS MARISTAS ENSEÑANZ","8600067449","2007-09-10T14:22:03","D",11001]
["COLEGIO CHAMPAGNAT IBAGUE - COMUN.HERMANOS MARISTAS ENSEÑANZ","8600067449","2007-09-10T14:22:03","D",11001,9999,"NIT",null,null,null,null,null,null,null,null,null,null,null,null,null,null,null,null,null,null,null,null,null,null,null,null,null,null,null,null,null,null,null,null,null,null,null,null,null,null,null,null,"COLEGIO CHAMPAGNAT IPIALES - COMUN.HERMANOS MARISTAS ENSEÑANZ","8600067441","2007-09-10T14:39:49","D",11001]
["COLEGIO CHAMPAGNAT IPIALES - COMUN.HERMANOS MARISTAS ENSEÑANZ","8600067441","2007-09-10T14:39:49","D",11001,9999,"NIT",null,null,null,null,null,null,null,null,null,null,null,null,null,null,null,null,null,null,null,null,null,null,null,null,null,null,null,null,null,null,null,null,null,null,null,null,null,null,null,null,"INSTITUTO CHAMPAGNAT PASTO- COMUN.HERMANOS MARISTAS ENSEÑANZ","8600067442","2007-09-10T14:48:06","D",11001]
["INSTITUTO CHAMPAGNAT PASTO- COMUN.HERMANOS MARISTAS ENSEÑANZ","8600067442","2007-09-10T14:48:06","D",11001,9999,"NIT",null,null,null,null,null,null,null,null,null,null,null,null,null,null,null,null,null,null,null,null,null,null,null,null,null,null,null,null,null,null,null,null,null,null,null,null,null,null,null,null,"REALTECH LTDA.","9003573113","2007-09-10T14:55:13","D",11001]
["REALTECH LTDA.","9003573113","2007-09-10T14:55:13","D",11001,9999,"NIT",null,null,null,null,null,null,null,null,null,null,null,null,null,null,null,null,null,null,null,null,null,null,null,null,null,null,null,null,null,null,null,null,null,null,null,null,null,null,null,null,"ATHLETIC SPORT INC LTDA","8300035837","2007-09-18T15:45:30","D",11001]
["ATHLETIC SPORT INC LTDA","8300035837","2007-09-18T15:45:30","D",11001,9999,"NIT",null,null,null,null,null,null,null,null,null,null,null,null,null,null,null,null,null,null,null,null,null,null,null,null,null,null,null,null,null,null,null,null,null,null,null,null,null,null,null,null,"BANCO DE OCCIDENTE - (LEASING DE OCCIDENTE)","860503370","2007-09-18T17:13:43","D",11001]
["BANCO DE OCCIDENTE - (LEASING DE OCCIDENTE)","860503370","2007-09-18T17:13:43","D",11001,9999,"NIT",null,null,null,null,null,null,null,null,null,null,null,null,null,null,null,null,null,null,null,null,null,null,null,null,null,null,null,null,null,null,null,null,null,null,null,null,null,null,null,null,"MIS PAGOS AL DIA-CITIBANK","860051135","2007-09-20T18:04:15","D",11001]
["MIS PAGOS AL DIA-CITIBANK","860051135","2007-09-20T18:04:15","D",11001,9999,"NIT",null,null,null,null,null,null,null,null,null,null,null,null,null,null,null,null,null,null,null,null,null,null,null,null,null,null,null,null,null,null,null,null,null,null,null,null,null,null,null,null,"ICETEX","8999990357","2007-09-20T18:18:58","D",11001]
["ICETEX","8999990357","2007-09-20T18:18:58","D",11001,9999,"NIT",null,null,null,null,null,null,null,null,null,null,null,null,null,null,null,null,null,null,null,null,null,null,null,null,null,null,null,null,null,null,null,null,null,null,null,null,null,null,null,null,"CORVECOL","9001483353","2007-09-20T18:26:46","D",11001]
["CORVECOL","9001483353","2007-09-20T18:26:46","D",11001,9999,"NIT",null,null,null,null,null,null,null,null,null,null,null,null,null,null,null,null,null,null,null,null,null,null,null,null,null,null,null,null,null,null,null,null,null,null,null,null,null,null,null,null,"FUNDACION ANDES","8110000295","2007-09-20T18:34:47","D",11001]
["FUNDACION ANDES","8110000295","2007-09-20T18:34:47","D",11001,9999,"NIT",null,null,null,null,null,null,null,null,null,null,null,null,null,null,null,null,null,null,null,null,null,null,null,null,null,null,null,null,null,null,null,null,null,null,null,null,null,null,null,null,"COMPAÑIA TRANSPORTADORA S.A.","8600067653","2007-09-20T18:45:31","D",11001]
["COMPAÑIA TRANSPORTADORA S.A.","8600067653","2007-09-20T18:45:31","D",11001,9999,"NIT",null,null,null,null,null,null,null,null,null,null,null,null,null,null,null,null,null,null,null,null,null,null,null,null,null,null,null,null,null,null,null,null,null,null,null,null,null,null,null,null,"FUNDACION CARDIO INFANTIL","860035992","2007-09-20T18:55:04","D",11001]
["FUNDACION CARDIO INFANTIL","860035992","2007-09-20T18:55:04","D",11001,9999,"NIT",null,null,null,null,null,null,null,null,null,null,null,null,null,null,null,null,null,null,null,null,null,null,null,null,null,null,null,null,null,null,null,null,null,null,null,null,null,null,null,null,"QUIFARMA LTDA.","8909383000","2007-09-20T19:02:46","D",11001]
["QUIFARMA LTDA.","8909383000","2007-09-20T19:02:46","D",11001,9999,"NIT",null,null,null,null,null,null,null,null,null,null,null,null,null,null,null,null,null,null,null,null,null,null,null,null,null,null,null,null,null,null,null,null,null,null,null,null,null,null,null,null,"EVOKA CORP S.A.","9000517111","2007-09-20T19:24:37","D",11001]
["EVOKA CORP S.A.","9000517111","2007-09-20T19:24:37","D",11001,9999,"NIT",null,null,null,null,null,null,null,null,null,null,null,null,null,null,null,null,null,null,null,null,null,null,null,null,null,null,null,null,null,null,null,null,null,null,null,null,null,null,null,null,"FUNDACION COLOMBIANITOS INC.","9001863394","2007-09-20T19:31:14","D",11001]
["FUNDACION COLOMBIANITOS INC.","9001863394","2007-09-20T19:31:14","D",11001,9999,"NIT",null,null,null,null,null,null,null,null,null,null,null,null,null,null,null,null,null,null,null,null,null,null,null,null,null,null,null,null,null,null,null,null,null,null,null,null,null,null,null,null,"MIN-COMER. VUCE EXPORTACIONES","830115297","2007-09-26T14:58:21","D",11001]
["MIN-COMER. VUCE EXPORTACIONES","830115297","2007-09-26T14:58:21","D",11001,9999,"NIT",null,null,null,null,null,null,null,null,null,null,null,null,null,null,null,null,null,null,null,null,null,null,null,null,null,null,null,null,null,null,null,null,null,null,null,null,null,null,null,null,"INSTITUTO DE HERMANOS DEL SAGRADO CORAZON","8600077665","2007-09-26T19:07:34","D",11001]
["INSTITUTO DE HERMANOS DEL SAGRADO CORAZON","8600077665","2007-09-26T19:07:34","D",11001,9999,"NIT",null,null,null,null,null,null,null,null,null,null,null,null,null,null,null,null,null,null,null,null,null,null,null,null,null,null,null,null,null,null,null,null,null,null,null,null,null,null,null,null,"TEJITECH LTDA","8301398947","2007-09-26T19:18:40","D",11001]
["TEJITECH LTDA","8301398947","2007-09-26T19:18:40","D",11001,9999,"NIT",null,null,null,null,null,null,null,null,null,null,null,null,null,null,null,null,null,null,null,null,null,null,null,null,null,null,null,null,null,null,null,null,null,null,null,null,null,null,null,null,"ALFAGRES S.A.","8600325507","2007-09-28T17:42:32","D",11001]
["ALFAGRES S.A.","8600325507","2007-09-28T17:42:32","D",11001,9999,"NIT",null,null,null,null,null,null,null,null,null,null,null,null,null,null,null,null,null,null,null,null,null,null,null,null,null,null,null,null,null,null,null,null,null,null,null,null,null,null,null,null,"COLEGIO LOS TREBOLES S.C.A.","8300349991","2007-09-28T18:22:54","D",11001]
["COLEGIO LOS TREBOLES S.C.A.","8300349991","2007-09-28T18:22:54","D",11001,9999,"NIT",null,null,null,null,null,null,null,null,null,null,null,null,null,null,null,null,null,null,null,null,null,null,null,null,null,null,null,null,null,null,null,null,null,null,null,null,null,null,null,null,"COMUNICACION CELULAR COMCEL S.A. ","8001539937","2007-10-03T08:01:36","D",11001]
["COMUNICACION CELULAR COMCEL S.A. ","8001539937","2007-10-03T08:01:36","D",11001,9999,"NIT",null,null,null,null,null,null,null,null,null,null,null,null,null,null,null,null,null,null,null,null,null,null,null,null,null,null,null,null,null,null,null,null,null,null,null,null,null,null,null,null,"LONDOÑO GOMEZ S.A.","8909121406","2007-10-03T10:06:36","D",11001]
["LONDOÑO GOMEZ S.A.","8909121406","2007-10-03T10:06:36","D",11001,9999,"NIT",null,null,null,null,null,null,null,null,null,null,null,null,null,null,null,null,null,null,null,null,null,null,null,null,null,null,null,null,null,null,null,null,null,null,null,null,null,null,null,null,"FUNERARIA MEDELLIN S.A.","8909191605","2007-10-08T13:25:30","D",11001]
["FUNERARIA MEDELLIN S.A.","8909191605","2007-10-08T13:25:30","D",11001,9999,"NIT",null,null,null,null,null,null,null,null,null,null,null,null,null,null,null,null,null,null,null,null,null,null,null,null,null,null,null,null,null,null,null,null,null,null,null,null,null,null,null,null,"ASOCIACION DE EXALUMNOS DE LAS BENEDICTINAS SANTA MARIA AEXBEN","8001186031","2007-10-08T13:41:00","D",11001]
["ASOCIACION DE EXALUMNOS DE LAS BENEDICTINAS SANTA MARIA AEXBEN","8001186031","2007-10-08T13:41:00","D",11001,9999,"NIT",null,null,null,null,null,null,null,null,null,null,null,null,null,null,null,null,null,null,null,null,null,null,null,null,null,null,null,null,null,null,null,null,null,null,null,null,null,null,null,null,"DTCH de Santa Marta","8917800094","2007-10-08T13:54:53","D",11001]
["DTCH de Santa Marta","8917800094","2007-10-08T13:54:53","D",11001,9999,"NIT",null,null,null,null,null,null,null,null,null,null,null,null,null,null,null,null,null,null,null,null,null,null,null,null,null,null,null,null,null,null,null,null,null,null,null,null,null,null,null,null,"PUBLICACIONES DINERO","8001908183","2007-10-08T18:24:13","D",11001]
["PUBLICACIONES DINERO","8001908183","2007-10-08T18:24:13","D",11001,9999,"NIT",null,null,null,null,null,null,null,null,null,null,null,null,null,null,null,null,null,null,null,null,null,null,null,null,null,null,null,null,null,null,null,null,null,null,null,null,null,null,null,null,"MI PEQUEÑO MUNDO BARRETO GOMEZ Y COMPAÑIA","860038065","2007-10-08T19:31:05","D",11001]
["MI PEQUEÑO MUNDO BARRETO GOMEZ Y COMPAÑIA","860038065","2007-10-08T19:31:05","D",11001,9999,"NIT",null,null,null,null,null,null,null,null,null,null,null,null,null,null,null,null,null,null,null,null,null,null,null,null,null,null,null,null,null,null,null,null,null,null,null,null,null,null,null,null,"COLEGIO COLOMBO HEBREO","8600065238","2007-10-09T19:51:13","D",11001]
["COLEGIO COLOMBO HEBREO","8600065238","2007-10-09T19:51:13","D",11001,9999,"NIT",null,null,null,null,null,null,null,null,null,null,null,null,null,null,null,null,null,null,null,null,null,null,null,null,null,null,null,null,null,null,null,null,null,null,null,null,null,null,null,null,"UNIANDINO - ASOCIACION DE EGRESADOS UNIVERSIDAD DE LOS ANDES","8600233383","2007-10-17T07:51:02","D",11001]
["UNIANDINO - ASOCIACION DE EGRESADOS UNIVERSIDAD DE LOS ANDES","8600233383","2007-10-17T07:51:02","D",11001,9999,"NIT",null,null,null,null,null,null,null,null,null,null,null,null,null,null,null,null,null,null,null,null,null,null,null,null,null,null,null,null,null,null,null,null,null,null,null,null,null,null,null,null,"DUQUE GIRALDO Y CIA LTDA.","8000705256","2007-10-26T07:27:30","D",11001]
["DUQUE GIRALDO Y CIA LTDA.","8000705256","2007-10-26T07:27:30","D",11001,9999,"NIT",null,null,null,null,null,null,null,null,null,null,null,null,null,null,null,null,null,null,null,null,null,null,null,null,null,null,null,null,null,null,null,null,null,null,null,null,null,null,null,null,"SUPERINTENDENCIA DE INDUSTRIA Y COMERCIO","8001760892","2007-10-26T07:37:19","D",11001]
["SUPERINTENDENCIA DE INDUSTRIA Y COMERCIO","8001760892","2007-10-26T07:37:19","D",11001,9999,"NIT",null,null,null,null,null,null,null,null,null,null,null,null,null,null,null,null,null,null,null,null,null,null,null,null,null,null,null,null,null,null,null,null,null,null,null,null,null,null,null,null,"UNIVERSIDAD SANTO TOMAS","8600123576","2007-10-26T08:39:07","D",11001]
["UNIVERSIDAD SANTO TOMAS","8600123576","2007-10-26T08:39:07","D",11001,9999,"NIT",null,null,null,null,null,null,null,null,null,null,null,null,null,null,null,null,null,null,null,null,null,null,null,null,null,null,null,null,null,null,null,null,null,null,null,null,null,null,null,null,"ACRECER S.A.","8909247897","2007-10-31T18:35:44","D",11001]
["ACRECER S.A.","8909247897","2007-10-31T18:35:44","D",11001,9999,"NIT",null,null,null,null,null,null,null,null,null,null,null,null,null,null,null,null,null,null,null,null,null,null,null,null,null,null,null,null,null,null,null,null,null,null,null,null,null,null,null,null,"COLEGIO LA GOTICA DEL SABER - ALISON LUCIA CORTES CARDONA","361823170","2007-10-31T18:46:40","D",11001]
["COLEGIO LA GOTICA DEL SABER - ALISON LUCIA CORTES CARDONA","361823170","2007-10-31T18:46:40","D",11001,9999,"NIT",null,null,null,null,null,null,null,null,null,null,null,null,null,null,null,null,null,null,null,null,null,null,null,null,null,null,null,null,null,null,null,null,null,null,null,null,null,null,null,null,"COLEGIO HIJAS DE CRISTO REY","8600136228","2007-11-13T10:35:15","D",11001]
["COLEGIO HIJAS DE CRISTO REY","8600136228","2007-11-13T10:35:15","D",11001,9999,"NIT",null,null,null,null,null,null,null,null,null,null,null,null,null,null,null,null,null,null,null,null,null,null,null,null,null,null,null,null,null,null,null,null,null,null,null,null,null,null,null,null,"INMOBILIARIA VELAZQUEZ LTDA.","8110262121","2007-11-13T10:53:13","D",11001]
["INMOBILIARIA VELAZQUEZ LTDA.","8110262121","2007-11-13T10:53:13","D",11001,9999,"NIT",null,null,null,null,null,null,null,null,null,null,null,null,null,null,null,null,null,null,null,null,null,null,null,null,null,null,null,null,null,null,null,null,null,null,null,null,null,null,null,null,"ALMACEN SUPERMOTOS S.A.","8060163087","2007-11-13T11:01:05","D",11001]
["ALMACEN SUPERMOTOS S.A.","8060163087","2007-11-13T11:01:05","D",11001,9999,"NIT",null,null,null,null,null,null,null,null,null,null,null,null,null,null,null,null,null,null,null,null,null,null,null,null,null,null,null,null,null,null,null,null,null,null,null,null,null,null,null,null,"FUNDACION CARDENAL PACELLI","8600321821","2007-11-13T11:08:00","D",11001]
["FUNDACION CARDENAL PACELLI","8600321821","2007-11-13T11:08:00","D",11001,9999,"NIT",null,null,null,null,null,null,null,null,null,null,null,null,null,null,null,null,null,null,null,null,null,null,null,null,null,null,null,null,null,null,null,null,null,null,null,null,null,null,null,null,"COLEGIO CALASANZ - ORDEN RELIGIOSA DE LAS ESCUELAS PIAS","8600147102","2007-11-13T11:17:31","D",11001]
["COLEGIO CALASANZ - ORDEN RELIGIOSA DE LAS ESCUELAS PIAS","8600147102","2007-11-13T11:17:31","D",11001,9999,"NIT",null,null,null,null,null,null,null,null,null,null,null,null,null,null,null,null,null,null,null,null,null,null,null,null,null,null,null,null,null,null,null,null,null,null,null,null,null,null,null,null,"CANO NOTTA HNOS LTDA.","8600345394","2007-11-13T12:08:25","D",11001]
["CANO NOTTA HNOS LTDA.","8600345394","2007-11-13T12:08:25","D",11001,9999,"NIT",null,null,null,null,null,null,null,null,null,null,null,null,null,null,null,null,null,null,null,null,null,null,null,null,null,null,null,null,null,null,null,null,null,null,null,null,null,null,null,null,"CENTRAL DE INVERSIONES S.A.","8600429455","2007-11-14T20:03:32","D",11001]
["CENTRAL DE INVERSIONES S.A.","8600429455","2007-11-14T20:03:32","D",11001,9999,"NIT",null,null,null,null,null,null,null,null,null,null,null,null,null,null,null,null,null,null,null,null,null,null,null,null,null,null,null,null,null,null,null,null,null,null,null,null,null,null,null,null,"TRANSPORTES ESPECIALES DE BOGOTA S.A. TEBSA","8603526411","2007-11-14T20:12:09","D",11001]
["TRANSPORTES ESPECIALES DE BOGOTA S.A. TEBSA","8603526411","2007-11-14T20:12:09","D",11001,9999,"NIT",null,null,null,null,null,null,null,null,null,null,null,null,null,null,null,null,null,null,null,null,null,null,null,null,null,null,null,null,null,null,null,null,null,null,null,null,null,null,null,null,"TUYOYO LTDA.","9001462238","2007-11-14T20:22:19","D",11001]
["TUYOYO LTDA.","9001462238","2007-11-14T20:22:19","D",11001,9999,"NIT",null,null,null,null,null,null,null,null,null,null,null,null,null,null,null,null,null,null,null,null,null,null,null,null,null,null,null,null,null,null,null,null,null,null,null,null,null,null,null,null,"FUNDACION UNIVERSITARIA DEL AREA ANDINA","8605173021","2007-11-21T23:12:09","D",11001]
["FUNDACION UNIVERSITARIA DEL AREA ANDINA","8605173021","2007-11-21T23:12:09","D",11001,9999,"NIT",null,null,null,null,null,null,null,null,null,null,null,null,null,null,null,null,null,null,null,null,null,null,null,null,null,null,null,null,null,null,null,null,null,null,null,null,null,null,null,null,"MUEBLES Y ACCESORIOS S.A.","8605283295","2007-11-21T23:22:25","D",11001]
["MUEBLES Y ACCESORIOS S.A.","8605283295","2007-11-21T23:22:25","D",11001,9999,"NIT",null,null,null,null,null,null,null,null,null,null,null,null,null,null,null,null,null,null,null,null,null,null,null,null,null,null,null,null,null,null,null,null,null,null,null,null,null,null,null,null,"COLEGIO JEFFERSON","8903030041","2007-11-21T23:39:43","D",11001]
["COLEGIO JEFFERSON","8903030041","2007-11-21T23:39:43","D",11001,9999,"NIT",null,null,null,null,null,null,null,null,null,null,null,null,null,null,null,null,null,null,null,null,null,null,null,null,null,null,null,null,null,null,null,null,null,null,null,null,null,null,null,null,"SUPERINTENDENCIA DE LA ECONOMIA SOLIDARIA","8300530435","2007-11-21T23:50:13","D",11001]
["SUPERINTENDENCIA DE LA ECONOMIA SOLIDARIA","8300530435","2007-11-21T23:50:13","D",11001,9999,"NIT",null,null,null,null,null,null,null,null,null,null,null,null,null,null,null,null,null,null,null,null,null,null,null,null,null,null,null,null,null,null,null,null,null,null,null,null,null,null,null,null,"SUPERVISION ELECTRONICA WHITE EAGLE LTDA","8300581816","2007-11-21T23:58:46","D",11001]
["SUPERVISION ELECTRONICA WHITE EAGLE LTDA","8300581816","2007-11-21T23:58:46","D",11001,9999,"NIT",null,null,null,null,null,null,null,null,null,null,null,null,null,null,null,null,null,null,null,null,null,null,null,null,null,null,null,null,null,null,null,null,null,null,null,null,null,null,null,null,"ARP MAPFRE","8300549046","2007-12-04T14:46:20","D",11001]
["ARP MAPFRE","8300549046","2007-12-04T14:46:20","D",11001,9999,"NIT",null,null,null,null,null,null,null,null,null,null,null,null,null,null,null,null,null,null,null,null,null,null,null,null,null,null,null,null,null,null,null,null,null,null,null,null,null,null,null,null,"SONIDO INDUSTRIAL COLOMBIANO LTDA - AUTOURBE ","8600412270","2007-12-05T18:28:36","D",11001]
["SONIDO INDUSTRIAL COLOMBIANO LTDA - AUTOURBE ","8600412270","2007-12-05T18:28:36","D",11001,9999,"NIT",null,null,null,null,null,null,null,null,null,null,null,null,null,null,null,null,null,null,null,null,null,null,null,null,null,null,null,null,null,null,null,null,null,null,null,null,null,null,null,null,"FUNDACION UNIVERSITARIA LOS LIBERTADORES","8605079033","2007-12-05T18:40:38","D",11001]
["FUNDACION UNIVERSITARIA LOS LIBERTADORES","8605079033","2007-12-05T18:40:38","D",11001,9999,"NIT",null,null,null,null,null,null,null,null,null,null,null,null,null,null,null,null,null,null,null,null,null,null,null,null,null,null,null,null,null,null,null,null,null,null,null,null,null,null,null,null,"IGLESIA CENTRO MUNDIAL DE AVIVAMIENTO","8300420380","2007-12-05T18:54:42","D",11001]
["IGLESIA CENTRO MUNDIAL DE AVIVAMIENTO","8300420380","2007-12-05T18:54:42","D",11001,9999,"NIT",null,null,null,null,null,null,null,null,null,null,null,null,null,null,null,null,null,null,null,null,null,null,null,null,null,null,null,null,null,null,null,null,null,null,null,null,null,null,null,null,"Corporacion Ballet Folclorico De Antioquia","8002128387","2007-12-05T19:02:58","D",11001]
["Corporacion Ballet Folclorico De Antioquia","8002128387","2007-12-05T19:02:58","D",11001,9999,"NIT",null,null,null,null,null,null,null,null,null,null,null,null,null,null,null,null,null,null,null,null,null,null,null,null,null,null,null,null,null,null,null,null,null,null,null,null,null,null,null,null,"PROVENZAL LTDA.","8110332381","2007-12-05T19:14:58","D",11001]
["PROVENZAL LTDA.","8110332381","2007-12-05T19:14:58","D",11001,9999,"NIT",null,null,null,null,null,null,null,null,null,null,null,null,null,null,null,null,null,null,null,null,null,null,null,null,null,null,null,null,null,null,null,null,null,null,null,null,null,null,null,null,"IDU - INSTITUTO DE DESARROLLO URBANO","8999990816","2007-12-06T12:16:31","D",11001]
["IDU - INSTITUTO DE DESARROLLO URBANO","8999990816","2007-12-06T12:16:31","D",11001,9999,"NIT",null,null,null,null,null,null,null,null,null,null,null,null,null,null,null,null,null,null,null,null,null,null,null,null,null,null,null,null,null,null,null,null,null,null,null,null,null,null,null,null,"FUNDACION UNIVERSIDAD AUTONOMA DE COLOMBIA","8600346679","2007-12-11T12:27:05","D",11001]
["FUNDACION UNIVERSIDAD AUTONOMA DE COLOMBIA","8600346679","2007-12-11T12:27:05","D",11001,9999,"NIT",null,null,null,null,null,null,null,null,null,null,null,null,null,null,null,null,null,null,null,null,null,null,null,null,null,null,null,null,null,null,null,null,null,null,null,null,null,null,null,null,"ORIFLAME DE COLOMBIA S.A.","8300236712","2007-12-14T16:19:54","D",11001]
["ORIFLAME DE COLOMBIA S.A.","8300236712","2007-12-14T16:19:54","D",11001,9999,"NIT",null,null,null,null,null,null,null,null,null,null,null,null,null,null,null,null,null,null,null,null,null,null,null,null,null,null,null,null,null,null,null,null,null,null,null,null,null,null,null,null,"EDUCAR EDITORES S.A.","8600705365","2007-12-14T16:41:48","D",11001]
["EDUCAR EDITORES S.A.","8600705365","2007-12-14T16:41:48","D",11001,9999,"NIT",null,null,null,null,null,null,null,null,null,null,null,null,null,null,null,null,null,null,null,null,null,null,null,null,null,null,null,null,null,null,null,null,null,null,null,null,null,null,null,null,"STF GROUP S.A.","8050036264","2007-12-17T14:57:55","D",11001]
["STF GROUP S.A.","8050036264","2007-12-17T14:57:55","D",11001,9999,"NIT",null,null,null,null,null,null,null,null,null,null,null,null,null,null,null,null,null,null,null,null,null,null,null,null,null,null,null,null,null,null,null,null,null,null,null,null,null,null,null,null,"AGUAS DE LA SABANA DE BOGOTA S.A. E.S.P.","9000217374","2007-12-17T16:46:39","D",11001]
["AGUAS DE LA SABANA DE BOGOTA S.A. E.S.P.","9000217374","2007-12-17T16:46:39","D",11001,9999,"NIT",null,null,null,null,null,null,null,null,null,null,null,null,null,null,null,null,null,null,null,null,null,null,null,null,null,null,null,null,null,null,null,null,null,null,null,null,null,null,null,null,"FRANCO Y VELEZ CESDE LTDA","8909133181","2007-12-17T17:24:56","D",11001]
["FRANCO Y VELEZ CESDE LTDA","8909133181","2007-12-17T17:24:56","D",11001,9999,"NIT",null,null,null,null,null,null,null,null,null,null,null,null,null,null,null,null,null,null,null,null,null,null,null,null,null,null,null,null,null,null,null,null,null,null,null,null,null,null,null,null,"EMCALI - EMPRESAS MUNICIPALES DE CALI E.S.P.","8903990034","2007-12-20T17:21:21","D",11001]
["EMCALI - EMPRESAS MUNICIPALES DE CALI E.S.P.","8903990034","2007-12-20T17:21:21","D",11001,9999,"NIT",null,null,null,null,null,null,null,null,null,null,null,null,null,null,null,null,null,null,null,null,null,null,null,null,null,null,null,null,null,null,null,null,null,null,null,null,null,null,null,null,"CORPORACION AUTORREGULADOR DEL MERCADO DE VALORES","9000905293","2007-12-24T08:59:01","D",11001]
["CORPORACION AUTORREGULADOR DEL MERCADO DE VALORES","9000905293","2007-12-24T08:59:01","D",11001,9999,"NIT",null,null,null,null,null,null,null,null,null,null,null,null,null,null,null,null,null,null,null,null,null,null,null,null,null,null,null,null,null,null,null,null,null,null,null,null,null,null,null,null,"MERCADEO VIRTUAL S.A.","8110457311","2007-12-24T10:32:30","D",11001]
["MERCADEO VIRTUAL S.A.","8110457311","2007-12-24T10:32:30","D",11001,9999,"NIT",null,null,null,null,null,null,null,null,null,null,null,null,null,null,null,null,null,null,null,null,null,null,null,null,null,null,null,null,null,null,null,null,null,null,null,null,null,null,null,null,"CONSORCIO TURISTICO DE SANTANDER LTDA.","9001458637","2007-12-24T11:31:00","D",11001]
["CONSORCIO TURISTICO DE SANTANDER LTDA.","9001458637","2007-12-24T11:31:00","D",11001,9999,"NIT",null,null,null,null,null,null,null,null,null,null,null,null,null,null,null,null,null,null,null,null,null,null,null,null,null,null,null,null,null,null,null,null,null,null,null,null,null,null,null,null,"PEZ PLATA S.A.","9001412511","2007-12-24T11:38:09","D",11001]
["PEZ PLATA S.A.","9001412511","2007-12-24T11:38:09","D",11001,9999,"NIT",null,null,null,null,null,null,null,null,null,null,null,null,null,null,null,null,null,null,null,null,null,null,null,null,null,null,null,null,null,null,null,null,null,null,null,null,null,null,null,null,"CREAR PROGRESO S.A. CORREDORES DE SEGUROS","8300148925","2007-12-24T12:12:07","D",11001]
["CREAR PROGRESO S.A. CORREDORES DE SEGUROS","8300148925","2007-12-24T12:12:07","D",11001,9999,"NIT",null,null,null,null,null,null,null,null,null,null,null,null,null,null,null,null,null,null,null,null,null,null,null,null,null,null,null,null,null,null,null,null,null,null,null,null,null,null,null,null,"CAMARA DE COMERCIO DEL ABURRA SUR","8001574278","2007-12-24T12:21:47","D",11001]
["CAMARA DE COMERCIO DEL ABURRA SUR","8001574278","2007-12-24T12:21:47","D",11001,9999,"NIT",null,null,null,null,null,null,null,null,null,null,null,null,null,null,null,null,null,null,null,null,null,null,null,null,null,null,null,null,null,null,null,null,null,null,null,null,null,null,null,null,"CORPORACION CULTURAL COLEGIO ALEMAN","8901018127","2007-12-24T15:53:12","D",11001]
["CORPORACION CULTURAL COLEGIO ALEMAN","8901018127","2007-12-24T15:53:12","D",11001,9999,"NIT",null,null,null,null,null,null,null,null,null,null,null,null,null,null,null,null,null,null,null,null,null,null,null,null,null,null,null,null,null,null,null,null,null,null,null,null,null,null,null,null,"COLEGIO CORAZONISTAS MEDELLIN INST.HERMANOS DEL SAGRADO CORAZON","8600077661","2007-12-28T11:23:01","D",11001]
["COLEGIO CORAZONISTAS MEDELLIN INST.HERMANOS DEL SAGRADO CORAZON","8600077661","2007-12-28T11:23:01","D",11001,9999,"NIT",null,null,null,null,null,null,null,null,null,null,null,null,null,null,null,null,null,null,null,null,null,null,null,null,null,null,null,null,null,null,null,null,null,null,null,null,null,null,null,null,"COLEGIO GIMNASIO VERMONT MEDELLIN S.A.","8110105686","2007-12-28T11:29:09","D",11001]
["COLEGIO GIMNASIO VERMONT MEDELLIN S.A.","8110105686","2007-12-28T11:29:09","D",11001,9999,"NIT",null,null,null,null,null,null,null,null,null,null,null,null,null,null,null,null,null,null,null,null,null,null,null,null,null,null,null,null,null,null,null,null,null,null,null,null,null,null,null,null,"UNIVERSIDAD CATOLICA DE ORIENTE","8909847467","2007-12-28T11:33:52","D",11001]
["UNIVERSIDAD CATOLICA DE ORIENTE","8909847467","2007-12-28T11:33:52","D",11001,9999,"NIT",null,null,null,null,null,null,null,null,null,null,null,null,null,null,null,null,null,null,null,null,null,null,null,null,null,null,null,null,null,null,null,null,null,null,null,null,null,null,null,null,"EL LIBERTADOR INVESTIGACION Y COBRANZAS","8600359771","2007-12-28T15:56:35","D",11001]
["EL LIBERTADOR INVESTIGACION Y COBRANZAS","8600359771","2007-12-28T15:56:35","D",11001,9999,"NIT",null,null,null,null,null,null,null,null,null,null,null,null,null,null,null,null,null,null,null,null,null,null,null,null,null,null,null,null,null,null,null,null,null,null,null,null,null,null,null,null,"COGNITIA LTDA","8300893180","2007-12-28T16:09:55","D",11001]
["COGNITIA LTDA","8300893180","2007-12-28T16:09:55","D",11001,9999,"NIT",null,null,null,null,null,null,null,null,null,null,null,null,null,null,null,null,null,null,null,null,null,null,null,null,null,null,null,null,null,null,null,null,null,null,null,null,null,null,null,null,"CANGUROS MOM´S AND BABIES LTDA.","9000477685","2007-12-28T16:19:39","D",11001]
["CANGUROS MOM´S AND BABIES LTDA.","9000477685","2007-12-28T16:19:39","D",11001,9999,"NIT",null,null,null,null,null,null,null,null,null,null,null,null,null,null,null,null,null,null,null,null,null,null,null,null,null,null,null,null,null,null,null,null,null,null,null,null,null,null,null,null,"PROFAMILIA","8600137795","2007-12-28T17:20:38","D",11001]
["PROFAMILIA","8600137795","2007-12-28T17:20:38","D",11001,9999,"NIT",null,null,null,null,null,null,null,null,null,null,null,null,null,null,null,null,null,null,null,null,null,null,null,null,null,null,null,null,null,null,null,null,null,null,null,null,null,null,null,null,"CONINSA RAMON H. S.A.","8909114311","2007-12-28T17:25:17","D",11001]
["CONINSA RAMON H. S.A.","8909114311","2007-12-28T17:25:17","D",11001,9999,"NIT",null,null,null,null,null,null,null,null,null,null,null,null,null,null,null,null,null,null,null,null,null,null,null,null,null,null,null,null,null,null,null,null,null,null,null,null,null,null,null,null,"COLEGIO SAGRADO CORAZON BARRANQUILLA CLL 74","8600077664","2007-12-28T17:32:13","D",11001]
["COLEGIO SAGRADO CORAZON BARRANQUILLA CLL 74","8600077664","2007-12-28T17:32:13","D",11001,9999,"NIT",null,null,null,null,null,null,null,null,null,null,null,null,null,null,null,null,null,null,null,null,null,null,null,null,null,null,null,null,null,null,null,null,null,null,null,null,null,null,null,null,"COLEGIO SAGRADO CORAZON BARANQUILLA KM2","8600077663","2007-12-28T17:36:12","D",11001]
["COLEGIO SAGRADO CORAZON BARANQUILLA KM2","8600077663","2007-12-28T17:36:12","D",11001,9999,"NIT",null,null,null,null,null,null,null,null,null,null,null,null,null,null,null,null,null,null,null,null,null,null,null,null,null,null,null,null,null,null,null,null,null,null,null,null,null,null,null,null,"COLEGIO CORAZONISTA BOGOTA","8600077662","2007-12-28T17:41:30","D",11001]
["COLEGIO CORAZONISTA BOGOTA","8600077662","2007-12-28T17:41:30","D",11001,9999,"NIT",null,null,null,null,null,null,null,null,null,null,null,null,null,null,null,null,null,null,null,null,null,null,null,null,null,null,null,null,null,null,null,null,null,null,null,null,null,null,null,null,"SOCIEDAD EDUCACIONAL GIMNASIO INGLES LTDA.","8001106581","2007-12-28T17:45:41","D",11001]
["SOCIEDAD EDUCACIONAL GIMNASIO INGLES LTDA.","8001106581","2007-12-28T17:45:41","D",11001,9999,"NIT",null,null,null,null,null,null,null,null,null,null,null,null,null,null,null,null,null,null,null,null,null,null,null,null,null,null,null,null,null,null,null,null,null,null,null,null,null,null,null,null,"GIMNASIO BRITANICO LTDA.","8000560160","2007-12-28T17:49:30","D",11001]
["GIMNASIO BRITANICO LTDA.","8000560160","2007-12-28T17:49:30","D",11001,9999,"NIT",null,null,null,null,null,null,null,null,null,null,null,null,null,null,null,null,null,null,null,null,null,null,null,null,null,null,null,null,null,null,null,null,null,null,null,null,null,null,null,null,"COLEGIO SEMINARIO CORAZONISTA MARINILLA","860007766","2007-12-28T17:58:52","D",11001]
["COLEGIO SEMINARIO CORAZONISTA MARINILLA","860007766","2007-12-28T17:58:52","D",11001,9999,"NIT",null,null,null,null,null,null,null,null,null,null,null,null,null,null,null,null,null,null,null,null,null,null,null,null,null,null,null,null,null,null,null,null,null,null,null,null,null,null,null,null,"SYNERGIA AGENTES DE SEGUROS CALI LTDA","9001571140","2007-12-28T18:02:58","D",11001]
["SYNERGIA AGENTES DE SEGUROS CALI LTDA","9001571140","2007-12-28T18:02:58","D",11001,9999,"NIT",null,null,null,null,null,null,null,null,null,null,null,null,null,null,null,null,null,null,null,null,null,null,null,null,null,null,null,null,null,null,null,null,null,null,null,null,null,null,null,null,"SENA SERVICIO NACIONAL DE APRENDIZAJE","899999034","2008-01-15T11:24:07","D",11001]
["SENA SERVICIO NACIONAL DE APRENDIZAJE","899999034","2008-01-15T11:24:07","D",11001,9999,"NIT",null,null,null,null,null,null,null,null,null,null,null,null,null,null,null,null,null,null,null,null,null,null,null,null,null,null,null,null,null,null,null,null,null,null,null,null,null,null,null,null,"CI BICLA LTDA","9001351880","2008-01-15T11:36:02","D",11001]
["CI BICLA LTDA","9001351880","2008-01-15T11:36:02","D",11001,9999,"NIT",null,null,null,null,null,null,null,null,null,null,null,null,null,null,null,null,null,null,null,null,null,null,null,null,null,null,null,null,null,null,null,null,null,null,null,null,null,null,null,null,"REDCORD DE COLOMBIA BANCO NACIONAL DE CELULAS MADRE","8301302868","2008-01-24T16:39:33","D",11001]
["REDCORD DE COLOMBIA BANCO NACIONAL DE CELULAS MADRE","8301302868","2008-01-24T16:39:33","D",11001,9999,"NIT",null,null,null,null,null,null,null,null,null,null,null,null,null,null,null,null,null,null,null,null,null,null,null,null,null,null,null,null,null,null,null,null,null,null,null,null,null,null,null,null,"COLEGIO NUEVO SAN LUIS GONZAGA","8600346844","2008-01-24T17:33:15","D",11001]
["COLEGIO NUEVO SAN LUIS GONZAGA","8600346844","2008-01-24T17:33:15","D",11001,9999,"NIT",null,null,null,null,null,null,null,null,null,null,null,null,null,null,null,null,null,null,null,null,null,null,null,null,null,null,null,null,null,null,null,null,null,null,null,null,null,null,null,null,"COLEGIO CHAMPAGNAT ARMENIA - COMUN.HERMANOS MARISTAS ENSEÑANZ","8600067446","2008-02-06T18:44:13","D",11001]
["COLEGIO CHAMPAGNAT ARMENIA - COMUN.HERMANOS MARISTAS ENSEÑANZ","8600067446","2008-02-06T18:44:13","D",11001,9999,"NIT",null,null,null,null,null,null,null,null,null,null,null,null,null,null,null,null,null,null,null,null,null,null,null,null,null,null,null,null,null,null,null,null,null,null,null,null,null,null,null,null,"COLEGIO CHAMPAGNAT POPAYAN - COMUN.HERMANOS MARISTAS ENSEÑANZ","8600067445","2008-02-06T18:51:20","D",11001]
["COLEGIO CHAMPAGNAT POPAYAN - COMUN.HERMANOS MARISTAS ENSEÑANZ","8600067445","2008-02-06T18:51:20","D",11001,9999,"NIT",null,null,null,null,null,null,null,null,null,null,null,null,null,null,null,null,null,null,null,null,null,null,null,null,null,null,null,null,null,null,null,null,null,null,null,null,null,null,null,null,"COLEGIO CHAMPAGNAT BOGOTA- COMUN.HERMANOS MARISTAS ENSEÑANZ","8600067447","2008-02-06T19:06:32","D",11001]
["COLEGIO CHAMPAGNAT BOGOTA- COMUN.HERMANOS MARISTAS ENSEÑANZ","8600067447","2008-02-06T19:06:32","D",11001,9999,"NIT",null,null,null,null,null,null,null,null,null,null,null,null,null,null,null,null,null,null,null,null,null,null,null,null,null,null,null,null,null,null,null,null,null,null,null,null,null,null,null,null,"ARTE & FORMAS ","791555305","2008-02-14T12:35:49","D",11001]
["ARTE & FORMAS ","791555305","2008-02-14T12:35:49","D",11001,9999,"NIT",null,null,null,null,null,null,null,null,null,null,null,null,null,null,null,null,null,null,null,null,null,null,null,null,null,null,null,null,null,null,null,null,null,null,null,null,null,null,null,null,"UNIVERSIDAD TECNOLOGICA DE PEREIRA","8914800359","2008-02-14T12:49:02","D",11001]
["UNIVERSIDAD TECNOLOGICA DE PEREIRA","8914800359","2008-02-14T12:49:02","D",11001,9999,"NIT",null,null,null,null,null,null,null,null,null,null,null,null,null,null,null,null,null,null,null,null,null,null,null,null,null,null,null,null,null,null,null,null,null,null,null,null,null,null,null,null,"CAMARA DE COMERCIO DE CUCUTA","8905005131","2008-02-14T13:02:50","D",11001]
["CAMARA DE COMERCIO DE CUCUTA","8905005131","2008-02-14T13:02:50","D",11001,9999,"NIT",null,null,null,null,null,null,null,null,null,null,null,null,null,null,null,null,null,null,null,null,null,null,null,null,null,null,null,null,null,null,null,null,null,null,null,null,null,null,null,null,"CENTRO DE ENSEÑANZA PRECOZ - LA ALEGRIA DE APRENDER","8001224689","2008-02-14T13:29:16","D",11001]
["CENTRO DE ENSEÑANZA PRECOZ - LA ALEGRIA DE APRENDER","8001224689","2008-02-14T13:29:16","D",11001,9999,"NIT",null,null,null,null,null,null,null,null,null,null,null,null,null,null,null,null,null,null,null,null,null,null,null,null,null,null,null,null,null,null,null,null,null,null,null,null,null,null,null,null,"CORPORACION COLEGIO LOS NOGALES","8604028477","2008-02-14T13:37:19","D",11001]
["CORPORACION COLEGIO LOS NOGALES","8604028477","2008-02-14T13:37:19","D",11001,9999,"NIT",null,null,null,null,null,null,null,null,null,null,null,null,null,null,null,null,null,null,null,null,null,null,null,null,null,null,null,null,null,null,null,null,null,null,null,null,null,null,null,null,"TU COMPRA LTDA.","9001801043","2008-02-20T06:54:22","D",11001]
["TU COMPRA LTDA.","9001801043","2008-02-20T06:54:22","D",11001,9999,"NIT",null,null,null,null,null,null,null,null,null,null,null,null,null,null,null,null,null,null,null,null,null,null,null,null,null,null,null,null,null,null,null,null,null,null,null,null,null,null,null,null,"FINAGRO - FONDO PARA EL FINANCIAMIENTO DEL SECTOR AGROPECUARIO","8001163987","2008-02-25T09:21:16","D",11001]
["FINAGRO - FONDO PARA EL FINANCIAMIENTO DEL SECTOR AGROPECUARIO","8001163987","2008-02-25T09:21:16","D",11001,9999,"NIT",null,null,null,null,null,null,null,null,null,null,null,null,null,null,null,null,null,null,null,null,null,null,null,null,null,null,null,null,null,null,null,null,null,null,null,null,null,null,null,null,"FUNDACION PARA LA RECONCILIACION","8301210831","2008-02-29T07:13:07","D",11001]
["FUNDACION PARA LA RECONCILIACION","8301210831","2008-02-29T07:13:07","D",11001,9999,"NIT",null,null,null,null,null,null,null,null,null,null,null,null,null,null,null,null,null,null,null,null,null,null,null,null,null,null,null,null,null,null,null,null,null,null,null,null,null,null,null,null,"EXPRESO DE CARGA S.A.","8600267444","2008-02-29T07:20:24","D",11001]
["EXPRESO DE CARGA S.A.","8600267444","2008-02-29T07:20:24","D",11001,9999,"NIT",null,null,null,null,null,null,null,null,null,null,null,null,null,null,null,null,null,null,null,null,null,null,null,null,null,null,null,null,null,null,null,null,null,null,null,null,null,null,null,null,"ACRE PROPIEDAD RAIZ LTDA","8001801610","2008-02-29T07:27:28","D",11001]
["ACRE PROPIEDAD RAIZ LTDA","8001801610","2008-02-29T07:27:28","D",11001,9999,"NIT",null,null,null,null,null,null,null,null,null,null,null,null,null,null,null,null,null,null,null,null,null,null,null,null,null,null,null,null,null,null,null,null,null,null,null,null,null,null,null,null,"MST MULTISOFT S.A.","8002104536","2008-02-29T07:36:56","D",11001]
["MST MULTISOFT S.A.","8002104536","2008-02-29T07:36:56","D",11001,9999,"NIT",null,null,null,null,null,null,null,null,null,null,null,null,null,null,null,null,null,null,null,null,null,null,null,null,null,null,null,null,null,null,null,null,null,null,null,null,null,null,null,null,"GAS DEL RISARALDA S.A. ESP.","8002216522","2008-03-06T16:24:42","D",11001]
["GAS DEL RISARALDA S.A. ESP.","8002216522","2008-03-06T16:24:42","D",11001,9999,"NIT",null,null,null,null,null,null,null,null,null,null,null,null,null,null,null,null,null,null,null,null,null,null,null,null,null,null,null,null,null,null,null,null,null,null,null,null,null,null,null,null,"GASES DEL QUINDIO S.A. ESP.","8002263774","2008-03-06T16:37:44","D",11001]
["GASES DEL QUINDIO S.A. ESP.","8002263774","2008-03-06T16:37:44","D",11001,9999,"NIT",null,null,null,null,null,null,null,null,null,null,null,null,null,null,null,null,null,null,null,null,null,null,null,null,null,null,null,null,null,null,null,null,null,null,null,null,null,null,null,null,"COLEGIO VICTORIA S.A.","8300971052","2008-03-12T17:58:49","D",11001]
["COLEGIO VICTORIA S.A.","8300971052","2008-03-12T17:58:49","D",11001,9999,"NIT",null,null,null,null,null,null,null,null,null,null,null,null,null,null,null,null,null,null,null,null,null,null,null,null,null,null,null,null,null,null,null,null,null,null,null,null,null,null,null,null,"PONTIFICIA UNIVERSIDAD JAVERIANA CALI","8600137200","2008-03-12T18:11:48","D",11001]
["PONTIFICIA UNIVERSIDAD JAVERIANA CALI","8600137200","2008-03-12T18:11:48","D",11001,9999,"NIT",null,null,null,null,null,null,null,null,null,null,null,null,null,null,null,null,null,null,null,null,null,null,null,null,null,null,null,null,null,null,null,null,null,null,null,null,null,null,null,null,"CRIYA S.A.","8002001395","2008-03-12T18:18:42","D",11001]
["CRIYA S.A.","8002001395","2008-03-12T18:18:42","D",11001,9999,"NIT",null,null,null,null,null,null,null,null,null,null,null,null,null,null,null,null,null,null,null,null,null,null,null,null,null,null,null,null,null,null,null,null,null,null,null,null,null,null,null,null,"FUNDACION UNIVERSITARIA INPAHU","8605043600","2008-03-12T18:25:28","D",11001]
["FUNDACION UNIVERSITARIA INPAHU","8605043600","2008-03-12T18:25:28","D",11001,9999,"NIT",null,null,null,null,null,null,null,null,null,null,null,null,null,null,null,null,null,null,null,null,null,null,null,null,null,null,null,null,null,null,null,null,null,null,null,null,null,null,null,null,"GUN CLUB","8600067424","2008-03-25T17:01:02","D",11001]
["GUN CLUB","8600067424","2008-03-25T17:01:02","D",11001,9999,"NIT",null,null,null,null,null,null,null,null,null,null,null,null,null,null,null,null,null,null,null,null,null,null,null,null,null,null,null,null,null,null,null,null,null,null,null,null,null,null,null,null,"COOPSERFUN - CENTRAL COOPERATIVA DE SERVICIOS FUNERARIOS","8605168818","2008-04-02T12:11:19","D",11001]
["COOPSERFUN - CENTRAL COOPERATIVA DE SERVICIOS FUNERARIOS","8605168818","2008-04-02T12:11:19","D",11001,9999,"NIT",null,null,null,null,null,null,null,null,null,null,null,null,null,null,null,null,null,null,null,null,null,null,null,null,null,null,null,null,null,null,null,null,null,null,null,null,null,null,null,null,"CONSORCIO DE SEGUROS LTDA.","8110212768","2008-04-03T19:07:06","D",11001]
["CONSORCIO DE SEGUROS LTDA.","8110212768","2008-04-03T19:07:06","D",11001,9999,"NIT",null,null,null,null,null,null,null,null,null,null,null,null,null,null,null,null,null,null,null,null,null,null,null,null,null,null,null,null,null,null,null,null,null,null,null,null,null,null,null,null,"COMUNIDAD COLEGIO JESUS MARIA","8110069479","2008-04-03T19:13:58","D",11001]
["COMUNIDAD COLEGIO JESUS MARIA","8110069479","2008-04-03T19:13:58","D",11001,9999,"NIT",null,null,null,null,null,null,null,null,null,null,null,null,null,null,null,null,null,null,null,null,null,null,null,null,null,null,null,null,null,null,null,null,null,null,null,null,null,null,null,null,"TRANSMILENIUM 2021 S.A.","8110128214","2008-04-03T19:22:10","D",11001]
["TRANSMILENIUM 2021 S.A.","8110128214","2008-04-03T19:22:10","D",11001,9999,"NIT",null,null,null,null,null,null,null,null,null,null,null,null,null,null,null,null,null,null,null,null,null,null,null,null,null,null,null,null,null,null,null,null,null,null,null,null,null,null,null,null,"FUNDEP - FUNDACION PARA EL DESARROLLO DE PROYECTOS SOCIALES","8090216156","2008-04-03T19:31:38","D",11001]
["FUNDEP - FUNDACION PARA EL DESARROLLO DE PROYECTOS SOCIALES","8090216156","2008-04-03T19:31:38","D",11001,9999,"NIT",null,null,null,null,null,null,null,null,null,null,null,null,null,null,null,null,null,null,null,null,null,null,null,null,null,null,null,null,null,null,null,null,null,null,null,null,null,null,null,null,"CENTRO CULTURAL Y EDUCATIVO ESPAÑOL REYES CATOLICOS","8600773489","2008-04-11T22:19:20","D",11001]
["CENTRO CULTURAL Y EDUCATIVO ESPAÑOL REYES CATOLICOS","8600773489","2008-04-11T22:19:20","D",11001,9999,"NIT",null,null,null,null,null,null,null,null,null,null,null,null,null,null,null,null,null,null,null,null,null,null,null,null,null,null,null,null,null,null,null,null,null,null,null,null,null,null,null,null,"Directv de Colombia Ltda","8050060140","2008-04-11T22:29:05","D",11001]
["Directv de Colombia Ltda","8050060140","2008-04-11T22:29:05","D",11001,9999,"NIT",null,null,null,null,null,null,null,null,null,null,null,null,null,null,null,null,null,null,null,null,null,null,null,null,null,null,null,null,null,null,null,null,null,null,null,null,null,null,null,null,"APORTES EN LINEA","9999001472382","2008-04-17T12:10:58","F",11001]
["GREIF COLOMBIA S.A.","8600235254","2008-04-18T08:05:06","D",11001,9999,"NIT",null,null,null,null,null,null,null,null,null,null,null,null,null,null,null,null,null,null,null,null,null,null,null,null,null,null,null,null,null,null,null,null,null,null,null,null,null,null,null,null,"DUMESA S.A.","8001780401","2008-04-18T08:31:46","D",11001]
["DUMESA S.A.","8001780401","2008-04-18T08:31:46","D",11001,9999,"NIT",null,null,null,null,null,null,null,null,null,null,null,null,null,null,null,null,null,null,null,null,null,null,null,null,null,null,null,null,null,null,null,null,null,null,null,null,null,null,null,null,"SOCIEDAD COLOMBIANA DE ANESTESIOLOGIA Y REANIMACION","8600200821","2008-05-12T13:04:37","D",11001]
["SOCIEDAD COLOMBIANA DE ANESTESIOLOGIA Y REANIMACION","8600200821","2008-05-12T13:04:37","D",11001,9999,"NIT",null,null,null,null,null,null,null,null,null,null,null,null,null,null,null,null,null,null,null,null,null,null,null,null,null,null,null,null,null,null,null,null,null,null,null,null,null,null,null,null,"COLEGIO CAMPESTRE LA COLINA S.A.","8909114501","2008-05-12T13:16:31","D",11001]
["COLEGIO CAMPESTRE LA COLINA S.A.","8909114501","2008-05-12T13:16:31","D",11001,9999,"NIT",null,null,null,null,null,null,null,null,null,null,null,null,null,null,null,null,null,null,null,null,null,null,null,null,null,null,null,null,null,null,null,null,null,null,null,null,null,null,null,null,"OTRAPARTE - CORPORACION FERNANDO GONZALEZ","8110336074","2008-05-12T13:24:16","D",11001]
["OTRAPARTE - CORPORACION FERNANDO GONZALEZ","8110336074","2008-05-12T13:24:16","D",11001,9999,"NIT",null,null,null,null,null,null,null,null,null,null,null,null,null,null,null,null,null,null,null,null,null,null,null,null,null,null,null,null,null,null,null,null,null,null,null,null,null,null,null,null,"UNIVERSIDAD NACIONAL DE COLOMBIA - NIVEL NACIONAL","8999990633","2008-05-14T06:55:12","D",11001]
["UNIVERSIDAD NACIONAL DE COLOMBIA - NIVEL NACIONAL","8999990633","2008-05-14T06:55:12","D",11001,9999,"NIT",null,null,null,null,null,null,null,null,null,null,null,null,null,null,null,null,null,null,null,null,null,null,null,null,null,null,null,null,null,null,null,null,null,null,null,null,null,null,null,null,"GIMNASIO WILLIAM MACKINLEY","8002107571","2008-05-14T07:06:19","D",11001]
["GIMNASIO WILLIAM MACKINLEY","8002107571","2008-05-14T07:06:19","D",11001,9999,"NIT",null,null,null,null,null,null,null,null,null,null,null,null,null,null,null,null,null,null,null,null,null,null,null,null,null,null,null,null,null,null,null,null,null,null,null,null,null,null,null,null,"CI INDUSTRIAS FH S.A.","8002563228","2008-05-14T07:12:41","D",11001]
["CI INDUSTRIAS FH S.A.","8002563228","2008-05-14T07:12:41","D",11001,9999,"NIT",null,null,null,null,null,null,null,null,null,null,null,null,null,null,null,null,null,null,null,null,null,null,null,null,null,null,null,null,null,null,null,null,null,null,null,null,null,null,null,null,"GIMNASIO LA KHUMBRE LTDA","8001522437","2008-05-14T07:20:53","D",11001]
["GIMNASIO LA KHUMBRE LTDA","8001522437","2008-05-14T07:20:53","D",11001,9999,"NIT",null,null,null,null,null,null,null,null,null,null,null,null,null,null,null,null,null,null,null,null,null,null,null,null,null,null,null,null,null,null,null,null,null,null,null,null,null,null,null,null,"CONSORCIO FIMPROEX","9000468087","2008-05-14T12:46:50","D",11001]
["CONSORCIO FIMPROEX","9000468087","2008-05-14T12:46:50","D",11001,9999,"NIT",null,null,null,null,null,null,null,null,null,null,null,null,null,null,null,null,null,null,null,null,null,null,null,null,null,null,null,null,null,null,null,null,null,null,null,null,null,null,null,null,"FUTURA NETWORKS DE COLOMBIA LTDA","9001855475","2008-05-14T12:56:01","D",11001]
["FUTURA NETWORKS DE COLOMBIA LTDA","9001855475","2008-05-14T12:56:01","D",11001,9999,"NIT",null,null,null,null,null,null,null,null,null,null,null,null,null,null,null,null,null,null,null,null,null,null,null,null,null,null,null,null,null,null,null,null,null,null,null,null,null,null,null,null,"PROTELA S.A.","8600019632","2008-05-14T13:10:32","D",11001]
["PROTELA S.A.","8600019632","2008-05-14T13:10:32","D",11001,9999,"NIT",null,null,null,null,null,null,null,null,null,null,null,null,null,null,null,null,null,null,null,null,null,null,null,null,null,null,null,null,null,null,null,null,null,null,null,null,null,null,null,null,"FUNDACION AMAR Y SERVIR","9000129611","2008-05-22T16:45:59","D",11001]
["FUNDACION AMAR Y SERVIR","9000129611","2008-05-22T16:45:59","D",11001,9999,"NIT",null,null,null,null,null,null,null,null,null,null,null,null,null,null,null,null,null,null,null,null,null,null,null,null,null,null,null,null,null,null,null,null,null,null,null,null,null,null,null,null,"ORGANIZACION TERPEL S A.","8300952130","2008-05-23T06:36:13","D",11001]
["ORGANIZACION TERPEL S A.","8300952130","2008-05-23T06:36:13","D",11001,9999,"NIT",null,null,null,null,null,null,null,null,null,null,null,null,null,null,null,null,null,null,null,null,null,null,null,null,null,null,null,null,null,null,null,null,null,null,null,null,null,null,null,null,"FUNDACION BERTA MARTINES DE JARAMILLO","8909847657","2008-05-23T06:43:42","D",11001]
["FUNDACION BERTA MARTINES DE JARAMILLO","8909847657","2008-05-23T06:43:42","D",11001,9999,"NIT",null,null,null,null,null,null,null,null,null,null,null,null,null,null,null,null,null,null,null,null,null,null,null,null,null,null,null,null,null,null,null,null,null,null,null,null,null,null,null,null,"FONDO NACIONAL DE GARANTIAS","8604022722","2008-05-23T06:50:16","D",11001]
["FONDO NACIONAL DE GARANTIAS","8604022722","2008-05-23T06:50:16","D",11001,9999,"NIT",null,null,null,null,null,null,null,null,null,null,null,null,null,null,null,null,null,null,null,null,null,null,null,null,null,null,null,null,null,null,null,null,null,null,null,null,null,null,null,null,"GOLDEN CROSS S.A. EPS","9000749923","2008-05-27T08:47:53","D",11001]
["CORPORACION COLEGIATURA COLOMBIANA","8110241580","2008-06-04T19:10:19","D",11001,9999,"NIT",null,null,null,null,null,null,null,null,null,null,null,null,null,null,null,null,null,null,null,null,null,null,null,null,null,null,null,null,null,null,null,null,null,null,null,null,null,null,null,null,"UNIVERSIDAD PONTIFICIA BOLIVARIANA","8909029226","2008-06-04T19:20:32","D",11001]
["EDITORIAL MAGISTERIO S.A.","8300530919","2008-06-27T17:39:06","D",11001,9999,"NIT",null,null,null,null,null,null,null,null,null,null,null,null,null,null,null,null,null,null,null,null,null,null,null,null,null,null,null,null,null,null,null,null,null,null,null,null,null,null,null,null,"ARRENDAMIENTOS ENVIGADO S.A.","8909139929","2008-06-27T17:54:19","D",11001]
["UNIVERSIDAD DE ANTIOQUIA","890980040","2008-07-07T19:03:07","D",11001,9999,"NIT",null,null,null,null,null,null,null,null,null,null,null,null,null,null,null,null,null,null,null,null,null,null,null,null,null,null,null,null,null,null,null,null,null,null,null,null,null,null,null,null,"INVAMA-INSTITUTO DE VALORIZACION DE MANIZALEZ","8000029162","2008-07-10T18:41:09","D",11001]
["PROVINCIA NUESTRA SEÑORA DEL ROSARIO","8918003999","2008-07-28T19:07:55","D",11001,9999,"NIT",null,null,null,null,null,null,null,null,null,null,null,null,null,null,null,null,null,null,null,null,null,null,null,null,null,null,null,null,null,null,null,null,null,null,null,null,null,null,null,null,"XM COMPAÑIA DE EXPERTOS EN MERCADOS S.A. E.S.P.","9000428571","2008-07-28T19:14:30","D",11001]
["DIRECCION GENERAL MARITIMA","8300279041","2008-09-04T19:17:20","D",11001,9999,"NIT",null,null,null,null,null,null,null,null,null,null,null,null,null,null,null,null,null,null,null,null,null,null,null,null,null,null,null,null,null,null,null,null,null,null,null,null,null,null,null,null,"CORPORACION LICEO BENALCAZAR","8903024213","2008-09-10T14:39:13","D",11001]
["MUNICIPIO DE MEDELLIN","8909052111","2008-09-11T10:52:32","D",11001,9999,"NIT",null,null,null,null,null,null,null,null,null,null,null,null,null,null,null,null,null,null,null,null,null,null,null,null,null,null,null,null,null,null,null,null,null,null,null,null,null,null,null,null,"LA FRAGATA SEA FOOD LTDA.","8605146568","2008-09-11T11:28:41","D",11001]
["FRONTIER AGENCIA MARITIMA S.A.","8001593562","2008-09-18T16:43:40","D",11001,9999,"NIT",null,null,null,null,null,null,null,null,null,null,null,null,null,null,null,null,null,null,null,null,null,null,null,null,null,null,null,null,null,null,null,null,null,null,null,null,null,null,null,null,"COMPAÑIA DE COSMETICOS VOTRE PASSION S.A.","8001001593","2008-09-19T16:27:47","D",11001]
["UNIVERSIDAD COLEGIO MAYOR DE CUNDINAMARCA","8001448299","2008-10-28T13:55:46","D",11001,9999,"NIT",null,null,null,null,null,null,null,null,null,null,null,null,null,null,null,null,null,null,null,null,null,null,null,null,null,null,null,null,null,null,null,null,null,null,null,null,null,null,null,null,"UNIVERSIDAD EAN","8600260581","2008-10-28T14:01:20","D",11001]
["FUNDACION COLOMBIANA PARA LA NUTRICION INFANTIL - NUTRIR","8605042571","2008-10-28T14:54:44","D",11001,9999,"NIT",null,null,null,null,null,null,null,null,null,null,null,null,null,null,null,null,null,null,null,null,null,null,null,null,null,null,null,null,null,null,null,null,null,null,null,null,null,null,null,null,"LICEO DE COLOMBIA CORREA Y CIA LTDA.","8300814222","2008-10-30T08:21:25","D",11001]
["MEDIA COMERCE S.A.","8190069668","2008-12-01T11:11:46","D",11001,9999,"NIT",null,null,null,null,null,null,null,null,null,null,null,null,null,null,null,null,null,null,null,null,null,null,null,null,null,null,null,null,null,null,null,null,null,null,null,null,null,null,null,null,"CAMINO DE LAS AGUAS S.A.","9002224228","2008-12-11T08:28:22","D",11001]
["ARRENDAMIENTOS LONDOÑO GOMEZ S.A.","9001910906","2008-12-29T11:03:15","D",11001,9999,"NIT",null,null,null,null,null,null,null,null,null,null,null,null,null,null,null,null,null,null,null,null,null,null,null,null,null,null,null,null,null,null,null,null,null,null,null,null,null,null,null,null,"UNIVERSIDAD INDUSTRIAL DE SANTANDER","8902012134","2008-12-29T11:13:08","D",11001]
["UNIVERSIDAD INDUSTRIAL DE SANTANDER","8902012134","2008-12-29T11:13:08","D",11001,9999,"NIT",null,null,null,null,null,null,null,null,null,null,null,null,null,null,null,null,null,null,null,null,null,null,null,null,null,null,null,null,null,null,null,null,null,null,null,null,null,null,null,null,"CORPORACION CONEXION COLOMBIA","8301310565","2008-12-29T11:21:29","D",11001]
["ILANKO - SANTORINI","8300678614","2009-02-09T13:33:59","D",11001,9999,"NIT",null,null,null,null,null,null,null,null,null,null,null,null,null,null,null,null,null,null,null,null,null,null,null,null,null,null,null,null,null,null,null,null,null,null,null,null,null,null,null,null,"ILANKO - SANTORINI","8300678614","2009-02-09T13:33:59","D",11001]
["ORDEN DE LA COMPAÑIA DE MARIA NUESTRA SEÑORA MEDELLIN","8909024010","2009-02-19T17:44:56","D",11001,9999,"NIT",null,null,null,null,null,null,null,null,null,null,null,null,null,null,null,null,null,null,null,null,null,null,null,null,null,null,null,null,null,null,null,null,null,null,null,null,null,null,null,null,"ORDEN DE LA COMPAÑIA DE MARIA NUESTRA SEÑORA MEDELLIN","8909024010","2009-02-19T17:44:56","D",11001]
["INVERMUSIG GE S.A.","9001778548","2009-03-05T17:02:20","D",11001,9999,"NIT",null,null,null,null,null,null,null,null,null,null,null,null,null,null,null,null,null,null,null,null,null,null,null,null,null,null,null,null,null,null,null,null,null,null,null,null,null,null,null,null,"INVERMUSIG GE S.A.","9001778548","2009-03-05T17:02:20","D",11001]
["ASOCIACION COLOMBIANA DE ADMINISTRADORA - ASOFONDOS","8002260612","2009-04-06T15:23:09","D",11001,9999,"NIT",null,null,null,null,null,null,null,null,null,null,null,null,null,null,null,null,null,null,null,null,null,null,null,null,null,null,null,null,null,null,null,null,null,null,null,null,null,null,null,null,"ASOCIACION COLOMBIANA DE ADMINISTRADORA - ASOFONDOS","8002260612","2009-04-06T15:23:09","D",11001]
["Agencia de Aduanas Siaco SAS Nivel 1","8002519571","2009-05-08T10:18:33","D",11001,9999,"NIT",null,null,null,null,null,null,null,null,null,null,null,null,null,null,null,null,null,null,null,null,null,null,null,null,null,null,null,null,null,null,null,null,null,null,null,null,null,null,null,null,"Agencia de Aduanas Siaco SAS Nivel 1","8002519571","2009-05-08T10:18:33","D",11001]
["CONSTRUCTORA BOLIVAR S.A.","8605134931","2009-05-27T10:15:44","D",11001,9999,"NIT",null,null,null,null,null,null,null,null,null,null,null,null,null,null,null,null,null,null,null,null,null,null,null,null,null,null,null,null,null,null,null,null,null,null,null,null,null,null,null,null,"CONSTRUCTORA BOLIVAR S.A.","8605134931","2009-05-27T10:15:44","D",11001]
["C.I. TRADE ONLINE PRO LTDA (C,I, TOP LTDA)","9001440859","2009-06-16T11:08:40","D",11001,9999,"NIT",null,null,null,null,null,null,null,null,null,null,null,null,null,null,null,null,null,null,null,null,null,null,null,null,null,null,null,null,null,null,null,null,null,null,null,null,null,null,null,null,"C.I. TRADE ONLINE PRO LTDA (C,I, TOP LTDA)","9001440859","2009-06-16T11:08:40","D",11001]
["SANTAMARIA Y CASTRO ASOCIADOS S.A.","9001582849","2009-06-25T09:13:00","D",11001,9999,"NIT",null,null,null,null,null,null,null,null,null,null,null,null,null,null,null,null,null,null,null,null,null,null,null,null,null,null,null,null,null,null,null,null,null,null,null,null,null,null,null,null,"SANTAMARIA Y CASTRO ASOCIADOS S.A.","9001582849","2009-06-25T09:13:00","D",11001]
["Internegocios Ltda","8301102973","2009-07-01T14:44:32","D",11001,9999,"NIT",null,null,null,null,null,null,null,null,null,null,null,null,null,null,null,null,null,null,null,null,null,null,null,null,null,null,null,null,null,null,null,null,null,null,null,null,null,null,null,null,"Internegocios Ltda","8301102973","2009-07-01T14:44:32","D",11001]
["Congregacion Hnas del Angel de la Guarda","8600096594","2009-07-24T11:26:41","D",11001,9999,"NIT",null,null,null,null,null,null,null,null,null,null,null,null,null,null,null,null,null,null,null,null,null,null,null,null,null,null,null,null,null,null,null,null,null,null,null,null,null,null,null,null,"Congregacion Hnas del Angel de la Guarda","8600096594","2009-07-24T11:26:41","D",11001]
["Posada Gonima Propiedades Ltda","8001447362","2009-07-29T17:38:23","D",11001,9999,"NIT",null,null,null,null,null,null,null,null,null,null,null,null,null,null,null,null,null,null,null,null,null,null,null,null,null,null,null,null,null,null,null,null,null,null,null,null,null,null,null,null,"Posada Gonima Propiedades Ltda","8001447362","2009-07-29T17:38:23","D",11001]
["Agricola Las Cascadas S.A.","8002351665","2009-08-05T14:48:52","D",11001,9999,"NIT",null,null,null,null,null,null,null,null,null,null,null,null,null,null,null,null,null,null,null,null,null,null,null,null,null,null,null,null,null,null,null,null,null,null,null,null,null,null,null,null,"Agricola Las Cascadas S.A.","8002351665","2009-08-05T14:48:52","D",11001]
["Arrendamientos Adecol ltda","8110063091","2009-08-24T15:54:12","D",11001,9999,"NIT",null,null,null,null,null,null,null,null,null,null,null,null,null,null,null,null,null,null,null,null,null,null,null,null,null,null,null,null,null,null,null,null,null,null,null,null,null,null,null,null,"Arrendamientos Adecol ltda","8110063091","2009-08-24T15:54:12","D",11001]
["Arrendamientos Maxibienes Ltda","8110247304","2009-09-02T11:37:35","D",11001,9999,"NIT",null,null,null,null,null,null,null,null,null,null,null,null,null,null,null,null,null,null,null,null,null,null,null,null,null,null,null,null,null,null,null,null,null,null,null,null,null,null,null,null,"Arrendamientos Maxibienes Ltda","8110247304","2009-09-02T11:37:35","D",11001]
["Arrendamientos la 80 Ltda","8909361338","2009-09-10T14:35:29","D",11001,9999,"NIT",null,null,null,null,null,null,null,null,null,null,null,null,null,null,null,null,null,null,null,null,null,null,null,null,null,null,null,null,null,null,null,null,null,null,null,null,null,null,null,null,"Arrendamientos la 80 Ltda","8909361338","2009-09-10T14:35:29","D",11001]
["Beta Propiedad Raiz Ltda","9000101631","2009-09-24T11:38:23","D",11001,9999,"NIT",null,null,null,null,null,null,null,null,null,null,null,null,null,null,null,null,null,null,null,null,null,null,null,null,null,null,null,null,null,null,null,null,null,null,null,null,null,null,null,null,"Beta Propiedad Raiz Ltda","9000101631","2009-09-24T11:38:23","D",11001]
["Cirulaser Andes","8001123846","2009-09-24T12:08:15","D",11001,9999,"NIT",null,null,null,null,null,null,null,null,null,null,null,null,null,null,null,null,null,null,null,null,null,null,null,null,null,null,null,null,null,null,null,null,null,null,null,null,null,null,null,null,"Cirulaser Andes","8001123846","2009-09-24T12:08:15","D",11001]
["Deposito de Drogas Boyaca ","170682603","2009-09-30T10:28:49","D",11001,9999,"NIT",null,null,null,null,null,null,null,null,null,null,null,null,null,null,null,null,null,null,null,null,null,null,null,null,null,null,null,null,null,null,null,null,null,null,null,null,null,null,null,null,"Deposito de Drogas Boyaca ","170682603","2009-09-30T10:28:49","D",11001]
["FUNDACION CRAN","8600672947","2009-10-15T12:07:29","D",11001,9999,"NIT",null,null,null,null,null,null,null,null,null,null,null,null,null,null,null,null,null,null,null,null,null,null,null,null,null,null,null,null,null,null,null,null,null,null,null,null,null,null,null,null,"FUNDACION CRAN","8600672947","2009-10-15T12:07:29","D",11001]
["QBE SEGUROS S.A.","8600025340","2009-10-23T13:57:52","D",11001,9999,"NIT",null,null,null,null,null,null,null,null,null,null,null,null,null,null,null,null,null,null,null,null,null,null,null,null,null,null,null,null,null,null,null,null,null,null,null,null,null,null,null,null,"QBE SEGUROS S.A.","8600025340","2009-10-23T13:57:52","D",11001]
["Sociedad Colombiana de Oftalmologia","8600200876","2009-10-30T11:04:31","D",11001,9999,"NIT",null,null,null,null,null,null,null,null,null,null,null,null,null,null,null,null,null,null,null,null,null,null,null,null,null,null,null,null,null,null,null,null,null,null,null,null,null,null,null,null,"Sociedad Colombiana de Oftalmologia","8600200876","2009-10-30T11:04:31","D",11001]
["Casa Editoria el Tiempo S.A. /Pagos Online","860001022","2009-11-10T09:11:47","D",11001,9999,"NIT",null,null,null,null,null,null,null,null,null,null,null,null,null,null,null,null,null,null,null,null,null,null,null,null,null,null,null,null,null,null,null,null,null,null,null,null,null,null,null,null,"Casa Editoria el Tiempo S.A. /Pagos Online","860001022","2009-11-10T09:11:47","D",11001]
["Alta Tecnología En el Aprendizaje S.A.","8300010890","2009-11-24T10:02:17","D",11001,9999,"NIT",null,null,null,null,null,null,null,null,null,null,null,null,null,null,null,null,null,null,null,null,null,null,null,null,null,null,null,null,null,null,null,null,null,null,null,null,null,null,null,null,"Alta Tecnología En el Aprendizaje S.A.","8300010890","2009-11-24T10:02:17","D",11001]
["Universidad Nacional de Colombia-Sede Medellin","8999990632","2009-12-04T16:03:16","D",11001,9999,"NIT",null,null,null,null,null,null,null,null,null,null,null,null,null,null,null,null,null,null,null,null,null,null,null,null,null,null,null,null,null,null,null,null,null,null,null,null,null,null,null,null,"Universidad Nacional de Colombia-Sede Medellin","8999990632","2009-12-04T16:03:16","D",11001]
["CHINA AUTOMOTRIZ S.A.","8305098771","2010-01-22T17:12:24","D",11001,9999,"NIT",null,null,null,null,null,null,null,null,null,null,null,null,null,null,null,null,null,null,null,null,null,null,null,null,null,null,null,null,null,null,null,null,null,null,null,null,null,null,null,null,"CHINA AUTOMOTRIZ S.A.","8305098771","2010-01-22T17:12:24","D",11001]
["Asociacion Bancaria y de Entidades Financieras de Colombia","8600068121","2010-01-25T11:03:18","D",11001,9999,"NIT",null,null,null,null,null,null,null,null,null,null,null,null,null,null,null,null,null,null,null,null,null,null,null,null,null,null,null,null,null,null,null,null,null,null,null,null,null,null,null,null,"Asociacion Bancaria y de Entidades Financieras de Colombia","8600068121","2010-01-25T11:03:18","D",11001]
["ERCOMP SYSTEMS INC LTDA","8300274026","2010-03-01T11:40:10","D",11001,9999,"NIT",null,null,null,null,null,null,null,null,null,null,null,null,null,null,null,null,null,null,null,null,null,null,null,null,null,null,null,null,null,null,null,null,null,null,null,null,null,null,null,null,"ERCOMP SYSTEMS INC LTDA","8300274026","2010-03-01T11:40:10","D",11001]
["Seguridad Nacional Ltda","8914082564","2010-03-12T10:16:52","D",11001,9999,"NIT",null,null,null,null,null,null,null,null,null,null,null,null,null,null,null,null,null,null,null,null,null,null,null,null,null,null,null,null,null,null,null,null,null,null,null,null,null,null,null,null,"Seguridad Nacional Ltda","8914082564","2010-03-12T10:16:52","D",11001]
["Colegio Gimnasio Vermont S.A.","8600585531","2010-03-15T14:21:46","D",11001,9999,"NIT",null,null,null,null,null,null,null,null,null,null,null,null,null,null,null,null,null,null,null,null,null,null,null,null,null,null,null,null,null,null,null,null,null,null,null,null,null,null,null,null,"Colegio Gimnasio Vermont S.A.","8600585531","2010-03-15T14:21:46","D",11001]
["Fundación Incolmotos Yamaha","8305103620","2010-03-29T18:07:10","D",11001,9999,"NIT",null,null,null,null,null,null,null,null,null,null,null,null,null,null,null,null,null,null,null,null,null,null,null,null,null,null,null,null,null,null,null,null,null,null,null,null,null,null,null,null,"Fundación Incolmotos Yamaha","8305103620","2010-03-29T18:07:10","D",11001]
["SUPERINTENDENCIA DE NOTARIADO Y REGISTRO","8999990070","2010-04-15T14:40:41","D",11001,9999,"NIT",null,null,null,null,null,null,null,null,null,null,null,null,null,null,null,null,null,null,null,null,null,null,null,null,null,null,null,null,null,null,null,null,null,null,null,null,null,null,null,null,"SUPERINTENDENCIA DE NOTARIADO Y REGISTRO","8999990070","2010-04-15T14:40:41","D",11001]
["E-GROUP TECHNOLOGIES S.A.","9002045708","2010-04-22T16:37:49","D",11001,9999,"NIT",null,null,null,null,null,null,null,null,null,null,null,null,null,null,null,null,null,null,null,null,null,null,null,null,null,null,null,null,null,null,null,null,null,null,null,null,null,null,null,null,"E-GROUP TECHNOLOGIES S.A.","9002045708","2010-04-22T16:37:49","D",11001]
["HH DOMINICAS DE LA PRESENTACION","8600628461","2010-05-20T11:47:10","D",11001,9999,"NIT",null,null,null,null,null,null,null,null,null,null,null,null,null,null,null,null,null,null,null,null,null,null,null,null,null,null,null,null,null,null,null,null,null,null,null,null,null,null,null,null,"HH DOMINICAS DE LA PRESENTACION","8600628461","2010-05-20T11:47:10","D",11001]
["AUTOTECNICA COLOMBIANA S.A. - AUTECO","8909003170","2010-06-02T11:25:02","D",11001,9999,"NIT",null,null,null,null,null,null,null,null,null,null,null,null,null,null,null,null,null,null,null,null,null,null,null,null,null,null,null,null,null,null,null,null,null,null,null,null,null,null,null,null,"AUTOTECNICA COLOMBIANA S.A. - AUTECO","8909003170","2010-06-02T11:25:02","D",11001]
["COIMPRESORES DE COLOMBIA","8909047694","2010-06-03T16:14:10","D",11001,9999,"NIT",null,null,null,null,null,null,null,null,null,null,null,null,null,null,null,null,null,null,null,null,null,null,null,null,null,null,null,null,null,null,null,null,null,null,null,null,null,null,null,null,"COIMPRESORES DE COLOMBIA","8909047694","2010-06-03T16:14:10","D",11001]
["OBT La Tienda SAS","9003518568","2010-06-28T16:43:35","D",11001,9999,"NIT",null,null,null,null,null,null,null,null,null,null,null,null,null,null,null,null,null,null,null,null,null,null,null,null,null,null,null,null,null,null,null,null,null,null,null,null,null,null,null,null,"OBT La Tienda SAS","9003518568","2010-06-28T16:43:35","D",11001]
["Corporación Universitaria el Caribe-CECAR","8922012631","2010-07-19T08:57:59","D",11001,9999,"NIT",null,null,null,null,null,null,null,null,null,null,null,null,null,null,null,null,null,null,null,null,null,null,null,null,null,null,null,null,null,null,null,null,null,null,null,null,null,null,null,null,"Corporación Universitaria el Caribe-CECAR","8922012631","2010-07-19T08:57:59","D",11001]
["Inacar SCA","8000860420","2010-08-02T15:14:28","D",11001,9999,"NIT",null,null,null,null,null,null,null,null,null,null,null,null,null,null,null,null,null,null,null,null,null,null,null,null,null,null,null,null,null,null,null,null,null,null,null,null,null,null,null,null,"Inacar SCA","8000860420","2010-08-02T15:14:28","D",11001]
["Superintendencia de notariado y Registro/Recaudo Notarial","899999007","2010-08-24T17:26:29","D",11001,9999,"NIT",null,null,null,null,null,null,null,null,null,null,null,null,null,null,null,null,null,null,null,null,null,null,null,null,null,null,null,null,null,null,null,null,null,null,null,null,null,null,null,null,"Superintendencia de notariado y Registro/Recaudo Notarial","899999007","2010-08-24T17:26:29","D",11001]
["Universidad de Ibague","8907043821","2010-08-26T09:26:59","D",11001,9999,"NIT",null,null,null,null,null,null,null,null,null,null,null,null,null,null,null,null,null,null,null,null,null,null,null,null,null,null,null,null,null,null,null,null,null,null,null,null,null,null,null,null,"Universidad de Ibague","8907043821","2010-08-26T09:26:59","D",11001]
["DISTRIFARMED S.A.S","9000637793","2010-09-14T16:47:36","D",11001,9999,"NIT",null,null,null,null,null,null,null,null,null,null,null,null,null,null,null,null,null,null,null,null,null,null,null,null,null,null,null,null,null,null,null,null,null,null,null,null,null,null,null,null,"DISTRIFARMED S.A.S","9000637793","2010-09-14T16:47:36","D",11001]
["Dominio Estudio de Diseño EU","8301142649","2010-09-24T15:44:10","D",11001,9999,"NIT",null,null,null,null,null,null,null,null,null,null,null,null,null,null,null,null,null,null,null,null,null,null,null,null,null,null,null,null,null,null,null,null,null,null,null,null,null,null,null,null,"Dominio Estudio de Diseño EU","8301142649","2010-09-24T15:44:10","D",11001]
["Softgane s.a.s","9003242525","2010-09-24T16:11:58","D",11001,9999,"NIT",null,null,null,null,null,null,null,null,null,null,null,null,null,null,null,null,null,null,null,null,null,null,null,null,null,null,null,null,null,null,null,null,null,null,null,null,null,null,null,null,"Softgane s.a.s","9003242525","2010-09-24T16:11:58","D",11001]
["Promotora de Ediciones y Comunicaciones","8909211260","2010-10-07T17:52:10","D",11001,9999,"NIT",null,null,null,null,null,null,null,null,null,null,null,null,null,null,null,null,null,null,null,null,null,null,null,null,null,null,null,null,null,null,null,null,null,null,null,null,null,null,null,null,"Promotora de Ediciones y Comunicaciones","8909211260","2010-10-07T17:52:10","D",11001]
["PROINMOBILIA S.A.S","9002999722","2010-10-25T14:23:56","D",11001,9999,"NIT",null,null,null,null,null,null,null,null,null,null,null,null,null,null,null,null,null,null,null,null,null,null,null,null,null,null,null,null,null,null,null,null,null,null,null,null,null,null,null,null,"PROINMOBILIA S.A.S","9002999722","2010-10-25T14:23:56","D",11001]
["Corporación Superarse","890980939","2010-11-03T09:59:48","D",11001,9999,"NIT",null,null,null,null,null,null,null,null,null,null,null,null,null,null,null,null,null,null,null,null,null,null,null,null,null,null,null,null,null,null,null,null,null,null,null,null,null,null,null,null,"Corporación Superarse","890980939","2010-11-03T09:59:48","D",11001]
["Marroquinera S.A.","8600664711","2010-11-09T17:02:47","D",11001,9999,"NIT",null,null,null,null,null,null,null,null,null,null,null,null,null,null,null,null,null,null,null,null,null,null,null,null,null,null,null,null,null,null,null,null,null,null,null,null,null,null,null,null,"Marroquinera S.A.","8600664711","2010-11-09T17:02:47","D",11001]
["Colombia To Go S.A.","9002267540","2010-11-26T15:11:02","D",11001,9999,"NIT",null,null,null,null,null,null,null,null,null,null,null,null,null,null,null,null,null,null,null,null,null,null,null,null,null,null,null,null,null,null,null,null,null,null,null,null,null,null,null,null,"Colombia To Go S.A.","9002267540","2010-11-26T15:11:02","D",11001]
["Royal & Sun Alliance Seguros (Colombia) S.A.","8600025057","2010-11-29T15:07:29","D",11001,9999,"NIT",null,null,null,null,null,null,null,null,null,null,null,null,null,null,null,null,null,null,null,null,null,null,null,null,null,null,null,null,null,null,null,null,null,null,null,null,null,null,null,null,"Royal & Sun Alliance Seguros (Colombia) S.A.","8600025057","2010-11-29T15:07:29","D",11001]
["Cooperativa de Motoristas del Huila y Caqueta Ltda.","8911002791","2010-12-02T18:25:32","D",11001,9999,"NIT",null,null,null,null,null,null,null,null,null,null,null,null,null,null,null,null,null,null,null,null,null,null,null,null,null,null,null,null,null,null,null,null,null,null,null,null,null,null,null,null,"Cooperativa de Motoristas del Huila y Caqueta Ltda.","8911002791","2010-12-02T18:25:32","D",11001]
["Armada Nacional","8001416441","2010-12-20T15:23:47","D",11001,9999,"NIT",null,null,null,null,null,null,null,null,null,null,null,null,null,null,null,null,null,null,null,null,null,null,null,null,null,null,null,null,null,null,null,null,null,null,null,null,null,null,null,null,"Armada Nacional","8001416441","2010-12-20T15:23:47","D",11001]
["Distrito Turistico y Cultural de Cartagena de Indias","890480184","2010-12-22T10:15:31","D",11001,9999,"NIT",null,null,null,null,null,null,null,null,null,null,null,null,null,null,null,null,null,null,null,null,null,null,null,null,null,null,null,null,null,null,null,null,null,null,null,null,null,null,null,null,"Distrito Turistico y Cultural de Cartagena de Indias","890480184","2010-12-22T10:15:31","D",11001]
["Porvenir Fondo de Cesantias","8001700437","2011-01-11T08:42:27","D",11001,9999,"NIT",null,null,null,null,null,null,null,null,null,null,null,null,null,null,null,null,null,null,null,null,null,null,null,null,null,null,null,null,null,null,null,null,null,null,null,null,null,null,null,null,"Porvenir Fondo de Cesantias","8001700437","2011-01-11T08:42:27","D",11001]
["Inversiones Turisticas del Caribe y Cia Ltda. SCA","890401617","2011-01-24T10:15:30","D",11001,9999,"NIT",null,null,null,null,null,null,null,null,null,null,null,null,null,null,null,null,null,null,null,null,null,null,null,null,null,null,null,null,null,null,null,null,null,null,null,null,null,null,null,null,"Inversiones Turisticas del Caribe y Cia Ltda. SCA","890401617","2011-01-24T10:15:30","D",11001]
["CORPORACION INTEGRAL DE SERVICIOS SCARE CORPOSCARE","830113393","2011-02-08T12:42:11","D",11001,9999,"NIT",null,null,null,null,null,null,null,null,null,null,null,null,null,null,null,null,null,null,null,null,null,null,null,null,null,null,null,null,null,null,null,null,null,null,null,null,null,null,null,null,"CORPORACION INTEGRAL DE SERVICIOS SCARE CORPOSCARE","830113393","2011-02-08T12:42:11","D",11001]
["Fundacion Bennett","8001339970","2011-02-24T17:44:49","D",11001,9999,"NIT",null,null,null,null,null,null,null,null,null,null,null,null,null,null,null,null,null,null,null,null,null,null,null,null,null,null,null,null,null,null,null,null,null,null,null,null,null,null,null,null,"Fundacion Bennett","8001339970","2011-02-24T17:44:49","D",11001]
["Segurtronic LTDA","8002507413","2011-02-25T20:52:21","D",11001,9999,"NIT",null,null,null,null,null,null,null,null,null,null,null,null,null,null,null,null,null,null,null,null,null,null,null,null,null,null,null,null,null,null,null,null,null,null,null,null,null,null,null,null,"Segurtronic LTDA","8002507413","2011-02-25T20:52:21","D",11001]
["Dislicores S.A.","8909165754","2011-03-10T18:59:55","D",11001,9999,"NIT",null,null,null,null,null,null,null,null,null,null,null,null,null,null,null,null,null,null,null,null,null,null,null,null,null,null,null,null,null,null,null,null,null,null,null,null,null,null,null,null,"Dislicores S.A.","8909165754","2011-03-10T18:59:55","D",11001]
["ASURBE  - Asociacion de Propietarios, arrendatarios y administra","8110313665","2011-03-25T17:35:31","D",11001,9999,"NIT",null,null,null,null,null,null,null,null,null,null,null,null,null,null,null,null,null,null,null,null,null,null,null,null,null,null,null,null,null,null,null,null,null,null,null,null,null,null,null,null,"ASURBE  - Asociacion de Propietarios, arrendatarios y administra","8110313665","2011-03-25T17:35:31","D",11001]
["Camara de Comercio del Oriente Antioqueño","8000155514","2011-04-14T18:43:23","D",11001,9999,"NIT",null,null,null,null,null,null,null,null,null,null,null,null,null,null,null,null,null,null,null,null,null,null,null,null,null,null,null,null,null,null,null,null,null,null,null,null,null,null,null,null,"Camara de Comercio del Oriente Antioqueño","8000155514","2011-04-14T18:43:23","D",11001]
["Fundacion Santa fe de Bogota","8600379502","2011-04-14T19:18:30","D",11001,9999,"NIT",null,null,null,null,null,null,null,null,null,null,null,null,null,null,null,null,null,null,null,null,null,null,null,null,null,null,null,null,null,null,null,null,null,null,null,null,null,null,null,null,"Fundacion Santa fe de Bogota","8600379502","2011-04-14T19:18:30","D",11001]
["Fundacion Luchemos por la Vida","8110136316","2011-05-05T11:09:29","D",11001,9999,"NIT",null,null,null,null,null,null,null,null,null,null,null,null,null,null,null,null,null,null,null,null,null,null,null,null,null,null,null,null,null,null,null,null,null,null,null,null,null,null,null,null,"Fundacion Luchemos por la Vida","8110136316","2011-05-05T11:09:29","D",11001]
["Consejo Colombiano de Seguridad","8600073780","2011-05-12T19:12:47","D",11001,9999,"NIT",null,null,null,null,null,null,null,null,null,null,null,null,null,null,null,null,null,null,null,null,null,null,null,null,null,null,null,null,null,null,null,null,null,null,null,null,null,null,null,null,"Consejo Colombiano de Seguridad","8600073780","2011-05-12T19:12:47","D",11001]
["Universidad Sergio Arboleda","8603518943","2011-05-25T15:23:09","D",11001,9999,"NIT",null,null,null,null,null,null,null,null,null,null,null,null,null,null,null,null,null,null,null,null,null,null,null,null,null,null,null,null,null,null,null,null,null,null,null,null,null,null,null,null,"Universidad Sergio Arboleda","8603518943","2011-05-25T15:23:09","D",11001]
["Camara de Comercio de Cali [Tu Compra]","890399001","2011-06-08T17:42:30","D",11001,9999,"NIT",null,null,null,null,null,null,null,null,null,null,null,null,null,null,null,null,null,null,null,null,null,null,null,null,null,null,null,null,null,null,null,null,null,null,null,null,null,null,null,null,"Camara de Comercio de Cali [Tu Compra]","890399001","2011-06-08T17:42:30","D",11001]
["Pentagrama S.A.","8160041820","2011-06-09T18:29:20","D",11001,9999,"NIT",null,null,null,null,null,null,null,null,null,null,null,null,null,null,null,null,null,null,null,null,null,null,null,null,null,null,null,null,null,null,null,null,null,null,null,null,null,null,null,null,"Pentagrama S.A.","8160041820","2011-06-09T18:29:20","D",11001]
["Optima S.A.","8903247061","2011-06-16T14:50:58","D",11001,9999,"NIT",null,null,null,null,null,null,null,null,null,null,null,null,null,null,null,null,null,null,null,null,null,null,null,null,null,null,null,null,null,null,null,null,null,null,null,null,null,null,null,null,"Optima S.A.","8903247061","2011-06-16T14:50:58","D",11001]
["Inversiones Crear Rama S.A.","8300106716","2011-06-24T16:19:19","D",11001,9999,"NIT",null,null,null,null,null,null,null,null,null,null,null,null,null,null,null,null,null,null,null,null,null,null,null,null,null,null,null,null,null,null,null,null,null,null,null,null,null,null,null,null,"Inversiones Crear Rama S.A.","8300106716","2011-06-24T16:19:19","D",11001]
["Camara de Comercio de Manizales","8908010426","2011-07-07T10:52:56","D",11001,9999,"NIT",null,null,null,null,null,null,null,null,null,null,null,null,null,null,null,null,null,null,null,null,null,null,null,null,null,null,null,null,null,null,null,null,null,null,null,null,null,null,null,null,"Camara de Comercio de Manizales","8908010426","2011-07-07T10:52:56","D",11001]
["Edificio Cedro Verde PH","9002039247","2011-07-22T16:36:10","D",11001,9999,"NIT",null,null,null,null,null,null,null,null,null,null,null,null,null,null,null,null,null,null,null,null,null,null,null,null,null,null,null,null,null,null,null,null,null,null,null,null,null,null,null,null,"Edificio Cedro Verde PH","9002039247","2011-07-22T16:36:10","D",11001]
["Angela Maria Gomez Aristizabal","435907907","2011-08-01T12:38:22","D",11001,9999,"NIT",null,null,null,null,null,null,null,null,null,null,null,null,null,null,null,null,null,null,null,null,null,null,null,null,null,null,null,null,null,null,null,null,null,null,null,null,null,null,null,null,"Angela Maria Gomez Aristizabal","435907907","2011-08-01T12:38:22","D",11001]
["Colombian Tourist SAS","8600002308","2011-08-01T14:29:42","D",11001,9999,"NIT",null,null,null,null,null,null,null,null,null,null,null,null,null,null,null,null,null,null,null,null,null,null,null,null,null,null,null,null,null,null,null,null,null,null,null,null,null,null,null,null,"Colombian Tourist SAS","8600002308","2011-08-01T14:29:42","D",11001]
["Departamento de Bolivar","8904800591","2011-08-04T16:29:24","D",11001,9999,"NIT",null,null,null,null,null,null,null,null,null,null,null,null,null,null,null,null,null,null,null,null,null,null,null,null,null,null,null,null,null,null,null,null,null,null,null,null,null,null,null,null,"Departamento de Bolivar","8904800591","2011-08-04T16:29:24","D",11001]
["Adarve e Hijos Ltda","860053845","2011-08-11T16:31:31","D",11001,9999,"NIT",null,null,null,null,null,null,null,null,null,null,null,null,null,null,null,null,null,null,null,null,null,null,null,null,null,null,null,null,null,null,null,null,null,null,null,null,null,null,null,null,"Adarve e Hijos Ltda","860053845","2011-08-11T16:31:31","D",11001]
["Securitec Ltda","8300453063","2011-08-17T11:20:13","D",11001,9999,"NIT",null,null,null,null,null,null,null,null,null,null,null,null,null,null,null,null,null,null,null,null,null,null,null,null,null,null,null,null,null,null,null,null,null,null,null,null,null,null,null,null,"Securitec Ltda","8300453063","2011-08-17T11:20:13","D",11001]
["Hyundai Colombia Automotriz SA","8001735574","2011-08-25T15:06:26","D",11001,9999,"NIT",null,null,null,null,null,null,null,null,null,null,null,null,null,null,null,null,null,null,null,null,null,null,null,null,null,null,null,null,null,null,null,null,null,null,null,null,null,null,null,null,"Hyundai Colombia Automotriz SA","8001735574","2011-08-25T15:06:26","D",11001]
["Fondo de Pensiones Voluntarias BBVA Horizonte","8301247484","2011-09-06T17:18:17","D",11001,9999,"NIT",null,null,null,null,null,null,null,null,null,null,null,null,null,null,null,null,null,null,null,null,null,null,null,null,null,null,null,null,null,null,null,null,null,null,null,null,null,null,null,null,"Fondo de Pensiones Voluntarias BBVA Horizonte","8301247484","2011-09-06T17:18:17","D",11001]
["Electrojaponesa SA","8903063729","2011-09-12T16:35:20","D",11001,9999,"NIT",null,null,null,null,null,null,null,null,null,null,null,null,null,null,null,null,null,null,null,null,null,null,null,null,null,null,null,null,null,null,null,null,null,null,null,null,null,null,null,null,"Electrojaponesa SA","8903063729","2011-09-12T16:35:20","D",11001]
["Formula Smile Inc","8301416811","2011-09-20T15:44:50","D",11001,9999,"NIT",null,null,null,null,null,null,null,null,null,null,null,null,null,null,null,null,null,null,null,null,null,null,null,null,null,null,null,null,null,null,null,null,null,null,null,null,null,null,null,null,"Formula Smile Inc","8301416811","2011-09-20T15:44:50","D",11001]
["Grupo Jusar SAS","9003071541","2011-09-21T15:30:57","D",11001,9999,"NIT",null,null,null,null,null,null,null,null,null,null,null,null,null,null,null,null,null,null,null,null,null,null,null,null,null,null,null,null,null,null,null,null,null,null,null,null,null,null,null,null,"Grupo Jusar SAS","9003071541","2011-09-21T15:30:57","D",11001]
["Ecopetrol [Acciones]","899999068","2011-09-29T09:23:38","D",11001,9999,"NIT",null,null,null,null,null,null,null,null,null,null,null,null,null,null,null,null,null,null,null,null,null,null,null,null,null,null,null,null,null,null,null,null,null,null,null,null,null,null,null,null,"Ecopetrol [Acciones]","899999068","2011-09-29T09:23:38","D",11001]
["Promotora de Comercio Social","8909854388","2011-10-07T12:40:23","D",11001,9999,"NIT",null,null,null,null,null,null,null,null,null,null,null,null,null,null,null,null,null,null,null,null,null,null,null,null,null,null,null,null,null,null,null,null,null,null,null,null,null,null,null,null,"Promotora de Comercio Social","8909854388","2011-10-07T12:40:23","D",11001]
["JOHN ANDREW BRADFORD","000358087","2011-10-13T17:22:10","D",11001,9999,"NIT",null,null,null,null,null,null,null,null,null,null,null,null,null,null,null,null,null,null,null,null,null,null,null,null,null,null,null,null,null,null,null,null,null,null,null,null,null,null,null,null,"JOHN ANDREW BRADFORD","000358087","2011-10-13T17:22:10","D",11001]
["Corporacion Union de Hogares Cristianos","8000230151","2011-11-01T15:48:20","D",11001,9999,"NIT",null,null,null,null,null,null,null,null,null,null,null,null,null,null,null,null,null,null,null,null,null,null,null,null,null,null,null,null,null,null,null,null,null,null,null,null,null,null,null,null,"Corporacion Union de Hogares Cristianos","8000230151","2011-11-01T15:48:20","D",11001]
["Corporacion Universitaria Minuto de Dios - Uniminuto","8001162172","2011-11-17T14:20:39","D",11001,9999,"NIT",null,null,null,null,null,null,null,null,null,null,null,null,null,null,null,null,null,null,null,null,null,null,null,null,null,null,null,null,null,null,null,null,null,null,null,null,null,null,null,null,"Corporacion Universitaria Minuto de Dios - Uniminuto","8001162172","2011-11-17T14:20:39","D",11001]
["Boston Medical Group","9002913734","2011-11-24T16:50:07","D",11001,9999,"NIT",null,null,null,null,null,null,null,null,null,null,null,null,null,null,null,null,null,null,null,null,null,null,null,null,null,null,null,null,null,null,null,null,null,null,null,null,null,null,null,null,"Boston Medical Group","9002913734","2011-11-24T16:50:07","D",11001]
["My Style SAS","9003341798","2011-12-02T14:48:58","D",11001,9999,"NIT",null,null,null,null,null,null,null,null,null,null,null,null,null,null,null,null,null,null,null,null,null,null,null,null,null,null,null,null,null,null,null,null,null,null,null,null,null,null,null,null,"My Style SAS","9003341798","2011-12-02T14:48:58","D",11001]
["Sistemas y Computadores S.A.","8902063515","2011-12-14T16:07:46","D",11001,9999,"NIT",null,null,null,null,null,null,null,null,null,null,null,null,null,null,null,null,null,null,null,null,null,null,null,null,null,null,null,null,null,null,null,null,null,null,null,null,null,null,null,null,"Sistemas y Computadores S.A.","8902063515","2011-12-14T16:07:46","D",11001]
["Abastecedor Colombiano de Tejas y Drywall SAS","9001899451","2011-12-23T10:24:31","D",11001,9999,"NIT",null,null,null,null,null,null,null,null,null,null,null,null,null,null,null,null,null,null,null,null,null,null,null,null,null,null,null,null,null,null,null,null,null,null,null,null,null,null,null,null,"Abastecedor Colombiano de Tejas y Drywall SAS","9001899451","2011-12-23T10:24:31","D",11001]
["Tienda Vegetariana el Sol","8001590170","2012-01-03T11:54:04","D",11001,9999,"NIT",null,null,null,null,null,null,null,null,null,null,null,null,null,null,null,null,null,null,null,null,null,null,null,null,null,null,null,null,null,null,null,null,null,null,null,null,null,null,null,null,"Tienda Vegetariana el Sol","8001590170","2012-01-03T11:54:04","D",11001]
["T.N.S. SAS","8001828561","2012-01-13T09:46:42","D",11001,9999,"NIT",null,null,null,null,null,null,null,null,null,null,null,null,null,null,null,null,null,null,null,null,null,null,null,null,null,null,null,null,null,null,null,null,null,null,null,null,null,null,null,null,"T.N.S. SAS","8001828561","2012-01-13T09:46:42","D",11001]
["Compass Group Services Colombia SA","890929877","2012-01-13T09:54:15","D",11001,9999,"NIT",null,null,null,null,null,null,null,null,null,null,null,null,null,null,null,null,null,null,null,null,null,null,null,null,null,null,null,null,null,null,null,null,null,null,null,null,null,null,null,null,"Compass Group Services Colombia SA","890929877","2012-01-13T09:54:15","D",11001]
["Niviglobal SA","9001415182","2012-01-20T16:12:24","D",11001,9999,"NIT",null,null,null,null,null,null,null,null,null,null,null,null,null,null,null,null,null,null,null,null,null,null,null,null,null,null,null,null,null,null,null,null,null,null,null,null,null,null,null,null,"Niviglobal SA","9001415182","2012-01-20T16:12:24","D",11001]
["Cooperativa Multiactiva de Bienestar Familiar","8600445340","2012-02-01T16:58:10","D",11001,9999,"NIT",null,null,null,null,null,null,null,null,null,null,null,null,null,null,null,null,null,null,null,null,null,null,null,null,null,null,null,null,null,null,null,null,null,null,null,null,null,null,null,null,"Cooperativa Multiactiva de Bienestar Familiar","8600445340","2012-02-01T16:58:10","D",11001]
["Fundacion Cultural Las Casitas","890324022","2012-02-08T08:28:41","D",11001,9999,"NIT",null,null,null,null,null,null,null,null,null,null,null,null,null,null,null,null,null,null,null,null,null,null,null,null,null,null,null,null,null,null,null,null,null,null,null,null,null,null,null,null,"Fundacion Cultural Las Casitas","890324022","2012-02-08T08:28:41","D",11001]
["Conjunto Residencial Nogal","9001775425","2012-02-16T18:26:44","D",11001,9999,"NIT",null,null,null,null,null,null,null,null,null,null,null,null,null,null,null,null,null,null,null,null,null,null,null,null,null,null,null,null,null,null,null,null,null,null,null,null,null,null,null,null,"Conjunto Residencial Nogal","9001775425","2012-02-16T18:26:44","D",11001]
["Conjunto Residencial Roble","9002915572","2012-02-27T08:56:08","D",11001,9999,"NIT",null,null,null,null,null,null,null,null,null,null,null,null,null,null,null,null,null,null,null,null,null,null,null,null,null,null,null,null,null,null,null,null,null,null,null,null,null,null,null,null,"Conjunto Residencial Roble","9002915572","2012-02-27T08:56:08","D",11001]
["Inversiones Educolombia S.A.S.","830142885","2012-02-29T18:17:45","D",11001,9999,"NIT",null,null,null,null,null,null,null,null,null,null,null,null,null,null,null,null,null,null,null,null,null,null,null,null,null,null,null,null,null,null,null,null,null,null,null,null,null,null,null,null,"Inversiones Educolombia S.A.S.","830142885","2012-02-29T18:17:45","D",11001]
["BACO CE S.A.S.","9003494053","2012-03-14T18:04:48","D",11001,9999,"NIT",null,null,null,null,null,null,null,null,null,null,null,null,null,null,null,null,null,null,null,null,null,null,null,null,null,null,null,null,null,null,null,null,null,null,null,null,null,null,null,null,"BACO CE S.A.S.","9003494053","2012-03-14T18:04:48","D",11001]
["Cooperativa de Desarrollo Empresarial - Demcoop","8605333801","2012-03-22T11:51:20","D",11001,9999,"NIT",null,null,null,null,null,null,null,null,null,null,null,null,null,null,null,null,null,null,null,null,null,null,null,null,null,null,null,null,null,null,null,null,null,null,null,null,null,null,null,null,"Cooperativa de Desarrollo Empresarial - Demcoop","8605333801","2012-03-22T11:51:20","D",11001]
["RF Soluciones S.A.S.","9002748124","2012-03-26T17:40:06","D",11001,9999,"NIT",null,null,null,null,null,null,null,null,null,null,null,null,null,null,null,null,null,null,null,null,null,null,null,null,null,null,null,null,null,null,null,null,null,null,null,null,null,null,null,null,"RF Soluciones S.A.S.","9002748124","2012-03-26T17:40:06","D",11001]
["Operadora de Viajes y Turismo Destino Antioquia SAS","8110433040","2012-03-29T15:34:45","D",11001,9999,"NIT",null,null,null,null,null,null,null,null,null,null,null,null,null,null,null,null,null,null,null,null,null,null,null,null,null,null,null,null,null,null,null,null,null,null,null,null,null,null,null,null,"Operadora de Viajes y Turismo Destino Antioquia SAS","8110433040","2012-03-29T15:34:45","D",11001]
["Coopantex","8909048431","2012-04-10T11:10:22","D",11001,9999,"NIT",null,null,null,null,null,null,null,null,null,null,null,null,null,null,null,null,null,null,null,null,null,null,null,null,null,null,null,null,null,null,null,null,null,null,null,null,null,null,null,null,"Coopantex","8909048431","2012-04-10T11:10:22","D",11001]
["La Mayor Transportadora S.A.S.","830060431","2012-04-10T11:50:05","D",11001,9999,"NIT",null,null,null,null,null,null,null,null,null,null,null,null,null,null,null,null,null,null,null,null,null,null,null,null,null,null,null,null,null,null,null,null,null,null,null,null,null,null,null,null,"La Mayor Transportadora S.A.S.","830060431","2012-04-10T11:50:05","D",11001]
["Valencia Martinez & Cia S en C.S.","8924006589","2012-04-13T15:55:15","D",11001,9999,"NIT",null,null,null,null,null,null,null,null,null,null,null,null,null,null,null,null,null,null,null,null,null,null,null,null,null,null,null,null,null,null,null,null,null,null,null,null,null,null,null,null,"Valencia Martinez & Cia S en C.S.","8924006589","2012-04-13T15:55:15","D",11001]
["Empresa de Obras Sanitarias de Pasto Empopasto S.A. E.S.P.","8912006863","2012-04-16T18:16:28","D",11001,9999,"NIT",null,null,null,null,null,null,null,null,null,null,null,null,null,null,null,null,null,null,null,null,null,null,null,null,null,null,null,null,null,null,null,null,null,null,null,null,null,null,null,null,"Empresa de Obras Sanitarias de Pasto Empopasto S.A. E.S.P.","8912006863","2012-04-16T18:16:28","D",11001]
["Makro Supermayorista S.A.","9000592385","2012-04-19T13:52:50","D",11001,9999,"NIT",null,null,null,null,null,null,null,null,null,null,null,null,null,null,null,null,null,null,null,null,null,null,null,null,null,null,null,null,null,null,null,null,null,null,null,null,null,null,null,null,"Makro Supermayorista S.A.","9000592385","2012-04-19T13:52:50","D",11001]
["Colombia Chef Ltda","9000155889","2012-04-26T16:54:55","D",11001,9999,"NIT",null,null,null,null,null,null,null,null,null,null,null,null,null,null,null,null,null,null,null,null,null,null,null,null,null,null,null,null,null,null,null,null,null,null,null,null,null,null,null,null,"Colombia Chef Ltda","9000155889","2012-04-26T16:54:55","D",11001]
["Cooperativa Multiactiva de Profesionales SOMEC","8600261531","2012-04-27T15:44:23","D",11001,9999,"NIT",null,null,null,null,null,null,null,null,null,null,null,null,null,null,null,null,null,null,null,null,null,null,null,null,null,null,null,null,null,null,null,null,null,null,null,null,null,null,null,null,"Cooperativa Multiactiva de Profesionales SOMEC","8600261531","2012-04-27T15:44:23","D",11001]
["Urbanizacion Hojarasca","8002423463","2012-05-08T13:53:55","D",11001,9999,"NIT",null,null,null,null,null,null,null,null,null,null,null,null,null,null,null,null,null,null,null,null,null,null,null,null,null,null,null,null,null,null,null,null,null,null,null,null,null,null,null,null,"Urbanizacion Hojarasca","8002423463","2012-05-08T13:53:55","D",11001]
["Alcaldia Municipal de Apartado Antioquia","8909800952","2012-05-14T11:46:24","D",11001,9999,"NIT",null,null,null,null,null,null,null,null,null,null,null,null,null,null,null,null,null,null,null,null,null,null,null,null,null,null,null,null,null,null,null,null,null,null,null,null,null,null,null,null,"Alcaldia Municipal de Apartado Antioquia","8909800952","2012-05-14T11:46:24","D",11001]
["Banco Caja Social S.A. (Comercio)","860007335","2012-05-17T16:28:32","D",11001,9999,"NIT",null,null,null,null,null,null,null,null,null,null,null,null,null,null,null,null,null,null,null,null,null,null,null,null,null,null,null,null,null,null,null,null,null,null,null,null,null,null,null,null,"Banco Caja Social S.A. (Comercio)","860007335","2012-05-17T16:28:32","D",11001]
["Tecnologico de Antioquia","8909054196","2012-05-24T16:34:58","D",11001,9999,"NIT",null,null,null,null,null,null,null,null,null,null,null,null,null,null,null,null,null,null,null,null,null,null,null,null,null,null,null,null,null,null,null,null,null,null,null,null,null,null,null,null,"Tecnologico de Antioquia","8909054196","2012-05-24T16:34:58","D",11001]
["Plaza Mayor Medellin Convenciones y Exposiciones S.A.","8909092972","2012-05-31T16:58:12","D",11001,9999,"NIT",null,null,null,null,null,null,null,null,null,null,null,null,null,null,null,null,null,null,null,null,null,null,null,null,null,null,null,null,null,null,null,null,null,null,null,null,null,null,null,null,"Plaza Mayor Medellin Convenciones y Exposiciones S.A.","8909092972","2012-05-31T16:58:12","D",11001]
["Asociacion de Padres de Familia del Gimnasio Campestre","8600911054","2012-06-04T15:02:08","D",11001,9999,"NIT",null,null,null,null,null,null,null,null,null,null,null,null,null,null,null,null,null,null,null,null,null,null,null,null,null,null,null,null,null,null,null,null,null,null,null,null,null,null,null,null,"Asociacion de Padres de Familia del Gimnasio Campestre","8600911054","2012-06-04T15:02:08","D",11001]
["Corporacion Universidad Libre","860013798","2012-06-04T18:26:51","D",11001,9999,"NIT",null,null,null,null,null,null,null,null,null,null,null,null,null,null,null,null,null,null,null,null,null,null,null,null,null,null,null,null,null,null,null,null,null,null,null,null,null,null,null,null,"Corporacion Universidad Libre","860013798","2012-06-04T18:26:51","D",11001]
["Transcontrol S.A.S.","9003798742","2012-06-12T19:00:43","D",11001,9999,"NIT",null,null,null,null,null,null,null,null,null,null,null,null,null,null,null,null,null,null,null,null,null,null,null,null,null,null,null,null,null,null,null,null,null,null,null,null,null,null,null,null,"Transcontrol S.A.S.","9003798742","2012-06-12T19:00:43","D",11001]
["Fondo de Empleados del Deporte Antioqueño","8909816118","2012-06-12T19:15:02","D",11001,9999,"NIT",null,null,null,null,null,null,null,null,null,null,null,null,null,null,null,null,null,null,null,null,null,null,null,null,null,null,null,null,null,null,null,null,null,null,null,null,null,null,null,null,"Fondo de Empleados del Deporte Antioqueño","8909816118","2012-06-12T19:15:02","D",11001]
["Martha Cecilia Martinez Peña - Distrimaxel","31291632","2012-06-20T08:28:02","D",11001,9999,"NIT",null,null,null,null,null,null,null,null,null,null,null,null,null,null,null,null,null,null,null,null,null,null,null,null,null,null,null,null,null,null,null,null,null,null,null,null,null,null,null,null,"Martha Cecilia Martinez Peña - Distrimaxel","31291632","2012-06-20T08:28:02","D",11001]
["AdM Articulos de Montaña S.A.S.","8300819477","2012-06-24T19:39:42","D",11001,9999,"NIT",null,null,null,null,null,null,null,null,null,null,null,null,null,null,null,null,null,null,null,null,null,null,null,null,null,null,null,null,null,null,null,null,null,null,null,null,null,null,null,null,"AdM Articulos de Montaña S.A.S.","8300819477","2012-06-24T19:39:42","D",11001]
["Party Class S.A.","8001694190","2012-06-28T19:15:51","D",11001,9999,"NIT",null,null,null,null,null,null,null,null,null,null,null,null,null,null,null,null,null,null,null,null,null,null,null,null,null,null,null,null,null,null,null,null,null,null,null,null,null,null,null,null,"Party Class S.A.","8001694190","2012-06-28T19:15:51","D",11001]
["Plinares Ltda.","800117035","2012-07-01T17:24:49","D",11001,9999,"NIT",null,null,null,null,null,null,null,null,null,null,null,null,null,null,null,null,null,null,null,null,null,null,null,null,null,null,null,null,null,null,null,null,null,null,null,null,null,null,null,null,"Plinares Ltda.","800117035","2012-07-01T17:24:49","D",11001]
["TUTIQUETE S.A. [Portal Bancolombia]","9001136586","2012-07-04T11:16:59","D",11001,9999,"NIT",null,null,null,null,null,null,null,null,null,null,null,null,null,null,null,null,null,null,null,null,null,null,null,null,null,null,null,null,null,null,null,null,null,null,null,null,null,null,null,null,"TUTIQUETE S.A. [Portal Bancolombia]","9001136586","2012-07-04T11:16:59","D",11001]
["Inmobiliaria Gomez y Asociados S.A.","9000098033","2012-07-09T16:59:56","D",11001,9999,"NIT",null,null,null,null,null,null,null,null,null,null,null,null,null,null,null,null,null,null,null,null,null,null,null,null,null,null,null,null,null,null,null,null,null,null,null,null,null,null,null,null,"Inmobiliaria Gomez y Asociados S.A.","9000098033","2012-07-09T16:59:56","D",11001]
["Cong. de Hermanas Franciscanas de Nuestra Señora de Lourdes Cole","8600105724","2012-07-17T11:42:50","D",11001,9999,"NIT",null,null,null,null,null,null,null,null,null,null,null,null,null,null,null,null,null,null,null,null,null,null,null,null,null,null,null,null,null,null,null,null,null,null,null,null,null,null,null,null,"Cong. de Hermanas Franciscanas de Nuestra Señora de Lourdes Cole","8600105724","2012-07-17T11:42:50","D",11001]
["Comercializadora Gil Dejugnac S.A.S.","9004158747","2012-07-18T19:21:39","D",11001,9999,"NIT",null,null,null,null,null,null,null,null,null,null,null,null,null,null,null,null,null,null,null,null,null,null,null,null,null,null,null,null,null,null,null,null,null,null,null,null,null,null,null,null,"Comercializadora Gil Dejugnac S.A.S.","9004158747","2012-07-18T19:21:39","D",11001]
["Tecnologia al Costo","9003402475","2012-07-19T11:39:52","D",11001,9999,"NIT",null,null,null,null,null,null,null,null,null,null,null,null,null,null,null,null,null,null,null,null,null,null,null,null,null,null,null,null,null,null,null,null,null,null,null,null,null,null,null,null,"Tecnologia al Costo","9003402475","2012-07-19T11:39:52","D",11001]
["DEPARTAMENTO DE BOYACA CONSUMO","8918004981","2012-07-24T19:15:52","D",11001,9999,"NIT",null,null,null,null,null,null,null,null,null,null,null,null,null,null,null,null,null,null,null,null,null,null,null,null,null,null,null,null,null,null,null,null,null,null,null,null,null,null,null,null,"DEPARTAMENTO DE BOYACA CONSUMO","8918004981","2012-07-24T19:15:52","D",11001]
["Titan Plaza Centro Comercial y Empresarial","9005347115","2012-08-02T17:43:29","D",11001,9999,"NIT",null,null,null,null,null,null,null,null,null,null,null,null,null,null,null,null,null,null,null,null,null,null,null,null,null,null,null,null,null,null,null,null,null,null,null,null,null,null,null,null,"Titan Plaza Centro Comercial y Empresarial","9005347115","2012-08-02T17:43:29","D",11001]
["Laboratorios Black Velvet Ltda.","9003340775","2012-08-03T14:31:29","D",11001,9999,"NIT",null,null,null,null,null,null,null,null,null,null,null,null,null,null,null,null,null,null,null,null,null,null,null,null,null,null,null,null,null,null,null,null,null,null,null,null,null,null,null,null,"Laboratorios Black Velvet Ltda.","9003340775","2012-08-03T14:31:29","D",11001]
["Direccion de Reclutamiento y Control de Reservas","8001306435","2012-08-06T16:51:08","D",11001,9999,"NIT",null,null,null,null,null,null,null,null,null,null,null,null,null,null,null,null,null,null,null,null,null,null,null,null,null,null,null,null,null,null,null,null,null,null,null,null,null,null,null,null,"Direccion de Reclutamiento y Control de Reservas","8001306435","2012-08-06T16:51:08","D",11001]
["Centro Fresado Organical Tecnologa Alemana S.A.S.","9004920352","2012-08-08T14:42:22","D",11001,9999,"NIT",null,null,null,null,null,null,null,null,null,null,null,null,null,null,null,null,null,null,null,null,null,null,null,null,null,null,null,null,null,null,null,null,null,null,null,null,null,null,null,null,"Centro Fresado Organical Tecnologa Alemana S.A.S.","9004920352","2012-08-08T14:42:22","D",11001]
["Trazos De Moda S.A.S.","8300353433","2012-08-10T14:28:33","D",11001,9999,"NIT",null,null,null,null,null,null,null,null,null,null,null,null,null,null,null,null,null,null,null,null,null,null,null,null,null,null,null,null,null,null,null,null,null,null,null,null,null,null,null,null,"Trazos De Moda S.A.S.","8300353433","2012-08-10T14:28:33","D",11001]
["Cooperativa De Padres De Familia Y Vinculados Al Colegio Santa M","8301106288","2012-08-17T13:58:40","D",11001,9999,"NIT",null,null,null,null,null,null,null,null,null,null,null,null,null,null,null,null,null,null,null,null,null,null,null,null,null,null,null,null,null,null,null,null,null,null,null,null,null,null,null,null,"Cooperativa De Padres De Familia Y Vinculados Al Colegio Santa M","8301106288","2012-08-17T13:58:40","D",11001]
["Roldan Y Cia Ltda.","8909030692","2012-08-17T17:20:13","D",11001,9999,"NIT",null,null,null,null,null,null,null,null,null,null,null,null,null,null,null,null,null,null,null,null,null,null,null,null,null,null,null,null,null,null,null,null,null,null,null,null,null,null,null,null,"Roldan Y Cia Ltda.","8909030692","2012-08-17T17:20:13","D",11001]
["Fundacion Interbolsa ","9000304930","2012-08-22T17:06:19","D",11001,9999,"NIT",null,null,null,null,null,null,null,null,null,null,null,null,null,null,null,null,null,null,null,null,null,null,null,null,null,null,null,null,null,null,null,null,null,null,null,null,null,null,null,null,"Fundacion Interbolsa ","9000304930","2012-08-22T17:06:19","D",11001]
["Colorisa S.A.","8110249429","2012-08-28T09:05:23","D",11001,9999,"NIT",null,null,null,null,null,null,null,null,null,null,null,null,null,null,null,null,null,null,null,null,null,null,null,null,null,null,null,null,null,null,null,null,null,null,null,null,null,null,null,null,"Colorisa S.A.","8110249429","2012-08-28T09:05:23","D",11001]
["Edificio Residencial Torre Colibri ph","9001578298","2012-08-28T11:48:27","D",11001,9999,"NIT",null,null,null,null,null,null,null,null,null,null,null,null,null,null,null,null,null,null,null,null,null,null,null,null,null,null,null,null,null,null,null,null,null,null,null,null,null,null,null,null,"Edificio Residencial Torre Colibri ph","9001578298","2012-08-28T11:48:27","D",11001]
["Inversiones Plas S.A.","9000547115","2012-08-31T08:45:30","D",11001,9999,"NIT",null,null,null,null,null,null,null,null,null,null,null,null,null,null,null,null,null,null,null,null,null,null,null,null,null,null,null,null,null,null,null,null,null,null,null,null,null,null,null,null,"Inversiones Plas S.A.","9000547115","2012-08-31T08:45:30","D",11001]
["Eventour Sport S.A.S.","9001990063","2012-09-05T18:26:40","D",11001,9999,"NIT",null,null,null,null,null,null,null,null,null,null,null,null,null,null,null,null,null,null,null,null,null,null,null,null,null,null,null,null,null,null,null,null,null,null,null,null,null,null,null,null,"Eventour Sport S.A.S.","9001990063","2012-09-05T18:26:40","D",11001]
["Administradora de Valor Ltda","8301325625","2012-09-08T12:17:56","D",11001,9999,"NIT",null,null,null,null,null,null,null,null,null,null,null,null,null,null,null,null,null,null,null,null,null,null,null,null,null,null,null,null,null,null,null,null,null,null,null,null,null,null,null,null,"Administradora de Valor Ltda","8301325625","2012-09-08T12:17:56","D",11001]
["Ideas Y Desarrollos Inmobiliarios MG S.A.S.","9000841431","2012-09-13T16:37:33","D",11001,9999,"NIT",null,null,null,null,null,null,null,null,null,null,null,null,null,null,null,null,null,null,null,null,null,null,null,null,null,null,null,null,null,null,null,null,null,null,null,null,null,null,null,null,"Ideas Y Desarrollos Inmobiliarios MG S.A.S.","9000841431","2012-09-13T16:37:33","D",11001]
["Administraciones Yoyjo S en C","9000725455","2012-09-14T11:30:13","D",11001,9999,"NIT",null,null,null,null,null,null,null,null,null,null,null,null,null,null,null,null,null,null,null,null,null,null,null,null,null,null,null,null,null,null,null,null,null,null,null,null,null,null,null,null,"Administraciones Yoyjo S en C","9000725455","2012-09-14T11:30:13","D",11001]
["Municipio de Filandia","890001339","2012-09-14T11:34:57","D",11001,9999,"NIT",null,null,null,null,null,null,null,null,null,null,null,null,null,null,null,null,null,null,null,null,null,null,null,null,null,null,null,null,null,null,null,null,null,null,null,null,null,null,null,null,"Municipio de Filandia","890001339","2012-09-14T11:34:57","D",11001]
["Cimpa S.A.S.","8002376088","2012-09-14T16:06:08","D",11001,9999,"NIT",null,null,null,null,null,null,null,null,null,null,null,null,null,null,null,null,null,null,null,null,null,null,null,null,null,null,null,null,null,null,null,null,null,null,null,null,null,null,null,null,"Cimpa S.A.S.","8002376088","2012-09-14T16:06:08","D",11001]
["Maria Libia Renteria Lopez - Erudigmia ","245372151","2012-09-14T18:34:53","D",11001,9999,"NIT",null,null,null,null,null,null,null,null,null,null,null,null,null,null,null,null,null,null,null,null,null,null,null,null,null,null,null,null,null,null,null,null,null,null,null,null,null,null,null,null,"Maria Libia Renteria Lopez - Erudigmia ","245372151","2012-09-14T18:34:53","D",11001]
["Inversiones Proden S.A","9004736898","2012-09-17T12:59:38","D",11001,9999,"NIT",null,null,null,null,null,null,null,null,null,null,null,null,null,null,null,null,null,null,null,null,null,null,null,null,null,null,null,null,null,null,null,null,null,null,null,null,null,null,null,null,"Inversiones Proden S.A","9004736898","2012-09-17T12:59:38","D",11001]
["Alianza Cultural Colombo Francesa","8909038801","2012-09-20T09:40:39","D",11001,9999,"NIT",null,null,null,null,null,null,null,null,null,null,null,null,null,null,null,null,null,null,null,null,null,null,null,null,null,null,null,null,null,null,null,null,null,null,null,null,null,null,null,null,"Alianza Cultural Colombo Francesa","8909038801","2012-09-20T09:40:39","D",11001]
["Construccion y Reforma de Vivienda S.A.S. ","8300103808","2012-09-21T18:57:00","D",11001,9999,"NIT",null,null,null,null,null,null,null,null,null,null,null,null,null,null,null,null,null,null,null,null,null,null,null,null,null,null,null,null,null,null,null,null,null,null,null,null,null,null,null,null,"Construccion y Reforma de Vivienda S.A.S. ","8300103808","2012-09-21T18:57:00","D",11001]
["Luque Ospina y Cia S.A.","8600083137","2012-09-24T11:57:57","D",11001,9999,"NIT",null,null,null,null,null,null,null,null,null,null,null,null,null,null,null,null,null,null,null,null,null,null,null,null,null,null,null,null,null,null,null,null,null,null,null,null,null,null,null,null,"Luque Ospina y Cia S.A.","8600083137","2012-09-24T11:57:57","D",11001]
["Fundacion Rogelio Salmona","9003167681","2012-09-24T14:18:02","D",11001,9999,"NIT",null,null,null,null,null,null,null,null,null,null,null,null,null,null,null,null,null,null,null,null,null,null,null,null,null,null,null,null,null,null,null,null,null,null,null,null,null,null,null,null,"Fundacion Rogelio Salmona","9003167681","2012-09-24T14:18:02","D",11001]
["Laboratorios Eufar S.A.","8605028548","2012-09-24T18:23:55","D",11001,9999,"NIT",null,null,null,null,null,null,null,null,null,null,null,null,null,null,null,null,null,null,null,null,null,null,null,null,null,null,null,null,null,null,null,null,null,null,null,null,null,null,null,null,"Laboratorios Eufar S.A.","8605028548","2012-09-24T18:23:55","D",11001]
["Prime Holding Service S.A.S.","9001847438","2012-09-25T09:13:44","D",11001,9999,"NIT",null,null,null,null,null,null,null,null,null,null,null,null,null,null,null,null,null,null,null,null,null,null,null,null,null,null,null,null,null,null,null,null,null,null,null,null,null,null,null,null,"Prime Holding Service S.A.S.","9001847438","2012-09-25T09:13:44","D",11001]
["Fondo de Pensiones Voluntarias Multipension","8300664663","2012-09-25T14:21:21","D",11001,9999,"NIT",null,null,null,null,null,null,null,null,null,null,null,null,null,null,null,null,null,null,null,null,null,null,null,null,null,null,null,null,null,null,null,null,null,null,null,null,null,null,null,null,"Fondo de Pensiones Voluntarias Multipension","8300664663","2012-09-25T14:21:21","D",11001]
["Distri Shoes Comercializadora Ltda.","900011646","2012-09-26T10:01:38","D",11001,9999,"NIT",null,null,null,null,null,null,null,null,null,null,null,null,null,null,null,null,null,null,null,null,null,null,null,null,null,null,null,null,null,null,null,null,null,null,null,null,null,null,null,null,"Distri Shoes Comercializadora Ltda.","900011646","2012-09-26T10:01:38","D",11001]
["Laboratorio Quimico Clinico S.A.S.","8020034117","2012-09-26T11:16:00","D",11001,9999,"NIT",null,null,null,null,null,null,null,null,null,null,null,null,null,null,null,null,null,null,null,null,null,null,null,null,null,null,null,null,null,null,null,null,null,null,null,null,null,null,null,null,"Laboratorio Quimico Clinico S.A.S.","8020034117","2012-09-26T11:16:00","D",11001]
["Jardin Infantil Osito de Miel","8300557757","2012-09-26T14:29:44","D",11001,9999,"NIT",null,null,null,null,null,null,null,null,null,null,null,null,null,null,null,null,null,null,null,null,null,null,null,null,null,null,null,null,null,null,null,null,null,null,null,null,null,null,null,null,"Jardin Infantil Osito de Miel","8300557757","2012-09-26T14:29:44","D",11001]
["Administracion de Bienes Inmobiliarios A&B","9004567927","2012-09-26T15:48:43","D",11001,9999,"NIT",null,null,null,null,null,null,null,null,null,null,null,null,null,null,null,null,null,null,null,null,null,null,null,null,null,null,null,null,null,null,null,null,null,null,null,null,null,null,null,null,"Administracion de Bienes Inmobiliarios A&B","9004567927","2012-09-26T15:48:43","D",11001]
["Jardin Infantil Lovely Kids S.A.S.","9005024138","2012-09-27T10:18:39","D",11001,9999,"NIT",null,null,null,null,null,null,null,null,null,null,null,null,null,null,null,null,null,null,null,null,null,null,null,null,null,null,null,null,null,null,null,null,null,null,null,null,null,null,null,null,"Jardin Infantil Lovely Kids S.A.S.","9005024138","2012-09-27T10:18:39","D",11001]
["Kmyla Venta Directa S.A.S.","9004469637","2012-09-27T13:49:50","D",11001,9999,"NIT",null,null,null,null,null,null,null,null,null,null,null,null,null,null,null,null,null,null,null,null,null,null,null,null,null,null,null,null,null,null,null,null,null,null,null,null,null,null,null,null,"Kmyla Venta Directa S.A.S.","9004469637","2012-09-27T13:49:50","D",11001]
["PUNTO FERTIL S.A. (TEKOA)","900160171","2012-09-27T14:35:44","D",11001,9999,"NIT",null,null,null,null,null,null,null,null,null,null,null,null,null,null,null,null,null,null,null,null,null,null,null,null,null,null,null,null,null,null,null,null,null,null,null,null,null,null,null,null,"PUNTO FERTIL S.A. (TEKOA)","900160171","2012-09-27T14:35:44","D",11001]
["Prodehogar Ltda.","8001369611","2012-09-27T16:09:05","D",11001,9999,"NIT",null,null,null,null,null,null,null,null,null,null,null,null,null,null,null,null,null,null,null,null,null,null,null,null,null,null,null,null,null,null,null,null,null,null,null,null,null,null,null,null,"Prodehogar Ltda.","8001369611","2012-09-27T16:09:05","D",11001]
["Blancandina Colombia S.A.","9000994526","2012-09-28T10:42:53","D",11001,9999,"NIT",null,null,null,null,null,null,null,null,null,null,null,null,null,null,null,null,null,null,null,null,null,null,null,null,null,null,null,null,null,null,null,null,null,null,null,null,null,null,null,null,"Blancandina Colombia S.A.","9000994526","2012-09-28T10:42:53","D",11001]
["Cartera Colectiva Abierta Fiducor","8001267373","2012-09-28T18:28:19","D",11001,9999,"NIT",null,null,null,null,null,null,null,null,null,null,null,null,null,null,null,null,null,null,null,null,null,null,null,null,null,null,null,null,null,null,null,null,null,null,null,null,null,null,null,null,"Cartera Colectiva Abierta Fiducor","8001267373","2012-09-28T18:28:19","D",11001]
["Gimnasio Integral Galileo Galilei","19147763","2012-10-01T11:09:35","D",11001,9999,"NIT",null,null,null,null,null,null,null,null,null,null,null,null,null,null,null,null,null,null,null,null,null,null,null,null,null,null,null,null,null,null,null,null,null,null,null,null,null,null,null,null,"Gimnasio Integral Galileo Galilei","19147763","2012-10-01T11:09:35","D",11001]
["Eduardo L. Gerlein S.A.","8600051019","2012-10-04T14:53:32","D",11001,9999,"NIT",null,null,null,null,null,null,null,null,null,null,null,null,null,null,null,null,null,null,null,null,null,null,null,null,null,null,null,null,null,null,null,null,null,null,null,null,null,null,null,null,"Eduardo L. Gerlein S.A.","8600051019","2012-10-04T14:53:32","D",11001]
["Unidad de Servicios Integrales en Salud PERCODENT Ltda","8301116315","2012-10-08T10:28:49","D",11001,9999,"NIT",null,null,null,null,null,null,null,null,null,null,null,null,null,null,null,null,null,null,null,null,null,null,null,null,null,null,null,null,null,null,null,null,null,null,null,null,null,null,null,null,"Unidad de Servicios Integrales en Salud PERCODENT Ltda","8301116315","2012-10-08T10:28:49","D",11001]
["Incubadoras San Juan","985313199","2012-10-08T15:44:00","D",11001,9999,"NIT",null,null,null,null,null,null,null,null,null,null,null,null,null,null,null,null,null,null,null,null,null,null,null,null,null,null,null,null,null,null,null,null,null,null,null,null,null,null,null,null,"Incubadoras San Juan","985313199","2012-10-08T15:44:00","D",11001]
["Inversiones Mandri S.A.S.","9004797062","2012-10-09T14:53:35","D",11001,9999,"NIT",null,null,null,null,null,null,null,null,null,null,null,null,null,null,null,null,null,null,null,null,null,null,null,null,null,null,null,null,null,null,null,null,null,null,null,null,null,null,null,null,"Inversiones Mandri S.A.S.","9004797062","2012-10-09T14:53:35","D",11001]
["Inversiones Viajes y Viajes Ltda","9000413922","2012-10-09T15:03:50","D",11001,9999,"NIT",null,null,null,null,null,null,null,null,null,null,null,null,null,null,null,null,null,null,null,null,null,null,null,null,null,null,null,null,null,null,null,null,null,null,null,null,null,null,null,null,"Inversiones Viajes y Viajes Ltda","9000413922","2012-10-09T15:03:50","D",11001]
["Ediciones Belco Ltda ","900124479","2012-10-11T11:10:00","D",11001,9999,"NIT",null,null,null,null,null,null,null,null,null,null,null,null,null,null,null,null,null,null,null,null,null,null,null,null,null,null,null,null,null,null,null,null,null,null,null,null,null,null,null,null,"Ediciones Belco Ltda ","900124479","2012-10-11T11:10:00","D",11001]
["Organizacion Grandes Lideres","830011452","2012-10-11T13:06:45","D",11001,9999,"NIT",null,null,null,null,null,null,null,null,null,null,null,null,null,null,null,null,null,null,null,null,null,null,null,null,null,null,null,null,null,null,null,null,null,null,null,null,null,null,null,null,"Organizacion Grandes Lideres","830011452","2012-10-11T13:06:45","D",11001]
["Fundacion ICTUS","8300806152","2012-10-18T15:04:12","D",11001,9999,"NIT",null,null,null,null,null,null,null,null,null,null,null,null,null,null,null,null,null,null,null,null,null,null,null,null,null,null,null,null,null,null,null,null,null,null,null,null,null,null,null,null,"Fundacion ICTUS","8300806152","2012-10-18T15:04:12","D",11001]
["Optica Dr. Mendez S.A.S.","8605136778","2012-10-24T16:55:38","D",11001,9999,"NIT",null,null,null,null,null,null,null,null,null,null,null,null,null,null,null,null,null,null,null,null,null,null,null,null,null,null,null,null,null,null,null,null,null,null,null,null,null,null,null,null,"Optica Dr. Mendez S.A.S.","8605136778","2012-10-24T16:55:38","D",11001]
["Conjunto Residencial Space PH","9001633317","2012-10-30T10:52:35","D",11001,9999,"NIT",null,null,null,null,null,null,null,null,null,null,null,null,null,null,null,null,null,null,null,null,null,null,null,null,null,null,null,null,null,null,null,null,null,null,null,null,null,null,null,null,"Conjunto Residencial Space PH","9001633317","2012-10-30T10:52:35","D",11001]
["Administracion AM S.A.S.","9001828104","2012-10-30T11:36:48","D",11001,9999,"NIT",null,null,null,null,null,null,null,null,null,null,null,null,null,null,null,null,null,null,null,null,null,null,null,null,null,null,null,null,null,null,null,null,null,null,null,null,null,null,null,null,"Administracion AM S.A.S.","9001828104","2012-10-30T11:36:48","D",11001]
["Seguirte S.A.S","9005342723","2012-10-31T10:51:12","D",11001,9999,"NIT",null,null,null,null,null,null,null,null,null,null,null,null,null,null,null,null,null,null,null,null,null,null,null,null,null,null,null,null,null,null,null,null,null,null,null,null,null,null,null,null,"Seguirte S.A.S","9005342723","2012-10-31T10:51:12","D",11001]
["Aimarcol S.A.S. (Banco de Bogota)","8300631396","2012-11-02T08:42:23","D",11001,9999,"NIT",null,null,null,null,null,null,null,null,null,null,null,null,null,null,null,null,null,null,null,null,null,null,null,null,null,null,null,null,null,null,null,null,null,null,null,null,null,null,null,null,"Aimarcol S.A.S. (Banco de Bogota)","8300631396","2012-11-02T08:42:23","D",11001]
["Electroindustrial S.A.","8040146118","2012-11-02T11:50:42","D",11001,9999,"NIT",null,null,null,null,null,null,null,null,null,null,null,null,null,null,null,null,null,null,null,null,null,null,null,null,null,null,null,null,null,null,null,null,null,null,null,null,null,null,null,null,"Electroindustrial S.A.","8040146118","2012-11-02T11:50:42","D",11001]
["Sleep Well Colombia Ltda","9001412418","2012-11-07T12:42:31","D",11001,9999,"NIT",null,null,null,null,null,null,null,null,null,null,null,null,null,null,null,null,null,null,null,null,null,null,null,null,null,null,null,null,null,null,null,null,null,null,null,null,null,null,null,null,"Sleep Well Colombia Ltda","9001412418","2012-11-07T12:42:31","D",11001]
["Rafael Angel H y Cia Ltda - Bancolombia","860526812","2012-11-13T14:54:14","D",11001,9999,"NIT",null,null,null,null,null,null,null,null,null,null,null,null,null,null,null,null,null,null,null,null,null,null,null,null,null,null,null,null,null,null,null,null,null,null,null,null,null,null,null,null,"Rafael Angel H y Cia Ltda - Bancolombia","860526812","2012-11-13T14:54:14","D",11001]
["Comercializadora Inducascos S.A.","9001291173","2012-11-14T13:59:48","D",11001,9999,"NIT",null,null,null,null,null,null,null,null,null,null,null,null,null,null,null,null,null,null,null,null,null,null,null,null,null,null,null,null,null,null,null,null,null,null,null,null,null,null,null,null,"Comercializadora Inducascos S.A.","9001291173","2012-11-14T13:59:48","D",11001]
["Medicamentos y Servicios S.A.S.","8110312121","2012-11-20T14:14:38","D",11001,9999,"NIT",null,null,null,null,null,null,null,null,null,null,null,null,null,null,null,null,null,null,null,null,null,null,null,null,null,null,null,null,null,null,null,null,null,null,null,null,null,null,null,null,"Medicamentos y Servicios S.A.S.","8110312121","2012-11-20T14:14:38","D",11001]
["Aimarcol S.A.S.","830063136","2012-11-21T10:55:47","D",11001,9999,"NIT",null,null,null,null,null,null,null,null,null,null,null,null,null,null,null,null,null,null,null,null,null,null,null,null,null,null,null,null,null,null,null,null,null,null,null,null,null,null,null,null,"Aimarcol S.A.S.","830063136","2012-11-21T10:55:47","D",11001]
["MDA Security Ltda","8001887419","2012-11-28T16:03:58","D",11001,9999,"NIT",null,null,null,null,null,null,null,null,null,null,null,null,null,null,null,null,null,null,null,null,null,null,null,null,null,null,null,null,null,null,null,null,null,null,null,null,null,null,null,null,"MDA Security Ltda","8001887419","2012-11-28T16:03:58","D",11001]
["Alcomex ZF Brisa S.A.S. (Portal Bancolombia)","900418441","2012-12-04T12:26:52","D",11001,9999,"NIT",null,null,null,null,null,null,null,null,null,null,null,null,null,null,null,null,null,null,null,null,null,null,null,null,null,null,null,null,null,null,null,null,null,null,null,null,null,null,null,null,"Alcomex ZF Brisa S.A.S. (Portal Bancolombia)","900418441","2012-12-04T12:26:52","D",11001]
["Fundacion el Refugio","9000373697","2012-12-07T17:30:18","D",11001,9999,"NIT",null,null,null,null,null,null,null,null,null,null,null,null,null,null,null,null,null,null,null,null,null,null,null,null,null,null,null,null,null,null,null,null,null,null,null,null,null,null,null,null,"Fundacion el Refugio","9000373697","2012-12-07T17:30:18","D",11001]
["Cooperativa de Ahorro y Credito Comfamigos ","8909824090","2012-12-11T15:49:59","D",11001,9999,"NIT",null,null,null,null,null,null,null,null,null,null,null,null,null,null,null,null,null,null,null,null,null,null,null,null,null,null,null,null,null,null,null,null,null,null,null,null,null,null,null,null,"Cooperativa de Ahorro y Credito Comfamigos ","8909824090","2012-12-11T15:49:59","D",11001]
["Transporte Inteligente SA","9001770811","2012-12-14T10:19:33","D",11001,9999,"NIT",null,null,null,null,null,null,null,null,null,null,null,null,null,null,null,null,null,null,null,null,null,null,null,null,null,null,null,null,null,null,null,null,null,null,null,null,null,null,null,null,"Transporte Inteligente SA","9001770811","2012-12-14T10:19:33","D",11001]
["Instituto Colombiano de Aprendizaje INCAP SCA","8002166737","2012-12-14T11:19:59","D",11001,9999,"NIT",null,null,null,null,null,null,null,null,null,null,null,null,null,null,null,null,null,null,null,null,null,null,null,null,null,null,null,null,null,null,null,null,null,null,null,null,null,null,null,null,"Instituto Colombiano de Aprendizaje INCAP SCA","8002166737","2012-12-14T11:19:59","D",11001]
["Repuestos y Partes Diesel Ltda ","9000363718","2012-12-17T15:30:45","D",11001,9999,"NIT",null,null,null,null,null,null,null,null,null,null,null,null,null,null,null,null,null,null,null,null,null,null,null,null,null,null,null,null,null,null,null,null,null,null,null,null,null,null,null,null,"Repuestos y Partes Diesel Ltda ","9000363718","2012-12-17T15:30:45","D",11001]
["Ifrs Masters Colombia SAS","9005372386","2012-12-20T10:05:59","D",11001,9999,"NIT",null,null,null,null,null,null,null,null,null,null,null,null,null,null,null,null,null,null,null,null,null,null,null,null,null,null,null,null,null,null,null,null,null,null,null,null,null,null,null,null,"Ifrs Masters Colombia SAS","9005372386","2012-12-20T10:05:59","D",11001]
["Foneh","8300662484","2012-12-21T16:21:05","D",11001,9999,"NIT",null,null,null,null,null,null,null,null,null,null,null,null,null,null,null,null,null,null,null,null,null,null,null,null,null,null,null,null,null,null,null,null,null,null,null,null,null,null,null,null,"Foneh","8300662484","2012-12-21T16:21:05","D",11001]
["Municipio de San Alberto - Industria y Comercio","800096619","2012-12-27T12:01:42","D",11001,9999,"NIT",null,null,null,null,null,null,null,null,null,null,null,null,null,null,null,null,null,null,null,null,null,null,null,null,null,null,null,null,null,null,null,null,null,null,null,null,null,null,null,null,"Municipio de San Alberto - Industria y Comercio","800096619","2012-12-27T12:01:42","D",11001]
["Hotel Panorama Ltda","892201021","2013-01-08T17:19:06","D",11001,9999,"NIT",null,null,null,null,null,null,null,null,null,null,null,null,null,null,null,null,null,null,null,null,null,null,null,null,null,null,null,null,null,null,null,null,null,null,null,null,null,null,null,null,"Hotel Panorama Ltda","892201021","2013-01-08T17:19:06","D",11001]
["Thermos S.A.S.","9003631910","2013-01-09T14:37:33","D",11001,9999,"NIT",null,null,null,null,null,null,null,null,null,null,null,null,null,null,null,null,null,null,null,null,null,null,null,null,null,null,null,null,null,null,null,null,null,null,null,null,null,null,null,null,"Thermos S.A.S.","9003631910","2013-01-09T14:37:33","D",11001]
["Fundacion Educativa Rochester","900509589","2013-01-15T15:42:31","D",11001,9999,"NIT",null,null,null,null,null,null,null,null,null,null,null,null,null,null,null,null,null,null,null,null,null,null,null,null,null,null,null,null,null,null,null,null,null,null,null,null,null,null,null,null,"Fundacion Educativa Rochester","900509589","2013-01-15T15:42:31","D",11001]
["Centro Educativo Infantil Tiempo Feliz Ltda","8020064721","2013-01-21T09:40:46","D",11001,9999,"NIT",null,null,null,null,null,null,null,null,null,null,null,null,null,null,null,null,null,null,null,null,null,null,null,null,null,null,null,null,null,null,null,null,null,null,null,null,null,null,null,null,"Centro Educativo Infantil Tiempo Feliz Ltda","8020064721","2013-01-21T09:40:46","D",11001]
["Camara de Comercio de Casanare","8000134699","2013-01-24T14:11:07","D",11001,9999,"NIT",null,null,null,null,null,null,null,null,null,null,null,null,null,null,null,null,null,null,null,null,null,null,null,null,null,null,null,null,null,null,null,null,null,null,null,null,null,null,null,null,"Camara de Comercio de Casanare","8000134699","2013-01-24T14:11:07","D",11001]
["Jardin Infantil Semillitas de Amor","41420088","2013-01-29T16:50:56","D",11001,9999,"NIT",null,null,null,null,null,null,null,null,null,null,null,null,null,null,null,null,null,null,null,null,null,null,null,null,null,null,null,null,null,null,null,null,null,null,null,null,null,null,null,null,"Jardin Infantil Semillitas de Amor","41420088","2013-01-29T16:50:56","D",11001]
["Cooperativa Nacional de Trabajadores/Coopetraban","8909050851","2013-01-30T15:53:06","D",11001,9999,"NIT",null,null,null,null,null,null,null,null,null,null,null,null,null,null,null,null,null,null,null,null,null,null,null,null,null,null,null,null,null,null,null,null,null,null,null,null,null,null,null,null,"Cooperativa Nacional de Trabajadores/Coopetraban","8909050851","2013-01-30T15:53:06","D",11001]
["Myriam de Mora Arrendamientos S.A.S.","8300535063","2013-02-04T15:11:35","D",11001,9999,"NIT",null,null,null,null,null,null,null,null,null,null,null,null,null,null,null,null,null,null,null,null,null,null,null,null,null,null,null,null,null,null,null,null,null,null,null,null,null,null,null,null,"Myriam de Mora Arrendamientos S.A.S.","8300535063","2013-02-04T15:11:35","D",11001]
["Area Comunal S.A.S","9005762382","2013-02-06T15:14:45","D",11001,9999,"NIT",null,null,null,null,null,null,null,null,null,null,null,null,null,null,null,null,null,null,null,null,null,null,null,null,null,null,null,null,null,null,null,null,null,null,null,null,null,null,null,null,"Area Comunal S.A.S","9005762382","2013-02-06T15:14:45","D",11001]
["Promotora de las Riquezas del Departamento de Bolívar ","9004119263","2013-02-08T15:27:26","D",11001,9999,"NIT",null,null,null,null,null,null,null,null,null,null,null,null,null,null,null,null,null,null,null,null,null,null,null,null,null,null,null,null,null,null,null,null,null,null,null,null,null,null,null,null,"Promotora de las Riquezas del Departamento de Bolívar ","9004119263","2013-02-08T15:27:26","D",11001]
["Municipio La Victoria Valle","8001005249","2013-02-11T15:46:27","D",11001,9999,"NIT",null,null,null,null,null,null,null,null,null,null,null,null,null,null,null,null,null,null,null,null,null,null,null,null,null,null,null,null,null,null,null,null,null,null,null,null,null,null,null,null,"Municipio La Victoria Valle","8001005249","2013-02-11T15:46:27","D",11001]
["Babidibu S.A.","8301235801","2013-02-14T18:05:30","D",11001,9999,"NIT",null,null,null,null,null,null,null,null,null,null,null,null,null,null,null,null,null,null,null,null,null,null,null,null,null,null,null,null,null,null,null,null,null,null,null,null,null,null,null,null,"Babidibu S.A.","8301235801","2013-02-14T18:05:30","D",11001]
["Compañia Comercial El Dorado Ltda.","8904048357","2013-02-19T16:54:43","D",11001,9999,"NIT",null,null,null,null,null,null,null,null,null,null,null,null,null,null,null,null,null,null,null,null,null,null,null,null,null,null,null,null,null,null,null,null,null,null,null,null,null,null,null,null,"Compañia Comercial El Dorado Ltda.","8904048357","2013-02-19T16:54:43","D",11001]
["Celar Limitada","8001697994","2013-02-20T09:44:49","D",11001,9999,"NIT",null,null,null,null,null,null,null,null,null,null,null,null,null,null,null,null,null,null,null,null,null,null,null,null,null,null,null,null,null,null,null,null,null,null,null,null,null,null,null,null,"Celar Limitada","8001697994","2013-02-20T09:44:49","D",11001]
["Conjunto Residencial Aliso(Bancolombia)","900223519","2013-02-20T15:40:11","D",11001,9999,"NIT",null,null,null,null,null,null,null,null,null,null,null,null,null,null,null,null,null,null,null,null,null,null,null,null,null,null,null,null,null,null,null,null,null,null,null,null,null,null,null,null,"Conjunto Residencial Aliso(Bancolombia)","900223519","2013-02-20T15:40:11","D",11001]
["Colegio Reyes Catolicos Ltda","8903160497","2013-02-21T10:36:45","D",11001,9999,"NIT",null,null,null,null,null,null,null,null,null,null,null,null,null,null,null,null,null,null,null,null,null,null,null,null,null,null,null,null,null,null,null,null,null,null,null,null,null,null,null,null,"Colegio Reyes Catolicos Ltda","8903160497","2013-02-21T10:36:45","D",11001]
["Politecnico Internacional","900002845","2013-02-26T10:18:35","D",11001,9999,"NIT",null,null,null,null,null,null,null,null,null,null,null,null,null,null,null,null,null,null,null,null,null,null,null,null,null,null,null,null,null,null,null,null,null,null,null,null,null,null,null,null,"Politecnico Internacional","900002845","2013-02-26T10:18:35","D",11001]
["Dorys Lopez Compañia S en C","802006617","2013-02-27T14:48:36","D",11001,9999,"NIT",null,null,null,null,null,null,null,null,null,null,null,null,null,null,null,null,null,null,null,null,null,null,null,null,null,null,null,null,null,null,null,null,null,null,null,null,null,null,null,null,"Dorys Lopez Compañia S en C","802006617","2013-02-27T14:48:36","D",11001]
["Transportadora Occidental de carga SAS","8002117829","2013-03-01T10:49:00","D",11001,9999,"NIT",null,null,null,null,null,null,null,null,null,null,null,null,null,null,null,null,null,null,null,null,null,null,null,null,null,null,null,null,null,null,null,null,null,null,null,null,null,null,null,null,"Transportadora Occidental de carga SAS","8002117829","2013-03-01T10:49:00","D",11001]
["Manufacturas Infantiles SA","8914110078","2013-03-05T14:48:04","D",11001,9999,"NIT",null,null,null,null,null,null,null,null,null,null,null,null,null,null,null,null,null,null,null,null,null,null,null,null,null,null,null,null,null,null,null,null,null,null,null,null,null,null,null,null,"Manufacturas Infantiles SA","8914110078","2013-03-05T14:48:04","D",11001]
["Corporacion Colegio Internacional Altamira","8020081795","2013-03-11T16:11:40","D",11001,9999,"NIT",null,null,null,null,null,null,null,null,null,null,null,null,null,null,null,null,null,null,null,null,null,null,null,null,null,null,null,null,null,null,null,null,null,null,null,null,null,null,null,null,"Corporacion Colegio Internacional Altamira","8020081795","2013-03-11T16:11:40","D",11001]
["Cooperativa de Fomento e Inversion Social Popular","8903064949","2013-03-11T18:52:12","D",11001,9999,"NIT",null,null,null,null,null,null,null,null,null,null,null,null,null,null,null,null,null,null,null,null,null,null,null,null,null,null,null,null,null,null,null,null,null,null,null,null,null,null,null,null,"Cooperativa de Fomento e Inversion Social Popular","8903064949","2013-03-11T18:52:12","D",11001]
["Fundacion Salome Salva Una Vida","9005445469","2013-03-14T09:40:20","D",11001,9999,"NIT",null,null,null,null,null,null,null,null,null,null,null,null,null,null,null,null,null,null,null,null,null,null,null,null,null,null,null,null,null,null,null,null,null,null,null,null,null,null,null,null,"Fundacion Salome Salva Una Vida","9005445469","2013-03-14T09:40:20","D",11001]
["Industrias Haceb S.A.","8909002814","2013-03-18T13:52:19","D",11001,9999,"NIT",null,null,null,null,null,null,null,null,null,null,null,null,null,null,null,null,null,null,null,null,null,null,null,null,null,null,null,null,null,null,null,null,null,null,null,null,null,null,null,null,"Industrias Haceb S.A.","8909002814","2013-03-18T13:52:19","D",11001]
["Campos Ferreteros Industriales SAS-Ferricampos","9004524741","2013-03-18T17:15:31","D",11001,9999,"NIT",null,null,null,null,null,null,null,null,null,null,null,null,null,null,null,null,null,null,null,null,null,null,null,null,null,null,null,null,null,null,null,null,null,null,null,null,null,null,null,null,"Campos Ferreteros Industriales SAS-Ferricampos","9004524741","2013-03-18T17:15:31","D",11001]
["Corporacion Club Campestre Los Andes","8050003012","2013-03-21T15:43:55","D",11001,9999,"NIT",null,null,null,null,null,null,null,null,null,null,null,null,null,null,null,null,null,null,null,null,null,null,null,null,null,null,null,null,null,null,null,null,null,null,null,null,null,null,null,null,"Corporacion Club Campestre Los Andes","8050003012","2013-03-21T15:43:55","D",11001]
["Comercializadora Ferretera Martinez Moreno SAS","8300728241","2013-03-27T08:36:02","D",11001,9999,"NIT",null,null,null,null,null,null,null,null,null,null,null,null,null,null,null,null,null,null,null,null,null,null,null,null,null,null,null,null,null,null,null,null,null,null,null,null,null,null,null,null,"Comercializadora Ferretera Martinez Moreno SAS","8300728241","2013-03-27T08:36:02","D",11001]
["Cooperativa Multiactiva Latinoamericana Latincoop","8600205236","2013-03-27T10:42:29","D",11001,9999,"NIT",null,null,null,null,null,null,null,null,null,null,null,null,null,null,null,null,null,null,null,null,null,null,null,null,null,null,null,null,null,null,null,null,null,null,null,null,null,null,null,null,"Cooperativa Multiactiva Latinoamericana Latincoop","8600205236","2013-03-27T10:42:29","D",11001]
["Municipio de Guarne.","8909820557","2013-04-01T14:05:15","D",11001,9999,"NIT",null,null,null,null,null,null,null,null,null,null,null,null,null,null,null,null,null,null,null,null,null,null,null,null,null,null,null,null,null,null,null,null,null,null,null,null,null,null,null,null,"Municipio de Guarne.","8909820557","2013-04-01T14:05:15","D",11001]
["Entelnet S.A.S.","9004847893","2013-04-03T12:06:35","D",11001,9999,"NIT",null,null,null,null,null,null,null,null,null,null,null,null,null,null,null,null,null,null,null,null,null,null,null,null,null,null,null,null,null,null,null,null,null,null,null,null,null,null,null,null,"Entelnet S.A.S.","9004847893","2013-04-03T12:06:35","D",11001]
["Coolever Cooperativa de Ahorro y Credito","8605088591","2013-04-05T17:22:41","D",11001,9999,"NIT",null,null,null,null,null,null,null,null,null,null,null,null,null,null,null,null,null,null,null,null,null,null,null,null,null,null,null,null,null,null,null,null,null,null,null,null,null,null,null,null,"Coolever Cooperativa de Ahorro y Credito","8605088591","2013-04-05T17:22:41","D",11001]
["Intermodal S.A.","8600530473","2013-04-15T15:20:16","D",11001,9999,"NIT",null,null,null,null,null,null,null,null,null,null,null,null,null,null,null,null,null,null,null,null,null,null,null,null,null,null,null,null,null,null,null,null,null,null,null,null,null,null,null,null,"Intermodal S.A.","8600530473","2013-04-15T15:20:16","D",11001]
["Sociedad Colombiana de Cardiología y Cirugia Cardiovascular","8600393620","2013-04-15T17:50:00","D",11001,9999,"NIT",null,null,null,null,null,null,null,null,null,null,null,null,null,null,null,null,null,null,null,null,null,null,null,null,null,null,null,null,null,null,null,null,null,null,null,null,null,null,null,null,"Sociedad Colombiana de Cardiología y Cirugia Cardiovascular","8600393620","2013-04-15T17:50:00","D",11001]
["Eurolab EU","8060109824","2013-04-19T16:32:05","D",11001,9999,"NIT",null,null,null,null,null,null,null,null,null,null,null,null,null,null,null,null,null,null,null,null,null,null,null,null,null,null,null,null,null,null,null,null,null,null,null,null,null,null,null,null,"Eurolab EU","8060109824","2013-04-19T16:32:05","D",11001]
["Agrupacion el Roble ","8301394525","2013-04-22T12:43:21","D",11001,9999,"NIT",null,null,null,null,null,null,null,null,null,null,null,null,null,null,null,null,null,null,null,null,null,null,null,null,null,null,null,null,null,null,null,null,null,null,null,null,null,null,null,null,"Agrupacion el Roble ","8301394525","2013-04-22T12:43:21","D",11001]
["Fundacion Marista Para el Desarrollo Educativo y Social FUNDEMAR","8300799660","2013-04-24T08:31:35","D",11001,9999,"NIT",null,null,null,null,null,null,null,null,null,null,null,null,null,null,null,null,null,null,null,null,null,null,null,null,null,null,null,null,null,null,null,null,null,null,null,null,null,null,null,null,"Fundacion Marista Para el Desarrollo Educativo y Social FUNDEMAR","8300799660","2013-04-24T08:31:35","D",11001]
["Jmendoza Equipos S.A.S.","9003742251","2013-04-26T16:45:23","D",11001,9999,"NIT",null,null,null,null,null,null,null,null,null,null,null,null,null,null,null,null,null,null,null,null,null,null,null,null,null,null,null,null,null,null,null,null,null,null,null,null,null,null,null,null,"Jmendoza Equipos S.A.S.","9003742251","2013-04-26T16:45:23","D",11001]
["Fondo de Empleados de las Instituciones Colombianas Agropecuaria","8600256101","2013-05-02T17:58:56","D",11001,9999,"NIT",null,null,null,null,null,null,null,null,null,null,null,null,null,null,null,null,null,null,null,null,null,null,null,null,null,null,null,null,null,null,null,null,null,null,null,null,null,null,null,null,"Fondo de Empleados de las Instituciones Colombianas Agropecuaria","8600256101","2013-05-02T17:58:56","D",11001]
["Inspeccion de Transito y Transporte de Barrancabermeja","8902709483","2013-05-08T09:21:52","D",11001,9999,"NIT",null,null,null,null,null,null,null,null,null,null,null,null,null,null,null,null,null,null,null,null,null,null,null,null,null,null,null,null,null,null,null,null,null,null,null,null,null,null,null,null,"Inspeccion de Transito y Transporte de Barrancabermeja","8902709483","2013-05-08T09:21:52","D",11001]
["Radas Ltda","8600760132","2013-05-08T14:30:51","D",11001,9999,"NIT",null,null,null,null,null,null,null,null,null,null,null,null,null,null,null,null,null,null,null,null,null,null,null,null,null,null,null,null,null,null,null,null,null,null,null,null,null,null,null,null,"Radas Ltda","8600760132","2013-05-08T14:30:51","D",11001]
["Alianza del Caribe S.A.S.","9004853562","2013-05-15T10:32:36","D",11001,9999,"NIT",null,null,null,null,null,null,null,null,null,null,null,null,null,null,null,null,null,null,null,null,null,null,null,null,null,null,null,null,null,null,null,null,null,null,null,null,null,null,null,null,"Alianza del Caribe S.A.S.","9004853562","2013-05-15T10:32:36","D",11001]
["Fundacion La Familia","9005991281","2013-05-15T11:21:52","D",11001,9999,"NIT",null,null,null,null,null,null,null,null,null,null,null,null,null,null,null,null,null,null,null,null,null,null,null,null,null,null,null,null,null,null,null,null,null,null,null,null,null,null,null,null,"Fundacion La Familia","9005991281","2013-05-15T11:21:52","D",11001]
["Top English S.A.S.","9002137308","2013-05-17T13:36:49","D",11001,9999,"NIT",null,null,null,null,null,null,null,null,null,null,null,null,null,null,null,null,null,null,null,null,null,null,null,null,null,null,null,null,null,null,null,null,null,null,null,null,null,null,null,null,"Top English S.A.S.","9002137308","2013-05-17T13:36:49","D",11001]
["Canales Electronicos de Ventas SAS","9005860681","2013-05-20T16:01:26","D",11001,9999,"NIT",null,null,null,null,null,null,null,null,null,null,null,null,null,null,null,null,null,null,null,null,null,null,null,null,null,null,null,null,null,null,null,null,null,null,null,null,null,null,null,null,"Canales Electronicos de Ventas SAS","9005860681","2013-05-20T16:01:26","D",11001]
["Asociacion Latinoamericana de Arbitraje","9004168956","2013-05-21T14:55:47","D",11001,9999,"NIT",null,null,null,null,null,null,null,null,null,null,null,null,null,null,null,null,null,null,null,null,null,null,null,null,null,null,null,null,null,null,null,null,null,null,null,null,null,null,null,null,"Asociacion Latinoamericana de Arbitraje","9004168956","2013-05-21T14:55:47","D",11001]
["Producciones y Distribuciones Judah Ltda","8300254944","2013-05-29T18:00:53","D",11001,9999,"NIT",null,null,null,null,null,null,null,null,null,null,null,null,null,null,null,null,null,null,null,null,null,null,null,null,null,null,null,null,null,null,null,null,null,null,null,null,null,null,null,null,"Producciones y Distribuciones Judah Ltda","8300254944","2013-05-29T18:00:53","D",11001]
["Paradox Colombia S.A.S.","9004196580","2013-05-30T14:42:21","D",11001,9999,"NIT",null,null,null,null,null,null,null,null,null,null,null,null,null,null,null,null,null,null,null,null,null,null,null,null,null,null,null,null,null,null,null,null,null,null,null,null,null,null,null,null,"Paradox Colombia S.A.S.","9004196580","2013-05-30T14:42:21","D",11001]
["Centro Ocular de Miopia Dr. Rincon S.A.S.","830102932","2013-05-30T15:11:15","D",11001,9999,"NIT",null,null,null,null,null,null,null,null,null,null,null,null,null,null,null,null,null,null,null,null,null,null,null,null,null,null,null,null,null,null,null,null,null,null,null,null,null,null,null,null,"Centro Ocular de Miopia Dr. Rincon S.A.S.","830102932","2013-05-30T15:11:15","D",11001]
["Iglesia Adventista del Septimo Dia","8600151534","2013-06-04T11:06:53","D",11001,9999,"NIT",null,null,null,null,null,null,null,null,null,null,null,null,null,null,null,null,null,null,null,null,null,null,null,null,null,null,null,null,null,null,null,null,null,null,null,null,null,null,null,null,"Iglesia Adventista del Septimo Dia","8600151534","2013-06-04T11:06:53","D",11001]
["Editorial Televisa Colombia S.A.","8000054925","2013-06-07T14:07:59","D",11001,9999,"NIT",null,null,null,null,null,null,null,null,null,null,null,null,null,null,null,null,null,null,null,null,null,null,null,null,null,null,null,null,null,null,null,null,null,null,null,null,null,null,null,null,"Editorial Televisa Colombia S.A.","8000054925","2013-06-07T14:07:59","D",11001]
["Timeclass S.A.","9005836069","2013-06-11T14:24:52","D",11001,9999,"NIT",null,null,null,null,null,null,null,null,null,null,null,null,null,null,null,null,null,null,null,null,null,null,null,null,null,null,null,null,null,null,null,null,null,null,null,null,null,null,null,null,"Timeclass S.A.","9005836069","2013-06-11T14:24:52","D",11001]
["Avila Wagner Cia Ltda","8140019699","2013-06-12T10:39:39","D",11001,9999,"NIT",null,null,null,null,null,null,null,null,null,null,null,null,null,null,null,null,null,null,null,null,null,null,null,null,null,null,null,null,null,null,null,null,null,null,null,null,null,null,null,null,"Avila Wagner Cia Ltda","8140019699","2013-06-12T10:39:39","D",11001]
["Asociacion de Padres de Alumnos APA Centro Cultural y Educativo ","8000349310","2013-06-13T14:49:09","D",11001,9999,"NIT",null,null,null,null,null,null,null,null,null,null,null,null,null,null,null,null,null,null,null,null,null,null,null,null,null,null,null,null,null,null,null,null,null,null,null,null,null,null,null,null,"Asociacion de Padres de Alumnos APA Centro Cultural y Educativo ","8000349310","2013-06-13T14:49:09","D",11001]
["Edificio Arezzo del Parque - Propiedad Horizontal","9005579285","2013-06-17T15:54:58","D",11001,9999,"NIT",null,null,null,null,null,null,null,null,null,null,null,null,null,null,null,null,null,null,null,null,null,null,null,null,null,null,null,null,null,null,null,null,null,null,null,null,null,null,null,null,"Edificio Arezzo del Parque - Propiedad Horizontal","9005579285","2013-06-17T15:54:58","D",11001]
["Arandu Agricola S.A.S.","9005501161","2013-06-18T08:30:05","D",11001,9999,"NIT",null,null,null,null,null,null,null,null,null,null,null,null,null,null,null,null,null,null,null,null,null,null,null,null,null,null,null,null,null,null,null,null,null,null,null,null,null,null,null,null,"Arandu Agricola S.A.S.","9005501161","2013-06-18T08:30:05","D",11001]
["Casa Restrepo S.A.","8908017701","2013-06-18T09:28:11","D",11001,9999,"NIT",null,null,null,null,null,null,null,null,null,null,null,null,null,null,null,null,null,null,null,null,null,null,null,null,null,null,null,null,null,null,null,null,null,null,null,null,null,null,null,null,"Casa Restrepo S.A.","8908017701","2013-06-18T09:28:11","D",11001]
["Coofundadores","8903179796","2013-06-20T08:44:08","D",11001,9999,"NIT",null,null,null,null,null,null,null,null,null,null,null,null,null,null,null,null,null,null,null,null,null,null,null,null,null,null,null,null,null,null,null,null,null,null,null,null,null,null,null,null,"Coofundadores","8903179796","2013-06-20T08:44:08","D",11001]
["Asomicrofinanzas","9003087091","2013-06-21T16:03:50","D",11001,9999,"NIT",null,null,null,null,null,null,null,null,null,null,null,null,null,null,null,null,null,null,null,null,null,null,null,null,null,null,null,null,null,null,null,null,null,null,null,null,null,null,null,null,"Asomicrofinanzas","9003087091","2013-06-21T16:03:50","D",11001]
["Mercadeo y Moda SAS","8001693526","2013-06-24T19:01:57","D",11001,9999,"NIT",null,null,null,null,null,null,null,null,null,null,null,null,null,null,null,null,null,null,null,null,null,null,null,null,null,null,null,null,null,null,null,null,null,null,null,null,null,null,null,null,"Mercadeo y Moda SAS","8001693526","2013-06-24T19:01:57","D",11001]
["Asociación Amigos del Niño Ayudame","8600554973","2013-06-26T08:51:55","D",11001,9999,"NIT",null,null,null,null,null,null,null,null,null,null,null,null,null,null,null,null,null,null,null,null,null,null,null,null,null,null,null,null,null,null,null,null,null,null,null,null,null,null,null,null,"Asociación Amigos del Niño Ayudame","8600554973","2013-06-26T08:51:55","D",11001]
["Ortopedicos Disalud","79397086","2013-06-27T08:23:39","D",11001,9999,"NIT",null,null,null,null,null,null,null,null,null,null,null,null,null,null,null,null,null,null,null,null,null,null,null,null,null,null,null,null,null,null,null,null,null,null,null,null,null,null,null,null,"Ortopedicos Disalud","79397086","2013-06-27T08:23:39","D",11001]
["C.I Zigzag Wear S.A.S.","9003639321","2013-06-27T16:04:41","D",11001,9999,"NIT",null,null,null,null,null,null,null,null,null,null,null,null,null,null,null,null,null,null,null,null,null,null,null,null,null,null,null,null,null,null,null,null,null,null,null,null,null,null,null,null,"C.I Zigzag Wear S.A.S.","9003639321","2013-06-27T16:04:41","D",11001]
["Sociedad colombiana de derecho medico s.a.s","900304288","2013-07-04T08:35:31","D",11001,9999,"NIT",null,null,null,null,null,null,null,null,null,null,null,null,null,null,null,null,null,null,null,null,null,null,null,null,null,null,null,null,null,null,null,null,null,null,null,null,null,null,null,null,"Sociedad colombiana de derecho medico s.a.s","900304288","2013-07-04T08:35:31","D",11001]
["Ecotet","8603500033","2013-07-09T15:07:08","D",11001,9999,"NIT",null,null,null,null,null,null,null,null,null,null,null,null,null,null,null,null,null,null,null,null,null,null,null,null,null,null,null,null,null,null,null,null,null,null,null,null,null,null,null,null,"Ecotet","8603500033","2013-07-09T15:07:08","D",11001]
["Chequefectivo S.A.","9001155673","2013-07-10T14:51:30","D",11001,9999,"NIT",null,null,null,null,null,null,null,null,null,null,null,null,null,null,null,null,null,null,null,null,null,null,null,null,null,null,null,null,null,null,null,null,null,null,null,null,null,null,null,null,"Chequefectivo S.A.","9001155673","2013-07-10T14:51:30","D",11001]
["Servicio Integrado SHP","8300831417","2013-07-11T12:54:08","D",11001,9999,"NIT",null,null,null,null,null,null,null,null,null,null,null,null,null,null,null,null,null,null,null,null,null,null,null,null,null,null,null,null,null,null,null,null,null,null,null,null,null,null,null,null,"Servicio Integrado SHP","8300831417","2013-07-11T12:54:08","D",11001]
["Barranquilla Container Terminal S.A.","9003647677","2013-07-16T17:50:40","D",11001,9999,"NIT",null,null,null,null,null,null,null,null,null,null,null,null,null,null,null,null,null,null,null,null,null,null,null,null,null,null,null,null,null,null,null,null,null,null,null,null,null,null,null,null,"Barranquilla Container Terminal S.A.","9003647677","2013-07-16T17:50:40","D",11001]
["Edificio Equilatera PH","9003623399","2013-07-17T10:28:58","D",11001,9999,"NIT",null,null,null,null,null,null,null,null,null,null,null,null,null,null,null,null,null,null,null,null,null,null,null,null,null,null,null,null,null,null,null,null,null,null,null,null,null,null,null,null,"Edificio Equilatera PH","9003623399","2013-07-17T10:28:58","D",11001]
["Setrans SA","8050061876","2013-07-22T16:51:37","D",11001,9999,"NIT",null,null,null,null,null,null,null,null,null,null,null,null,null,null,null,null,null,null,null,null,null,null,null,null,null,null,null,null,null,null,null,null,null,null,null,null,null,null,null,null,"Setrans SA","8050061876","2013-07-22T16:51:37","D",11001]
["Centro Primavera Plaza Comercial","8301448875","2013-07-24T09:46:54","D",11001,9999,"NIT",null,null,null,null,null,null,null,null,null,null,null,null,null,null,null,null,null,null,null,null,null,null,null,null,null,null,null,null,null,null,null,null,null,null,null,null,null,null,null,null,"Centro Primavera Plaza Comercial","8301448875","2013-07-24T09:46:54","D",11001]
["Ruiz López Abogados y Asociados LTDA","830130773","2013-07-25T17:11:16","D",11001,9999,"NIT",null,null,null,null,null,null,null,null,null,null,null,null,null,null,null,null,null,null,null,null,null,null,null,null,null,null,null,null,null,null,null,null,null,null,null,null,null,null,null,null,"Ruiz López Abogados y Asociados LTDA","830130773","2013-07-25T17:11:16","D",11001]
["Aceros Industriales S.A.","8909182727","2013-07-30T17:08:49","D",11001,9999,"NIT",null,null,null,null,null,null,null,null,null,null,null,null,null,null,null,null,null,null,null,null,null,null,null,null,null,null,null,null,null,null,null,null,null,null,null,null,null,null,null,null,"Aceros Industriales S.A.","8909182727","2013-07-30T17:08:49","D",11001]
["Edificio Miro Apartalofth PH","9003997954","2013-08-02T09:12:49","D",11001,9999,"NIT",null,null,null,null,null,null,null,null,null,null,null,null,null,null,null,null,null,null,null,null,null,null,null,null,null,null,null,null,null,null,null,null,null,null,null,null,null,null,null,null,"Edificio Miro Apartalofth PH","9003997954","2013-08-02T09:12:49","D",11001]
["Federación Nacional de Comerciantes Fenalco Sector Bolivar","8904800244","2013-08-02T15:33:34","D",11001,9999,"NIT",null,null,null,null,null,null,null,null,null,null,null,null,null,null,null,null,null,null,null,null,null,null,null,null,null,null,null,null,null,null,null,null,null,null,null,null,null,null,null,null,"Federación Nacional de Comerciantes Fenalco Sector Bolivar","8904800244","2013-08-02T15:33:34","D",11001]
["Coounibosque","8300299635","2013-08-06T11:39:22","D",11001,9999,"NIT",null,null,null,null,null,null,null,null,null,null,null,null,null,null,null,null,null,null,null,null,null,null,null,null,null,null,null,null,null,null,null,null,null,null,null,null,null,null,null,null,"Coounibosque","8300299635","2013-08-06T11:39:22","D",11001]
["Fundacion Mambe Shop","8305058947","2013-08-12T13:22:43","D",11001,9999,"NIT",null,null,null,null,null,null,null,null,null,null,null,null,null,null,null,null,null,null,null,null,null,null,null,null,null,null,null,null,null,null,null,null,null,null,null,null,null,null,null,null,"Fundacion Mambe Shop","8305058947","2013-08-12T13:22:43","D",11001]
["Cooperativa Texas","8600171114","2013-08-13T10:56:37","D",11001,9999,"NIT",null,null,null,null,null,null,null,null,null,null,null,null,null,null,null,null,null,null,null,null,null,null,null,null,null,null,null,null,null,null,null,null,null,null,null,null,null,null,null,null,"Cooperativa Texas","8600171114","2013-08-13T10:56:37","D",11001]
["Conjunto Residencial La Zarzuela","8080022347","2013-08-15T15:59:17","D",11001,9999,"NIT",null,null,null,null,null,null,null,null,null,null,null,null,null,null,null,null,null,null,null,null,null,null,null,null,null,null,null,null,null,null,null,null,null,null,null,null,null,null,null,null,"Conjunto Residencial La Zarzuela","8080022347","2013-08-15T15:59:17","D",11001]
["Empresa Municipal de Mercadeo de Apartado EMMA","8110040104","2013-08-23T09:31:55","D",11001,9999,"NIT",null,null,null,null,null,null,null,null,null,null,null,null,null,null,null,null,null,null,null,null,null,null,null,null,null,null,null,null,null,null,null,null,null,null,null,null,null,null,null,null,"Empresa Municipal de Mercadeo de Apartado EMMA","8110040104","2013-08-23T09:31:55","D",11001]
["Cooperativa de Transportadores del Huila","8911002997","2013-08-23T15:57:03","D",11001,9999,"NIT",null,null,null,null,null,null,null,null,null,null,null,null,null,null,null,null,null,null,null,null,null,null,null,null,null,null,null,null,null,null,null,null,null,null,null,null,null,null,null,null,"Cooperativa de Transportadores del Huila","8911002997","2013-08-23T15:57:03","D",11001]
["Conjunto Residencial Arcadia I","8301162551","2013-08-27T14:22:04","D",11001,9999,"NIT",null,null,null,null,null,null,null,null,null,null,null,null,null,null,null,null,null,null,null,null,null,null,null,null,null,null,null,null,null,null,null,null,null,null,null,null,null,null,null,null,"Conjunto Residencial Arcadia I","8301162551","2013-08-27T14:22:04","D",11001]
["ASOCIACION PARA LA ENSEÑANZA ASPAEN - URAPANES","8600190211","2013-08-30T08:45:13","D",11001,9999,"NIT",null,null,null,null,null,null,null,null,null,null,null,null,null,null,null,null,null,null,null,null,null,null,null,null,null,null,null,null,null,null,null,null,null,null,null,null,null,null,null,null,"ASOCIACION PARA LA ENSEÑANZA ASPAEN - URAPANES","8600190211","2013-08-30T08:45:13","D",11001]
["Cooperativa del Sector Tecnologico de Colombia","8600271251","2013-09-06T08:53:07","D",11001,9999,"NIT",null,null,null,null,null,null,null,null,null,null,null,null,null,null,null,null,null,null,null,null,null,null,null,null,null,null,null,null,null,null,null,null,null,null,null,null,null,null,null,null,"Cooperativa del Sector Tecnologico de Colombia","8600271251","2013-09-06T08:53:07","D",11001]
["Compañia de Financiamiento Tuya SA","8600323303","2013-09-06T17:08:27","D",11001,9999,"NIT",null,null,null,null,null,null,null,null,null,null,null,null,null,null,null,null,null,null,null,null,null,null,null,null,null,null,null,null,null,null,null,null,null,null,null,null,null,null,null,null,"Compañia de Financiamiento Tuya SA","8600323303","2013-09-06T17:08:27","D",11001]
["Sociedad productora de energia de san andres y providencia SA","8270001087","2013-09-09T17:50:58","D",11001,9999,"NIT",null,null,null,null,null,null,null,null,null,null,null,null,null,null,null,null,null,null,null,null,null,null,null,null,null,null,null,null,null,null,null,null,null,null,null,null,null,null,null,null,"Sociedad productora de energia de san andres y providencia SA","8270001087","2013-09-09T17:50:58","D",11001]
["Grainger Colombia S.A.S.","9003551014","2013-09-11T09:52:20","D",11001,9999,"NIT",null,null,null,null,null,null,null,null,null,null,null,null,null,null,null,null,null,null,null,null,null,null,null,null,null,null,null,null,null,null,null,null,null,null,null,null,null,null,null,null,"Grainger Colombia S.A.S.","9003551014","2013-09-11T09:52:20","D",11001]
["Global Mensajería S.A.S","9000539781","2013-09-13T11:38:45","D",11001,9999,"NIT",null,null,null,null,null,null,null,null,null,null,null,null,null,null,null,null,null,null,null,null,null,null,null,null,null,null,null,null,null,null,null,null,null,null,null,null,null,null,null,null,"Global Mensajería S.A.S","9000539781","2013-09-13T11:38:45","D",11001]
["Fundacion Politecnico Grancolombiano","860078643","2013-09-16T15:03:08","D",11001,9999,"NIT",null,null,null,null,null,null,null,null,null,null,null,null,null,null,null,null,null,null,null,null,null,null,null,null,null,null,null,null,null,null,null,null,null,null,null,null,null,null,null,null,"Fundacion Politecnico Grancolombiano","860078643","2013-09-16T15:03:08","D",11001]
["Cooeducar","8914097473","2013-09-19T16:13:22","D",11001,9999,"NIT",null,null,null,null,null,null,null,null,null,null,null,null,null,null,null,null,null,null,null,null,null,null,null,null,null,null,null,null,null,null,null,null,null,null,null,null,null,null,null,null,"Cooeducar","8914097473","2013-09-19T16:13:22","D",11001]
["COTECNA MINERALS S.A.S","900538216","2013-09-26T15:18:38","D",11001,9999,"NIT",null,null,null,null,null,null,null,null,null,null,null,null,null,null,null,null,null,null,null,null,null,null,null,null,null,null,null,null,null,null,null,null,null,null,null,null,null,null,null,null,"COTECNA MINERALS S.A.S","900538216","2013-09-26T15:18:38","D",11001]
["Comercializadora Mercaldas SA","9002736868","2013-09-27T17:27:51","D",11001,9999,"NIT",null,null,null,null,null,null,null,null,null,null,null,null,null,null,null,null,null,null,null,null,null,null,null,null,null,null,null,null,null,null,null,null,null,null,null,null,null,null,null,null,"Comercializadora Mercaldas SA","9002736868","2013-09-27T17:27:51","D",11001]
["It Cloud Services S.A.S.","9006257732","2013-10-02T19:19:33","D",11001,9999,"NIT",null,null,null,null,null,null,null,null,null,null,null,null,null,null,null,null,null,null,null,null,null,null,null,null,null,null,null,null,null,null,null,null,null,null,null,null,null,null,null,null,"It Cloud Services S.A.S.","9006257732","2013-10-02T19:19:33","D",11001]
["Cooperativa AVP","8000619884","2013-10-07T17:34:12","D",11001,9999,"NIT",null,null,null,null,null,null,null,null,null,null,null,null,null,null,null,null,null,null,null,null,null,null,null,null,null,null,null,null,null,null,null,null,null,null,null,null,null,null,null,null,"Cooperativa AVP","8000619884","2013-10-07T17:34:12","D",11001]
["Conjunto Parque Residencial Vivero Club Propiedad Horizontal","9005458902","2013-10-08T16:24:15","D",11001,9999,"NIT",null,null,null,null,null,null,null,null,null,null,null,null,null,null,null,null,null,null,null,null,null,null,null,null,null,null,null,null,null,null,null,null,null,null,null,null,null,null,null,null,"Conjunto Parque Residencial Vivero Club Propiedad Horizontal","9005458902","2013-10-08T16:24:15","D",11001]
["Corporacion universitaria de ciencia y tecnologia de colombia","9003786949","2013-10-15T09:50:42","D",11001,9999,"NIT",null,null,null,null,null,null,null,null,null,null,null,null,null,null,null,null,null,null,null,null,null,null,null,null,null,null,null,null,null,null,null,null,null,null,null,null,null,null,null,null,"Corporacion universitaria de ciencia y tecnologia de colombia","9003786949","2013-10-15T09:50:42","D",11001]
["Expertos Seguridad Ltda","8000108666","2013-10-15T15:03:01","D",11001,9999,"NIT",null,null,null,null,null,null,null,null,null,null,null,null,null,null,null,null,null,null,null,null,null,null,null,null,null,null,null,null,null,null,null,null,null,null,null,null,null,null,null,null,"Expertos Seguridad Ltda","8000108666","2013-10-15T15:03:01","D",11001]
["Legrand Colombia S.A.","8600056691","2013-10-21T15:22:06","D",11001,9999,"NIT",null,null,null,null,null,null,null,null,null,null,null,null,null,null,null,null,null,null,null,null,null,null,null,null,null,null,null,null,null,null,null,null,null,null,null,null,null,null,null,null,"Legrand Colombia S.A.","8600056691","2013-10-21T15:22:06","D",11001]
["Canapro O.C","8918006528","2013-10-24T16:05:18","D",11001,9999,"NIT",null,null,null,null,null,null,null,null,null,null,null,null,null,null,null,null,null,null,null,null,null,null,null,null,null,null,null,null,null,null,null,null,null,null,null,null,null,null,null,null,"Canapro O.C","8918006528","2013-10-24T16:05:18","D",11001]
["Colegio de la presentacion de Bucaramanga","890201334","2013-10-30T09:49:49","D",11001,9999,"NIT",null,null,null,null,null,null,null,null,null,null,null,null,null,null,null,null,null,null,null,null,null,null,null,null,null,null,null,null,null,null,null,null,null,null,null,null,null,null,null,null,"Colegio de la presentacion de Bucaramanga","890201334","2013-10-30T09:49:49","D",11001]
["Municipio de Espinal Tolima","8907020270","2013-10-30T14:58:30","D",11001,9999,"NIT",null,null,null,null,null,null,null,null,null,null,null,null,null,null,null,null,null,null,null,null,null,null,null,null,null,null,null,null,null,null,null,null,null,null,null,null,null,null,null,null,"Municipio de Espinal Tolima","8907020270","2013-10-30T14:58:30","D",11001]
["UNIVERSIDAD SURCOLOMBIANA","891180084","2013-11-06T12:38:02","D",11001,9999,"NIT",null,null,null,null,null,null,null,null,null,null,null,null,null,null,null,null,null,null,null,null,null,null,null,null,null,null,null,null,null,null,null,null,null,null,null,null,null,null,null,null,"UNIVERSIDAD SURCOLOMBIANA","891180084","2013-11-06T12:38:02","D",11001]
["Corpouraba Corporacion para el desarrollo sostenible de Uraba ","890907748","2013-11-12T13:08:57","D",11001,9999,"NIT",null,null,null,null,null,null,null,null,null,null,null,null,null,null,null,null,null,null,null,null,null,null,null,null,null,null,null,null,null,null,null,null,null,null,null,null,null,null,null,null,"Corpouraba Corporacion para el desarrollo sostenible de Uraba ","890907748","2013-11-12T13:08:57","D",11001]
["CR Inmobiliaria SAS","9005966943","2013-11-13T18:41:06","D",11001,9999,"NIT",null,null,null,null,null,null,null,null,null,null,null,null,null,null,null,null,null,null,null,null,null,null,null,null,null,null,null,null,null,null,null,null,null,null,null,null,null,null,null,null,"CR Inmobiliaria SAS","9005966943","2013-11-13T18:41:06","D",11001]
["Edificio Puerta De Las Americas","9005770209","2013-11-14T18:14:11","D",11001,9999,"NIT",null,null,null,null,null,null,null,null,null,null,null,null,null,null,null,null,null,null,null,null,null,null,null,null,null,null,null,null,null,null,null,null,null,null,null,null,null,null,null,null,"Edificio Puerta De Las Americas","9005770209","2013-11-14T18:14:11","D",11001]
["Armadillo Editores S:A.S","9005176186","2013-11-19T17:27:45","D",11001,9999,"NIT",null,null,null,null,null,null,null,null,null,null,null,null,null,null,null,null,null,null,null,null,null,null,null,null,null,null,null,null,null,null,null,null,null,null,null,null,null,null,null,null,"Armadillo Editores S:A.S","9005176186","2013-11-19T17:27:45","D",11001]
["Nikko Auto Ltda","8300365577","2013-11-20T09:29:57","D",11001,9999,"NIT",null,null,null,null,null,null,null,null,null,null,null,null,null,null,null,null,null,null,null,null,null,null,null,null,null,null,null,null,null,null,null,null,null,null,null,null,null,null,null,null,"Nikko Auto Ltda","8300365577","2013-11-20T09:29:57","D",11001]
["Corporación Vallenpaz","8050161173","2013-11-21T16:59:10","D",11001,9999,"NIT",null,null,null,null,null,null,null,null,null,null,null,null,null,null,null,null,null,null,null,null,null,null,null,null,null,null,null,null,null,null,null,null,null,null,null,null,null,null,null,null,"Corporación Vallenpaz","8050161173","2013-11-21T16:59:10","D",11001]
["Agrodex Internacional SAS","8020152982","2013-11-26T14:15:55","D",11001,9999,"NIT",null,null,null,null,null,null,null,null,null,null,null,null,null,null,null,null,null,null,null,null,null,null,null,null,null,null,null,null,null,null,null,null,null,null,null,null,null,null,null,null,"Agrodex Internacional SAS","8020152982","2013-11-26T14:15:55","D",11001]
["Centro de Investigacion Clinica Colombiana de Obesidad y Metabol","9006214858","2013-11-29T14:21:18","D",11001,9999,"NIT",null,null,null,null,null,null,null,null,null,null,null,null,null,null,null,null,null,null,null,null,null,null,null,null,null,null,null,null,null,null,null,null,null,null,null,null,null,null,null,null,"Centro de Investigacion Clinica Colombiana de Obesidad y Metabol","9006214858","2013-11-29T14:21:18","D",11001]
["Empresa Administradora de Recursos Turisticos SAS","8060146115","2013-12-03T14:19:29","D",11001,9999,"NIT",null,null,null,null,null,null,null,null,null,null,null,null,null,null,null,null,null,null,null,null,null,null,null,null,null,null,null,null,null,null,null,null,null,null,null,null,null,null,null,null,"Empresa Administradora de Recursos Turisticos SAS","8060146115","2013-12-03T14:19:29","D",11001]
["Compañia Energetica de Occidente","9003660101","2013-12-04T12:37:35","D",11001,9999,"NIT",null,null,null,null,null,null,null,null,null,null,null,null,null,null,null,null,null,null,null,null,null,null,null,null,null,null,null,null,null,null,null,null,null,null,null,null,null,null,null,null,"Compañia Energetica de Occidente","9003660101","2013-12-04T12:37:35","D",11001]
["Heritage Group S.A.","9002691664","2013-12-09T09:33:56","D",11001,9999,"NIT",null,null,null,null,null,null,null,null,null,null,null,null,null,null,null,null,null,null,null,null,null,null,null,null,null,null,null,null,null,null,null,null,null,null,null,null,null,null,null,null,"Heritage Group S.A.","9002691664","2013-12-09T09:33:56","D",11001]
["Fundacion Colegio Cardenal Jhon Henry Newman","8001502373","2013-12-12T14:44:06","D",11001,9999,"NIT",null,null,null,null,null,null,null,null,null,null,null,null,null,null,null,null,null,null,null,null,null,null,null,null,null,null,null,null,null,null,null,null,null,null,null,null,null,null,null,null,"Fundacion Colegio Cardenal Jhon Henry Newman","8001502373","2013-12-12T14:44:06","D",11001]
["Red Llantas SA","8110413691","2013-12-13T16:19:35","D",11001,9999,"NIT",null,null,null,null,null,null,null,null,null,null,null,null,null,null,null,null,null,null,null,null,null,null,null,null,null,null,null,null,null,null,null,null,null,null,null,null,null,null,null,null,"Red Llantas SA","8110413691","2013-12-13T16:19:35","D",11001]
["Businessmind Colombia SA","9001059791","2013-12-18T09:19:14","D",11001,9999,"NIT",null,null,null,null,null,null,null,null,null,null,null,null,null,null,null,null,null,null,null,null,null,null,null,null,null,null,null,null,null,null,null,null,null,null,null,null,null,null,null,null,"Businessmind Colombia SA","9001059791","2013-12-18T09:19:14","D",11001]
["Compañia Colombiana de Servicio Automotriz-Colserauto SA","8600535238","2013-12-23T12:38:00","D",11001,9999,"NIT",null,null,null,null,null,null,null,null,null,null,null,null,null,null,null,null,null,null,null,null,null,null,null,null,null,null,null,null,null,null,null,null,null,null,null,null,null,null,null,null,"Compañia Colombiana de Servicio Automotriz-Colserauto SA","8600535238","2013-12-23T12:38:00","D",11001]
["Copy Importa sas","9000225111","2013-12-26T15:48:59","D",11001,9999,"NIT",null,null,null,null,null,null,null,null,null,null,null,null,null,null,null,null,null,null,null,null,null,null,null,null,null,null,null,null,null,null,null,null,null,null,null,null,null,null,null,null,"Copy Importa sas","9000225111","2013-12-26T15:48:59","D",11001]
["Positive ID SA","9000853756","2014-01-02T16:12:56","D",11001,9999,"NIT",null,null,null,null,null,null,null,null,null,null,null,null,null,null,null,null,null,null,null,null,null,null,null,null,null,null,null,null,null,null,null,null,null,null,null,null,null,null,null,null,"Positive ID SA","9000853756","2014-01-02T16:12:56","D",11001]
["Estudio Inmobiliario SA ","9001942218","2014-01-17T13:30:08","D",11001,9999,"NIT",null,null,null,null,null,null,null,null,null,null,null,null,null,null,null,null,null,null,null,null,null,null,null,null,null,null,null,null,null,null,null,null,null,null,null,null,null,null,null,null,"Estudio Inmobiliario SA ","9001942218","2014-01-17T13:30:08","D",11001]
["BTB Group SAS","9004405771","2014-01-17T13:46:41","D",11001,9999,"NIT",null,null,null,null,null,null,null,null,null,null,null,null,null,null,null,null,null,null,null,null,null,null,null,null,null,null,null,null,null,null,null,null,null,null,null,null,null,null,null,null,"BTB Group SAS","9004405771","2014-01-17T13:46:41","D",11001]
["Orden Religiosa de las Escuelas Pías -Colegio Calasanz ","860014710","2014-01-27T13:44:44","D",11001,9999,"NIT",null,null,null,null,null,null,null,null,null,null,null,null,null,null,null,null,null,null,null,null,null,null,null,null,null,null,null,null,null,null,null,null,null,null,null,null,null,null,null,null,"Orden Religiosa de las Escuelas Pías -Colegio Calasanz ","860014710","2014-01-27T13:44:44","D",11001]
["FORERO’S CELULAS FRESCAS LTDA","8605126118","2014-01-29T09:10:33","D",11001,9999,"NIT",null,null,null,null,null,null,null,null,null,null,null,null,null,null,null,null,null,null,null,null,null,null,null,null,null,null,null,null,null,null,null,null,null,null,null,null,null,null,null,null,"FORERO’S CELULAS FRESCAS LTDA","8605126118","2014-01-29T09:10:33","D",11001]
["Hermanos Bernal Quintero y Cia Ltda Industrias Metalicas 2000","8909333799","2014-02-04T17:41:16","D",11001,9999,"NIT",null,null,null,null,null,null,null,null,null,null,null,null,null,null,null,null,null,null,null,null,null,null,null,null,null,null,null,null,null,null,null,null,null,null,null,null,null,null,null,null,"Hermanos Bernal Quintero y Cia Ltda Industrias Metalicas 2000","8909333799","2014-02-04T17:41:16","D",11001]
["QuimicoPlasticos S.A","8909296472","2014-02-11T09:16:50","D",11001,9999,"NIT",null,null,null,null,null,null,null,null,null,null,null,null,null,null,null,null,null,null,null,null,null,null,null,null,null,null,null,null,null,null,null,null,null,null,null,null,null,null,null,null,"QuimicoPlasticos S.A","8909296472","2014-02-11T09:16:50","D",11001]
["Consulado General del Ecuador","8001661709","2014-02-13T13:54:43","D",11001,9999,"NIT",null,null,null,null,null,null,null,null,null,null,null,null,null,null,null,null,null,null,null,null,null,null,null,null,null,null,null,null,null,null,null,null,null,null,null,null,null,null,null,null,"Consulado General del Ecuador","8001661709","2014-02-13T13:54:43","D",11001]
["Plataformas Electronicas SAS","9006450264","2014-02-17T16:27:37","D",11001,9999,"NIT",null,null,null,null,null,null,null,null,null,null,null,null,null,null,null,null,null,null,null,null,null,null,null,null,null,null,null,null,null,null,null,null,null,null,null,null,null,null,null,null,"Plataformas Electronicas SAS","9006450264","2014-02-17T16:27:37","D",11001]
["Martha Liliana Nuñez Lopez","63346844","2014-02-26T08:54:01","D",11001,9999,"NIT",null,null,null,null,null,null,null,null,null,null,null,null,null,null,null,null,null,null,null,null,null,null,null,null,null,null,null,null,null,null,null,null,null,null,null,null,null,null,null,null,"Martha Liliana Nuñez Lopez","63346844","2014-02-26T08:54:01","D",11001]
["Municipio de Anserma","8908011391","2014-02-28T14:22:49","D",11001,9999,"NIT",null,null,null,null,null,null,null,null,null,null,null,null,null,null,null,null,null,null,null,null,null,null,null,null,null,null,null,null,null,null,null,null,null,null,null,null,null,null,null,null,"Municipio de Anserma","8908011391","2014-02-28T14:22:49","D",11001]
["Fundación la Divina Providencia","8050173579","2014-03-03T13:03:31","D",11001,9999,"NIT",null,null,null,null,null,null,null,null,null,null,null,null,null,null,null,null,null,null,null,null,null,null,null,null,null,null,null,null,null,null,null,null,null,null,null,null,null,null,null,null,"Fundación la Divina Providencia","8050173579","2014-03-03T13:03:31","D",11001]
["Musicales Strings E.U","8110267120","2014-03-06T09:19:25","D",11001,9999,"NIT",null,null,null,null,null,null,null,null,null,null,null,null,null,null,null,null,null,null,null,null,null,null,null,null,null,null,null,null,null,null,null,null,null,null,null,null,null,null,null,null,"Musicales Strings E.U","8110267120","2014-03-06T09:19:25","D",11001]
["CERTAIN & PEZZANO GRUPO INMOBILIARIO SAS","9006850281","2014-03-07T14:27:02","D",11001,9999,"NIT",null,null,null,null,null,null,null,null,null,null,null,null,null,null,null,null,null,null,null,null,null,null,null,null,null,null,null,null,null,null,null,null,null,null,null,null,null,null,null,null,"CERTAIN & PEZZANO GRUPO INMOBILIARIO SAS","9006850281","2014-03-07T14:27:02","D",11001]
["Caldas Motor S.A","8908001000","2014-03-11T13:02:43","D",11001,9999,"NIT",null,null,null,null,null,null,null,null,null,null,null,null,null,null,null,null,null,null,null,null,null,null,null,null,null,null,null,null,null,null,null,null,null,null,null,null,null,null,null,null,"Caldas Motor S.A","8908001000","2014-03-11T13:02:43","D",11001]
["Latin Checkout SAS","9006751973","2014-03-17T12:10:51","D",11001,9999,"NIT",null,null,null,null,null,null,null,null,null,null,null,null,null,null,null,null,null,null,null,null,null,null,null,null,null,null,null,null,null,null,null,null,null,null,null,null,null,null,null,null,"Latin Checkout SAS","9006751973","2014-03-17T12:10:51","D",11001]
["CESVI COLOMBIA S.A","8300387533","2014-03-18T13:19:38","D",11001,9999,"NIT",null,null,null,null,null,null,null,null,null,null,null,null,null,null,null,null,null,null,null,null,null,null,null,null,null,null,null,null,null,null,null,null,null,null,null,null,null,null,null,null,"CESVI COLOMBIA S.A","8300387533","2014-03-18T13:19:38","D",11001]
["Constructora Saobento SAS","9004403877","2014-03-21T09:12:58","D",11001,9999,"NIT",null,null,null,null,null,null,null,null,null,null,null,null,null,null,null,null,null,null,null,null,null,null,null,null,null,null,null,null,null,null,null,null,null,null,null,null,null,null,null,null,"Constructora Saobento SAS","9004403877","2014-03-21T09:12:58","D",11001]
["Inversiones Alejo Leon SA","9003232387","2014-03-25T12:18:41","D",11001,9999,"NIT",null,null,null,null,null,null,null,null,null,null,null,null,null,null,null,null,null,null,null,null,null,null,null,null,null,null,null,null,null,null,null,null,null,null,null,null,null,null,null,null,"Inversiones Alejo Leon SA","9003232387","2014-03-25T12:18:41","D",11001]
["Andes Motors Bogota SAS","9005695317","2014-03-26T10:43:32","D",11001,9999,"NIT",null,null,null,null,null,null,null,null,null,null,null,null,null,null,null,null,null,null,null,null,null,null,null,null,null,null,null,null,null,null,null,null,null,null,null,null,null,null,null,null,"Andes Motors Bogota SAS","9005695317","2014-03-26T10:43:32","D",11001]
["Union Israelita de Beneficiencia de Medellin - Colegio Theodoro ","890902916","2014-03-31T16:00:14","D",11001,9999,"NIT",null,null,null,null,null,null,null,null,null,null,null,null,null,null,null,null,null,null,null,null,null,null,null,null,null,null,null,null,null,null,null,null,null,null,null,null,null,null,null,null,"Union Israelita de Beneficiencia de Medellin - Colegio Theodoro ","890902916","2014-03-31T16:00:14","D",11001]
["Parroquia Nuestra Señora de los Angeles","8301437650","2014-04-07T14:12:33","D",11001,9999,"NIT",null,null,null,null,null,null,null,null,null,null,null,null,null,null,null,null,null,null,null,null,null,null,null,null,null,null,null,null,null,null,null,null,null,null,null,null,null,null,null,null,"Parroquia Nuestra Señora de los Angeles","8301437650","2014-04-07T14:12:33","D",11001]
["Fundacion para la Investigacion y el Desarollo Empresarial","900427549","2014-04-07T15:58:26","D",11001,9999,"NIT",null,null,null,null,null,null,null,null,null,null,null,null,null,null,null,null,null,null,null,null,null,null,null,null,null,null,null,null,null,null,null,null,null,null,null,null,null,null,null,null,"Fundacion para la Investigacion y el Desarollo Empresarial","900427549","2014-04-07T15:58:26","D",11001]
["Urbanizacion Montes Claros B.P.H","8110184960","2014-04-09T11:55:06","D",11001,9999,"NIT",null,null,null,null,null,null,null,null,null,null,null,null,null,null,null,null,null,null,null,null,null,null,null,null,null,null,null,null,null,null,null,null,null,null,null,null,null,null,null,null,"Urbanizacion Montes Claros B.P.H","8110184960","2014-04-09T11:55:06","D",11001]
["Edificio Terrazas de Patio Bonito PH","9002111539","2014-04-11T15:13:58","D",11001,9999,"NIT",null,null,null,null,null,null,null,null,null,null,null,null,null,null,null,null,null,null,null,null,null,null,null,null,null,null,null,null,null,null,null,null,null,null,null,null,null,null,null,null,"Edificio Terrazas de Patio Bonito PH","9002111539","2014-04-11T15:13:58","D",11001]
["Municipio de Mutata","8909809505","2014-04-14T15:31:49","D",11001,9999,"NIT",null,null,null,null,null,null,null,null,null,null,null,null,null,null,null,null,null,null,null,null,null,null,null,null,null,null,null,null,null,null,null,null,null,null,null,null,null,null,null,null,"Municipio de Mutata","8909809505","2014-04-14T15:31:49","D",11001]
["Procesos de Aprendizaje Proa","8301077619","2014-04-16T16:36:55","D",11001,9999,"NIT",null,null,null,null,null,null,null,null,null,null,null,null,null,null,null,null,null,null,null,null,null,null,null,null,null,null,null,null,null,null,null,null,null,null,null,null,null,null,null,null,"Procesos de Aprendizaje Proa","8301077619","2014-04-16T16:36:55","D",11001]
["J & D TECH SAS","9007006181","2014-04-22T16:30:07","D",11001,9999,"NIT",null,null,null,null,null,null,null,null,null,null,null,null,null,null,null,null,null,null,null,null,null,null,null,null,null,null,null,null,null,null,null,null,null,null,null,null,null,null,null,null,"J & D TECH SAS","9007006181","2014-04-22T16:30:07","D",11001]
["Inversiones Ovalle Quintero SAS","900332558","2014-04-22T16:37:06","D",11001,9999,"NIT",null,null,null,null,null,null,null,null,null,null,null,null,null,null,null,null,null,null,null,null,null,null,null,null,null,null,null,null,null,null,null,null,null,null,null,null,null,null,null,null,"Inversiones Ovalle Quintero SAS","900332558","2014-04-22T16:37:06","D",11001]
["Federacion Nacional de Avicultores de Colombia - FENAVI","8605325842","2014-05-02T10:12:33","D",11001,9999,"NIT",null,null,null,null,null,null,null,null,null,null,null,null,null,null,null,null,null,null,null,null,null,null,null,null,null,null,null,null,null,null,null,null,null,null,null,null,null,null,null,null,"Federacion Nacional de Avicultores de Colombia - FENAVI","8605325842","2014-05-02T10:12:33","D",11001]
["Global Knowledge Colombia Ltda","830107741","2014-05-06T08:10:34","D",11001,9999,"NIT",null,null,null,null,null,null,null,null,null,null,null,null,null,null,null,null,null,null,null,null,null,null,null,null,null,null,null,null,null,null,null,null,null,null,null,null,null,null,null,null,"Global Knowledge Colombia Ltda","830107741","2014-05-06T08:10:34","D",11001]
["Andes Motors SAS","9004864952","2014-05-09T13:22:28","D",11001,9999,"NIT",null,null,null,null,null,null,null,null,null,null,null,null,null,null,null,null,null,null,null,null,null,null,null,null,null,null,null,null,null,null,null,null,null,null,null,null,null,null,null,null,"Andes Motors SAS","9004864952","2014-05-09T13:22:28","D",11001]
["Inversora Palacios S en C","8050265960","2014-05-16T13:25:36","D",11001,9999,"NIT",null,null,null,null,null,null,null,null,null,null,null,null,null,null,null,null,null,null,null,null,null,null,null,null,null,null,null,null,null,null,null,null,null,null,null,null,null,null,null,null,"Inversora Palacios S en C","8050265960","2014-05-16T13:25:36","D",11001]
["PIA Sociedad Salesiana - Colegio Salesiano el Sufragio","8909059807","2014-05-20T17:56:06","D",11001,9999,"NIT",null,null,null,null,null,null,null,null,null,null,null,null,null,null,null,null,null,null,null,null,null,null,null,null,null,null,null,null,null,null,null,null,null,null,null,null,null,null,null,null,"PIA Sociedad Salesiana - Colegio Salesiano el Sufragio","8909059807","2014-05-20T17:56:06","D",11001]
["Papelcard SAS","8909405676","2014-05-26T11:48:32","D",11001,9999,"NIT",null,null,null,null,null,null,null,null,null,null,null,null,null,null,null,null,null,null,null,null,null,null,null,null,null,null,null,null,null,null,null,null,null,null,null,null,null,null,null,null,"Papelcard SAS","8909405676","2014-05-26T11:48:32","D",11001]
["Isagen S.A E.S.P","8110007404","2014-06-03T09:37:00","D",11001,9999,"NIT",null,null,null,null,null,null,null,null,null,null,null,null,null,null,null,null,null,null,null,null,null,null,null,null,null,null,null,null,null,null,null,null,null,null,null,null,null,null,null,null,"Isagen S.A E.S.P","8110007404","2014-06-03T09:37:00","D",11001]
["Cerveceria Union SA","8909001681","2014-06-05T11:42:43","D",11001,9999,"NIT",null,null,null,null,null,null,null,null,null,null,null,null,null,null,null,null,null,null,null,null,null,null,null,null,null,null,null,null,null,null,null,null,null,null,null,null,null,null,null,null,"Cerveceria Union SA","8909001681","2014-06-05T11:42:43","D",11001]
["Conjunto Res Miramont I Res Etapa I P.H","900716499","2014-06-10T12:59:21","D",11001,9999,"NIT",null,null,null,null,null,null,null,null,null,null,null,null,null,null,null,null,null,null,null,null,null,null,null,null,null,null,null,null,null,null,null,null,null,null,null,null,null,null,null,null,"Conjunto Res Miramont I Res Etapa I P.H","900716499","2014-06-10T12:59:21","D",11001]
["Bureau Travel SAS","9005478062","2014-06-13T09:01:06","D",11001,9999,"NIT",null,null,null,null,null,null,null,null,null,null,null,null,null,null,null,null,null,null,null,null,null,null,null,null,null,null,null,null,null,null,null,null,null,null,null,null,null,null,null,null,"Bureau Travel SAS","9005478062","2014-06-13T09:01:06","D",11001]
["Inmobiliaria Alfonso y Cia Ltda","860069421","2014-06-19T11:45:26","D",11001,9999,"NIT",null,null,null,null,null,null,null,null,null,null,null,null,null,null,null,null,null,null,null,null,null,null,null,null,null,null,null,null,null,null,null,null,null,null,null,null,null,null,null,null,"Inmobiliaria Alfonso y Cia Ltda","860069421","2014-06-19T11:45:26","D",11001]
["Entidad Cooperativa Solidaridad de Salud","8320007608","2014-06-24T18:08:34","D",11001,9999,"NIT",null,null,null,null,null,null,null,null,null,null,null,null,null,null,null,null,null,null,null,null,null,null,null,null,null,null,null,null,null,null,null,null,null,null,null,null,null,null,null,null,"Entidad Cooperativa Solidaridad de Salud","8320007608","2014-06-24T18:08:34","D",11001]
["Padilla y Cia Limitada","8001318601","2014-07-03T08:23:55","D",11001,9999,"NIT",null,null,null,null,null,null,null,null,null,null,null,null,null,null,null,null,null,null,null,null,null,null,null,null,null,null,null,null,null,null,null,null,null,null,null,null,null,null,null,null,"Padilla y Cia Limitada","8001318601","2014-07-03T08:23:55","D",11001]
["Corporacion Amigos de Eafit","8909847768","2014-07-04T10:45:49","D",11001,9999,"NIT",null,null,null,null,null,null,null,null,null,null,null,null,null,null,null,null,null,null,null,null,null,null,null,null,null,null,null,null,null,null,null,null,null,null,null,null,null,null,null,null,"Corporacion Amigos de Eafit","8909847768","2014-07-04T10:45:49","D",11001]
["Barsilay SAS","9003985226","2014-07-11T17:46:09","D",11001,9999,"NIT",null,null,null,null,null,null,null,null,null,null,null,null,null,null,null,null,null,null,null,null,null,null,null,null,null,null,null,null,null,null,null,null,null,null,null,null,null,null,null,null,"Barsilay SAS","9003985226","2014-07-11T17:46:09","D",11001]
["CONDOMINIO TURISTICO SANTA TERESITA","9003007404","2014-07-18T11:23:03","D",11001,9999,"NIT",null,null,null,null,null,null,null,null,null,null,null,null,null,null,null,null,null,null,null,null,null,null,null,null,null,null,null,null,null,null,null,null,null,null,null,null,null,null,null,null,"CONDOMINIO TURISTICO SANTA TERESITA","9003007404","2014-07-18T11:23:03","D",11001]
["Quimicos JM SA","8110314119","2014-07-21T18:27:02","D",11001,9999,"NIT",null,null,null,null,null,null,null,null,null,null,null,null,null,null,null,null,null,null,null,null,null,null,null,null,null,null,null,null,null,null,null,null,null,null,null,null,null,null,null,null,"Quimicos JM SA","8110314119","2014-07-21T18:27:02","D",11001]
["UPWARE SOFT SAS ","8300087757","2014-07-28T15:51:02","D",11001,9999,"NIT",null,null,null,null,null,null,null,null,null,null,null,null,null,null,null,null,null,null,null,null,null,null,null,null,null,null,null,null,null,null,null,null,null,null,null,null,null,null,null,null,"UPWARE SOFT SAS ","8300087757","2014-07-28T15:51:02","D",11001]
["Pasar Express S.A.","8002105566","2014-08-05T09:37:56","D",11001,9999,"NIT",null,null,null,null,null,null,null,null,null,null,null,null,null,null,null,null,null,null,null,null,null,null,null,null,null,null,null,null,null,null,null,null,null,null,null,null,null,null,null,null,"Pasar Express S.A.","8002105566","2014-08-05T09:37:56","D",11001]
["BBVA Colombia Leasing","8600030203","2014-08-06T14:51:06","D",11001,9999,"NIT",null,null,null,null,null,null,null,null,null,null,null,null,null,null,null,null,null,null,null,null,null,null,null,null,null,null,null,null,null,null,null,null,null,null,null,null,null,null,null,null,"BBVA Colombia Leasing","8600030203","2014-08-06T14:51:06","D",11001]
["Empresa de Acueducto Alcantarillado y Aseo de Zipaquira EAAAZ ","8000059009","2014-08-12T13:07:42","D",11001,9999,"NIT",null,null,null,null,null,null,null,null,null,null,null,null,null,null,null,null,null,null,null,null,null,null,null,null,null,null,null,null,null,null,null,null,null,null,null,null,null,null,null,null,"Empresa de Acueducto Alcantarillado y Aseo de Zipaquira EAAAZ ","8000059009","2014-08-12T13:07:42","D",11001]
["MINISTERIO DE TRANSPORTE","8999990554","2014-08-20T13:08:44","D",11001,9999,"NIT",null,null,null,null,null,null,null,null,null,null,null,null,null,null,null,null,null,null,null,null,null,null,null,null,null,null,null,null,null,null,null,null,null,null,null,null,null,null,null,null,"MINISTERIO DE TRANSPORTE","8999990554","2014-08-20T13:08:44","D",11001]
["Conjunto Residencial Torres de San Agustin","8300441016","2014-08-21T10:20:51","D",11001,9999,"NIT",null,null,null,null,null,null,null,null,null,null,null,null,null,null,null,null,null,null,null,null,null,null,null,null,null,null,null,null,null,null,null,null,null,null,null,null,null,null,null,null,"Conjunto Residencial Torres de San Agustin","8300441016","2014-08-21T10:20:51","D",11001]
["TERTULIA SAS","9006756555","2014-08-27T09:34:29","D",11001,9999,"NIT",null,null,null,null,null,null,null,null,null,null,null,null,null,null,null,null,null,null,null,null,null,null,null,null,null,null,null,null,null,null,null,null,null,null,null,null,null,null,null,null,"TERTULIA SAS","9006756555","2014-08-27T09:34:29","D",11001]
["Asociacion Obras Sociales en Beneficio de la Policia Nacional","8605227473","2014-09-03T16:24:20","D",11001,9999,"NIT",null,null,null,null,null,null,null,null,null,null,null,null,null,null,null,null,null,null,null,null,null,null,null,null,null,null,null,null,null,null,null,null,null,null,null,null,null,null,null,null,"Asociacion Obras Sociales en Beneficio de la Policia Nacional","8605227473","2014-09-03T16:24:20","D",11001]
["Funeraria para mascotas Funeravet SAS","9003666361","2014-09-03T16:33:55","D",11001,9999,"NIT",null,null,null,null,null,null,null,null,null,null,null,null,null,null,null,null,null,null,null,null,null,null,null,null,null,null,null,null,null,null,null,null,null,null,null,null,null,null,null,null,"Funeraria para mascotas Funeravet SAS","9003666361","2014-09-03T16:33:55","D",11001]
["Aguas de Barrancabermeja S.A E.S.P","9000454081","2014-09-09T07:17:23","D",11001,9999,"NIT",null,null,null,null,null,null,null,null,null,null,null,null,null,null,null,null,null,null,null,null,null,null,null,null,null,null,null,null,null,null,null,null,null,null,null,null,null,null,null,null,"Aguas de Barrancabermeja S.A E.S.P","9000454081","2014-09-09T07:17:23","D",11001]
["Inversiones Aler SAS","8909393535","2014-09-10T09:38:01","D",11001,9999,"NIT",null,null,null,null,null,null,null,null,null,null,null,null,null,null,null,null,null,null,null,null,null,null,null,null,null,null,null,null,null,null,null,null,null,null,null,null,null,null,null,null,"Inversiones Aler SAS","8909393535","2014-09-10T09:38:01","D",11001]
["Consorcio Industrial S.A","8909002900","2014-09-12T16:05:29","D",11001,9999,"NIT",null,null,null,null,null,null,null,null,null,null,null,null,null,null,null,null,null,null,null,null,null,null,null,null,null,null,null,null,null,null,null,null,null,null,null,null,null,null,null,null,"Consorcio Industrial S.A","8909002900","2014-09-12T16:05:29","D",11001]
["Fundacion Caminos de Libertad","8300391301","2014-09-17T14:57:53","D",11001,9999,"NIT",null,null,null,null,null,null,null,null,null,null,null,null,null,null,null,null,null,null,null,null,null,null,null,null,null,null,null,null,null,null,null,null,null,null,null,null,null,null,null,null,"Fundacion Caminos de Libertad","8300391301","2014-09-17T14:57:53","D",11001]
["Topiplast Ltda","9000915470","2014-09-19T13:28:27","D",11001,9999,"NIT",null,null,null,null,null,null,null,null,null,null,null,null,null,null,null,null,null,null,null,null,null,null,null,null,null,null,null,null,null,null,null,null,null,null,null,null,null,null,null,null,"Topiplast Ltda","9000915470","2014-09-19T13:28:27","D",11001]
["Physiotrauma SAS","9005929355","2014-09-24T06:42:37","D",11001,9999,"NIT",null,null,null,null,null,null,null,null,null,null,null,null,null,null,null,null,null,null,null,null,null,null,null,null,null,null,null,null,null,null,null,null,null,null,null,null,null,null,null,null,"Physiotrauma SAS","9005929355","2014-09-24T06:42:37","D",11001]
["Hospital en Casa S.A","8050063897","2014-09-30T15:21:58","D",11001,9999,"NIT",null,null,null,null,null,null,null,null,null,null,null,null,null,null,null,null,null,null,null,null,null,null,null,null,null,null,null,null,null,null,null,null,null,null,null,null,null,null,null,null,"Hospital en Casa S.A","8050063897","2014-09-30T15:21:58","D",11001]
["COSMOAGRO S.A","8913048186","2014-10-02T14:01:37","D",11001,9999,"NIT",null,null,null,null,null,null,null,null,null,null,null,null,null,null,null,null,null,null,null,null,null,null,null,null,null,null,null,null,null,null,null,null,null,null,null,null,null,null,null,null,"COSMOAGRO S.A","8913048186","2014-10-02T14:01:37","D",11001]
["Imaginamos SAS","9001284940","2014-10-06T09:57:17","D",11001,9999,"NIT",null,null,null,null,null,null,null,null,null,null,null,null,null,null,null,null,null,null,null,null,null,null,null,null,null,null,null,null,null,null,null,null,null,null,null,null,null,null,null,null,"Imaginamos SAS","9001284940","2014-10-06T09:57:17","D",11001]
["Conjunto Residencial Balcones de Cataluña","9000127960","2014-10-09T13:54:31","D",11001,9999,"NIT",null,null,null,null,null,null,null,null,null,null,null,null,null,null,null,null,null,null,null,null,null,null,null,null,null,null,null,null,null,null,null,null,null,null,null,null,null,null,null,null,"Conjunto Residencial Balcones de Cataluña","9000127960","2014-10-09T13:54:31","D",11001]
["Fundacion Fosunab","9003307520","2014-10-18T07:52:19","D",11001,9999,"NIT",null,null,null,null,null,null,null,null,null,null,null,null,null,null,null,null,null,null,null,null,null,null,null,null,null,null,null,null,null,null,null,null,null,null,null,null,null,null,null,null,"Fundacion Fosunab","9003307520","2014-10-18T07:52:19","D",11001]
["Cooperativa del Sector Editorial COOPSABER","800012733","2014-10-20T13:51:03","D",11001,9999,"NIT",null,null,null,null,null,null,null,null,null,null,null,null,null,null,null,null,null,null,null,null,null,null,null,null,null,null,null,null,null,null,null,null,null,null,null,null,null,null,null,null,"Cooperativa del Sector Editorial COOPSABER","800012733","2014-10-20T13:51:03","D",11001]
["Electronica AVS S.A.S","8110465595","2014-10-23T17:41:27","D",11001,9999,"NIT",null,null,null,null,null,null,null,null,null,null,null,null,null,null,null,null,null,null,null,null,null,null,null,null,null,null,null,null,null,null,null,null,null,null,null,null,null,null,null,null,"Electronica AVS S.A.S","8110465595","2014-10-23T17:41:27","D",11001]
["FONAVIEMCALI","8903110068","2014-10-23T18:06:54","D",11001,9999,"NIT",null,null,null,null,null,null,null,null,null,null,null,null,null,null,null,null,null,null,null,null,null,null,null,null,null,null,null,null,null,null,null,null,null,null,null,null,null,null,null,null,"FONAVIEMCALI","8903110068","2014-10-23T18:06:54","D",11001]
["Esthetic Work Laboratorio SAS","830127596","2014-10-29T10:42:10","D",11001,9999,"NIT",null,null,null,null,null,null,null,null,null,null,null,null,null,null,null,null,null,null,null,null,null,null,null,null,null,null,null,null,null,null,null,null,null,null,null,null,null,null,null,null,"Esthetic Work Laboratorio SAS","830127596","2014-10-29T10:42:10","D",11001]
["En Cahsa S.A.S","900635492","2014-10-31T19:26:11","D",11001,9999,"NIT",null,null,null,null,null,null,null,null,null,null,null,null,null,null,null,null,null,null,null,null,null,null,null,null,null,null,null,null,null,null,null,null,null,null,null,null,null,null,null,null,"En Cahsa S.A.S","900635492","2014-10-31T19:26:11","D",11001]
["Corporacion Club Campestre Farallones","8903052242","2014-11-05T17:46:38","D",11001,9999,"NIT",null,null,null,null,null,null,null,null,null,null,null,null,null,null,null,null,null,null,null,null,null,null,null,null,null,null,null,null,null,null,null,null,null,null,null,null,null,null,null,null,"Corporacion Club Campestre Farallones","8903052242","2014-11-05T17:46:38","D",11001]
["Fundacion Fitsos","9000655424","2014-11-11T12:29:45","D",11001,9999,"NIT",null,null,null,null,null,null,null,null,null,null,null,null,null,null,null,null,null,null,null,null,null,null,null,null,null,null,null,null,null,null,null,null,null,null,null,null,null,null,null,null,"Fundacion Fitsos","9000655424","2014-11-11T12:29:45","D",11001]
["Urbarnizacion San Esteban de la Concha PH","800160337","2014-11-13T14:32:26","D",11001,9999,"NIT",null,null,null,null,null,null,null,null,null,null,null,null,null,null,null,null,null,null,null,null,null,null,null,null,null,null,null,null,null,null,null,null,null,null,null,null,null,null,null,null,"Urbarnizacion San Esteban de la Concha PH","800160337","2014-11-13T14:32:26","D",11001]
["The Dream Paper Company S.A.S","9004822632","2014-11-19T13:29:12","D",11001,9999,"NIT",null,null,null,null,null,null,null,null,null,null,null,null,null,null,null,null,null,null,null,null,null,null,null,null,null,null,null,null,null,null,null,null,null,null,null,null,null,null,null,null,"The Dream Paper Company S.A.S","9004822632","2014-11-19T13:29:12","D",11001]
["La hipotecaria de Colombia S.A","9001979448","2014-11-24T08:44:25","D",11001,9999,"NIT",null,null,null,null,null,null,null,null,null,null,null,null,null,null,null,null,null,null,null,null,null,null,null,null,null,null,null,null,null,null,null,null,null,null,null,null,null,null,null,null,"La hipotecaria de Colombia S.A","9001979448","2014-11-24T08:44:25","D",11001]
["Cubicar Grupo Inmobiliario Ltda","8305120481","2014-11-28T16:51:11","D",11001,9999,"NIT",null,null,null,null,null,null,null,null,null,null,null,null,null,null,null,null,null,null,null,null,null,null,null,null,null,null,null,null,null,null,null,null,null,null,null,null,null,null,null,null,"Cubicar Grupo Inmobiliario Ltda","8305120481","2014-11-28T16:51:11","D",11001]
["Austral Lens Colombia SAS","9004001357","2014-12-02T13:37:17","D",11001,9999,"NIT",null,null,null,null,null,null,null,null,null,null,null,null,null,null,null,null,null,null,null,null,null,null,null,null,null,null,null,null,null,null,null,null,null,null,null,null,null,null,null,null,"Austral Lens Colombia SAS","9004001357","2014-12-02T13:37:17","D",11001]
["Iglesia Presbiteriana Central de Bucaramanga Torre Fuerte","8902034455","2014-12-04T14:17:57","D",11001,9999,"NIT",null,null,null,null,null,null,null,null,null,null,null,null,null,null,null,null,null,null,null,null,null,null,null,null,null,null,null,null,null,null,null,null,null,null,null,null,null,null,null,null,"Iglesia Presbiteriana Central de Bucaramanga Torre Fuerte","8902034455","2014-12-04T14:17:57","D",11001]
["Hapag Lloyd Colombia Ltda","9002980430","2014-12-05T17:39:42","D",11001,9999,"NIT",null,null,null,null,null,null,null,null,null,null,null,null,null,null,null,null,null,null,null,null,null,null,null,null,null,null,null,null,null,null,null,null,null,null,null,null,null,null,null,null,"Hapag Lloyd Colombia Ltda","9002980430","2014-12-05T17:39:42","D",11001]
["Travel.com SAS","9005006063","2014-12-10T11:21:50","D",11001,9999,"NIT",null,null,null,null,null,null,null,null,null,null,null,null,null,null,null,null,null,null,null,null,null,null,null,null,null,null,null,null,null,null,null,null,null,null,null,null,null,null,null,null,"Travel.com SAS","9005006063","2014-12-10T11:21:50","D",11001]
["Conjunto Residencial Saman","900775117","2014-12-15T09:34:35","D",11001,9999,"NIT",null,null,null,null,null,null,null,null,null,null,null,null,null,null,null,null,null,null,null,null,null,null,null,null,null,null,null,null,null,null,null,null,null,null,null,null,null,null,null,null,"Conjunto Residencial Saman","900775117","2014-12-15T09:34:35","D",11001]
["Autofinanciera Colombia SA","8600304121","2014-12-15T17:39:48","D",11001,9999,"NIT",null,null,null,null,null,null,null,null,null,null,null,null,null,null,null,null,null,null,null,null,null,null,null,null,null,null,null,null,null,null,null,null,null,null,null,null,null,null,null,null,"Autofinanciera Colombia SA","8600304121","2014-12-15T17:39:48","D",11001]
["Hermanas de la Caridad del Cardenal Sancha","8600091128","2014-12-18T13:25:04","D",11001,9999,"NIT",null,null,null,null,null,null,null,null,null,null,null,null,null,null,null,null,null,null,null,null,null,null,null,null,null,null,null,null,null,null,null,null,null,null,null,null,null,null,null,null,"Hermanas de la Caridad del Cardenal Sancha","8600091128","2014-12-18T13:25:04","D",11001]
["Cristian Lay - Colombia SA","9002995934","2014-12-23T10:18:11","D",11001,9999,"NIT",null,null,null,null,null,null,null,null,null,null,null,null,null,null,null,null,null,null,null,null,null,null,null,null,null,null,null,null,null,null,null,null,null,null,null,null,null,null,null,null,"Cristian Lay - Colombia SA","9002995934","2014-12-23T10:18:11","D",11001]
["Cooperativa Multiactiva de Empleados de Colgate Palmolive","8903013101","2014-12-26T10:31:14","D",11001,9999,"NIT",null,null,null,null,null,null,null,null,null,null,null,null,null,null,null,null,null,null,null,null,null,null,null,null,null,null,null,null,null,null,null,null,null,null,null,null,null,null,null,null,"Cooperativa Multiactiva de Empleados de Colgate Palmolive","8903013101","2014-12-26T10:31:14","D",11001]
["Su Propiedad Inmobiliaria Aristizabal y Cia S en C","9002087838","2015-01-02T15:38:33","D",11001,9999,"NIT",null,null,null,null,null,null,null,null,null,null,null,null,null,null,null,null,null,null,null,null,null,null,null,null,null,null,null,null,null,null,null,null,null,null,null,null,null,null,null,null,"Su Propiedad Inmobiliaria Aristizabal y Cia S en C","9002087838","2015-01-02T15:38:33","D",11001]
["Maka Comercial  SAS","900610383","2015-01-09T18:52:00","D",11001,9999,"NIT",null,null,null,null,null,null,null,null,null,null,null,null,null,null,null,null,null,null,null,null,null,null,null,null,null,null,null,null,null,null,null,null,null,null,null,null,null,null,null,null,"Maka Comercial  SAS","900610383","2015-01-09T18:52:00","D",11001]
["Hernan Dario  Eusse  Salazar","12961222","2015-01-14T16:35:58","D",11001,9999,"NIT",null,null,null,null,null,null,null,null,null,null,null,null,null,null,null,null,null,null,null,null,null,null,null,null,null,null,null,null,null,null,null,null,null,null,null,null,null,null,null,null,"Hernan Dario  Eusse  Salazar","12961222","2015-01-14T16:35:58","D",11001]
["Bbl Ventas por Catalogo SAS","9004633837","2015-01-16T08:41:43","D",11001,9999,"NIT",null,null,null,null,null,null,null,null,null,null,null,null,null,null,null,null,null,null,null,null,null,null,null,null,null,null,null,null,null,null,null,null,null,null,null,null,null,null,null,null,"Bbl Ventas por Catalogo SAS","9004633837","2015-01-16T08:41:43","D",11001]
["Diego Damian Valdivieso Pinilla","80876160","2015-01-29T11:25:31","D",11001,9999,"NIT",null,null,null,null,null,null,null,null,null,null,null,null,null,null,null,null,null,null,null,null,null,null,null,null,null,null,null,null,null,null,null,null,null,null,null,null,null,null,null,null,"Diego Damian Valdivieso Pinilla","80876160","2015-01-29T11:25:31","D",11001]
["Municipio de Galapa","8901024720","2015-02-04T16:35:48","D",11001,9999,"NIT",null,null,null,null,null,null,null,null,null,null,null,null,null,null,null,null,null,null,null,null,null,null,null,null,null,null,null,null,null,null,null,null,null,null,null,null,null,null,null,null,"Municipio de Galapa","8901024720","2015-02-04T16:35:48","D",11001]
["Impexo SAS","9006441322","2015-02-09T11:34:17","D",11001,9999,"NIT",null,null,null,null,null,null,null,null,null,null,null,null,null,null,null,null,null,null,null,null,null,null,null,null,null,null,null,null,null,null,null,null,null,null,null,null,null,null,null,null,"Impexo SAS","9006441322","2015-02-09T11:34:17","D",11001]
["Logyca  Servicios S.A.S","9006264021","2015-02-17T12:31:42","D",11001,9999,"NIT",null,null,null,null,null,null,null,null,null,null,null,null,null,null,null,null,null,null,null,null,null,null,null,null,null,null,null,null,null,null,null,null,null,null,null,null,null,null,null,null,"Logyca  Servicios S.A.S","9006264021","2015-02-17T12:31:42","D",11001]
["Municipio de Palmira","8913800073","2015-02-18T11:28:31","D",11001,9999,"NIT",null,null,null,null,null,null,null,null,null,null,null,null,null,null,null,null,null,null,null,null,null,null,null,null,null,null,null,null,null,null,null,null,null,null,null,null,null,null,null,null,"Municipio de Palmira","8913800073","2015-02-18T11:28:31","D",11001]
["Agrupacion Residencial San Sebastian","830135134","2015-02-25T08:07:33","D",11001,9999,"NIT",null,null,null,null,null,null,null,null,null,null,null,null,null,null,null,null,null,null,null,null,null,null,null,null,null,null,null,null,null,null,null,null,null,null,null,null,null,null,null,null,"Agrupacion Residencial San Sebastian","830135134","2015-02-25T08:07:33","D",11001]
["Supercerdo Paisa S.A.S.","9004233796","2015-03-02T13:20:07","D",11001,9999,"NIT",null,null,null,null,null,null,null,null,null,null,null,null,null,null,null,null,null,null,null,null,null,null,null,null,null,null,null,null,null,null,null,null,null,null,null,null,null,null,null,null,"Supercerdo Paisa S.A.S.","9004233796","2015-03-02T13:20:07","D",11001]
["Fundacion El Cottolengo Del Padre Ocampo","8903073977","2015-03-03T12:27:09","D",11001,9999,"NIT",null,null,null,null,null,null,null,null,null,null,null,null,null,null,null,null,null,null,null,null,null,null,null,null,null,null,null,null,null,null,null,null,null,null,null,null,null,null,null,null,"Fundacion El Cottolengo Del Padre Ocampo","8903073977","2015-03-03T12:27:09","D",11001]
["Fundacion los Guayacanes Colombia","9006283987","2015-03-10T12:59:25","D",11001,9999,"NIT",null,null,null,null,null,null,null,null,null,null,null,null,null,null,null,null,null,null,null,null,null,null,null,null,null,null,null,null,null,null,null,null,null,null,null,null,null,null,null,null,"Fundacion los Guayacanes Colombia","9006283987","2015-03-10T12:59:25","D",11001]
["Piel Farmaceutica Especializada  S.A","9001614846","2015-03-12T12:59:16","D",11001,9999,"NIT",null,null,null,null,null,null,null,null,null,null,null,null,null,null,null,null,null,null,null,null,null,null,null,null,null,null,null,null,null,null,null,null,null,null,null,null,null,null,null,null,"Piel Farmaceutica Especializada  S.A","9001614846","2015-03-12T12:59:16","D",11001]
["Edificio San Lucas 106 PH","900798560","2015-03-16T14:51:03","D",11001,9999,"NIT",null,null,null,null,null,null,null,null,null,null,null,null,null,null,null,null,null,null,null,null,null,null,null,null,null,null,null,null,null,null,null,null,null,null,null,null,null,null,null,null,"Edificio San Lucas 106 PH","900798560","2015-03-16T14:51:03","D",11001]
["Negocios Estrategicos Globales SAS","900640546","2015-03-18T08:58:20","D",11001,9999,"NIT",null,null,null,null,null,null,null,null,null,null,null,null,null,null,null,null,null,null,null,null,null,null,null,null,null,null,null,null,null,null,null,null,null,null,null,null,null,null,null,null,"Negocios Estrategicos Globales SAS","900640546","2015-03-18T08:58:20","D",11001]
["Escuela Aeronautica de Colombia LTDA","8301453514","2015-03-19T16:38:34","D",11001,9999,"NIT",null,null,null,null,null,null,null,null,null,null,null,null,null,null,null,null,null,null,null,null,null,null,null,null,null,null,null,null,null,null,null,null,null,null,null,null,null,null,null,null,"Escuela Aeronautica de Colombia LTDA","8301453514","2015-03-19T16:38:34","D",11001]
["Linktic SAS","9000377439","2015-03-24T15:10:05","D",11001,9999,"NIT",null,null,null,null,null,null,null,null,null,null,null,null,null,null,null,null,null,null,null,null,null,null,null,null,null,null,null,null,null,null,null,null,null,null,null,null,null,null,null,null,"Linktic SAS","9000377439","2015-03-24T15:10:05","D",11001]
["Municipio  De Madrid","8999993258","2015-03-27T16:00:04","D",11001,9999,"NIT",null,null,null,null,null,null,null,null,null,null,null,null,null,null,null,null,null,null,null,null,null,null,null,null,null,null,null,null,null,null,null,null,null,null,null,null,null,null,null,null,"Municipio  De Madrid","8999993258","2015-03-27T16:00:04","D",11001]
["Transportes Navieros de Colombia Ltda","8002369088","2015-04-08T11:54:43","D",11001,9999,"NIT",null,null,null,null,null,null,null,null,null,null,null,null,null,null,null,null,null,null,null,null,null,null,null,null,null,null,null,null,null,null,null,null,null,null,null,null,null,null,null,null,"Transportes Navieros de Colombia Ltda","8002369088","2015-04-08T11:54:43","D",11001]
["Grupo Vivell  SAS","9007088831","2015-04-10T09:51:33","D",11001,9999,"NIT",null,null,null,null,null,null,null,null,null,null,null,null,null,null,null,null,null,null,null,null,null,null,null,null,null,null,null,null,null,null,null,null,null,null,null,null,null,null,null,null,"Grupo Vivell  SAS","9007088831","2015-04-10T09:51:33","D",11001]
["Pagadigital Latam S.A.S","9007477808","2015-04-15T13:23:30","D",11001,9999,"NIT",null,null,null,null,null,null,null,null,null,null,null,null,null,null,null,null,null,null,null,null,null,null,null,null,null,null,null,null,null,null,null,null,null,null,null,null,null,null,null,null,"Pagadigital Latam S.A.S","9007477808","2015-04-15T13:23:30","D",11001]
["Fundacion Centro de Apoyo para la Felicidad Cafe","8110262477","2015-04-16T09:49:37","D",11001,9999,"NIT",null,null,null,null,null,null,null,null,null,null,null,null,null,null,null,null,null,null,null,null,null,null,null,null,null,null,null,null,null,null,null,null,null,null,null,null,null,null,null,null,"Fundacion Centro de Apoyo para la Felicidad Cafe","8110262477","2015-04-16T09:49:37","D",11001]
["Tecniviajes Lalianxa SAS","8605266892","2015-04-21T12:45:20","D",11001,9999,"NIT",null,null,null,null,null,null,null,null,null,null,null,null,null,null,null,null,null,null,null,null,null,null,null,null,null,null,null,null,null,null,null,null,null,null,null,null,null,null,null,null,"Tecniviajes Lalianxa SAS","8605266892","2015-04-21T12:45:20","D",11001]
["Gas Zipa SA ESP","8600260709","2015-04-27T08:47:10","D",11001,9999,"NIT",null,null,null,null,null,null,null,null,null,null,null,null,null,null,null,null,null,null,null,null,null,null,null,null,null,null,null,null,null,null,null,null,null,null,null,null,null,null,null,null,"Gas Zipa SA ESP","8600260709","2015-04-27T08:47:10","D",11001]
["Neurofharma Global SAS","9004358695","2015-04-29T09:44:23","D",11001,9999,"NIT",null,null,null,null,null,null,null,null,null,null,null,null,null,null,null,null,null,null,null,null,null,null,null,null,null,null,null,null,null,null,null,null,null,null,null,null,null,null,null,null,"Neurofharma Global SAS","9004358695","2015-04-29T09:44:23","D",11001]
["Industrias Goyaincol LTDA","8300854972","2015-04-30T16:57:32","D",11001,9999,"NIT",null,null,null,null,null,null,null,null,null,null,null,null,null,null,null,null,null,null,null,null,null,null,null,null,null,null,null,null,null,null,null,null,null,null,null,null,null,null,null,null,"Industrias Goyaincol LTDA","8300854972","2015-04-30T16:57:32","D",11001]
["CA Credifinanciera SA","9001682311","2015-05-08T09:44:27","D",11001,9999,"NIT",null,null,null,null,null,null,null,null,null,null,null,null,null,null,null,null,null,null,null,null,null,null,null,null,null,null,null,null,null,null,null,null,null,null,null,null,null,null,null,null,"CA Credifinanciera SA","9001682311","2015-05-08T09:44:27","D",11001]
["Corporacion Tecnologica Indoamerica","9002436741","2015-05-08T16:29:49","D",11001,9999,"NIT",null,null,null,null,null,null,null,null,null,null,null,null,null,null,null,null,null,null,null,null,null,null,null,null,null,null,null,null,null,null,null,null,null,null,null,null,null,null,null,null,"Corporacion Tecnologica Indoamerica","9002436741","2015-05-08T16:29:49","D",11001]
["Caralz LTDA","8110244141","2015-05-11T14:25:15","D",11001,9999,"NIT",null,null,null,null,null,null,null,null,null,null,null,null,null,null,null,null,null,null,null,null,null,null,null,null,null,null,null,null,null,null,null,null,null,null,null,null,null,null,null,null,"Caralz LTDA","8110244141","2015-05-11T14:25:15","D",11001]
["Turismo en Medellin  y Viajes y Turismo Globo SAS","9005333924","2015-05-19T11:36:45","D",11001,9999,"NIT",null,null,null,null,null,null,null,null,null,null,null,null,null,null,null,null,null,null,null,null,null,null,null,null,null,null,null,null,null,null,null,null,null,null,null,null,null,null,null,null,"Turismo en Medellin  y Viajes y Turismo Globo SAS","9005333924","2015-05-19T11:36:45","D",11001]
["Irotama SAS","8917006124","2015-05-21T17:42:36","D",11001,9999,"NIT",null,null,null,null,null,null,null,null,null,null,null,null,null,null,null,null,null,null,null,null,null,null,null,null,null,null,null,null,null,null,null,null,null,null,null,null,null,null,null,null,"Irotama SAS","8917006124","2015-05-21T17:42:36","D",11001]
["ASOPAX","9003775867","2015-05-25T08:37:52","D",11001,9999,"NIT",null,null,null,null,null,null,null,null,null,null,null,null,null,null,null,null,null,null,null,null,null,null,null,null,null,null,null,null,null,null,null,null,null,null,null,null,null,null,null,null,"ASOPAX","9003775867","2015-05-25T08:37:52","D",11001]
["Caja De Prevision Social Municipal de Bucaramanga","8902048517","2015-05-27T13:25:24","D",11001,9999,"NIT",null,null,null,null,null,null,null,null,null,null,null,null,null,null,null,null,null,null,null,null,null,null,null,null,null,null,null,null,null,null,null,null,null,null,null,null,null,null,null,null,"Caja De Prevision Social Municipal de Bucaramanga","8902048517","2015-05-27T13:25:24","D",11001]
["IEC Logistics","900726220","2015-05-27T13:37:02","D",11001,9999,"NIT",null,null,null,null,null,null,null,null,null,null,null,null,null,null,null,null,null,null,null,null,null,null,null,null,null,null,null,null,null,null,null,null,null,null,null,null,null,null,null,null,"IEC Logistics","900726220","2015-05-27T13:37:02","D",11001]
["Globo Inmobiliario SAS","900456428","2015-06-01T09:53:08","D",11001,9999,"NIT",null,null,null,null,null,null,null,null,null,null,null,null,null,null,null,null,null,null,null,null,null,null,null,null,null,null,null,null,null,null,null,null,null,null,null,null,null,null,null,null,"Globo Inmobiliario SAS","900456428","2015-06-01T09:53:08","D",11001]
["Corporacion por un Sueño","9007249013","2015-06-02T15:47:25","D",11001,9999,"NIT",null,null,null,null,null,null,null,null,null,null,null,null,null,null,null,null,null,null,null,null,null,null,null,null,null,null,null,null,null,null,null,null,null,null,null,null,null,null,null,null,"Corporacion por un Sueño","9007249013","2015-06-02T15:47:25","D",11001]
["Coop de Transportadores Velotax","8907001896","2015-06-05T15:01:01","D",11001,9999,"NIT",null,null,null,null,null,null,null,null,null,null,null,null,null,null,null,null,null,null,null,null,null,null,null,null,null,null,null,null,null,null,null,null,null,null,null,null,null,null,null,null,"Coop de Transportadores Velotax","8907001896","2015-06-05T15:01:01","D",11001]
["Orbe SA Construcciones","800182895","2015-06-11T14:51:11","D",11001,9999,"NIT",null,null,null,null,null,null,null,null,null,null,null,null,null,null,null,null,null,null,null,null,null,null,null,null,null,null,null,null,null,null,null,null,null,null,null,null,null,null,null,null,"Orbe SA Construcciones","800182895","2015-06-11T14:51:11","D",11001]
["Sociedad Clinica Machicado SAS","9002629682","2015-06-17T17:08:25","D",11001,9999,"NIT",null,null,null,null,null,null,null,null,null,null,null,null,null,null,null,null,null,null,null,null,null,null,null,null,null,null,null,null,null,null,null,null,null,null,null,null,null,null,null,null,"Sociedad Clinica Machicado SAS","9002629682","2015-06-17T17:08:25","D",11001]
["Constructora Monserrate SAS","890942766","2015-06-25T07:25:22","D",11001,9999,"NIT",null,null,null,null,null,null,null,null,null,null,null,null,null,null,null,null,null,null,null,null,null,null,null,null,null,null,null,null,null,null,null,null,null,null,null,null,null,null,null,null,"Constructora Monserrate SAS","890942766","2015-06-25T07:25:22","D",11001]
["B&C COMERCIALIZADORA SAS","9002949468","2015-06-30T14:43:51","D",11001,9999,"NIT",null,null,null,null,null,null,null,null,null,null,null,null,null,null,null,null,null,null,null,null,null,null,null,null,null,null,null,null,null,null,null,null,null,null,null,null,null,null,null,null,"B&C COMERCIALIZADORA SAS","9002949468","2015-06-30T14:43:51","D",11001]
["Cooperativa Multiactiva Unidos","800215989","2015-07-02T08:46:22","D",11001,9999,"NIT",null,null,null,null,null,null,null,null,null,null,null,null,null,null,null,null,null,null,null,null,null,null,null,null,null,null,null,null,null,null,null,null,null,null,null,null,null,null,null,null,"Cooperativa Multiactiva Unidos","800215989","2015-07-02T08:46:22","D",11001]
["Politecnico Ciandco Bello S.A.","9007301718","2015-07-02T12:35:10","D",11001,9999,"NIT",null,null,null,null,null,null,null,null,null,null,null,null,null,null,null,null,null,null,null,null,null,null,null,null,null,null,null,null,null,null,null,null,null,null,null,null,null,null,null,null,"Politecnico Ciandco Bello S.A.","9007301718","2015-07-02T12:35:10","D",11001]
["Insetur de Colombia SAS","900464898","2015-07-06T16:06:41","D",11001,9999,"NIT",null,null,null,null,null,null,null,null,null,null,null,null,null,null,null,null,null,null,null,null,null,null,null,null,null,null,null,null,null,null,null,null,null,null,null,null,null,null,null,null,"Insetur de Colombia SAS","900464898","2015-07-06T16:06:41","D",11001]
["Promotora de Proyectos de la Sabana SAS","900307868","2015-07-10T16:09:27","D",11001,9999,"NIT",null,null,null,null,null,null,null,null,null,null,null,null,null,null,null,null,null,null,null,null,null,null,null,null,null,null,null,null,null,null,null,null,null,null,null,null,null,null,null,null,"Promotora de Proyectos de la Sabana SAS","900307868","2015-07-10T16:09:27","D",11001]
["Coopcarvajal","8903006346","2015-07-13T18:22:25","D",11001,9999,"NIT",null,null,null,null,null,null,null,null,null,null,null,null,null,null,null,null,null,null,null,null,null,null,null,null,null,null,null,null,null,null,null,null,null,null,null,null,null,null,null,null,"Coopcarvajal","8903006346","2015-07-13T18:22:25","D",11001]
["Edificio Balmoral","8002449431","2015-07-15T16:53:09","D",11001,9999,"NIT",null,null,null,null,null,null,null,null,null,null,null,null,null,null,null,null,null,null,null,null,null,null,null,null,null,null,null,null,null,null,null,null,null,null,null,null,null,null,null,null,"Edificio Balmoral","8002449431","2015-07-15T16:53:09","D",11001]
["Cruz Roja Colombiana seccional Atlantico","890102064","2015-07-17T07:42:00","D",11001,9999,"NIT",null,null,null,null,null,null,null,null,null,null,null,null,null,null,null,null,null,null,null,null,null,null,null,null,null,null,null,null,null,null,null,null,null,null,null,null,null,null,null,null,"Cruz Roja Colombiana seccional Atlantico","890102064","2015-07-17T07:42:00","D",11001]
["Sociedad Educativa Colbosques SAS","900395536","2015-07-23T16:57:41","D",11001,9999,"NIT",null,null,null,null,null,null,null,null,null,null,null,null,null,null,null,null,null,null,null,null,null,null,null,null,null,null,null,null,null,null,null,null,null,null,null,null,null,null,null,null,"Sociedad Educativa Colbosques SAS","900395536","2015-07-23T16:57:41","D",11001]
["Pquim SAS","8001625538","2015-07-24T18:33:30","D",11001,9999,"NIT",null,null,null,null,null,null,null,null,null,null,null,null,null,null,null,null,null,null,null,null,null,null,null,null,null,null,null,null,null,null,null,null,null,null,null,null,null,null,null,null,"Pquim SAS","8001625538","2015-07-24T18:33:30","D",11001]
["Inversiones Maldonado Arteaga SAS","9007571779","2015-07-29T12:47:09","D",11001,9999,"NIT",null,null,null,null,null,null,null,null,null,null,null,null,null,null,null,null,null,null,null,null,null,null,null,null,null,null,null,null,null,null,null,null,null,null,null,null,null,null,null,null,"Inversiones Maldonado Arteaga SAS","9007571779","2015-07-29T12:47:09","D",11001]
["Promedco","900661668","2015-08-04T14:39:23","D",11001,9999,"NIT",null,null,null,null,null,null,null,null,null,null,null,null,null,null,null,null,null,null,null,null,null,null,null,null,null,null,null,null,null,null,null,null,null,null,null,null,null,null,null,null,"Promedco","900661668","2015-08-04T14:39:23","D",11001]
["Be Fast SAS","9008578435","2015-08-11T14:00:08","D",11001,9999,"NIT",null,null,null,null,null,null,null,null,null,null,null,null,null,null,null,null,null,null,null,null,null,null,null,null,null,null,null,null,null,null,null,null,null,null,null,null,null,null,null,null,"Be Fast SAS","9008578435","2015-08-11T14:00:08","D",11001]
["METRO JUNIOR´S SAS","8300924538","2015-08-12T10:17:16","D",11001,9999,"NIT",null,null,null,null,null,null,null,null,null,null,null,null,null,null,null,null,null,null,null,null,null,null,null,null,null,null,null,null,null,null,null,null,null,null,null,null,null,null,null,null,"METRO JUNIOR´S SAS","8300924538","2015-08-12T10:17:16","D",11001]
["Continental de Abrasivos SAS","800166115","2015-08-18T07:52:23","D",11001,9999,"NIT",null,null,null,null,null,null,null,null,null,null,null,null,null,null,null,null,null,null,null,null,null,null,null,null,null,null,null,null,null,null,null,null,null,null,null,null,null,null,null,null,"Continental de Abrasivos SAS","800166115","2015-08-18T07:52:23","D",11001]
["Inmobiliaria C V AS Limitada","830053193","2015-08-21T13:52:37","D",11001,9999,"NIT",null,null,null,null,null,null,null,null,null,null,null,null,null,null,null,null,null,null,null,null,null,null,null,null,null,null,null,null,null,null,null,null,null,null,null,null,null,null,null,null,"Inmobiliaria C V AS Limitada","830053193","2015-08-21T13:52:37","D",11001]
["Student Exchange Programs (SEP) Colombia SAS","9004345886","2015-08-24T14:58:59","D",11001,9999,"NIT",null,null,null,null,null,null,null,null,null,null,null,null,null,null,null,null,null,null,null,null,null,null,null,null,null,null,null,null,null,null,null,null,null,null,null,null,null,null,null,null,"Student Exchange Programs (SEP) Colombia SAS","9004345886","2015-08-24T14:58:59","D",11001]
["Sol Parts Distribuidora LTDA","9002719680","2015-08-27T15:06:19","D",11001,9999,"NIT",null,null,null,null,null,null,null,null,null,null,null,null,null,null,null,null,null,null,null,null,null,null,null,null,null,null,null,null,null,null,null,null,null,null,null,null,null,null,null,null,"Sol Parts Distribuidora LTDA","9002719680","2015-08-27T15:06:19","D",11001]
["Transportadora del Meta SAS","8220066055","2015-09-02T15:23:34","D",11001,9999,"NIT",null,null,null,null,null,null,null,null,null,null,null,null,null,null,null,null,null,null,null,null,null,null,null,null,null,null,null,null,null,null,null,null,null,null,null,null,null,null,null,null,"Transportadora del Meta SAS","8220066055","2015-09-02T15:23:34","D",11001]
["Colegio Britanico de Cartagena SAS","9008432435","2015-09-02T15:46:37","D",11001,9999,"NIT",null,null,null,null,null,null,null,null,null,null,null,null,null,null,null,null,null,null,null,null,null,null,null,null,null,null,null,null,null,null,null,null,null,null,null,null,null,null,null,null,"Colegio Britanico de Cartagena SAS","9008432435","2015-09-02T15:46:37","D",11001]
["Sociedad Pedagogica Del Cauca SAS","800096573","2015-09-05T14:26:30","D",11001,9999,"NIT",null,null,null,null,null,null,null,null,null,null,null,null,null,null,null,null,null,null,null,null,null,null,null,null,null,null,null,null,null,null,null,null,null,null,null,null,null,null,null,null,"Sociedad Pedagogica Del Cauca SAS","800096573","2015-09-05T14:26:30","D",11001]
["Fundacion Julio Ernesto Urrea","811042659","2015-09-07T10:54:46","D",11001,9999,"NIT",null,null,null,null,null,null,null,null,null,null,null,null,null,null,null,null,null,null,null,null,null,null,null,null,null,null,null,null,null,null,null,null,null,null,null,null,null,null,null,null,"Fundacion Julio Ernesto Urrea","811042659","2015-09-07T10:54:46","D",11001]
["Gobernacion de Sucre","8922800211","2015-09-09T14:46:18","D",11001,9999,"NIT",null,null,null,null,null,null,null,null,null,null,null,null,null,null,null,null,null,null,null,null,null,null,null,null,null,null,null,null,null,null,null,null,null,null,null,null,null,null,null,null,"Gobernacion de Sucre","8922800211","2015-09-09T14:46:18","D",11001]
["Ci Alliance Group SAS","9005873048","2015-09-15T09:21:03","D",11001,9999,"NIT",null,null,null,null,null,null,null,null,null,null,null,null,null,null,null,null,null,null,null,null,null,null,null,null,null,null,null,null,null,null,null,null,null,null,null,null,null,null,null,null,"Ci Alliance Group SAS","9005873048","2015-09-15T09:21:03","D",11001]
["Asociacion de padres de Familia del Colegio Los Nogales","8300205119","2015-09-16T12:32:37","D",11001,9999,"NIT",null,null,null,null,null,null,null,null,null,null,null,null,null,null,null,null,null,null,null,null,null,null,null,null,null,null,null,null,null,null,null,null,null,null,null,null,null,null,null,null,"Asociacion de padres de Familia del Colegio Los Nogales","8300205119","2015-09-16T12:32:37","D",11001]
["Pic Colombia SA","8002042266","2015-09-22T17:47:58","D",11001,9999,"NIT",null,null,null,null,null,null,null,null,null,null,null,null,null,null,null,null,null,null,null,null,null,null,null,null,null,null,null,null,null,null,null,null,null,null,null,null,null,null,null,null,"Pic Colombia SA","8002042266","2015-09-22T17:47:58","D",11001]
["Multiventas Colombia Propiedad Horizontal SAS","830137261","2015-09-29T17:17:16","D",11001,9999,"NIT",null,null,null,null,null,null,null,null,null,null,null,null,null,null,null,null,null,null,null,null,null,null,null,null,null,null,null,null,null,null,null,null,null,null,null,null,null,null,null,null,"Multiventas Colombia Propiedad Horizontal SAS","830137261","2015-09-29T17:17:16","D",11001]
["Camila Toro Trujillo","1053798894","2015-10-02T09:20:48","D",11001,9999,"NIT",null,null,null,null,null,null,null,null,null,null,null,null,null,null,null,null,null,null,null,null,null,null,null,null,null,null,null,null,null,null,null,null,null,null,null,null,null,null,null,null,"Camila Toro Trujillo","1053798894","2015-10-02T09:20:48","D",11001]
["Edificio Vival 106 - Propiedad Horizontal","9008107309","2015-10-02T12:38:17","D",11001,9999,"NIT",null,null,null,null,null,null,null,null,null,null,null,null,null,null,null,null,null,null,null,null,null,null,null,null,null,null,null,null,null,null,null,null,null,null,null,null,null,null,null,null,"Edificio Vival 106 - Propiedad Horizontal","9008107309","2015-10-02T12:38:17","D",11001]
["Colegio Colombo Español De Barranquilla","8002495329","2015-10-08T18:09:14","D",11001,9999,"NIT",null,null,null,null,null,null,null,null,null,null,null,null,null,null,null,null,null,null,null,null,null,null,null,null,null,null,null,null,null,null,null,null,null,null,null,null,null,null,null,null,"Colegio Colombo Español De Barranquilla","8002495329","2015-10-08T18:09:14","D",11001]
["Laboratorios Laproff SA","8909021657","2015-10-09T19:54:32","D",11001,9999,"NIT",null,null,null,null,null,null,null,null,null,null,null,null,null,null,null,null,null,null,null,null,null,null,null,null,null,null,null,null,null,null,null,null,null,null,null,null,null,null,null,null,"Laboratorios Laproff SA","8909021657","2015-10-09T19:54:32","D",11001]
["Viva Vacations Colombia SAS","900428519","2015-10-09T21:04:08","D",11001,9999,"NIT",null,null,null,null,null,null,null,null,null,null,null,null,null,null,null,null,null,null,null,null,null,null,null,null,null,null,null,null,null,null,null,null,null,null,null,null,null,null,null,null,"Viva Vacations Colombia SAS","900428519","2015-10-09T21:04:08","D",11001]
["Corporacion Anapoima Club Campestre","8000941906","2015-10-15T13:03:57","D",11001,9999,"NIT",null,null,null,null,null,null,null,null,null,null,null,null,null,null,null,null,null,null,null,null,null,null,null,null,null,null,null,null,null,null,null,null,null,null,null,null,null,null,null,null,"Corporacion Anapoima Club Campestre","8000941906","2015-10-15T13:03:57","D",11001]
["Comercializadora Internacional Impho SAS","800223029","2015-10-15T16:48:29","D",11001,9999,"NIT",null,null,null,null,null,null,null,null,null,null,null,null,null,null,null,null,null,null,null,null,null,null,null,null,null,null,null,null,null,null,null,null,null,null,null,null,null,null,null,null,"Comercializadora Internacional Impho SAS","800223029","2015-10-15T16:48:29","D",11001]
["Consejo Profesional Nacional de Topografia","8605172322","2015-10-21T10:22:51","D",11001,9999,"NIT",null,null,null,null,null,null,null,null,null,null,null,null,null,null,null,null,null,null,null,null,null,null,null,null,null,null,null,null,null,null,null,null,null,null,null,null,null,null,null,null,"Consejo Profesional Nacional de Topografia","8605172322","2015-10-21T10:22:51","D",11001]
["Cootraunion","8001965115","2015-10-22T09:21:28","D",11001,9999,"NIT",null,null,null,null,null,null,null,null,null,null,null,null,null,null,null,null,null,null,null,null,null,null,null,null,null,null,null,null,null,null,null,null,null,null,null,null,null,null,null,null,"Cootraunion","8001965115","2015-10-22T09:21:28","D",11001]
["Map Cargo SAS","8300042378","2015-10-22T12:32:24","D",11001,9999,"NIT",null,null,null,null,null,null,null,null,null,null,null,null,null,null,null,null,null,null,null,null,null,null,null,null,null,null,null,null,null,null,null,null,null,null,null,null,null,null,null,null,"Map Cargo SAS","8300042378","2015-10-22T12:32:24","D",11001]
["Edificio Multifamiliar La Esquina de Normandia","8002402663","2015-10-26T09:46:16","D",11001,9999,"NIT",null,null,null,null,null,null,null,null,null,null,null,null,null,null,null,null,null,null,null,null,null,null,null,null,null,null,null,null,null,null,null,null,null,null,null,null,null,null,null,null,"Edificio Multifamiliar La Esquina de Normandia","8002402663","2015-10-26T09:46:16","D",11001]
["EAB-ESP","8999990941","2015-10-29T16:06:39","D",11001,9999,"NIT",null,null,null,null,null,null,null,null,null,null,null,null,null,null,null,null,null,null,null,null,null,null,null,null,null,null,null,null,null,null,null,null,null,null,null,null,null,null,null,null,"EAB-ESP","8999990941","2015-10-29T16:06:39","D",11001]
["CG Importaciones SAS","900490286","2015-10-30T12:08:49","D",11001,9999,"NIT",null,null,null,null,null,null,null,null,null,null,null,null,null,null,null,null,null,null,null,null,null,null,null,null,null,null,null,null,null,null,null,null,null,null,null,null,null,null,null,null,"CG Importaciones SAS","900490286","2015-10-30T12:08:49","D",11001]
["Direccion Territorial de Salud de Caldas","8001143125","2015-11-03T14:51:30","D",11001,9999,"NIT",null,null,null,null,null,null,null,null,null,null,null,null,null,null,null,null,null,null,null,null,null,null,null,null,null,null,null,null,null,null,null,null,null,null,null,null,null,null,null,null,"Direccion Territorial de Salud de Caldas","8001143125","2015-11-03T14:51:30","D",11001]
["Uniperfiles SAS","8301280460","2015-11-04T12:36:24","D",11001,9999,"NIT",null,null,null,null,null,null,null,null,null,null,null,null,null,null,null,null,null,null,null,null,null,null,null,null,null,null,null,null,null,null,null,null,null,null,null,null,null,null,null,null,"Uniperfiles SAS","8301280460","2015-11-04T12:36:24","D",11001]
["B&P Bienes y Proyectos SAS","830114356","2015-11-09T12:40:44","D",11001,9999,"NIT",null,null,null,null,null,null,null,null,null,null,null,null,null,null,null,null,null,null,null,null,null,null,null,null,null,null,null,null,null,null,null,null,null,null,null,null,null,null,null,null,"B&P Bienes y Proyectos SAS","830114356","2015-11-09T12:40:44","D",11001]
["Edificio Eilat","8050030598","2015-11-13T15:05:32","D",11001,9999,"NIT",null,null,null,null,null,null,null,null,null,null,null,null,null,null,null,null,null,null,null,null,null,null,null,null,null,null,null,null,null,null,null,null,null,null,null,null,null,null,null,null,"Edificio Eilat","8050030598","2015-11-13T15:05:32","D",11001]
["Coeducar","8600266921","2015-11-23T16:47:45","D",11001,9999,"NIT",null,null,null,null,null,null,null,null,null,null,null,null,null,null,null,null,null,null,null,null,null,null,null,null,null,null,null,null,null,null,null,null,null,null,null,null,null,null,null,null,"Coeducar","8600266921","2015-11-23T16:47:45","D",11001]
["Colombiana de Autos SA Colautos","890802651","2015-11-24T12:16:54","D",11001,9999,"NIT",null,null,null,null,null,null,null,null,null,null,null,null,null,null,null,null,null,null,null,null,null,null,null,null,null,null,null,null,null,null,null,null,null,null,null,null,null,null,null,null,"Colombiana de Autos SA Colautos","890802651","2015-11-24T12:16:54","D",11001]
["GMTM SAS","9008801751","2015-11-27T14:03:33","D",11001,9999,"NIT",null,null,null,null,null,null,null,null,null,null,null,null,null,null,null,null,null,null,null,null,null,null,null,null,null,null,null,null,null,null,null,null,null,null,null,null,null,null,null,null,"GMTM SAS","9008801751","2015-11-27T14:03:33","D",11001]
["MC Hormas y Zapatos SAS","9004285108","2015-11-30T12:48:25","D",11001,9999,"NIT",null,null,null,null,null,null,null,null,null,null,null,null,null,null,null,null,null,null,null,null,null,null,null,null,null,null,null,null,null,null,null,null,null,null,null,null,null,null,null,null,"MC Hormas y Zapatos SAS","9004285108","2015-11-30T12:48:25","D",11001]
["Ideg Editores","670126678","2015-12-03T17:27:51","D",11001,9999,"NIT",null,null,null,null,null,null,null,null,null,null,null,null,null,null,null,null,null,null,null,null,null,null,null,null,null,null,null,null,null,null,null,null,null,null,null,null,null,null,null,null,"Ideg Editores","670126678","2015-12-03T17:27:51","D",11001]
["WG Consultores IPS SAS","9002724691","2015-12-11T13:06:13","D",11001,9999,"NIT",null,null,null,null,null,null,null,null,null,null,null,null,null,null,null,null,null,null,null,null,null,null,null,null,null,null,null,null,null,null,null,null,null,null,null,null,null,null,null,null,"WG Consultores IPS SAS","9002724691","2015-12-11T13:06:13","D",11001]
["Comercializadora La lider","900215462","2015-12-14T09:20:42","D",11001,9999,"NIT",null,null,null,null,null,null,null,null,null,null,null,null,null,null,null,null,null,null,null,null,null,null,null,null,null,null,null,null,null,null,null,null,null,null,null,null,null,null,null,null,"Comercializadora La lider","900215462","2015-12-14T09:20:42","D",11001]
["SANTANATURA.V SAS","900729223","2015-12-14T09:46:19","D",11001,9999,"NIT",null,null,null,null,null,null,null,null,null,null,null,null,null,null,null,null,null,null,null,null,null,null,null,null,null,null,null,null,null,null,null,null,null,null,null,null,null,null,null,null,"SANTANATURA.V SAS","900729223","2015-12-14T09:46:19","D",11001]
["Corporacion Acueducto Multiveredal Carmin Cuchilla Mampuesto \t","8110158010","2015-12-14T12:23:21","D",11001,9999,"NIT",null,null,null,null,null,null,null,null,null,null,null,null,null,null,null,null,null,null,null,null,null,null,null,null,null,null,null,null,null,null,null,null,null,null,null,null,null,null,null,null,"Corporacion Acueducto Multiveredal Carmin Cuchilla Mampuesto \t","8110158010","2015-12-14T12:23:21","D",11001]
["Haxomteam","1083893065","2015-12-14T14:19:40","D",11001,9999,"NIT",null,null,null,null,null,null,null,null,null,null,null,null,null,null,null,null,null,null,null,null,null,null,null,null,null,null,null,null,null,null,null,null,null,null,null,null,null,null,null,null,"Haxomteam","1083893065","2015-12-14T14:19:40","D",11001]
["AL4 SAS","900555758","2015-12-14T16:02:16","D",11001,9999,"NIT",null,null,null,null,null,null,null,null,null,null,null,null,null,null,null,null,null,null,null,null,null,null,null,null,null,null,null,null,null,null,null,null,null,null,null,null,null,null,null,null,"AL4 SAS","900555758","2015-12-14T16:02:16","D",11001]
["Dermatologica SA","8909358846","2015-12-14T16:54:48","D",11001,9999,"NIT"]
["Coopidrogas","8600261230","2015-12-14T17:21:56","D",11001,9999,"NIT"]
["Silueta y Alma Colombia SAS","9007295971","2015-12-14T17:31:11","D",11001,9999,"NIT"]
["Fundacion alas Cinco","900687458","2015-12-15T15:27:28","D",11001,9999,"NIT"]
["Corporacion Aldea Global","8100035991","2015-12-15T15:54:30","D",11001,9999,"NIT"]
["Tuvacol SA","806014553","2015-12-15T16:25:00","D",11001,9999,"NIT"]
["Chaneme Comercial SA","8300656095","2015-12-15T16:53:39","D",11001,9999,"NIT"]
["Bonem  SA","8909018667","2015-12-15T17:13:33","D",11001,9999,"NIT"]
["Industrias Metalicas Asociadas Imal SA","8600017819","2015-12-15T17:33:54","D",11001,9999,"NIT"]
["Technologistics ZF SAS","9001859191","2015-12-15T17:48:27","D",11001,9999,"NIT"]
["Mision Panamericana De Colombia","8600073901","2015-12-15T18:32:43","D",11001,9999,"NIT"]
["R&V Roman&Velez Consultores Niif y Abogados Limitada","9000883276","2015-12-15T18:46:49","D",11001,9999,"NIT"]
["Inet Colombiana SA","8300498592","2015-12-15T18:58:35","D",11001,9999,"NIT"]
["Municipio de Salento","890001127","2015-12-16T07:41:55","D",11001,9999,"NIT"]
["Conjunto Residencial Reservas del Bosque","900032118","2015-12-16T07:53:26","D",11001,9999,"NIT"]
["Bancolombia PCSS","8909039388","2015-12-16T11:26:33","D",11001,9999,"NIT"]
["Sociedad Portuaria Puerto Bahia SA","8600098734","2015-12-16T15:28:41","D",11001,9999,"NIT"]
["Union de Droguistas SA - Unidrogas","8902087889","2015-12-16T15:49:39","D",11001,9999,"NIT"]
["Ignacio Gomez IHM SAS","8600013001","2015-12-16T16:03:49","D",11001,9999,"NIT"]
["Edificio 92 19","900871453","2015-12-16T18:13:54","D",11001,9999,"NIT"]
["Luz Llamilet Alzate Roman","419181173","2015-12-17T12:29:56","D",11001,9999,"NIT"]
["Importadora Gorr SAS","830073033","2015-12-18T16:04:42","D",11001,9999,"NIT"]
["CONJUNTO CAMINO DE ARRAYANES MANZANA QUINCE (15) P.H. \t","9009000243","2015-12-18T17:54:02","D",11001,9999,"NIT"]
["Fundacion Siembre un Arbol","9001991290","2015-12-18T18:27:27","D",11001,9999,"NIT"]
["Solo Mangueras SAS","860530495","2015-12-18T18:38:26","D",11001,9999,"NIT"]
["Fundacion de la Mujer","8902123416","2015-12-21T11:49:14","D",11001,9999,"NIT"]
["Hoteles de Balata SAS","9005693858","2015-12-21T12:24:38","D",11001,9999,"NIT"]
["Edificio Jardines de Tivoli","900712504","2015-12-21T17:00:38","D",11001,9999,"NIT"]
["Oficinas Por Tiempo S.A.S","9008045118","2015-12-22T07:20:04","D",11001,9999,"NIT"]
["Corporacion para la Formacion  de la Mujer","890315655","2015-12-22T07:32:23","D",11001,9999,"NIT"]
["Ferreteria Luis Penagos SAS","8300370398","2015-12-23T13:17:23","D",11001,9999,"NIT"]
["OLD MUTUAL FONDO DE PENSIONES VOLUNTARIAS","8300380851","2015-12-23T21:02:46","D",11001,9999,"NIT"]
["OLD MUTUAL SEGUROS DE VIDA S.A.","8600025041","2015-12-23T21:06:09","D",11001,9999,"NIT"]
["Hada SA","8908004678","2015-12-24T15:30:47","D",11001,9999,"NIT"]
["De costa a costa LTDA","8916001339","2015-12-24T15:50:21","D",11001,9999,"NIT"]
["Fundacion Alianza por la Mineria Responsable","9002251973","2015-12-24T16:10:12","D",11001,9999,"NIT"]
["Municipio de Venadillo","8001001443","2015-12-24T16:20:44","D",11001,9999,"NIT"]
["Corporacion Educativa Bilingüe de Santa Marta","800127599","2015-12-24T16:34:42","D",11001,9999,"NIT"]
["Mi Vereda Ambiental SAS ESP","900236483","2015-12-24T16:49:36","D",11001,9999,"NIT"]
["Camara de Comercio de Girardot","8906800006","2015-12-28T12:09:59","D",11001,9999,"NIT"]
["Fundacion Cultural Makenke","8240046060","2015-12-28T12:40:06","D",11001,9999,"NIT"]
["MUNICIPIO DE MONTELIBANO","8000967635","2015-12-28T14:20:31","D",11001,9999,"NIT"]
["Solutions One S.A.S","9007929740","2015-12-29T13:06:26","D",11001,9999,"NIT"]
["Cooperativa Multiactiva de Educadores de Casanare Limitada","8918578164","2015-12-29T15:02:27","D",11001,9999,"NIT"]
["SERVIMETERS S.A.","8301173705","2015-12-29T16:44:54","D",11001,9999,"NIT"]
["Confianza Ingenieros Consultores Ltda","830083782","2015-12-29T17:02:45","D",11001,9999,"NIT"]
["Tutores Asesorias Empresariales SAS","900268554","2015-12-29T17:13:47","D",11001,9999,"NIT"]
["Camara de Comercio del Magdalena Medio y Nordeste Antioqueño","8000299722","2015-12-29T17:28:20","D",11001,9999,"NIT"]
["Gimnasio Moderno Castilla SAS","9003996164","2015-12-29T17:53:31","D",11001,9999,"NIT"]
["Fundacion Para El Desarrollo De La Mujer Cabeza De Familia","900256941","2015-12-30T10:31:27","D",11001,9999,"NIT"]
["Conjunto Residencial Tamesis","900851294","2015-12-30T10:50:03","D",11001,9999,"NIT"]
["INGEAL S.A","8000393987","2015-12-30T12:17:36","D",11001,9999,"NIT"]
["La Primavera Desarrollo Y Construccion S en C","9000347791","2015-12-30T12:25:59","D",11001,9999,"NIT"]
["FM Supplies SAS","9008500968","2015-12-30T12:34:57","D",11001,9999,"NIT"]
["Corporacion Universitaria de Ciencia y Desarrollo Uniciencia","830018780","2015-12-30T18:29:22","D",11001,9999,"NIT"]
["Gourmet X Perts y Cia LTDA","830021990","2016-01-04T14:38:15","D",11001,9999,"NIT"]
["Municipio de Guatape","8909838303","2016-01-04T16:49:46","D",11001,9999,"NIT"]
["Pallomaro SA","8903173392","2016-01-05T15:08:33","D",11001,9999,"NIT"]
["Camara de Comercio de Tumaco","891200310","2016-01-05T15:55:21","D",11001,9999,"NIT"]
["Buena compañia SAS","900482637","2016-01-05T17:07:40","D",11001,9999,"NIT"]
["COOPTELECUC","8905061444","2016-01-05T17:27:27","D",11001,9999,"NIT"]
["EFP Consultores SAS","900870699","2016-01-05T17:42:06","D",11001,9999,"NIT"]
["International World Travel SAS","900783887","2016-01-06T13:01:04","D",11001,9999,"NIT"]
["Parque Comercial El Tesoro P.H.","8110216216","2016-01-07T09:44:17","D",11001,9999,"NIT"]
["Inmobiliaria Marvilla SAS","830073745","2016-01-07T13:05:26","D",11001,9999,"NIT"]
["Edificio Solar Del Virrey","9005350438","2016-01-08T12:56:20","D",11001,9999,"NIT"]
["Edificio Atalaya Del Rio","8050073838","2016-01-08T14:27:14","D",11001,9999,"NIT"]
["Edificio Santa Paula PH","830081164","2016-01-08T14:45:55","D",11001,9999,"NIT"]
["Rich de Colombia SAS","9004363524","2016-01-08T15:21:01","D",11001,9999,"NIT"]
["Ladrillera Helios SA","8600298073","2016-01-08T15:32:39","D",11001,9999,"NIT"]
["Distribuidora MM SAS","9004227898","2016-01-08T16:26:16","D",11001,9999,"NIT"]
["MAS FIT II SAS","9008649994","2016-01-08T16:43:16","D",11001,9999,"NIT"]
["Camara de Comercio de Dosquebradas","8001016320","2016-01-08T17:15:10","D",11001,9999,"NIT"]
["Asociacion de Usuarios del Acueducto Leonardo Hoyos ESP","8001398805","2016-01-08T17:52:33","D",11001,9999,"NIT"]
["Ladrilleras Yomasa SA","8600033284","2016-01-12T10:17:49","D",11001,9999,"NIT"]
["Edificio Altillo De Juanambu ","8050057888","2016-01-12T17:22:35","D",11001,9999,"NIT"]
["Comercial Card SAS","9002943698","2016-01-13T14:37:31","D",11001,9999,"NIT"]
["Inversiones Techcolombia SAS","900533541","2016-01-13T15:35:53","D",11001,9999,"NIT"]
["Unidad de Extensión Colegio San Jose de las Vegas","8001886831","2016-01-14T12:47:31","D",11001,9999,"NIT"]
["Union Colombiana de Empresas Publicitarias - UCEP","8600312737","2016-01-14T13:03:13","D",11001,9999,"NIT"]
["Pricesmart Colombia SAS","9003197533","2016-01-15T15:28:56","D",11001,9999,"NIT"]
["Edificio Danzas PH","811005065","2016-01-18T08:15:26","D",11001,9999,"NIT"]
["Grupo Lorito S.A.","9001897835","2016-01-18T08:59:06","D",11001,9999,"NIT"]
["Edificio Portobello","900669814","2016-01-18T12:46:19","D",11001,9999,"NIT"]
["Distribuidora Colombia GC S.A","9000071227","2016-01-18T16:48:01","D",11001,9999,"NIT"]
["Universidad Tecnologica de Bolivar","8904019620","2016-01-19T10:04:14","D",11001,9999,"NIT"]
["Municipio de Macheta","8999994011","2016-01-19T12:42:43","D",11001,9999,"NIT"]
["Ecolux S.A.S.","9003630328","2016-01-20T09:06:55","D",11001,9999,"NIT"]
["Metrocar SES","9002468046","2016-01-20T12:22:57","D",11001,9999,"NIT"]
["Comercializadora Ragged y Cia S.A.","8909371468","2016-01-20T12:40:02","D",11001,9999,"NIT"]
["Lind Hogar SAS","9000796043","2016-01-20T13:07:40","D",11001,9999,"NIT"]
["Conjunto residencial hacienda la quinta P.H.","9005045049","2016-01-21T15:40:58","D",11001,9999,"NIT"]
["Luis Fernando Palacios Posada","71185285","2016-01-22T13:19:17","D",11001,9999,"NIT"]
["Tropical ING SAS","9005354416","2016-01-22T14:48:51","D",11001,9999,"NIT"]
["3D Make-r Technologies SAS","900689323","2016-01-22T15:17:44","D",11001,9999,"NIT"]
["Desarrollo del Potencial Humano Integral LTDA Desarrollo PHI","8000670397","2016-01-22T16:40:38","D",11001,9999,"NIT"]
["Camara de Comercio de Chinchina","8908012581","2016-01-25T10:35:05","D",11001,9999,"NIT"]
["Fundacion Albeiro Vargas y Angeles Custodios","8001692947","2016-01-25T14:24:04","D",11001,9999,"NIT"]
["Cantabiblia","716734062","2016-01-25T17:57:05","D",11001,9999,"NIT"]
["Inversiones Grand SAS","9008104153","2016-01-26T11:49:29","D",11001,9999,"NIT"]
["Cooperativa Colombiana de Ingenieros - Financiar","8600144566","2016-01-26T18:03:43","D",11001,9999,"NIT"]
["Teleradiologia De Colombia SAS","9004683847","2016-01-27T14:41:40","D",11001,9999,"NIT"]
["Colombia Travel System SAS","9002690365","2016-01-27T15:10:55","D",11001,9999,"NIT"]
["Fundacion Emanuel Josue","900575675","2016-01-27T15:28:33","D",11001,9999,"NIT"]
["Lineas Escotur SA","8600583449","2016-01-27T16:13:19","D",11001,9999,"NIT"]
["Camara de comercio del Amazonas","8600444453","2016-01-27T16:29:48","D",11001,9999,"NIT"]
["Fundacion Notas de Paz","900208719","2016-01-27T16:52:12","D",11001,9999,"NIT"]
["Fintu SAS","9009091392","2016-01-28T11:24:11","D",11001,9999,"NIT"]
["Repuestos Autofrenos LTDA","8040149841","2016-01-28T12:00:59","D",11001,9999,"NIT"]
["S&S IP SAS","9003455347","2016-01-28T16:27:08","D",11001,9999,"NIT"]
["Edificio Artek 93 Propiedad Horizontal","9008715969","2016-01-29T09:00:45","D",11001,9999,"NIT"]
["Core Laboratories","8300009227","2016-01-29T09:42:00","D",11001,9999,"NIT"]
["Centro De Enseñanza Y Estimulación Happy Kids S.A.S.","9004106153","2016-01-29T10:39:54","D",11001,9999,"NIT"]
["Luz Elena Montoya Betancur","42867166","2016-01-29T12:52:38","D",11001,9999,"NIT"]
["Cres & Catering SAS","900432387","2016-01-29T16:48:41","D",11001,9999,"NIT"]
["Fiduagraria S.A.","8001599980","2016-01-29T17:09:53","D",11001,9999,"NIT"]
["Edificio Retiro De Santa Teresita","8050091862","2016-02-01T11:55:18","D",11001,9999,"NIT"]
["Ana Maria Cadena Tobon","51657102","2016-02-01T12:12:02","D",11001,9999,"NIT"]
["Fundacion Comunidad  Maria Mediadora","900374503","2016-02-01T12:40:00","D",11001,9999,"NIT"]
["Eduardo Paredes","18916359","2016-02-01T12:58:10","D",11001,9999,"NIT"]

{"sheet":"Comercios","index":2,"n_rows":5684,"n_cols":5,"rows_kept":5684,"cut":false,"hidden":false,"merged":[[0,1,0,3],[0,4,0,6],[1,0,1,2],[1,3,1,6]]}
[null,"INSCRIPCIÓN DE COMERCIOS PARA PERMITIR PAGOS PSE A TRAVÉS DE PORTALES PERSONA JURÍDICA",null,null,"Código: VSE_FOR_063\nVersión: V1\nFecha de actualización: 04/02/2015"]
["Nombre Comercios",null,null,"Identificación"]
["22CERO2 SAS",null,null,"8300999562"]
["3Biomat SAS",null,null,"9003040444"]
["3D Make-r Technologies SAS",null,null,"900689323"]
["3I IMPLANT INNOVATIONS COLOMBIA S.A.",null,null,"8300188149"]
["3M COLOMBIA S.A.",null,null,"8600026933"]
["3M Colombia S.A. [PagosOnline]",null,null,"860002693"]
["4-I Latinoamerica SAS",null,null,"9007726228"]
["4Life Research Colombia LLC",null,null,"9000202931"]
["8a Torres Inversiones Colombia Natural CIA S en C S",null,null,"9001172241"]
["9-24 Marketing S.A.S. Colombia",null,null,"9003220347"]
["A Lugares y Destinos S.A.",null,null,"8110278796"]
["A Tiempo Cargo SAS ",null,null,"9003179018"]
["A Toda Hora  SA",null,null,"8001434071"]
["A Y C Inmobiliarios SAS",null,null,"9004860752"]
["a.hartrodt Colombia SAS",null,null,"9004250285"]
["AAA Comercio y Servicios Integrales Santa Marta SAS",null,null,"900668557"]
["AAAA Academia Abscrita a Asociacion de Especialistas SAS(Portale",null,null,"8600749714"]
["AAron Ramirez y Cia Ltda.",null,null,"9003129814"]
["Abastecedor Colombiano de Tejas y Drywall SAS",null,null,"9001899451"]
["Abastecimientos Industriales SAS",null,null,"890332891"]
["ABC Polyservices SAS",null,null,"9004201757"]
["Aberuci Seguros LTDA",null,null,"900789430"]
["Abordo Viajes y Turismo LTDA",null,null,"8305142430"]
["Abrasivos de Colombia SA",null,null,"8909113271"]
["Absalon Sierra Gonzales -Distribuciones M Sierra",null,null,"79547243"]
["Aburra Virtual S.A.S.",null,null,"900473322"]
["Academia Antioqueña de Aviacion SAS",null,null,"8909118502"]
["Academia de Arte Fabula",null,null,"8300748566"]
["Academia de Artes Guerrero",null,null,"794133804"]
["Academia Nacional de Aprendizaje Puerto Riveros y CIA LTDA",null,null,"8002262658"]
["Academia Popular",null,null,"51701582"]
["Accesorios Para Autos SAS “ACCEAUTOS”",null,null,"9003075021"]
["Access Digital S.A.S.",null,null,"9002987477"]
["Access Tecnologia en Accesos SAS",null,null,"800131807"]
["Acción Social FAC Nuestra Señora de Loreto",null,null,"8600345498"]
["Accion Sociedad Fiduciaria S.A.",null,null,"8001554136"]
["Acciones y Valores S.A.",null,null,"8600715621"]
["Accounter SAS",null,null,"9000659330"]
["ACE SEGUROS S.A.",null,null,"8600265186"]
["ACEITAR LTDA",null,null,"8000235439"]
["Aceites y Grasas Vegetales S.A.",null,null,"8600000064"]
["Acerias Paz del rio S.A",null,null,"8600299951"]
["Aceros Formados S.A.S",null,null,"9000674772"]
["Aceros Industriales S.A.",null,null,"8909182727"]
["Aceros Mapa SA ",null,null,"8909044596"]
["Acesum S.A.S.",null,null,"9004902500"]
["Acevedo Sxpul y Cia S.A. SCA",null,null,"8909310462"]
["Acevedo y Cia S.A.S. - Asesores Inmobiliarios",null,null,"8600266201"]
["ACH Colombia S.A. PSE Hosting",null,null,"8300785120"]
["Acinpro",null,null,"8909841070"]
["ACIQ Bogota",null,null,"9007732394"]
["Acompañamos-Apoyo en Movilidad y Servicios S.A.S.",null,null,"9005010076"]
["ACRE PROPIEDAD RAIZ LTDA",null,null,"8001801610"]
["ACRECER S.A.",null,null,"8909247897"]
["Acros Inmobiliaria Ltda",null,null,"9002416165"]
["ACTUAR FAMIEMPRESAS - INTERACTUAR",null,null,"890984843"]
["Acuagranja S.A.S.",null,null,"8903244873"]
["ACUASUR SA E.S.P",null,null,"9000544110"]
["Acueducto la Herradura de Melgar S.A",null,null,"830064081"]
["Acueducto Metropolitano de Bucaramanga ESP",null,null,"8902001622"]
["Acueducto y Alcantarillado de Popayan",null,null,"8915001171"]
["Adarve e Hijos Ltda",null,null,"860053845"]
["Adbienes Ltda",null,null,"8909039173"]
["ADCAP Colombia S.A. Comisionista de Bolsa",null,null,"8909316090"]
["ADCAP Colombia S.A. Comisionista de Bolsa",null,null,"8909316091"]
["ADH Papeles Adhesivos SAS",null,null,"8110291322"]
["Adidas Colombia Ltda.",null,null,"8050110742"]
["Adin Latin America SAS",null,null,"900783652"]
["Adistec Colombia S.A.S",null,null,"9002617681"]
["AdM Articulos de Montaña S.A.S.",null,null,"8300819477"]
["Admejores S.A.S.",null,null,"8001708511"]
["Adminet S.A.S.",null,null,"9004386757"]
["Administracion AM S.A.S.",null,null,"9001828104"]
["Administracion de Bienes Inmobiliarios A&B",null,null,"9004567927"]
["ADMINISTRACION EDIFICIO WORLD TRADE CENTER BOGOTA",null,null,"8603534878"]
["Administracion Maritima y de Contenedores SAS",null,null,"8300358513"]
["Administraciones Yoyjo S en C",null,null,"9000725455"]
["Administradora AAVAL LTDA",null,null,"8300981706"]
["Administradora Colombiana de Pensiones - Colpensiones",null,null,"9003360047"]
["Administradora de Fondos de Pensiones y Cesantias Colfondos S.A.",null,null,"8001986445"]
["Administradora de Taxis Bernal Jaramillo SAS",null,null,"9005373510"]
["Administradora de Valor Ltda",null,null,"8301325625"]
["Administradora Hotelera Medellin",null,null,"9000517824"]
["Administramos y Servicios S.A.",null,null,"8050131567"]
["Adriatica Cooperativa Multiactiva",null,null,"9004027498"]
["AEROCLUB DE COLOMBIA",null,null,"8600072141"]
["Aerodinamica SA",null,null,"8110220694"]
["Aerohelices S.A.S.",null,null,"8300329027"]
["Aerolinea de Antioquia SA",null,null,"8000193444"]
["AEROMEDELLIN",null,null,"8909109480"]
["Aeropuerto Internacional Matecaña",null,null,"891480014"]
["AEROREPUBLICA S.A. - COPA",null,null,"8001857811"]
["AERORUTAS LTDA.",null,null,"8160027861"]
["Aeroviajes Pacifico de Bogota S.A.",null,null,"8600590384"]
["Ag Comercio & Distribucion",null,null,"9004618925"]
["Age Andinos Grupo Empresarial SAS",null,null,"9003451179"]
["Agel Enterprises Colombia LTDA",null,null,"9001846241"]
["Agencia de aduana Mario Londoño SA NIVEL 1",null,null,"8909022662"]
["Agencia de Aduanas Aladuana Sa Nivel 1",null,null,"8300109054"]
["Agencia de Aduanas Coexnort SA Nivel 1",null,null,"8905048206"]
["Agencia de Aduanas Fenix  SAS",null,null,"900036951"]
["Agencia de Aduanas Fenix S.A.S. Nivel 2 ",null,null,"9000369511"]
["Agencia de Aduanas FMA S.A. Nivel 1",null,null,"8604012411"]
["Agencia de Aduanas Hubemar S.A. Nivel 1",null,null,"8904030776"]
["Agencia de Aduanas Mar y Aire S.A.S. Nivel 1",null,null,"860072865"]
["Agencia de Aduanas Mar y Aire S.A.S. Nivel 1 (Portales/Bogota)",null,null,"8600728652"]
["Agencia De Aduanas Roldan S.A. Nivel 1",null,null,"8110012597"]
["Agencia de Aduanas Siaco SAS Nivel 1",null,null,"8002519571"]
["Agencia de Aduanas Suppla S.A.S. Nivel 1",null,null,"9001752439"]
["AGENCIA DE PROMOCION DE INVERSION INVEST VALLE DEL PACIFICO",null,null,"9003945916"]
["Agencia de viajes Avialoil' alianxa LTDA",null,null,"8915009011"]
["Agencia de Viajes A-Z S.A.",null,null,"8605005060"]
["Agencia de Viajes Conexiones y Destinos SAS",null,null,"9002008023"]
["Agencia de Viajes Genesis S.A.S.",null,null,"8000577306"]
["Agencia de Viajes y Turismo Gaviota Tours Ltda",null,null,"8600783469"]
["Agencia de Viajes y Turismo Jumbo L´alianxa Ltda",null,null,"8905016317"]
["Agencia de Viajes y Turismo Meridiano Ltda.",null,null,"8600388136"]
["Agencia de Viajes y Turismo Mirasol Travel SAS",null,null,"8001911062"]
["Agencia Maritima Internacional S.A.S",null,null,"890107200"]
["AGENCIA MARITIMA TRANSMARES LTDA",null,null,"8001162498"]
["Agencia Nacional  de Mineria",null,null,"9005000182"]
["AGENCIA NACIONAL DE HIDROCARBUROS ANH",null,null,"8301276078"]
["AGENCIAUTO S.A.",null,null,"8909000169"]
["Agenda del Mar - Maria Jose Ospina Restrepo",null,null,"42798302"]
["Agricola Himalaya S.A.",null,null,"8903260508"]
["Agricola Las Cascadas S.A.",null,null,"8002351665"]
["AGRINAL COLOMBIA S.A.",null,null,"890400514"]
["Agrodex Internacional SAS",null,null,"8020152982"]
["Agroempaques S.A.",null,null,"9000359181"]
["Agroindustria Lumin S.A.S",null,null,"9006753661"]
["Agroproductiva S.A.",null,null,"9000834621"]
["Agrupacion de Lotes Camino de Arrayanes 9, 10, 11 y 12 P.H.",null,null,"9005317421"]
["Agrupacion de Vivienda Caracoli",null,null,"8000336382"]
["Agrupacion de Vivienda El Velero PH",null,null,"8300214810"]
["Agrupacion el Higueron",null,null,"9001130064"]
["Agrupacion el Roble ",null,null,"8301394525"]
["Agrupacion los Laureles",null,null,"830134113"]
["Agrupacion Palo de Agua 1",null,null,"9005506716"]
["Agrupacion Residencial Prados  de la Calleja",null,null,"830005198"]
["Agrupacion Residencial San Sebastian",null,null,"830135134"]
["Aguas de Barrancabermeja S.A E.S.P",null,null,"9000454081"]
["Aguas De Buga S.A. ESP",null,null,"8150016293"]
["Aguas de Cartagena",null,null,"8002523964"]
["AGUAS DE LA SABANA DE BOGOTA S.A. E.S.P.",null,null,"9000217374"]
["Aguas de los Andes S.A. E.S.P.",null,null,"9001051280"]
["Aguas de Manizales S.A. E.S.P.",null,null,"8100005980"]
["AGUAS DE RIONEGRO S.A. ESP",null,null,"8110086846"]
["Aguas del Huila SA ESP",null,null,"8001005532"]
["Aguas Marakata S.A. ESP",null,null,"9004622755"]
["Aiesec en Colombia",null,null,"8909817757"]
["AIG Seguros Colombia S.A.",null,null,"860037707"]
["Aimarcol S.A.S.",null,null,"830063136"]
["Aimarcol S.A.S. (Banco de Bogota)",null,null,"8300631396"]
["Air Panama Sucursal Colombia",null,null,"9006834165"]
["AITE SAS",null,null,"900503035"]
["Al Sitio Soluciones SAS",null,null,"9005985944"]
["AL4 SAS",null,null,"900555758"]
["Alambres Y Mallas S.A",null,null,"8600076681"]
["ALARMAR LTDA",null,null,"8909192674"]
["Alarmar Ltda Cali",null,null,"8050087645"]
["Alarmas Dissel Ltda (Portales/Bogota)",null,null,"816000348"]
["ALARMAS DISSEL LTDA.",null,null,"8160003488"]
["Alarmas Multi Servicios Ltda",null,null,"8300140708"]
["Alba Americana de Ediciones Ltda.",null,null,"8300563211"]
["Alba Rocio Diaz de Castiblanco",null,null,"516544044"]
["ALBERTO ALVAREZ S S.A.",null,null,"8909041695"]
["Alcaldía de Bucaramanga",null,null,"8902012220"]
["Alcaldia de Funza",null,null,"8999994335"]
["ALCALDIA DE MELGAR",null,null,"8907019334"]
["Alcaldía de Tocancipa",null,null,"8999994288"]
["Alcaldia Mayor de Riohacha",null,null,"8921150072"]
["Alcaldia Municipal de Apartado Antioquia",null,null,"8909800952"]
["Alcaldia Municipal de Cajica",null,null,"8999994650"]
["Alcaldia Municipal de Candelaria Valle del Cauca",null,null,"8913800381"]
["ALCALDIA MUNICIPAL DE CUCUTA",null,null,"8905014342"]
["ALCALDIA MUNICIPAL DE IBAGUE",null,null,"8001133897"]
["Alcaldia Municipal de Tumaco",null,null,"8912009162"]
["Alcaldia Municipal de Zipacon",null,null,"8000947786"]
["Alcaldia San Juan Giron",null,null,"8902048026"]
["Alcanos de Colombia S.A. E.S.P",null,null,"8911015774"]
["Alcom Instalaciones SAS",null,null,"9004231317"]
["Alcomex Zf Brisa S.A.S ",null,null,"9004184415"]
["Alcomex ZF Brisa S.A.S. (Portal Bancolombia)",null,null,"900418441"]
["Alcomextrans S.A.S.",null,null,"8000067861"]
["Alcomextrans S.A.S. (Portal Bancolombia)",null,null,"800006786"]
["Aldea Proyectos SA",null,null,"8300976204"]
["ALDIACARD SAS",null,null,"900784185"]
["Alemautos SA",null,null,"9003293991"]
["Alexco Realtors S.A.S.",null,null,"8301196289"]
["Aleysant SAS",null,null,"900762275"]
["ALFAGRES S.A.",null,null,"8600325507"]
["Alfamed Ltda.",null,null,"8300217220"]
["Alfonso Carrizosa Hermanos Ltda",null,null,"8600000372"]
["Alfredo Plata Rueda S.A.",null,null,"9001994897"]
["Algazara S.A.",null,null,"8301064942"]
["Aliansalud  EPS S.A.",null,null,"8301138310"]
["ALIANZA COLOMBIA FRANCESA",null,null,"8600109046"]
["Alianza Colombo Francesa",null,null,"8901015946"]
["Alianza Cultural Colombo Francesa",null,null,"8909038801"]
["Alianza del Caribe S.A.S.",null,null,"9004853562"]
["Alianza Empresarial Para Un Comercio Seguro Basc Capitulo Bogota",null,null,"8301127593"]
["Alianza Fiduciaria S.A.",null,null,"8605313153"]
["Alianza Fiduciaria S.A. Fideicomisos Patrimonio Autonomo Buro 26",null,null,"8300538122"]
["Alianza Inmobiliaria S.A.",null,null,"8040095324"]
["Alianza Logistica Jc S.A.S.",null,null,"9001457241"]
["Alianza Medellin Antioquia EPS SAS Savia Salud EPS",null,null,"9006043500"]
["Alianza Virtual S.A.",null,null,"9002761710"]
["Alianzas Comerciales en Servicios SAS",null,null,"900474551"]
["Aliar Comunicaciones  SAS",null,null,"9000195151"]
["ALIMENTOS DON JACOBO S.A.",null,null,"8001561659"]
["Alimentos Toning S.A.",null,null,"8913031098"]
["Alimentos y Servicios Institucionales Colomer S.A.S",null,null,"8300672948"]
["All Trading Solutions",null,null,"9001264151"]
["All Ware Ltda",null,null,"8300143100"]
["Allers S.A.",null,null,"890312462"]
["Alliance Enterprice SAS",null,null,"8300654859"]
["Allianz Seguros de Vida S.A.",null,null,"860027404"]
["Allianz Seguros S.A.",null,null,"860026182"]
["ALLIANZ SEGUROS SA.",null,null,"8600261825"]
["Allmark Comercial de Colombia S.A.",null,null,"8300845446"]
["Alma Victoria Salazar- Productos San Luis",null,null,"515705327"]
["Almacen Agropecuario Central de Alimentos Ltda.",null,null,"9003214194"]
["Almacen el Deportista LTDA",null,null,"8110052674"]
["Almacen Electrotelefonico S.A.",null,null,"9001149808"]
["ALMACEN SUPERMOTOS S.A.",null,null,"8060163087"]
["Almacen Tecnicol SAS",null,null,"9006617269"]
["Almacenadores y Comercio Exterior S.A. Alcomex S.A",null,null,"8001885571"]
["Almacenes Corona S.A.",null,null,"8605004808"]
["ALMACENES EXITO S.A.",null,null,"890900608"]
["ALMACENES EXITO-PROVEEDORES",null,null,"8909006089"]
["Almacenes Generales de Deposito Almagrario SA",null,null,"8999990491"]
["Almacenes Generales de Deposito Almaviva SA",null,null,"8600021538"]
["Almacenes JR",null,null,"8270009756"]
["ALMACENES LA 13 S.A",null,null,"9002125504"]
["Almacenes la 14 SA",null,null,"8903003461"]
["ALMACENES MAXIMO S.A.",null,null,"8600458547"]
["Almatex S.A.S.",null,null,"8110310090"]
["Almundo.com  SAS",null,null,"9008447201"]
["Alsacia CDO SA",null,null,"9001419730"]
["Alta Tecnología Educación Ltda",null,null,"8301458830"]
["Alta Tecnologia Elearning S.A.S.",null,null,"9005091744"]
["Alta Tecnología En el Aprendizaje S.A.",null,null,"8300010890"]
["Alternativa de Moda S.A.",null,null,"8000539690"]
["Altipal SA",null,null,"8001869606"]
["Altos  de  Guadalupe Condominio Campestre Etapa I",null,null,"9003723646"]
["Alumar LTDA",null,null,"800193639"]
["Aluminum & Glass Products SAS",null,null,"9005059060"]
["ALVARO VELEZ Y CIA SAS.",null,null,"8605104311"]
["AM Importaciones SAS",null,null,"9001099736"]
["Amada Colombia S.A.S.",null,null,"8305004357"]
["Amalia Velasquez Rodriguez",null,null,"43007985"]
["AMARILO S.A.",null,null,"8001852951"]
["Amazona Export S.A.S.",null,null,"900324904"]
["Amazonas Turismo Ecologico",null,null,"8380000071"]
["AMBIEGRESADOS",null,null,"8160079235"]
["Ambientti Constructora Inmobiliaria",null,null,"8300608581"]
["Amelia Toro SAS",null,null,"8000784824"]
["America Tenis Club",null,null,"8600067882"]
["American Corporation  SAS",null,null,"9005110892"]
["American School Way SAS",null,null,"8301022170"]
["Amerotex SAS",null,null,"9002744723"]
["Amigos de Bureche S.A.",null,null,"8190033429"]
["AMIT Asociacion de medicos investigadores en terapia alternativa",null,null,"8300443535"]
["Amparo de Niños San Marcos",null,null,"8914008384"]
["AMWAY COLOMBIA",null,null,"8300077168"]
["Ana Constanza Rodriguez H",null,null,"669895441"]
["Ana Maria Cadena Tobon",null,null,"51657102"]
["Ana Maria Gutierrez",null,null,"1130618327"]
["Anato Capitulo Central",null,null,"8001993857"]
["Andes Motors Bogota SAS",null,null,"9005695317"]
["Andes Motors SAS",null,null,"9004864952"]
["Andes Servicios de Certificación Digital S.A.",null,null,"9002108001"]
["Andesco",null,null,"830023782"]
["ANDESCO (Pagos Online)",null,null,"8300237821"]
["Andia S.A.S.",null,null,"8600001009"]
["Andina Seguridad del Valle Ltda",null,null,"8903331053"]
["Andino Tecnologia Ltda",null,null,"8305013101"]
["Angel B S.A.",null,null,"8909220568"]
["Angela Maria Gomez Aristizabal",null,null,"435907907"]
["Angels Group SAS",null,null,"9008087904"]
["Ankara Fashion S.A.S.",null,null,"8110470463"]
["Anpra Ltda.",null,null,"8002358014"]
["Antenas y Torres S.A.S.",null,null,"9001011623"]
["Antioqueña de Automotores y Repuestos ANDAR SA",null,null,"8909139026"]
["Antorcha Ingenieria CIA LTDA",null,null,"800119432"]
["Anyma.com.co",null,null,"98554391"]
["Aon Colombia SA",null,null,"8600692652"]
["AP3 SA",null,null,"9002628939"]
["Aparcaderos Autonorpe SAS",null,null,"8110013366"]
["Apartamento Club 401",null,null,"29110700"]
["APARTAMENTOS CARTAGENA",null,null,"731226632"]
["Apartamentos Galerias LTDA",null,null,"8301449572"]
["Apio Telecom S.A.S",null,null,"9004555481"]
["Aplicaciones Dinamicas Ltda",null,null,"9001496211"]
["Aportes en Linea OI (Pensiones Voluntarias)",null,null,"900147238"]
["Apoyo a Mujeres con Enfermedades del Seno",null,null,"9000763837"]
["APRIL COLOMBIA ASSISTANCE S.A",null,null,"8300021815"]
["Aprobamos SAS",null,null,"9004248910"]
["AQUILLAMAS LTDA",null,null,"8300924165"]
["AR Construcciones S.A.S.",null,null,"9003788938"]
["Arandu Agricola S.A.S.",null,null,"9005501161"]
["ARAS LTDA",null,null,"8605065312"]
["Arata y Zuluaga Designs SAS",null,null,"9004652623"]
["ARAUCO COLOMBIA S.A.",null,null,"9002041823"]
["ARAUJO & SEGOVIA S A",null,null,"890400048"]
["ARAUJO Y SEGOVIA S.A.",null,null,"8904000489"]
["ARAWAK STORE-MAGDA GUTIERREZ ARDILA",null,null,"10184043378"]
["Arboretto Bosque Residencial",null,null,"9001469631"]
["ARC Fire S.A.S.",null,null,"9001964451"]
["Archilles South Europe Unipersonal Ltda",null,null,"9000557972"]
["Arcis Legal Services Ltda.",null,null,"9001815570"]
["ARDISA S.A.",null,null,"8902000506"]
["Area Comunal S.A.S",null,null,"9005762382"]
["Area Loft S.A.",null,null,"8301106675"]
["Area Metropolitana del Valle de Aburra",null,null,"8909844233"]
["Areas Flexibles SAS",null,null,"8110416544"]
["ARENAS GARCIA  LTDA",null,null,"8040058528"]
["ARENAS S.A.",null,null,"8001018209"]
["Aress Corredores de Seguros S.A",null,null,"8909060252"]
["ARFLINA Ltda.",null,null,"8600275736"]
["ARIARI LTDA.",null,null,"8110021665"]
["ARL DISTRIBUCIONES E.U.",null,null,"8110311612"]
["Armada Nacional",null,null,"8001416441"]
["Armadillo Editores S:A.S",null,null,"9005176186"]
["Armando Mejia Garces",null,null,"6067558"]
["Armenia Hotel SA",null,null,"8010032781"]
["Armogas S.A.S.",null,null,"900525408"]
["Armotor S.A.",null,null,"8100008828"]
["Aromasynt SAS",null,null,"9000843790"]
["ARP MAPFRE",null,null,"8300549046"]
["ARQUIMUEBLES S.A.",null,null,"8000063321"]
["Arrendamientos Adecol ltda",null,null,"8110063091"]
["Arrendamientos Antioquia CyC Ltda",null,null,"9000791984"]
["Arrendamientos e Inmobiliaria Alameda S.A.S.",null,null,"8000790912"]
["Arrendamientos Echeverri Y Asociados SAS",null,null,"9007714320"]
["ARRENDAMIENTOS ENVIGADO S.A.",null,null,"8909139929"]
["Arrendamientos Hipo - Ventas Ltda",null,null,"8001277251"]
["Arrendamientos la 80 Ltda",null,null,"8909361338"]
["ARRENDAMIENTOS LONDOÑO GOMEZ S.A.",null,null,"9001910906"]
["Arrendamientos Maxibienes Ltda",null,null,"8110247304"]
["Arrendamientos Merino Hermanos y Cia Ltda",null,null,"8909111100"]
["Arrendamientos Metrocasas Ltda",null,null,"8110034711"]
["Arrendamientos Montemar y Cia Ltda",null,null,"8000918171"]
["Arrendamientos Promobienes Ltda",null,null,"8110003505"]
["Arrendamientos Santa Fe EU",null,null,"8909077523"]
["Arrendamientos Villacruz LTDA",null,null,"8909180824"]
["Arrendamientos y Avaluos Umbral SAS",null,null,"9004313585"]
["Arrocera Gelvez SAS",null,null,"8905025725"]
["ARTE & FORMAS ",null,null,"791555305"]
["ARTE ELECTRONICO E.U.",null,null,"8110319055"]
["Arte y Decoracion la Caleñita y CIA Ltda",null,null,"8050012556"]
["ARTEPAN S.A.S",null,null,"8301183201"]
["Arukay SAS",null,null,"900753991"]
["Ascensores Andino S.A.S.",null,null,"9004377349"]
["Ascensores Schindler De Colombia S.A.S.",null,null,"8600052894"]
["Aseguradora Solidaria de Colombia",null,null,"8605246546"]
["ASEIA Asesores en Exelencia Integral",null,null,"9000654331"]
["Asequimicos SAS ",null,null,"8605125965"]
["Aservivienda Gestion Inmobiliaria Ltda",null,null,"8300803348"]
["Asesores en Internet Ltda.",null,null,"8110441024"]
["Asesores Inmopacifico SA",null,null,"8050141318"]
["Asesoria Graficas S.A.",null,null,"860048492"]
["Asesorias Academicas Milton Ochoa ",null,null,"771688506"]
["Asesorias,Servicios Ecologicos e Industriales",null,null,"8002016487"]
["Asg Agencia de Seguros Ltda",null,null,"8001094306"]
["ASIA IGNACIANA",null,null,"8909825644"]
["Asia Latinamerica Service S.A. CI",null,null,"9001040747"]
["Asiatrans Logistics S.A.S.",null,null,"9005413888"]
["Asiemcali",null,null,"8903081603"]
["Asistir Mascotas SAS",null,null,"9007819879"]
["Asoc de Padres de Flia del Colegio Colombo Britanico \"Asobritani",null,null,"9000355125"]
["Asoc Nal de Establecimie Privados de Asis al anciano Provida",null,null,"8600581768"]
["Asoc. de Padres de Familia del Colegio San Ignacio de Loyola",null,null,"8909843923"]
["Asoc. de Padres de Familia del Colegio San Jose de las Vegas",null,null,"8909819911"]
["ASOCEBU - ASOCIACION COLOMBIANA DE CRIADORES DE GANADO CEBU",null,null,"8600216665"]
["Asociacion  Para la Enseñanza ASPAEN-Colegio Juanambu Cali",null,null,"8600190213"]
["Asociación Amigos del Niño Ayudame",null,null,"8600554973"]
["Asociacion Antioqueña de Actuarios",null,null,"9005940028"]
["Asociacion Bancaria y de Entidades Financieras de Colombia",null,null,"8600068121"]
["Asociacion Barrios Unidos de Quibdo Ambuq EPSS ESS",null,null,"8180001400"]
["Asociacion Beneficio Cristiana Promotora de Desarrollo Integral ",null,null,"8002327273"]
["Asociacion Calidris",null,null,"8050029385"]
["Asociacion Club Campestre de Armenia",null,null,"8900012903"]
["Asociacion Club Canino Colombiano",null,null,"8600090943"]
["ASOCIACION COLEGIO GRANADINO",null,null,"8908051755"]
["Asociacion Colombiana de Acondicionamiento del Aire ACAIRE",null,null,"8605045891"]
["ASOCIACION COLOMBIANA DE ADMINISTRADORA - ASOFONDOS",null,null,"8002260612"]
["Asociacion Colombiana de Ciencia y Tecnologia de Alimentos -Acta",null,null,"8600556890"]
["Asociación Colombiana de Cirugia",null,null,"8600448155"]
["Asociacion Colombiana de Derecho Procesal Constitucional",null,null,"9002932989"]
["Asociacion Colombiana de Derechos de seguros Acoldese",null,null,"8600078205"]
["Asociacion Colombiana de Dermatologia y Cirugia Dermatologica ",null,null,"8001545201"]
["Asociación Colombiana de Facultades de Ingenieria",null,null,"860047524"]
["Asociación Colombiana de Hematologia y Oncologia",null,null,"830074774"]
["Asociación colombiana de Hematologia y Oncologia ACHO",null,null,"8605236921"]
["Asociacion Colombiana de Historiadores",null,null,"8001531537"]
["Asociacion Colombiana de Hospitales y clinicas",null,null,"860013750"]
["Asociacion Colombiana de Industriales de Calzado",null,null,"8300571352"]
["Asociacion Colombiana de Ingenieria Sanitaria Y Ambiental ACODAL",null,null,"8909842971"]
["Asociacion Colombiana de Ingenieros de Petroleos",null,null,"8600282442"]
["Asociacion Colombiana de Medicina Critica y Cuidado",null,null,"8300264576"]
["Asociacion Colombiana de Mercadeo",null,null,"8909007521"]
["Asociación Colombiana de Neumologia y Cirugia de Torax",null,null,"8600901811"]
["Asociación Colombiana de Porcicultores",null,null,"860325638"]
["Asociación Colombiana de Protección Radiológica",null,null,"8110401302"]
["Asociacion Colombiana de Reencauchadores de llantas y afines ANR",null,null,"9001838614"]
["Asociacion Colombiana de Reumatologia",null,null,"8600231290"]
["Asociacion Colombiana de Tecnicos de la Caña de Azucar Tecnicaña",null,null,"8903153315"]
["Asociacion Colombiana de Universidades",null,null,"8600257210"]
["Asociacion Colombiana Ingenieria Sanitaria y Ambiental",null,null,"860021927"]
["Asociacion Colombiana para el Avance de la Ciencia ACAC",null,null,"8902039449"]
["Asociacion Cristiana  de Jovenes-Donaciones",null,null,"8600188621"]
["Asociacion Cristiana de Jovenes de Bogota y Cundinamarca  ACJ-YM",null,null,"860018862"]
["Asociacion de Cabildos Indigenas del Cesar y la Guajira Dusakawi",null,null,"8240013981"]
["Asociación de Centros Comerciales De Colombia - Acecolombia",null,null,"8001899394"]
["Asociacion de Comisionistas y Corredores de Bolsas de Bienes y P",null,null,"8000953036"]
["Asociacion de Copropietarios Urbanizacion Rincon de Vergel",null,null,"800100513"]
["Asociacion de discapacitados \"ASODISVALLE\"",null,null,"8050198325"]
["Asociacion de Egresados de la Universidad Industrial de Santande",null,null,"8040015492"]
["Asociacion de Empresas Seguras",null,null,"805018249"]
["Asociacion de Exalumnas de Colegio Santa Maria Benedictas Aexben",null,null,"800118603"]
["Asociacion de Exalumnas del Marymount",null,null,"8605289825"]
["ASOCIACION DE EXALUMNOS DE LAS BENEDICTINAS SANTA MARIA AEXBEN",null,null,"8001186031"]
["Asociacion de Exalumnos del Colegio San Carlos",null,null,"8600656474"]
["Asociacion de Exalumnos del Gimnasio Moderno",null,null,"8300642256"]
["Asociacion de Fiduciarias",null,null,"8001348558"]
["Asociacion de Instrumentadoras de Antioquia AIDA ",null,null,"890981689"]
["Asociacion De Intermediacion Laboral Atlanticense AILA",null,null,"9001665625"]
["Asociacion de Padres de Alumnas del Gimnasio Femenino",null,null,"8600745451"]
["Asociacion de Padres de Alumnos APA Centro Cultural y Educativo ",null,null,"8000349310"]
["Asociacion de Padres de Colegio English School \"TESPAS\"",null,null,"8000447252"]
["ASOCIACION DE PADRES DE FAMILIA COLEGIO CUMBRES",null,null,"8110107374"]
["Asociacion de Padres de Familia del CIEDI - ASOCIEDI",null,null,"8300480173"]
["Asociacion de Padres de Familia del Colegio Anglo Americano",null,null,"8300267484"]
["Asociacion de Padres de Familia del Colegio Bolivar",null,null,"8903214894"]
["Asociacion de Padres de Familia del Colegio Fontan",null,null,"8001252962"]
["Asociacion de padres de Familia del Colegio Los Nogales",null,null,"8300205119"]
["Asociacion de Padres de Familia del Colegio Santa Maria",null,null,"8300553407"]
["Asociacion de Padres de Familia del Gimnasio Campestre",null,null,"8600911054"]
["Asociacion de Padres de Familia del Gimnasio de los Cerros",null,null,"8300482836"]
["Asociacion de Padres de Familia del Gimnasio la Fontana ",null,null,"8000748488"]
["Asociacion de Padres de Familia del Gimnasio la Montaña",null,null,"8001956348"]
["Asociacion de Padres de Familia del Gimnasio Moderno",null,null,"8600432248"]
["Asociacion de Padres del Colegio Aleman - ASOPACAL",null,null,"8909824961"]
["Asociación de Padres del Colegio Andino",null,null,"8606001526"]
["Asociacion de Propietarios Meridor",null,null,"8001971733"]
["Asociacion de Usuarios del Acueducto Leonardo Hoyos ESP",null,null,"8001398805"]
["Asociacion Deportivo Cali",null,null,"8903011601"]
["Asociacion Educando con Cristo",null,null,"8300815317"]
["Asociacion Empresarial Alianza",null,null,"8050294790"]
["ASOCIACION ESCOLAR HELVETIA",null,null,"8600142751"]
["Asociacion Expodental Colombia",null,null,"9000695676"]
["Asociacion Futuros Valores de Cartagena de Indias",null,null,"8000394677"]
["Asociación Gremial y Sindical de Cirujanos de Ortopedia y Trauma",null,null,"900597269"]
["Asociacion Grupo Colombiano de Trabajo Sobre Glaucoma",null,null,"9000511255"]
["Asociacion Hortifruticola de Colombia - Asohofrucol",null,null,"8300115095"]
["Asociacion Hotelera y Turistica de Colombia COTELCO",null,null,"8001440000"]
["Asociación Hotelera y Turística de Colombia COTELCO (Occidente)",null,null,"8600390325"]
["Asociacion Indigena del Cauca",null,null,"8170017733"]
["Asociacion Integral para el desarrollo de Antioquia Asointegral ",null,null,"900108525"]
["Asociacion Internacional de Ferias de America - AFIDA",null,null,"9002521921"]
["Asociacion Juancho Correlon",null,null,"8050210587"]
["ASOCIACION JUVENIL Y AMBIENTAL - ACULCAÑA",null,null,"8301203372"]
["Asociacion Latinoamericana de Arbitraje",null,null,"9004168956"]
["Asociación Latinoamericana de Parques y cementerios ALPAR",null,null,"8110070082"]
["Asociacion Medellin de lucha contra el cancer - Medicancer ",null,null,"8909192721"]
["Asociación Mutual Corfeinco",null,null,"8600077830"]
["Asociacion Mutual la Esperanza ASMET Salud ESS EPS",null,null,"8170002483"]
["Asociacion Mutual SER Empresa Solidaria de Salud EPS",null,null,"8060083947"]
["Asociacion Nacional de Cajas de Compensacion Familiar",null,null,"8600327495"]
["Asociacion Nacional de Empresarios de Colombia ANDI",null,null,"8909007625"]
["Asociacion Nacional de Trabajadores Independientes - Digore",null,null,"9000579992"]
["Asociacion Nacional de Trasplantados",null,null,"8000140257"]
["Asociacion Obras Sociales en Beneficio de la Policia Nacional",null,null,"8605227473"]
["Asociacion Pacto Colombia",null,null,"8000263522"]
["Asociacion para el Desarrollo de los Desplazados de la nueva Col",null,null,"9000690636"]
["ASOCIACION PARA LA ENSEÑANZA ASPAEN",null,null,"8600190214"]
["ASOCIACION PARA LA ENSEÑANZA ASPAEN - CEREZOS",null,null,"8600190210"]
["ASOCIACION PARA LA ENSEÑANZA ASPAEN - TAYANA",null,null,"8600190215"]
["ASOCIACION PARA LA ENSEÑANZA ASPAEN - URAPANES",null,null,"8600190211"]
["Asociacion Tejido Humano",null,null,"8301155995"]
["Asociados del Transporte SA - Atsa SA",null,null,"8050140936"]
["Asomicrofinanzas",null,null,"9003087091"]
["Asonormando",null,null,"8600088682"]
["Asopadres CNG",null,null,"9000792760"]
["Asopadres IAM",null,null,"830018433"]
["ASOPANGLO",null,null,"8600270140"]
["ASOPAX",null,null,"9003775867"]
["Asoportales",null,null,"8000391095"]
["Asopredios S.A.S.",null,null,"8002098268"]
["ASPAEN GIMNASIO CARTAGENA",null,null,"860019021"]
["Aspaen Gimnasio Cartagena de Indias",null,null,"08600190219"]
["ASPAEN GIMNASIO IRAGUA",null,null,"8600190219"]
["ASPAEN Gimnasio Los Cerezos (cibercolegios)",null,null,"86001902190"]
["ASPAEN PEPE GRILLO ALBORADA",null,null,"8600190212"]
["Aspaen Preescolar Urapanes",null,null,"86001902191"]
["Aspect Languaje Schools LTDA",null,null,"8001902184"]
["Asset Tutores SAS",null,null,"900555573"]
["Asul S.A.",null,null,"8160012491"]
["ASURBE  - Asociacion de Propietarios, arrendatarios y administra",null,null,"8110313665"]
["Atentus Colombia SAS",null,null,"9004628865"]
["ATHLETIC DE COLOMBIA S.A.",null,null,"8001538321"]
["ATHLETIC SPORT INC LTDA",null,null,"8300035837"]
["Atletico Nacional S.A",null,null,"9004641874"]
["Atrapalo Colombia S.A.S.",null,null,"9004134761"]
["Atuesta Ospina Ltda.",null,null,"8300318151"]
["AUDIOVISUALES IMAGEN Y SONIDO SAS",null,null,"8300967412"]
["Auque Hidalgo E Hijas Sencs",null,null,"900481627"]
["Auros Copias S.A.",null,null,"8600457524"]
["Austral Lens Colombia SAS",null,null,"9004001357"]
["Auto Centro Motores Computarizados S.A.S.",null,null,"8002283078"]
["Auto Marcol S.A.S",null,null,"9005312389"]
["Auto Rines y Llantas Ltda",null,null,"8300517537"]
["Autoamerica S.A.",null,null,"8909046159"]
["Autofax S.A.",null,null,"8110256966"]
["Autofinanciera Colombia SA",null,null,"8600304121"]
["Autofusa S.A.",null,null,"8906000201"]
["Autojapones SA",null,null,"816004226"]
["Autolarte S.A.",null,null,"8909000818"]
["AUTOMA SAS",null,null,"8301471929"]
["Automontaña S.A.",null,null,"8909223231"]
["Automotora Nacional SA",null,null,"860007884"]
["Automotores de la Sierra SAS",null,null,"8002491555"]
["Automotores Del Litoral SA",null,null,"8020128282"]
["Automotores Hyundai Del Pacifico SA",null,null,"8160028868"]
["Automotriz Caldas Motor S.A.",null,null,"8908023772"]
["Automotriz Escandinava SAS",null,null,"9002417844"]
["Autosuperior SAS",null,null,"800029569"]
["AUTOTECNICA COLOMBIANA S.A. - AUTECO",null,null,"8909003170"]
["Ava S.A.",null,null,"8110176464"]
["Avance Juridico Casa Editorial Ltda",null,null,"8300413262"]
["Avancop Cooperativa de Ahorro y Credito",null,null,"8909812122"]
["Avantec Mayorista S.A.S.",null,null,"9004087789"]
["AVANTEL S.A.S.",null,null,"8300160461"]
["Avanzar Inmobiliaria LTDA",null,null,"9002117086"]
["Ave Group  SAS",null,null,"9005952613"]
["Avia Marketing Ltda",null,null,"8301140058"]
["AVIANCA S.A.",null,null,"8901005776"]
["Aviatur - Mucho Viaje",null,null,"860000018"]
["Aviatur S.A.",null,null,"8600000182"]
["Avila Wagner Cia Ltda",null,null,"8140019699"]
["AVISOR TECHNOLOGIES LTDA",null,null,"8300986588"]
["AVON Colombia Ltda",null,null,"9000419147"]
["AXESAT S.A.",null,null,"8301190511"]
["Axio S.A.",null,null,"8110144188"]
["Axionlog S.A.S.",null,null,"900354036"]
["Aya Ltda",null,null,"8160069871"]
["AYR INMOBILIARIA CONSTRUCTORA LTDA",null,null,"900618332"]
["Ayura Motor S.A.",null,null,"8909423101"]
["Ayurveda Company SAS",null,null,"9004745482"]
["Azteca Comunicaciones Colombia S.A.S.",null,null,"9005481020"]
["Azul y Blanco Millonarios FC SA",null,null,"900430878"]
["Azules Medicas.Com",null,null,"9007424563"]
["B Quantum de Colombia SAS",null,null,"9006821198"]
["B&C COMERCIALIZADORA SAS",null,null,"9002949468"]
["B&P Bienes y Proyectos SAS",null,null,"830114356"]
["B.D. Ltda.",null,null,"8000254271"]
["B2C Global E.U",null,null,"8301357592"]
["Babidibu S.A.",null,null,"8301235801"]
["Babies And Kinder S.A.S.",null,null,"9003196535"]
["Bachillerato Diversificado inca Ltda",null,null,"8901169571"]
["BACO CE S.A.S.",null,null,"9003494053"]
["Balcones de Castropol",null,null,"9004217625"]
["Banco Caja Social S.A. (Comercio)",null,null,"860007335"]
["BANCO COMERCIAL AV VILLAS",null,null,"860035827"]
["Banco Cooperativo Coopcentral",null,null,"890203088"]
["Banco Corpbanca Colombia S.A",null,null,"890903937"]
["BANCO DAVIVIENDA",null,null,"8600343130"]
["Banco Davivienda S.A. (Zona Pagos)",null,null,"8600343131"]
["BANCO DE CREDITO DE COLOMBIA Helm",null,null,"86000766031"]
["BANCO DE OCCIDENTE - (LEASING DE OCCIDENTE)",null,null,"860503370"]
["Banco de Occidente S.A.",null,null,"89030027940"]
["Banco de Occidente S.A. (Pagos Online)",null,null,"890300279"]
["Banco de Occidente S.A. (Realtech)",null,null,"8903002790"]
["BANCO FALABELLA S A",null,null,"9000479818"]
["Banco Finandina S.A.",null,null,"8600518946"]
["Banco Pichincha SA",null,null,"890200756"]
["Bancolombia PCSS",null,null,"8909039388"]
["Bancolombia S.A.",null,null,"890903938"]
["Bancoomeva",null,null,"900406150"]
["BANSUPERIOR",null,null,"8600316295"]
["Baños Brasilia Continental Ltda.",null,null,"900248559"]
["Baños Brasilia S.A.S.",null,null,"9004914415"]
["Barranquilla Container Terminal S.A.",null,null,"9003647677"]
["Barranquilla Internacional Terminal Company S.A.",null,null,"900359452"]
["Barsilay SAS",null,null,"9003985226"]
["BASF QUIMICA COLOMBIANA S.A.",null,null,"8600561508"]
["Basilio Klonix y Cia S.A.",null,null,"8001287096"]
["Bavaria SA",null,null,"8600052246"]
["Bbl Ventas por Catalogo SAS",null,null,"9004633837"]
["BBVA Colombia Leasing",null,null,"8600030203"]
["BBVA Seguros Colombia S.A.",null,null,"8002260984"]
["BBVA Seguros Vida Colombia S.A.",null,null,"800240882"]
["BCD Travel",null,null,"8000786924"]
["BCI Ingenieria S.A.S.",null,null,"8000856061"]
["BD Gourmet S.A.S.",null,null,"9005174853"]
["BDN05 SAS",null,null,"9005895795"]
["Be Fast SAS",null,null,"9008578435"]
["Beatriz Stella Zuluaga Arias - Hostal Veraneras del Quindio",null,null,"419237079"]
["Bedford Colombia SAS",null,null,"9005006823"]
["Bel Star S.A.",null,null,"800018359"]
["BELIA GOURMET",null,null,"716965661"]
["Bellanik S.A.S.",null,null,"9003647430"]
["Bellatela S.A.",null,null,"8001380821"]
["Bellota Colombia SA CI",null,null,"8908079767"]
["Beltran Pardo Abogados & Asociados SAS",null,null,"9007961539"]
["Bemsa SAS",null,null,"8909370841"]
["Benavides Melo S.A.S.",null,null,"8002487012"]
["BENEFICENCIA DEL VALLE",null,null,"8903990270"]
["Beneficiencia de Antioquia",null,null,"8909800581"]
["BEO COLOMBIA",null,null,"9004643412"]
["Berkley International Seguros Colombia SA",null,null,"9008149161"]
["BERLINAS DEL FONCE TRANSPORTE Y TURISMO S.A.",null,null,"8600156241"]
["BERLITZ COLOMBIA S.A",null,null,"8605112325"]
["Bernardo Sanchez - Diseños Berali Joyas",null,null,"13812224"]
["Bestway Colombia S.A.S. ",null,null,"9000579312"]
["Beta Propiedad Raiz Ltda",null,null,"9000101631"]
["BG LOGISTICS S..A.",null,null,"8301165911"]
["Bicimaniacs SAS",null,null,"900764301"]
["BIEN RAIZ S.A.",null,null,"8909376555"]
["BIENCO S.A. I.N.C.",null,null,"8050000824"]
["Bienes Raíces Lorenca Ltda",null,null,"8001269015"]
["Bienes SAS",null,null,"8050023029"]
["Bienes y Bodegas SAS",null,null,"9007420965"]
["Bienes y Desarrollos S.A.S",null,null,"8050160182"]
["Bienes y Lugares S.A.S.",null,null,"9000705449"]
["BIG Ltda",null,null,"8909201685"]
["BIG PASS S.A.S",null,null,"800112214"]
["Biiva Internacional SAS",null,null,"9008173189"]
["Bio Crop SAS",null,null,"815004620"]
["BIO GERENCIA VIRTUAL LTDA",null,null,"8110237981"]
["Biodentales de Colombia LTDA",null,null,"860041926"]
["Biodistribuciones Terra SAS",null,null,"9004720776"]
["Biológicos Y Contaminados S.A.S E.S.P",null,null,"900448985"]
["Biomec Ltda.",null,null,"9001921568"]
["Biosystems Antioquia SA",null,null,"8110035132"]
["Bivalo Inmobiliaria SAS",null,null,"8600618949"]
["Bizglo de Colombia S.A.",null,null,"9000803651"]
["Blancandina Colombia S.A.",null,null,"9000994526"]
["Blashan Realty Inmobiliaria SAS",null,null,"900260973"]
["Blogosfera Producciones SAS",null,null,"9002653988"]
["Blooming´s SAS",null,null,"9005798314"]
["BLUEFIELDS NON-PROFITFOUNDATION",null,null,"9000490157"]
["Bodega del Mueble S.A.",null,null,"8050154808"]
["Bodega y Cocina SA",null,null,"8300448851"]
["Bodegas Empaque y Transporte Be&T Ltda",null,null,"8600509197"]
["Bogota Logistics S.A.S.",null,null,"9004053972"]
["BOLSA DE VALORES DE COLOMBIA",null,null,"8300854261"]
["Boltcom LTDA",null,null,"900274067"]
["Bonem  SA",null,null,"8909018667"]
["Bookohotel Ltda.",null,null,"9001561581"]
["Books and Books Ltda.",null,null,"8002025104"]
["Bordados Janette De Cartago S.A.",null,null,"9004419301"]
["Bose Importamarket SAS",null,null,"9001543143"]
["Bosque Madero Condominio Club PH",null,null,"900621210"]
["Bosques de Gratamira II",null,null,"830053846"]
["Boston Medical Group",null,null,"9002913734"]
["BOTICA SAP LTDA",null,null,"9000800386"]
["Boticario Colombia S.A.S",null,null,"9006110196"]
["Box Express Courier S.A.S",null,null,"8050124931"]
["BP Surticreditos SAS",null,null,"9002672520"]
["Bracket SAS",null,null,"8001216548"]
["Bridgestone de Colombia S.A.",null,null,"8300577068"]
["British Council - Consejo Britanico",null,null,"8999990665"]
["Broker Inmobiliaria De La Sabana Ltda",null,null,"9001989395"]
["BROOM COLOMBIA S.A.",null,null,"8301134357"]
["BTB Group SAS",null,null,"9004405771"]
["BTG Pactual Fondo Liquidez",null,null,"9001291356"]
["BTG PACTUAL S.A. COMISIONISTA DE BOLSA",null,null,"8909071570"]
["BTG PACTUAL S.A. COMISIONISTA DE BOLSA (Enfirme)",null,null,"890907157"]
["BTN Time De Colombia S.A.S.",null,null,"900412031"]
["Buena compañia SAS",null,null,"900482637"]
["Buenavista Constructora y Promotora S.A.",null,null,"8050293841"]
["BUFETE INMOBILIARIO INTERNACIONAL S.A.",null,null,"8300558984"]
["Bulltek S.A.S.",null,null,"9006185214"]
["Bumble Bee S.A.S.",null,null,"9005152668"]
["Bureau Travel SAS",null,null,"9005478062"]
["BusCenter SAS",null,null,"9003387598"]
["Business and Logistics International SAS",null,null,"9005848529"]
["Businessmind Colombia SA",null,null,"9001059791"]
["C I Pacific Trading Group S.A",null,null,"8001253527"]
["C&C Inversiones Inmobiliarias SAS",null,null,"9000718691"]
["C&C Iversiones Penta SAS",null,null,"9003771121"]
["C&F Internacional  SAS",null,null,"8110239922"]
["C.E Soft E.U. ",null,null,"805029461"]
["C.I Distrihogar S.A.S",null,null,"8001866561"]
["C.I GAROTAS LTDA",null,null,"8001044399"]
["C.I Industrias FH S.A",null,null,"800256322"]
["C.I INVERSIONES VOZIPHONE LTDA",null,null,"9001726169"]
["C.I Surticascos Bogota SAS",null,null,"9000928423"]
["C.I Zigzag Wear S.A.S.",null,null,"9003639321"]
["C.I. COMERCIAL LA QUINTA ESTACION LTDA.",null,null,"8301358472"]
["C.I. Conindex S.A.",null,null,"8002195109"]
["C.I. Constructora de Iluminación y Eléctricos S.A. CI CILES S.A.",null,null,"8002122403"]
["C.I. DISAN S.A.",null,null,"8600488676"]
["C.I. HERMECO S.A.",null,null,"8909241676"]
["C.I. KROIL S.A.",null,null,"9000240356"]
["C.I. Talsa ",null,null,"8000273749"]
["C.I. TRADE ONLINE PRO LTDA (C,I, TOP LTDA)",null,null,"9001440859"]
["C.I. Turistica de la Cultura Cafetera S.A. - CITURC S.A.",null,null,"9001762419"]
["C.I.V.R. 9 LTDA",null,null,"8050297265"]
["C.R. Parque Central del Rio Primera Etapa PH",null,null,"900267637"]
["C.T.A. de Servicio de Vigilancia y Seguridad Privada Cotraser",null,null,"8000853991"]
["C.V Seguridad Divisar LTDA",null,null,"8903313899"]
["C3 Care Car Center SAS",null,null,"900298158"]
["CA Credifinanciera SA",null,null,"9001682311"]
["Cable Cauca SA",null,null,"8170017701"]
["Caceres y Ferro Finca Raiz S.A.",null,null,"9002523182"]
["CACHARRERIA MUNDIAL S.A.S.",null,null,"8909034362"]
["CADIEP Distribuciones S.A.S",null,null,"832007865"]
["Cafe de Santa Barbara",null,null,"9003922113"]
["Cafe Quindio S.A.S",null,null,"9002733801"]
["CAFESALUD EPS S.A",null,null,"8001409496"]
["CAJA COLOMBIANA DE SUBSIDIO FAMILIAR COLSUBSIDIO",null,null,"8600073361"]
["Caja Cooperativa Credicoop",null,null,"860013717"]
["CAJA COOPERATIVA PETROLERA",null,null,"8600137430"]
["CAJA DE AUXILIOS Y DE PRESTACIONES DE ACDAC",null,null,"8600073798"]
["CAJA DE COMP. FAMILIAR DEL CAQUETA -COMFACA-",null,null,"8911900472"]
["CAJA DE COMPENSACION  FAMILIAR DE CALDAS CONFAMILIARES",null,null,"8908064905"]
["CAJA DE COMPENSACION FAMILIAR CAFAM",null,null,"8600135703"]
["Caja de Compensación Familiar CAFAM",null,null,"860013570"]
["CAJA DE COMPENSACION FAMILIAR CAJACOPI ATLANTICO",null,null,"8901020441"]
["CAJA DE COMPENSACION FAMILIAR CAMACOL",null,null,"8909008401"]
["CAJA DE COMPENSACION FAMILIAR CAMPESINA - COMCAJA -",null,null,"8002319694"]
["CAJA DE COMPENSACION FAMILIAR COMFENALCO CUNDINAMARCA",null,null,"8600066060"]
["CAJA DE COMPENSACION FAMILIAR DE ANTIOQUIA COMFAMA",null,null,"8909008419"]
["CAJA DE COMPENSACION FAMILIAR DE BARRANCABERMEJA CAFABA",null,null,"8902702755"]
["CAJA DE COMPENSACION FAMILIAR DE BARRANQUILLA",null,null,"8901020022"]
["CAJA DE COMPENSACION FAMILIAR DE BOYACA",null,null,"8918002138"]
["CAJA DE COMPENSACION FAMILIAR DE CARTAGENA",null,null,"8904801101"]
["CAJA DE COMPENSACION FAMILIAR DE CORDOBA COMFACOR",null,null,"8910800051"]
["Caja de Compensacion Familiar de Cundinamarca COMFACUNDI",null,null,"8600459047"]
["CAJA DE COMPENSACION FAMILIAR DE LA GUAJIRA",null,null,"8921150065"]
["CAJA DE COMPENSACION FAMILIAR DE NARIÑO",null,null,"8912800081"]
["CAJA DE COMPENSACION FAMILIAR DE SAI Y PROV CAJASAI",null,null,"8924003205"]
["CAJA DE COMPENSACION FAMILIAR DEL AMAZONAS",null,null,"8000031226"]
["CAJA DE COMPENSACION FAMILIAR DEL CAUCA COMFACAUCA",null,null,"8915001820"]
["CAJA DE COMPENSACION FAMILIAR DEL CHOCO",null,null,"8916000918"]
["CAJA DE COMPENSACION FAMILIAR DEL HUILA",null,null,"8911800082"]
["CAJA DE COMPENSACION FAMILIAR DEL MAGDALENA",null,null,"8917800933"]
["CAJA DE COMPENSACION FAMILIAR DEL ORIENTE",null,null,"8905006756"]
["CAJA DE COMPENSACION FAMILIAR DEL PUTUMAYO",null,null,"8912003378"]
["CAJA DE COMPENSACION FAMILIAR DEL SUR DEL TOLIMA CAFASUR",null,null,"8907047370"]
["CAJA DE COMPENSACION FAMILIAR DEL VALLE DE CAUCA - COMFANDI",null,null,"8903032085"]
["CAJA DE COMPENSACION FAMILIAR REGIONAL DEL META COFREM",null,null,"8920001463"]
["CAJA DE COMPENSACION FAMILIAR RISARALDA",null,null,"8914800001"]
["Caja De Prevision Social Municipal de Bucaramanga",null,null,"8902048517"]
["CAJA SANTANDEREANA DE SUBSIDIO FAMILIAR CAJASAN",null,null,"8902001061"]
["Caldas Motor S.A",null,null,"8908001000"]
["Calorcol S.A.S. ",null,null,"811034480"]
["Calzado Azaleia De Colombia Ltda.",null,null,"8300570820"]
["CAM. DE COMERCIO BARRANQUILLA",null,null,"8901020101"]
["Camara Colombiana de Comercio Electronico",null,null,"9002233196"]
["CAMARA COLOMBIANA DE LA CONSTRUCCION CAMACOL REGIONA ANTIOQUIA",null,null,"8909008544"]
["Camara Colombiana de la Energia",null,null,"9006116955"]
["Camara Colombiana de la Infraestructura",null,null,"8301270957"]
["Camara colombiana del libro",null,null,"8600066014"]
["Camara Colombo Ecuatoriana De Industria,Comercio E Integracion",null,null,"860530642"]
["Camara Colombo Japonesa de Comercio e Industria",null,null,"8000437835"]
["Camara de Comercio  de Sogamoso",null,null,"8918550668"]
["CAMARA DE COMERCIO CARTAGENA",null,null,"8904800411"]
["Camara de Comercio de Armenia",null,null,"8900003321"]
["Camara de Comercio de Barrancabermeja",null,null,"8902016760"]
["CAMARA DE COMERCIO DE BOGOTA",null,null,"8600073229"]
["CAMARA DE COMERCIO DE BUCARAMANGA",null,null,"8902001101"]
["Camara de Comercio de Buenaventura",null,null,"8903990342"]
["CAMARA DE COMERCIO DE BUGA",null,null,"8913800184"]
["CAMARA DE COMERCIO DE CALI",null,null,"8903990011"]
["Camara de Comercio de Cali [Tu Compra]",null,null,"890399001"]
["Camara de Comercio de Cartago",null,null,"8919005392"]
["Camara de Comercio de Casanare",null,null,"8000134699"]
["Camara de Comercio de Chinchina",null,null,"8908012581"]
["CAMARA DE COMERCIO DE CUCUTA",null,null,"8905005131"]
["Camara de Comercio de Dosquebradas",null,null,"8001016320"]
["Camara de Comercio de Duitama",null,null,"8918550256"]
["Cámara de Comercio de Facatativa",null,null,"8605221363"]
["Camara de Comercio de Florencia para el Caqueta",null,null,"8911900125"]
["Camara de Comercio de Girardot",null,null,"8906800006"]
["Camara de Comercio de Honda",null,null,"8907006421"]
["Camara de Comercio de Magangue",null,null,"8904810801"]
["Camara de Comercio de Manizales",null,null,"8908010426"]
["CAMARA DE COMERCIO DE MEDELLIN",null,null,"8909050803"]
["Camara de Comercio de Monteria",null,null,"8910800194"]
["Camara de Comercio de Neiva",null,null,"8911800004"]
["Camara de Comercio de Palmira",null,null,"8913800120"]
["Camara de Comercio de Pamplona",null,null,"8905030972"]
["Camara de Comercio de Pasto",null,null,"8912800051"]
["CAMARA DE COMERCIO DE PEREIRA",null,null,"8914006696"]
["Cámara de Comercio de San Andrés Islas",null,null,"8924000802"]
["Camara de Comercio de Santa Marta",null,null,"8917801609"]
["Camara de Comercio de Sevilla",null,null,"8919021865"]
["Camara de comercio de tulua",null,null,"8919003001"]
["Camara de Comercio de Tumaco",null,null,"891200310"]
["Camara de Comercio de Tunja",null,null,"8918002381"]
["Camara de Comercio de Uraba",null,null,"8909846594"]
["Camara de comercio de Valledupar",null,null,"8923000724"]
["Camara de Comercio de Villavicencio",null,null,"8920001021"]
["CAMARA DE COMERCIO DEL ABURRA SUR",null,null,"8001574278"]
["Camara de comercio del Amazonas",null,null,"8600444453"]
["Camara de Comercio del Choco",null,null,"8916000031"]
["Camara de Comercio del Magdalena Medio y Nordeste Antioqueño",null,null,"8000299722"]
["Camara de Comercio del Oriente Antioqueño",null,null,"8000155514"]
["Camara De Comercio Del Piedemonte Araucano",null,null,"8001879539"]
["Camara de comercio del putumayo",null,null,"8912241067"]
["Camara de comercio del sur y oriente del tolima",null,null,"8907054539"]
["Camara de Comercio Sincelejo",null,null,"8922800132"]
["Camila Toro Trujillo",null,null,"1053798894"]
["Camilo Andres Arias Martinez",null,null,"80770387"]
["Caminantes Viajes y Turismo Ltda",null,null,"8001638291"]
["CAMINO DE LAS AGUAS S.A.",null,null,"9002224228"]
["Caminos de Colombia Promotora y Guias Turisticas",null,null,"9000943295"]
["Caminos de Colombia Promotora y Guias Turisticas EU",null,null,"900094329"]
["Camisetas en Linea.com LTDA",null,null,"900255904"]
["Campos Azules - Bluefields",null,null,"900366778"]
["Campos Ferreteros Industriales SAS-Ferricampos",null,null,"9004524741"]
["Camposanto Metropolitano de la Arquidiocesis de Cali",null,null,"8903040495"]
["Canales Electronicos de Ventas SAS",null,null,"9005860681"]
["Canapro O.C",null,null,"8918006528"]
["Canariam S.A.S",null,null,"8110364910"]
["Canguro International SA",null,null,"8020111280"]
["CANGUROS MOM´S AND BABIES LTDA.",null,null,"9000477685"]
["CANO NOTTA HNOS LTDA.",null,null,"8600345394"]
["Cantabiblia",null,null,"716734062"]
["Capital Colombia Com S.A.S.",null,null,"9003896502"]
["CAPITAL SALUD EPSS SAS",null,null,"9002983729"]
["Capitales  SAS",null,null,"8050088002"]
["Capitalizadora Colpatria S.A.",null,null,"8600029454"]
["CAPRECOM",null,null,"8999990260"]
["CAPRESOCA EPS ",null,null,"8918560007"]
["Car Center International S.A.S.",null,null,"8110218584"]
["Car Group SAS",null,null,"9004709462"]
["Car Hyundai S.A.",null,null,"8901085274"]
["Car Integrado SA",null,null,"8909399985"]
["Car´s Turismo Ltda",null,null,"8300926281"]
["Caracol Television SA",null,null,"8600256742"]
["Caracolitos S.A.S.",null,null,"8603518517"]
["Caralz LTDA",null,null,"8110244141"]
["Carbotintas S.A.S.",null,null,"8600421102"]
["Carco S.A",null,null,"8600001893"]
["Cardenas Vega Asesores SAS",null,null,"900688400"]
["Cargo FMA S.A.",null,null,"8300128507"]
["Cargo Zone Etc S.A.S",null,null,"900129344"]
["Cargodinamica S.A.S. ",null,null,"900445952"]
["Caribbean American Shipping Agency LTDA.",null,null,"9000888127"]
["Carlos ADS S.A.S.",null,null,"9004786307"]
["Carlos Andres Botero Bustillo",null,null,"799441569"]
["Carlos Andres Vallejo Parra",null,null,"168601923"]
["Carlos Duran y Asociados LTDA",null,null,"8600694928"]
["Carlos Jaramillo",null,null,"6254341"]
["Carlson Wagonlit Colombia S.A.",null,null,"8605098041"]
["Carmenza Linares Castellanos",null,null,"52195336"]
["Carolina Chica Marin",null,null,"215265130"]
["Carolina Salgado Alvarez - Floristeria Jardin  los Olivos",null,null,"391794043"]
["Carpas Miami S.A.S.",null,null,"900405901"]
["Carrefour - Grandes Superficies de Colombia",null,null,"8300256388"]
["Carreño Tours Limitada",null,null,"8001869724"]
["Cartera Colectiva Abierta Fiducor",null,null,"8001267373"]
["CARULLA VIVERO S.A.",null,null,"8600020959"]
["Carvajal Educacion SAS",null,null,"800099903"]
["Carvajal Empaques SA",null,null,"8903190476"]
["Carvajal Soluciones Educativas SAS",null,null,"9006828418"]
["Carvajal Tecnologia Y Servicios S.A.S.",null,null,"8903211510"]
["Casa Britanica S.A",null,null,"890905627"]
["Casa Carolina SAS",null,null,"9004795881"]
["Casa de Bienes Raices Ltda.",null,null,"8002352577"]
["Casa De Colombia En Medellin Limitada ",null,null,"8909008949"]
["Casa de Software Prosof SAS",null,null,"900320258"]
["Casa del Bombillo 2",null,null,"8914108283"]
["Casa del Bombillo N° 3 S.A.S.",null,null,"8001807483"]
["Casa del Turismo Cali Ltda",null,null,"8050150124"]
["Casa Editoria el Tiempo S.A. /Pagos Online",null,null,"860001022"]
["CASA EDITORIAL EL TIEMPO S.A.",null,null,"8600010227"]
["Casa Ferretera SA",null,null,"8909370105"]
["CASA MADRE CANGURO ALFA S.A",null,null,"8050251861"]
["Casa Magna S.A.",null,null,"8110313135"]
["Casa Nacional del Profesor - Canapro",null,null,"8600059211"]
["Casa Restrepo S.A.",null,null,"8908017701"]
["Casa Sobre la Roca Iglesia Cristiana",null,null,"8300108960"]
["Casa Toro Automotriz S.A.",null,null,"8300049938"]
["Casmar de Colombia LTDA",null,null,"8001378813"]
["Casona Real Hotel S.A.S.",null,null,"8301074187"]
["Castillo Gutierrez S.A.S.",null,null,"8000102982"]
["Castro y Rincon Ltda - Colegio Bilingüe Buckingham (Tu Compra)",null,null,"8605174232"]
["Cater Partes S.A.S.",null,null,"8001453601"]
["Catherine Winograd",null,null,"436264132"]
["Cava Club S.A.S.",null,null,"900456336"]
["Cava Club S.A.S. (Portal Bancolombia)",null,null,"9004563361"]
["Cava del Puro de Bolivar Ltda",null,null,"8060063013"]
["CCF COLSUBSIDIO",null,null,"860007336"]
["CCF DE ANTIOQUIA COMFAMA",null,null,"890900841"]
["CDA Automas Ltda.",null,null,"9001353443"]
["CEC - GIMNASIO DE LOS CERROS",null,null,"8001435576"]
["Cecilia Payan SA Dulces Del Valle SA",null,null,"8913002820"]
["Cedelec Centro de distrubucion Electrica SAS",null,null,"8050223547"]
["Celar Limitada",null,null,"8001697994"]
["Cemento Atlantico S.A",null,null,"9005709644"]
["Cementos Argos S.A.",null,null,"890100251"]
["Cementos Tequendama SAS",null,null,"8300992382"]
["CEMEX COLOMBIA S.A.",null,null,"8600025231"]
["Centaurus Mensajeros SA",null,null,"860533311"]
["Central Cooperacion De Servicios Integrados Ltda",null,null,"8901176833"]
["Central Cooperativa de Servicios Funerarios del Llano",null,null,"8002249728"]
["CENTRAL DE ARRENDAMIENTOS INVESTIGACIONES Y COBRANZAS LTDA",null,null,"900184686"]
["CENTRAL DE INVERSIONES S.A.",null,null,"8600429455"]
["Central de Rodamientos S.A.",null,null,"8909009109"]
["Central de Soldaduras y Protección Industrial S.A.",null,null,"8901102941"]
["Central Hidroelectrica de Caldas S.A. E.S.P",null,null,"8908001286"]
["Centrales Electricas de Nariño S.A. ESP",null,null,"8912002008"]
["CENTRALES ELECTRICAS DEL NORTE DE SANTANDER SA ESP",null,null,"8905005149"]
["Centralquipos SAS",null,null,"8010016769"]
["Centro Aceros SA",null,null,"8000210138"]
["Centro Colombo Americano",null,null,"8908010970"]
["Centro Colombo Americano",null,null,"8914008037"]
["Centro Colombo Americano de Medellin",null,null,"890900913"]
["Centro Comercial Avenida Chile",null,null,"860509249"]
["Centro Comercial Bolivar",null,null,"8000599824"]
["Centro Comercial Cabecera IV Etapa",null,null,"800156167"]
["Centro Comercial Oviedo PH",null,null,"890923716"]
["Centro Comercial San Diego P.H.",null,null,"8909117091"]
["Centro Comercial Unicentro Palmira",null,null,"9006794421"]
["Centro Comercial y Empresarial Ricaurte",null,null,"8000249561"]
["Centro Cultural Colombo Americano",null,null,"8903004450"]
["CENTRO CULTURAL Y EDUCATIVO ESPAÑOL REYES CATOLICOS",null,null,"8600773489"]
["Centro de Abastos Agropecuarios S.A.S.",null,null,"9000248527"]
["Centro de Adoracion Para todas Las Naciones",null,null,"8002297946"]
["Centro de Alta Tecnologia P.H",null,null,"8301307052"]
["Centro de Bioinformatica y Biologia Computacional de Colombia",null,null,"9004044826"]
["Centro de Diagnostico Automotor del Eje Cafetero",null,null,"900279524"]
["CENTRO DE DIAGNOSTICO AUTOMOTOR DEL VALLE LTDA.",null,null,"8903114250"]
["Centro de enseñanza Automovilistica Carros Activos SAS",null,null,"9004939748"]
["CENTRO DE ENSEÑANZA PRECOZ - LA ALEGRIA DE APRENDER",null,null,"8001224689"]
["Centro De Enseñanza Y Estimulación Happy Kids S.A.S.",null,null,"9004106153"]
["Centro de Estudios en proteccion Social y Economia de la salud",null,null,"9004035163"]
["Centro de Eventos Valle del Pacifico S.A",null,null,"9000590285"]
["CENTRO DE FERIAS EXPOSICIONES Y CONVENCIONES DE BUCARAMANGA SA",null,null,"8001517204"]
["Centro de Formacion Integral para el Trabajo CEFIT",null,null,"8110318761"]
["Centro de Investigacion Clinica Colombiana de Obesidad y Metabol",null,null,"9006214858"]
["Centro de Investigacion en Genetica Humana y Reproductiva",null,null,"9001759024"]
["Centro De Liderazgo Y Gestion S.A.S.",null,null,"9001565471"]
["Centro de sistemas de Antioquia SAS",null,null,"8110307140"]
["Centro Dermatologico Federico Lleras Acosta E.S.E.",null,null,"8002473506"]
["Centro Educativo Infantil Tiempo Feliz Ltda",null,null,"8020064721"]
["Centro Educativo Los Arcangeles",null,null,"9001782117"]
["Centro Educativo Los Delfines - Ana Isabel Restrepo Uribe ",null,null,"437231480"]
["Centro Ejecutivo Santa Barbara",null,null,"8300034498"]
["Centro Electro Auditivo Nacional SAS",null,null,"8903161718"]
["Centro empresarial Arrecife",null,null,"900341172"]
["Centro Empresarial DANN Financiera Hotel DANN Carlton P.H",null,null,"811009248"]
["Centro Empresarial Informatico SAS",null,null,"9000805878"]
["Centro Fresado Organical Tecnologa Alemana S.A.S.",null,null,"9004920352"]
["Centro Iberoamericano de Altos Estudios Odontologicos",null,null,"9008458100"]
["Centro Inca Ltda",null,null,"8901158980"]
["Centro Infantil Mi Bebe Feliz",null,null,"8050125493"]
["Centro Interactivo de Desarrollo Infantil Mind The Kids SAS",null,null,"9003162467"]
["Centro Internacional de Educaciony Desarrollo Humano - CINDE",null,null,"8600515508"]
["Centro Israelita Filantropico",null,null,"8901002574"]
["Centro Mayor Centro Comercial",null,null,"9003468077"]
["Centro Medico Imbanaco de Cali",null,null,"8903072005"]
["Centro Medico San Andres Bogota E.U.",null,null,"9001958361"]
["Centro Multiple Las Vegas",null,null,"800221860"]
["Centro Ocular de Miopia Dr. Rincon S.A.S.",null,null,"830102932"]
["CENTRO PARA EL DESARROLLO INFANTIL HUELLAS SAS",null,null,"8001371049"]
["Centro Primavera Plaza Comercial",null,null,"8301448875"]
["Centro Psicopedagogico Integrado CEPI",null,null,"34523052"]
["Centro Psicotecnico Colegio Fontan SAS",null,null,"8001837677"]
["Centro Solidaridad La Esperanza",null,null,"8050181283"]
["Centro Sur S.A. ",null,null,"8110374051"]
["Centro Taxis SA",null,null,"804002724"]
["Centro Virtual de Estudios Avanzados CVEA",null,null,"8050125873"]
["Centroaguas SA E.S.P",null,null,"8210021156"]
["CENTROS DE LITERATURA CRISTIANA DE COLOMBIA",null,null,"8600679073"]
["Centrum Languaje Institute Ltda",null,null,"8300360505"]
["CERTAIN & PEZZANO GRUPO INMOBILIARIO SAS",null,null,"9006850281"]
["Certicamara S.A.",null,null,"8300844337"]
["Cerveceria del Valle S.A",null,null,"9001366388"]
["Cerveceria Union SA",null,null,"8909001681"]
["Cesar Emiro Fuertes Fonseca",null,null,"4191337"]
["Cesde S.A",null,null,"8909133191"]
["CESE Colombia SAS",null,null,"9004466585"]
["CESVI COLOMBIA S.A",null,null,"8300387533"]
["CG Importaciones SAS",null,null,"900490286"]
["Challenger S.A.S.",null,null,"8600170051"]
["Chaneme Comercial SA",null,null,"8300656095"]
["Chemilab",null,null,"900329160"]
["Chequefectivo S.A.",null,null,"9001155673"]
["CHEVYPLAN / MEGAPLAN S.A. ",null,null,"8300011337"]
["CHINA AUTOMOTRIZ S.A.",null,null,"8305098771"]
["Chokolha SAS",null,null,"9001934391"]
["CHUBB DE COLOMBIA COMPAÑIA DE SEGUROS S.A.",null,null,"8600345205"]
["CI 180 Grados SAS",null,null,"9002430101"]
["Ci Alliance Group SAS",null,null,"9005873048"]
["CI BICLA LTDA",null,null,"9001351880"]
["CI Comercializadora Cym LTDA",null,null,"9002649491"]
["CI EMTAC SAS",null,null,"9001939441"]
["Ci GPP Colombia SAS",null,null,"9006689955"]
["CI Grupo Inversor y Logistico MV S.A.S.",null,null,"9002761015"]
["CI INDUSTRIAS FH S.A.",null,null,"8002563228"]
["CI Prodelagro S.A.S.",null,null,"900020012"]
["CI Super de Alimentos S.A.",null,null,"8908052674"]
["CI Surtialuminios S.A.",null,null,"8000466482"]
["CI Tesco S.A.S",null,null,"9002977877"]
["Cia Automotriz Diesel S.A.",null,null,"8902030230"]
["CIA MIGUEL CABALLERO SAS",null,null,"9001271404"]
["CIBERCOLEGIOS - TBF SISTEMAS",null,null,"8300108049"]
["CIBERPLAY EDITORES LTDA",null,null,"9002855291"]
["CIC Laboratorios SAS",null,null,"9002596780"]
["Cidesa Cooperativa de Ahorro y Credito",null,null,"8909822972"]
["CIDET",null,null,"811001689"]
["CIEDI LTDA",null,null,"8603501278"]
["Cifes SAS",null,null,"9000484431"]
["CIFIN S.A.",null,null,"9005724452"]
["Cifuentes Roa Ltda",null,null,"8001472025"]
["CIJ",null,null,"900749358"]
["CIMA SOLUCIONES ESTRATEGICAS SAS",null,null,"9006900091"]
["Cimetal S.A",null,null,"8000985652"]
["Cimpa S.A.S.",null,null,"8002376088"]
["CINASCAR de Colombia S.A.",null,null,"9000098477"]
["Cine Colombia",null,null,"890900076"]
["CINE COLOMBIA S.A.",null,null,"8909000760"]
["CINEMARK COLOMBIA SAS",null,null,"8300556433"]
["CINTEL - CENTRO INVESTIGACION DE LAS TELECOMUNICACIONES",null,null,"800149483"]
["Cipres de Colombia S.A.S.",null,null,"9000718749"]
["Circular de Viajes",null,null,"8002368398"]
["Circulo de Lectores S.A.",null,null,"8600799684"]
["CIRCULO DE VIAJES UNIVERSAL S.A.",null,null,"8600290021"]
["Cirulaser Andes",null,null,"8001123846"]
["City Parking SA",null,null,"8300506193"]
["City Raiz S.A.S.",null,null,"8002446055"]
["CIUDAD TECNOPOLIS SAS",null,null,"9006038474"]
["CiudaddeMascotas.com SAS",null,null,"9007487391"]
["Ciudadela Comercial Unicentro",null,null,"8903211567"]
["CJR Senderos de Aragua",null,null,"900599715"]
["Claudia Lisette Lozano Serna (Colegio Santa Teresita)",null,null,"1019008207"]
["Clave 2000 SA",null,null,"8002046251"]
["Clerigos de San Viator",null,null,"8600099241"]
["Clever Shop SAS",null,null,"9007193497"]
["CLIKO SAS",null,null,"9006732499"]
["Clinica Antienvejecimiento S.A.S",null,null,"9003501351"]
["Clinica de Oftalmologia de Cali S.A.",null,null,"8903200328"]
["Clinica La Victoria S.A.S.",null,null,"900431550"]
["Clinica Oftalmologica de Antioquia S.A.",null,null,"890933408"]
["Closter Pharma SAS",null,null,"8305123042"]
["Club Campestre Altos del Chicala",null,null,"8000180889"]
["Club Campestre de Palmira, Corporacion",null,null,"8913014323"]
["Club Campestre el Rancho",null,null,"8600103054"]
["Club Campestre La Sabana",null,null,"8605071733"]
["Club Colombia",null,null,"8903005212"]
["Club De Banqueros Y Empresarios",null,null,"8600384735"]
["Club de Ejecutivos del valle del Cauca",null,null,"8903050816"]
["CLUB DE VINOS SELECTOS S.A.",null,null,"8110464920"]
["Club Deportivo Alexis Garcia",null,null,"8110433230"]
["Club Deportivo Popular Junior F.C. S.A.",null,null,"9004567292"]
["Club Deportivo y Social Internacional",null,null,"8902700100"]
["Club Militar de Golf",null,null,"8600398843"]
["Club Miramar",null,null,"8902031239"]
["Club Nautico El Portillo",null,null,"8600327424"]
["Club Social de Profesores de la UNAL Los Buhos",null,null,"8600330453"]
["Club Valledupar",null,null,"8923000161"]
["Clud Deportivo La Equidad Seguros SA",null,null,"8001081529"]
["CM MOTOR'S SAS",null,null,"9000553869"]
["Cm Softlutions Ltda.",null,null,"9001281763"]
["CM.COM S.A.S.",null,null,"8110330992"]
["CMA CGM Colombia Ltda.",null,null,"9001463426"]
["Cmetales SAS",null,null,"9006150155"]
["CMVL S.A.",null,null,"8110310162"]
["Coast Cadena Andina SA",null,null,"8909002656"]
["Cobranzas Dataservip SAS",null,null,"900527016"]
["Cocoa Jeans S.A.",null,null,"9001509151"]
["CODENSA S.A. E.S.P",null,null,"8300372480"]
["Codensolar S.A.S.",null,null,"9005863321"]
["Codianni Test Prep Center S.A.",null,null,"8300292416"]
["Codificación & Etiquetado SA / CODITEQ S.A",null,null,"8301166389"]
["Codinter S.A",null,null,"8903162336"]
["Coeducar",null,null,"8600266921"]
["Coexito S.A. [Avisor]",null,null,"8903002257"]
["Coexito S.A. [Pagos Online]",null,null,"890300225"]
["Cofaceneiva LTDA",null,null,"8001755946"]
["COGNITIA LTDA",null,null,"8300893180"]
["COIMPRESORES DE COLOMBIA",null,null,"8909047694"]
["Coinvercol Cia Ltda",null,null,"9003802032"]
["COINVERSIONES",null,null,"8040040187"]
["Cojardin SA ESP",null,null,"830131572"]
["COL MAYOR NTRA SRA DEL ROSARIO",null,null,"8600077593"]
["Colciencias",null,null,"899999296"]
["Colcircuitos S.A.S.",null,null,"9003817994"]
["COLEGIO AGUSTINIANO SALITRE",null,null,"8600063342"]
["Colegio Agustiniano Tagaste",null,null,"860006334"]
["Colegio Andino de Tunja",null,null,"820005704"]
["COLEGIO ANDINO-CORPORACION CULTURAL ALEJANDRO VON HUMBOLDT",null,null,"8600067542"]
["COLEGIO ANGLOAMERICANO",null,null,"8000166359"]
["Colegio Antioqueño de Abogados Colegas",null,null,"8909066799"]
["Colegio Bilingue Clermont Ltda",null,null,"8605131634"]
["Colegio Bilingue Pio XII Ltda",null,null,"9001492002"]
["Colegio Bilingue Richmond LTDA",null,null,"8300545240"]
["COLEGIO BOLIVAR",null,null,"8903005394"]
["COLEGIO BRITANICO AMERICANO",null,null,"8901103471"]
["Colegio Britanico de Cartagena SAS",null,null,"9008432435"]
["COLEGIO BRITANICO INTERNACIONAL S.A.",null,null,"8001971432"]
["COLEGIO CALASANZ - ORDEN RELIGIOSA DE LAS ESCUELAS PIAS",null,null,"8600147102"]
["COLEGIO CALASANZ MIXTO MEDELLIN - ORDEN RELIGIOSA ESCUELA PIAS",null,null,"8600147103"]
["COLEGIO CAMPESTRE LA COLINA S.A.",null,null,"8909114501"]
["Colegio Campoalegre LTDA",null,null,"8320106942"]
["Colegio Canapro",null,null,"860005921"]
["Colegio Carls Rogers - Carlos Andres Oviedo",null,null,"91498184"]
["COLEGIO CHAMPAGNAT ARMENIA - COMUN.HERMANOS MARISTAS ENSEÑANZ",null,null,"8600067446"]
["COLEGIO CHAMPAGNAT BOGOTA- COMUN.HERMANOS MARISTAS ENSEÑANZ",null,null,"8600067447"]
["COLEGIO CHAMPAGNAT IBAGUE - COMUN.HERMANOS MARISTAS ENSEÑANZ",null,null,"8600067449"]
["COLEGIO CHAMPAGNAT IPIALES - COMUN.HERMANOS MARISTAS ENSEÑANZ",null,null,"8600067441"]
["COLEGIO CHAMPAGNAT POPAYAN - COMUN.HERMANOS MARISTAS ENSEÑANZ",null,null,"8600067445"]
["Colegio Colombiano de Educadores Fisicos y Profesiones Afines",null,null,"9005979680"]
["Colegio Colombiano de Hemodinamia",null,null,"8300684189"]
["Colegio Colombiano de Psicologos",null,null,"8300778892"]
["COLEGIO COLOMBO AMERICANO",null,null,"8300138192"]
["COLEGIO COLOMBO BRITANICO",null,null,"8903006529"]
["Colegio Colombo Español De Barranquilla",null,null,"8002495329"]
["Colegio Colombo Frances de Popayan",null,null,"8915013814"]
["COLEGIO COLOMBO HEBREO",null,null,"8600065238"]
["COLEGIO CORAZONISTA BOGOTA",null,null,"8600077662"]
["COLEGIO CORAZONISTAS MEDELLIN INST.HERMANOS DEL SAGRADO CORAZON",null,null,"8600077661"]
["Colegio Cristiano David SAS",null,null,"9005900757"]
["Colegio de Abogados de Medellin",null,null,"8909058712"]
["Colegio de Estudios Superiores de Administracion - CESA",null,null,"8600457406"]
["Colegio de la presentacion de Bucaramanga",null,null,"890201334"]
["Colegio de San Patricio",null,null,"8300497490"]
["Colegio del Arte Centro de Estimulacion-Sonia Patricia Bedoya ",null,null,"525898723"]
["COLEGIO EMILIO VALENZUELA",null,null,"8600207051"]
["Colegio Espiritu Santo",null,null,"212209652"]
["Colegio Fundacion Manuela Beltran",null,null,"8923011132"]
["COLEGIO GIMNASIO VERMONT MEDELLIN S.A.",null,null,"8110105686"]
["Colegio Gimnasio Vermont S.A.",null,null,"8600585531"]
["Colegio Gimsaber Y/O Beatriz Acuña de Quintana",null,null,"269378027"]
["COLEGIO HIJAS DE CRISTO REY",null,null,"8600136228"]
["Colegio Hispanoamericano Conde Ansurez",null,null,"8600002282"]
["Colegio IDPHU Bilingue Santa  Marta",null,null,"9004092055"]
["COLEGIO JEFFERSON",null,null,"8903030041"]
["Colegio Jorge Washington",null,null,"8904800799"]
["Colegio Jose Max Leon y Cia S en C",null,null,"8605151292"]
["Colegio La Enseñanza C.L.E. Ltda",null,null,"9000776868"]
["COLEGIO LA GOTICA DEL SABER - ALISON LUCIA CORTES CARDONA",null,null,"361823170"]
["COLEGIO LA MEDALLA MILAGROSA S.A.S",null,null,"8020059267"]
["Colegio La Milagrosa",null,null,"8902013340"]
["Colegio Los Angeles del Norte Occidente S.A.",null,null,"8050245732"]
["Colegio Los Cedros /Maria Helda Oliveros Prieto",null,null,"28680541"]
["COLEGIO LOS TREBOLES S.C.A.",null,null,"8300349991"]
["Colegio Maximiliano Kolbe Ltda.",null,null,"8001865248"]
["Colegio Mayor de Nuestra Señora del Rosario-Donaciones",null,null,"860007759"]
["Colegio Mayor del Cauca",null,null,"8915007591"]
["Colegio Militar Antonio Nariño Ltda",null,null,"8605045993"]
["Colegio Militar General Pedro Nel Ospina",null,null,"8110158637"]
["Colegio Mount Vernon LTDA",null,null,"830143359"]
["Colegio Nacional de Químicos Farmacéuticos de Colombia",null,null,"8600374028"]
["Colegio Nazaret - Sede Bello Antioquia",null,null,"8600356981"]
["COLEGIO NUEVA GRANADA",null,null,"8600065220"]
["Colegio Nuevo Cambridge SAS",null,null,"8000319291"]
["Colegio Nuevo Reino de Granada",null,null,"900594476"]
["COLEGIO NUEVO SAN LUIS GONZAGA",null,null,"8600346844"]
["COLEGIO PADRE MANYANET",null,null,"8909822213"]
["Colegio Reyes Catolicos Ltda",null,null,"8903160497"]
["Colegio Rosario de Santo Domingo",null,null,"8600107831"]
["COLEGIO SAGRADO CORAZON BARANQUILLA KM2",null,null,"8600077663"]
["COLEGIO SAGRADO CORAZON BARRANQUILLA CLL 74",null,null,"8600077664"]
["COLEGIO SAN CARLOS",null,null,"8600062842"]
["Colegio San Francisco de Asis",null,null,"8050060126"]
["Colegio San Jorge De Inglaterra S.A.S.",null,null,"9006988045"]
["Colegio San Jorge de Inglaterra SAS",null,null,"900698804"]
["COLEGIO SAN LUIS GONZAGA CALI - COMUN.HERMANOS MARISTAS ENSEÑANZ",null,null,"860006744"]
["Colegio San Luis Rey",null,null,"8600203420"]
["COLEGIO SANTA MARIA DEL ROSARIO PROVINCIA STO DOMINGO GUZMAN",null,null,"8908016529"]
["Colegio Santo Tomas Chia LTDA",null,null,"9002648880"]
["COLEGIO SEMINARIO CORAZONISTA MARINILLA",null,null,"860007766"]
["Colegio Tolimense",null,null,"890700681"]
["COLEGIO VICTORIA S.A.",null,null,"8300971052"]
["Colegio Virtual Siglo XXL SA",null,null,"9000368077"]
["Colempaques SAS",null,null,"8600371111"]
["COLFONDOS",null,null,"8002279406"]
["Colfondos Pensiones y Cesantias S.A.",null,null,"8300707846"]
["Colgas de Occidente SA ESP",null,null,"8903106886"]
["COLGATE PALMOLIVE COMPAÑIA",null,null,"8903005466"]
["Colighting S.A.S.",null,null,"9003983309"]
["COLMEDICA MEDICINA PREPAGADA S.A.",null,null,"8001063391"]
["Colmedica Medicina Prepagada S.A. (ZonaPagos)",null,null,"800106339"]
["COLMENA RIESGOS PROFESIONALES",null,null,"8002261753"]
["Colombia Chef Ltda",null,null,"9000155889"]
["Colombia Global Real Estate S.A.S.",null,null,"9001654765"]
["Colombia Lider S.A.S",null,null,"9005180681"]
["COLOMBIA QUEST LTDA",null,null,"9000895600"]
["Colombia Realty S.A.",null,null,"8305152403"]
["Colombia Redes EV1Soft Tecnologies Juan David Rua Yarce",null,null,"987051975"]
["Colombia Telecomunicaciones Colombia S.A. ESP",null,null,"8301225662"]
["COLOMBIA TELECOMUNICACIONES S.A. E.S.P.",null,null,"8301225661"]
["Colombia Telecomunicaciones S.A. E.S.P. (Movil)",null,null,"830122566"]
["Colombia Telecomunicaciones S.A. E.S.P. (PagosOnline)",null,null,"8301225663"]
["Colombia To Go S.A.",null,null,"9002267540"]
["Colombia Travel System SAS",null,null,"9002690365"]
["Colombia Travel Tours LTDA",null,null,"8300932321"]
["COLOMBIA TU DESTINO SAS",null,null,"9001746483"]
["Colombian Realty Online S.A.S.",null,null,"9001664738"]
["Colombian Students Abroad & Travels S.A.",null,null,"900136596"]
["Colombian Tires SAS",null,null,"9005907820"]
["Colombian Tourist SAS",null,null,"8600002308"]
["Colombian Transportation",null,null,"8301458894"]
["Colombian Transportation Ltda.",null,null,"830145889"]
["Colombiana de Asistencia - Colasistencia",null,null,"9000152780"]
["Colombiana de Autos SA Colautos",null,null,"890802651"]
["Colombiana de Comercio - Corbeta y/o Alkosto S.A.",null,null,"8909009431"]
["Colombiana De Comercio S.A.",null,null,"890900943"]
["COLOMBIANA DE COMUNICACIONES COLDECOM",null,null,"8050124234"]
["Colombiana de PVC SAS",null,null,"9005217751"]
["Colombiana de Turismo y Expresos Ltda",null,null,"8000007554"]
["Colombiana Kimberly Colpapel S.A.",null,null,"8600157533"]
["Colombiatel Telecomunicaciones SAS",null,null,"9005363025"]
["Colombiavinos.com S.A.S.",null,null,"8300303487"]
["Color Liquido Ltda",null,null,"8110366386"]
["Colorisa S.A.",null,null,"8110249429"]
["Colpatria Medicina Prepagada",null,null,"9006403345"]
["COLPISA - COLOMB. DE PINTURAS S.A.",null,null,"8909157914"]
["COLTEBIENES LTDA.",null,null,"8909281570"]
["COLTEFINANCIERA S.A.",null,null,"8909270349"]
["Coltracker de Colombia S.A.S",null,null,"900506833"]
["Colwagen SA",null,null,"8002497049"]
["Colyong S.A",null,null,"8300960486"]
["Comarbel S.A.",null,null,"8605074231"]
["Combustibles Liquidos de Colombia SA ESP",null,null,"9001758302"]
["COMEDAL - Cooperativa Medica de Antioquia",null,null,"8909055741"]
["Comercial Allan SAS",null,null,"8600538311"]
["Comercial Card SAS",null,null,"9002943698"]
["Comercial Cardona Hnos Ltda",null,null,"8605032837"]
["Comercial JFI Ltda",null,null,"8000662754"]
["Comercial Megaventas S.A.S",null,null,"9004382754"]
["COMERCIAL NUEVO MUNDO E.U.",null,null,"9001178598"]
["Comercial Tellez SAS",null,null,"8905052566"]
["Comercializadora Arturo Calle SAS",null,null,"9003422972"]
["Comercializadora Aviv SAS",null,null,"9005804241"]
["Comercializadora Bueno Mora",null,null,"8301105842"]
["Comercializadora Cole SAS",null,null,"8110081426"]
["Comercializadora Dario Posada",null,null,"70062595"]
["Comercializadora de Belleza Global Ltda",null,null,"9004957131"]
["Comercializadora Diesel y Equipos AB S.A.S.",null,null,"900041750"]
["Comercializadora Distribuidora R y R",null,null,"9001280679"]
["COMERCIALIZADORA EASY S.A.S",null,null,"8020143116"]
["Comercializadora el Forraje SA",null,null,"8001818454"]
["Comercializadora Europea de Motos y Accesorios S.A.S.",null,null,"9000664327"]
["Comercializadora Ferquin JK SAS",null,null,"9005016471"]
["Comercializadora Ferretera Martinez Moreno SAS",null,null,"8300728241"]
["Comercializadora Ferrocemento JJ S.A",null,null,"9001204675"]
["Comercializadora Flores y Regalos S.A.S.",null,null,"9005388761"]
["Comercializadora Gil Dejugnac S.A.S.",null,null,"9004158747"]
["Comercializadora Gomez y Gomez SAS",null,null,"8070037370"]
["Comercializadora Homaz S.A.S. (P.Bancolombia)",null,null,"8160031865"]
["Comercializadora Homaz S.A.S.(Portal Bancolombia)",null,null,"816003186"]
["Comercializadora Inducascos S.A.",null,null,"9001291173"]
["Comercializadora Internacional de Llantas",null,null,"8002390640"]
["Comercializadora Internacional de Llantas (Zona Pagos)",null,null,"800239064"]
["Comercializadora Internacional Impho SAS",null,null,"800223029"]
["Comercializadora Internacional Para Construir Ltda",null,null,"8909251853"]
["Comercializadora J Diazo S.A.S",null,null,"9005508260"]
["Comercializadora Je Tours S.A.S.",null,null,"800177456"]
["Comercializadora La lider",null,null,"900215462"]
["COMERCIALIZADORA LLANTAS UNIDAS INTERNACIONAL SAS",null,null,"8001502674"]
["Comercializadora Mariposa S.A.S.",null,null,"8301430417"]
["Comercializadora Mepaesa SAS",null,null,"900703469"]
["Comercializadora Mercaldas SA",null,null,"9002736868"]
["COMERCIALIZADORA NAVE LTDA",null,null,"8001080957"]
["Comercializadora Nutritech Colombia SAS",null,null,"9007013670"]
["Comercializadora Perfebell S.A.S.",null,null,"9005856985"]
["Comercializadora por catalogo SAS",null,null,"9005710661"]
["Comercializadora Ragged y Cia S.A.",null,null,"8909371468"]
["Comercializadora Surtialuminios S.A",null,null,"800046648"]
["Comercializadora Tecnisumer S.A.",null,null,"8110345404"]
["Comercializadora Telesentinel Ltda.",null,null,"8300632656"]
["Comercializadora Tracto Laser S.A.S",null,null,"8300568735"]
["Comercializadora Voluspa SAS",null,null,"9003843354"]
["Comercializadora y Distribuidora 714 Seven One Four SAS",null,null,"9006144486"]
["Comercializadora y Representaciones Inmobiliarias Fonseca LTDA",null,null,"9001400567"]
["Comercio Inmobiliario Punto Com S.A.",null,null,"9000282051"]
["Comercio Virtual el Hueco S.A.S.",null,null,"9004979040"]
["Comertex S.A.",null,null,"8902047977"]
["Comestibles Best SA",null,null,"8050281111"]
["Cometas Desarollo Integral LTDA Cometas",null,null,"800082399"]
["COMFACASANARE",null,null,"8440033928"]
["COMFACESAR",null,null,"8923999898"]
["COMFAMILIAR DEL ATLANTICO",null,null,"8901019949"]
["COMFANORTE",null,null,"8905005163"]
["COMFASUCRE",null,null,"8922000155"]
["COMFATOLIMA",null,null,"8002110251"]
["COMFENALCO ANTIOQUIA",null,null,"8909008426"]
["Comfenalco Cartagena",null,null,"8904800237"]
["COMFENALCO QUINDIO",null,null,"8900003810"]
["COMFENALCO SANTANDER",null,null,"8902015787"]
["COMFENALCO TOLIMA",null,null,"8907001484"]
["COMFENALCO VALLE",null,null,"8903030935"]
["Comfort Representaciones Turisticas S.A.S.",null,null,"900496763"]
["COMISION DE REGULACION DE AGUA POTABLE Y SANEAMIENTO BASICO CRA",null,null,"8300002126"]
["Comision de Regulacion de Comunicaciones",null,null,"8300025936"]
["Comision Profesional Colombiana de Diseño Industrial",null,null,"9002468956"]
["Comisionistas Agropecuarios SA Comiagro",null,null,"800206442"]
["COMITE ASESOR VOLUNTARIO DE NUTRICION NUTRIR",null,null,"800062338"]
["Comite Colombiano de Arbitraje",null,null,"8301074700"]
["Comodin SAS",null,null,"8000699336"]
["Comoriente S.A.",null,null,"8070046551"]
["Compañia  De Servicios Publicos De Sogamoso S.A Esp",null,null,"8918000314"]
["COMPAÑIA AGRICOLA DE SEGUROS DE VIDA S.A.",null,null,"8600025286"]
["COMPAÑIA AGRICOLA DE SEGUROS S.A.",null,null,"8600025279"]
["Compañia Aseguradora de Fianzas S.A. Confianza S.A.",null,null,"8600703749"]
["Compañía Bogotana de Textiles S.A.S",null,null,"8600762289"]
["Compañia Colombiana de Ceramica S.A. (Colceramica)",null,null,"8600025365"]
["Compañia Colombiana de Discos S.A. CODISCOS",null,null,"8909002290"]
["Compañia Colombiana de Servicio Automotriz-Colserauto SA",null,null,"8600535238"]
["Compañia Comercial El Dorado Ltda.",null,null,"8904048357"]
["Compañia Comercial San Felipe Ltda",null,null,"8904012576"]
["Compañia Consultora de Mercadeo Topclub SAS",null,null,"8110175925"]
["Compañia de Asesorias y Servicios Educativos Compases Ltda",null,null,"8300053743"]
["COMPAÑIA DE COSMETICOS VOTRE PASSION S.A.",null,null,"8001001593"]
["Compañia de creditos rapidos SAS",null,null,"9005646684"]
["Compañia de Desarrollo de Empaques- DEMES",null,null,"9002518497"]
["Compañia de Electricidad de Tulua E.S.P. - CETSA",null,null,"8919001010"]
["Compañia de Financiamiento Tuya SA",null,null,"8600323303"]
["Compañia de Generacion del Cauca S.A. E.S.P.",null,null,"8170018921"]
["Compañia de Jesus",null,null,"8600076271"]
["Compañia de Jesus - Colegio San Bartolome",null,null,"860007627"]
["Compañia de Medicina Prepagada Colsanitas S.A.",null,null,"8600788287"]
["Compañia de Santa Teresa de Jesus",null,null,"8600094684"]
["Compañia de Servicios Inmobiliarios y Empresariales S.A.S.",null,null,"9005549987"]
["Compañía de Servicios Públicos Domiciliarios",null,null,"8002118010"]
["Compañia de Servicios Publicos S.A. E.S.P. Codegas",null,null,"8301306480"]
["Compañia de Vigilancia Viaservin Ltda",null,null,"8901111756"]
["Compañia del Hotel Nutibara SA",null,null,"8909033973"]
["Compañia el Portal S.A.S.",null,null,"8000379781"]
["Compañia Energetica de Occidente",null,null,"9003660101"]
["Compañia Global de Pinturas SA",null,null,"8909001482"]
["Compañia Hotelera Andes Plaza Ltda.",null,null,"8300121699"]
["Compañia Hotelera Cartagena Plaza Ltda.",null,null,"8001165629"]
["Compañia Inmobiliaria Interbienes S.A.S.",null,null,"900476752"]
["Compañía Internacional De Soluciones Creativas S.A-Inscra S.A.",null,null,"8110378649"]
["Compañia Inversionista Colombiana SAS Cicol SAS",null,null,"8600616516"]
["Compañia Logistica Colombia Ltda.",null,null,"8110227992"]
["Compañia Manufacturera Manisol S.A.",null,null,"8908013398"]
["Compañia Mundial de Seguros",null,null,"8600370136"]
["Compañia Mundial de Seguros",null,null,"860037013"]
["COMPAÑIA NACIONAL DE CHOCOLATES",null,null,"8110360309"]
["Compañia Nacional de Internet SAS-CONAIN SAS",null,null,"9004710273"]
["Compañia Profesionales de Bolsa SA",null,null,"8300363825"]
["COMPAÑIA SURAMERICANA DE SEGUROS S.A. / ISOAT",null,null,"890903407"]
["COMPAÑIA TRANSPORTADORA S.A.",null,null,"8600067653"]
["Compañias Asociadas de Gas SA ESP",null,null,"8000740332"]
["COMPARTA EPSS",null,null,"8040021050"]
["Compass Group Services Colombia SA",null,null,"890929877"]
["Compass Traveler Services Ltda.",null,null,"8301409171"]
["COMPENSAR",null,null,"8600669427"]
["COMPU GREIFF SAS",null,null,"8300358158"]
["COMPUMAX COMPUTER LTDA.",null,null,"8040059146"]
["Compumax Computer S.A.",null,null,"804005914"]
["Compuredes SA",null,null,"8000424718"]
["COMPUTEC - SERVICIO CIUDADANOS",null,null,"900422614"]
["COMU TV",null,null,"8110333071"]
["COMUNICACION CELULAR COMCEL S.A. ",null,null,"8001539937"]
["Comunican S.A.",null,null,"8600075906"]
["COMUNIDAD BERCHMANS CIA DE JESUS",null,null,"8903321270"]
["COMUNIDAD COLEGIO JESUS MARIA",null,null,"8110069479"]
["Comunidad de Hermanas de la Presentacion",null,null,"8902013347"]
["Comunidad de las Hijas Maria Auxiliadora",null,null,"8600066576"]
["Comunidad Franciscana Colegio Pio XII",null,null,"860020342"]
["Comunidad Franciscana De Fray Damian Gonzalez",null,null,"8600203421"]
["Comunidad Hijas de Maria Auxiliadora-Colegio Maria Auxiliadora A",null,null,"8600337855"]
["COMUNIDAD SAN IGNACIO-COLEGIO",null,null,"8909858327"]
["COMUNIDAD SAN JOSE COMPAÑIA DE JESUS",null,null,"8901174955"]
["COMUNIKE LTDA.",null,null,"811043951"]
["Con Inmobiliarios S.A.S.",null,null,"8000090218"]
["Con Inmobiliarios SAS",null,null,"800009021"]
["Conaltura Costruccion y vivienda SA",null,null,"8110208042"]
["Conasfaltos S.A.",null,null,"8909299517"]
["Concilio Asamblea de Dios",null,null,"8600110480"]
["Concremack S.A.S ",null,null,"9005583424"]
["Concretera Tremix S.A.S",null,null,"8301064745"]
["Condominio Aguamarina Beach Resort",null,null,"900392214"]
["CONDOMINIO BOSNIA PH",null,null,"811046429"]
["Condominio Campestre Altos de la pradera",null,null,"813005016"]
["Condominio Campestre el Cortijo ",null,null,"8090021249"]
["Condominio Copropiedad Pinar del Campo",null,null,"900611090"]
["Condominio El Carreton - Propiedad Horizontal",null,null,"9003768240"]
["Condominio el Peñon",null,null,"8600770001"]
["Condominio Guayacanes PH",null,null,"9001486476"]
["Condominio Hacienda San Jeronimo",null,null,"9001113536"]
["Condominio Hato Grande Reservado",null,null,"900770079"]
["Condominio La Herreria Conjunto 3",null,null,"9001280235"]
["Condominio la Mimosa Propiedad Horizontal",null,null,"900104375"]
["Condominio los Rosales PH",null,null,"9002856766"]
["Condominio Pacoli PH",null,null,"900745019"]
["Condominio Reserva de la Sierra Primera Etapa",null,null,"900553537"]
["Condominio Reserva Del Oeste Etapa 1",null,null,"9007672716"]
["CONDOMINIO TURISTICO SANTA TERESITA",null,null,"9003007404"]
["Conekto SAS",null,null,"9005175693"]
["Conelsa S.A.S",null,null,"900478331"]
["Conelsa S.A.S (Matriculas)",null,null,"90047833"]
["CONENERGIA S.A. ESP",null,null,"8160038790"]
["Conestetica SA",null,null,"9001533307"]
["Conexion One SAS",null,null,"9005692423"]
["Conexion Pais Gn SAS",null,null,"9007499921"]
["Conexion Virtual",null,null,"799049137"]
["Confecamaras",null,null,"8600256140"]
["Confeccion y Distribuciones Firlan SAS",null,null,"8110420786"]
["Conferencia Episcopal de Colombia",null,null,"8600217251"]
["Confesion Fundamentos para la familia",null,null,"9003741079"]
["Confianza Ingenieros Consultores Ltda",null,null,"830083782"]
["Confinca Inmobiliaria Limitada",null,null,"800207363"]
["Cong. de Hermanas Franciscanas de Nuestra Señora de Lourdes Cole",null,null,"8600105724"]
["Congregación de Hermanas del Angel de la Guarda - Colegio Santo",null,null,"860009659"]
["CONGREGACION DE LOS HERMANOS DE LAS ESCUELAS CRISTIANAS",null,null,"8909011305"]
["Congregacion de los Hermanos de las Escuelas Cristianas-Bta",null,null,"8600099850"]
["CONGREGACION DE RELIGIOSAS FRANCISCANAS DE MARIA INMACULADA",null,null,"8600202328"]
["Congregacion Hijas de Santa Maria de la Providencia",null,null,"8001902793"]
["Congregacion Hnas del Angel de la Guarda",null,null,"8600096594"]
["Congregacion Padres Redentoristas",null,null,"8600205798"]
["CONHYDRA S.A. E.S.P",null,null,"8110111656"]
["CONINGLES SAS",null,null,"8000445819"]
["CONINSA RAMON H. S.A.",null,null,"8909114311"]
["Conintel  SA",null,null,"8110462931"]
["CONJ RES SAUCES DE CANELON",null,null,"900871510"]
["Conjunto Almendros",null,null,"9000847224"]
["Conjunto Brisas Del Carmel",null,null,"9001309909"]
["CONJUNTO CAMINO DE ARRAYANES MANZANA QUINCE (15) P.H. \t",null,null,"9009000243"]
["Conjunto Campestre Los Girasoles",null,null,"900228564"]
["Conjunto Comercial Almacentro PH",null,null,"8909315495"]
["Conjunto De Uso Mixto Plaza Del Rio P.H.",null,null,"900507451"]
["Conjunto De Vivienda En Lote Individual Cerrado El Saman",null,null,"9002216731"]
["Conjunto de Vivienda Villa Toscana",null,null,"9006431858"]
["Conjunto el Vergel PH",null,null,"811039363"]
["Conjunto Inmobiliario Sao Paulo Plaza PH",null,null,"9002782005"]
["Conjunto Multifamiliar Los Cristales Club Residencial Etapa 1",null,null,"9000900095"]
["Conjunto Multifamiliar Sepia PH",null,null,"9003976316"]
["Conjunto Parque Residencial Vivero Club Propiedad Horizontal",null,null,"9005458902"]
["Conjunto Res Miramont I Res Etapa I P.H",null,null,"900716499"]
["Conjunto Residencial  Bosque de las Mercedes",null,null,"9002641511"]
["Conjunto Residencial  Guayacan(Bancolombia)",null,null,"900587050"]
["Conjunto Residencial Acacia",null,null,"9003803220"]
["Conjunto Residencial Acacia(Bancolombia)",null,null,"900380322"]
["Conjunto Residencial Alamo",null,null,"900587042"]
["Conjunto Residencial Alcaparro",null,null,"9004491570"]
["Conjunto Residencial Alcaparro(Bancolombia)",null,null,"900449157"]
["Conjunto Residencial Alcazar de los Naranjo",null,null,"8002142031"]
["Conjunto Residencial Aliso",null,null,"9002235192"]
["Conjunto Residencial Aliso(Bancolombia)",null,null,"900223519"]
["Conjunto Residencial Almendro",null,null,"900819241"]
["Conjunto Residencial Arborada de Cota PH",null,null,"900521142"]
["Conjunto Residencial Arcadia I",null,null,"8301162551"]
["Conjunto Residencial Balcones de Cataluña",null,null,"9000127960"]
["Conjunto Residencial Bay Point",null,null,"8001888947"]
["Conjunto Residencial Bosque de San Jorge",null,null,"9003200498"]
["Conjunto Residencial Catalejo Alfa PH",null,null,"900219369"]
["Conjunto Residencial Cedro(Bancolombia)",null,null,"900587038"]
["Conjunto Residencial Cerezo",null,null,"900775134"]
["Conjunto Residencial Cerros de los Alpes P.H.",null,null,"9003456338"]
["Conjunto Residencial Cipres",null,null,"900871489"]
["Conjunto Residencial Club Campestre Rio Frio",null,null,"832001831"]
["Conjunto Residencial Edificio San Francisco PH",null,null,"8110280321"]
["Conjunto Residencial Edificio Toledo 48",null,null,"9005914881"]
["Conjunto Residencial El Bosque PH",null,null,"8605109011"]
["Conjunto residencial Estadio de la plaza P",null,null,"811030853"]
["Conjunto Residencial Flamingo Real",null,null,"8001959596"]
["Conjunto Residencial Gallery Lagartos",null,null,"900793142"]
["Conjunto residencial hacienda la quinta P.H.",null,null,"9005045049"]
["Conjunto Residencial kandinsky",null,null,"9004101478"]
["Conjunto Residencial La Zarzuela",null,null,"8080022347"]
["Conjunto Residencial Lagomar",null,null,"802017748"]
["Conjunto Residencial los Sauces",null,null,"8050129529"]
["Conjunto Residencial Matisse Propiedad Horizontal",null,null,"9003753206"]
["Conjunto Residencial Mirador Pijao",null,null,"8300058468"]
["Conjunto Residencial Mirador San Diego",null,null,"800021975"]
["Conjunto Residencial Montereserva I Etapa – Propiedad Horizontal",null,null,"9004943750"]
["Conjunto Residencial Nogal",null,null,"9001775425"]
["Conjunto Residencial Nogal(Bancolombia)",null,null,"900177542"]
["Conjunto Residencial Parques del Estadio N1 PH",null,null,"811016268"]
["Conjunto Residencial Pentagrama",null,null,"9008069847"]
["Conjunto Residencial Plaza de Alejandria",null,null,"8909857991"]
["CONJUNTO RESIDENCIAL PUERTO BAHIA",null,null,"9000552839"]
["Conjunto Residencial Puerto Tranquilo",null,null,"900842220"]
["Conjunto Residencial Recodo del Country 1",null,null,"830008889"]
["Conjunto Residencial Reserva Cardales",null,null,"9007652842"]
["Conjunto Residencial Reserva de los Lagos",null,null,"900666216"]
["Conjunto Residencial Reserva De Santa Teresita",null,null,"805027720"]
["Conjunto Residencial Reservas del Bosque",null,null,"900032118"]
["CONJUNTO RESIDENCIAL RETIRO DE SANTA MONICA",null,null,"8301224079"]
["Conjunto Residencial Roble",null,null,"9002915572"]
["Conjunto Residencial Roble(Bancolombia)",null,null,"900291557"]
["Conjunto Residencial Salitre Alto Reservado",null,null,"9004496629"]
["Conjunto Residencial Saman",null,null,"900775117"]
["Conjunto Residencial Santa Ana de Chia II",null,null,"9003442165"]
["Conjunto Residencial Santa Ana de Chia II (Portal Bancolombia)",null,null,"900344216"]
["Conjunto Residencial Santa Margarita Pacara III Etapa",null,null,"8000401461"]
["Conjunto Residencial Santa María del Alcazar II",null,null,"8001699611"]
["Conjunto Residencial Santiago De Compostela",null,null,"9001118046"]
["Conjunto Residencial Sauce",null,null,"9002915526"]
["Conjunto Residencial Sauce(Bancolombia)",null,null,"900291552"]
["Conjunto Residencial Sierra de Normandia",null,null,"9004704558"]
["Conjunto Residencial Sierras del Este",null,null,"9003852329"]
["Conjunto Residencial Space PH",null,null,"9001633317"]
["Conjunto Residencial Tamesis",null,null,"900851294"]
["Conjunto Residencial Terrazas del Caribe",null,null,"9003499989"]
["Conjunto Residencial Tierra Grata Cumbres PH",null,null,"900458819"]
["Conjunto Residencial Tierra Grata Palmas",null,null,"900664886"]
["Conjunto Residencial Torres De Aragon",null,null,"8000154372"]
["Conjunto Residencial Torres de la Plazuela",null,null,"900193130"]
["Conjunto Residencial Torres de San Agustin",null,null,"8300441016"]
["Conjunto Residencial Torres Flotantes",null,null,"8002443050"]
["Conjunto Residencial Turipana",null,null,"9001854707"]
["Conjunto Residencial Urbanizacion Castellon de San Diego PH",null,null,"900420188"]
["Conjunto Residencial Urbanizacion Tierra Clara P.H",null,null,"9005346631"]
["Conjunto Residencial Villa  Barichara PH",null,null,"9003217737"]
["Conjunto Residencial Villa Norte P.H",null,null,"8002279209"]
["Conjunto Residencial Vizcaya",null,null,"9001287501"]
["Conjunto Santa de Ana de Chía",null,null,"8320029832"]
["Conjuntos Inmobiliarios 68 Av 1 y 2 Propiedad Horizontal",null,null,"9003948981"]
["Conquimica SA",null,null,"8909195496"]
["Consejo Colombiano de Construccion Sostenible",null,null,"9002034934"]
["Consejo Colombiano de Seguridad",null,null,"8600073780"]
["Consejo Profesional de Administracion de Empresas",null,null,"8001422860"]
["Consejo Profesional de Ingeniera Quimica de Colombia",null,null,"8605093398"]
["Consejo Profesional De Ingenieria De Petroleos-CPIP",null,null,"8605327824"]
["Consejo Profesional Nacional de Ingenieria Copnia",null,null,"8002144179"]
["Consejo Profesional Nacional de Topografia",null,null,"8605172322"]
["CONSEJO PROFESIONAL NAL. DE ARQUITECTURA Y SUS PROFESIONES AUX.",null,null,"8300599547"]
["Consolcargo S.A.S.",null,null,"8300990250"]
["Consolidators y Tourist Management SAS",null,null,"9002697649"]
["CONSORCIO COLOMBIA MAYOR 2013",null,null,"9006196589"]
["CONSORCIO DE SEGUROS LTDA.",null,null,"8110212768"]
["CONSORCIO FIMPROEX",null,null,"9000468087"]
["Consorcio Fimproex 2009",null,null,"9003311873"]
["Consorcio Grupo Ejecutor Hatovial",null,null,"900143972"]
["Consorcio Industrial S.A",null,null,"8909002900"]
["Consorcio Isic Colombia",null,null,"9002402673"]
["Consorcio Megacentro Autoboyaca",null,null,"9002260418"]
["Consorcio Metalurgico Nacional Ltda",null,null,"8600024596"]
["Consorcio Servicios de Transito de Manizales",null,null,"900151098"]
["Consorcio SIM",null,null,"9001897115"]
["CONSORCIO TURISTICO DE SANTANDER LTDA.",null,null,"9001458637"]
["Consorcio Univalle",null,null,"8300694097"]
["Consorcio Valderrama Valco",null,null,"9004726467"]
["Constanza Barrera Barrera",null,null,"463623868"]
["Construbienes",null,null,"811027488"]
["Construccion y Reforma de Vivienda S.A.S. ",null,null,"8300103808"]
["Construcciones Crearts SAS",null,null,"900116982"]
["Construcciones e Inversiones Futuro S.A.S.",null,null,"9004477674"]
["Construcciones RCG LTDA",null,null,"9002205980"]
["Construcciones y Urbanizaciones SAS",null,null,"8907037795"]
["Constructora Agata SAS",null,null,"9004309605"]
["Constructora Amatista S.A",null,null,"9000768820"]
["Constructora Arrecifes de la Abadia SAS",null,null,"9003972449"]
["Constructora Bolivar Cali S.A.",null,null,"8600379004"]
["Constructora Bolivar Cali S.A. (Portal PSE)",null,null,"860037900"]
["CONSTRUCTORA BOLIVAR S.A.",null,null,"8605134931"]
["Constructora Bonaventure SAS",null,null,"9004336485"]
["Constructora Botsuana S.A.S",null,null,"9006002844"]
["Constructora Capital Medellin SAS",null,null,"811032292"]
["Constructora Conconcreto S.A",null,null,"8909011108"]
["Constructora Conconcreto S.A.",null,null,"890901110"]
["Constructora Contex SAS - Proyecto Terra",null,null,"900082107"]
["Constructora Dominique SAS",null,null,"9005272613"]
["Constructora el Castillo S.A.",null,null,"8050146562"]
["Constructora Furel SA",null,null,"9003150577"]
["Constructora Gisaico SA",null,null,"900098143"]
["Constructora JYP SAS",null,null,"900082077"]
["CONSTRUCTORA LAS SANTAS S.A.",null,null,"9001255391"]
["Constructora Mag SAS",null,null,"900437196"]
["Constructora Magallanes SA",null,null,"900118289"]
["Constructora Melendez S.A.",null,null,"8903026298"]
["Constructora Monserrate SAS",null,null,"890942766"]
["Constructora Nakar SAS",null,null,"9005323675"]
["CONSTRUCTORA RIO LUNA S.A.",null,null,"9001084408"]
["Constructora Rodriguez Briñez SAS",null,null,"8002394819"]
["Constructora Saobento SAS",null,null,"9004403877"]
["Constructora Vancouver S.A.S",null,null,"900430808"]
["Constructora Vancouver SAS",null,null,"9004308083"]
["Constructora y Comercializadora Camu SAS",null,null,"900062553"]
["CONSTRUCTORA Y PROMOTORA URBANA S.A.",null,null,"9000613641"]
["Construir Obras Civiles SAS - Arboles",null,null,"9005103656"]
["Construturismo SAS",null,null,"9005387833"]
["Consulado General del Ecuador",null,null,"8001661709"]
["Consulnetworks S.A. E.S.P.",null,null,"9000532514"]
["Consult International Ltda",null,null,"8300152081"]
["Consultora Zeus SAS",null,null,"9007676251"]
["Consultores Asociados en Seguridad Social S.A.S.",null,null,"9000760739"]
["Consultores ByL SAS",null,null,"9003898895"]
["Consultoria Informatica y Organizacional CIO S.A.",null,null,"8110036076"]
["Consultoria y Gestion Integral S.A.S.",null,null,"9002731036"]
["Continental Automotora S.A. Continautos S.A.",null,null,"8600151186"]
["Continental de Abrasivos SAS",null,null,"800166115"]
["Contreebute S.A.S.",null,null,"9002814303"]
["Control e Instrumentacion Industrial de Colombia SAS",null,null,"8002003882"]
["Convenios Empresariales y Logistica SAS",null,null,"9005297351"]
["Convertidora de Papel del Cauca S.A.",null,null,"8170004995"]
["Cooeducar",null,null,"8914097473"]
["COOFINEP Cooperativa Financiera",null,null,"8909011770"]
["Coofundadores",null,null,"8903179796"]
["Coolever Cooperativa de Ahorro y Credito",null,null,"8605088591"]
["COOMADERNORT",null,null,"8002099401"]
["Coomedicosta",null,null,"8901085131"]
["COOMEVA EPS S.A.",null,null,"8050004271"]
["Coomeva Medicina Prepagada S.A.",null,null,"8050097410"]
["COOMEVA TURISMO AGENCIA DE VIAJES",null,null,"8605109983"]
["Coomservi",null,null,"8002472199"]
["Coop de Transportadores Velotax",null,null,"8907001896"]
["Coopantex",null,null,"8909048431"]
["Coopcarvajal",null,null,"8903006346"]
["Coopcolombiamia",null,null,"9004246390"]
["Coopec Ltda",null,null,"8605129517"]
["Cooperativa  de ahorro y credito CREAFAM",null,null,"8002019893"]
["Cooperativa  Multiactiva de Empleados y Trabajadores (Cooprometa",null,null,"8220065981"]
["Cooperativa Alianza Ltda",null,null,"8600245757"]
["Cooperativa AVP",null,null,"8000619884"]
["Cooperativa Belen Ahorro y Credito",null,null,"8909092467"]
["Cooperativa Caldense del Profesor y Trabajadores del Sector Pub.",null,null,"8908031036"]
["Cooperativa Colombiana de Ingenieros - Financiar",null,null,"8600144566"]
["Cooperativa de Ahorro y Cedito Manuelita \"Manuelitacoop\"",null,null,"8150003778"]
["Cooperativa de Ahorro y Credito Alcalicoop",null,null,"8600093591"]
["Cooperativa de Ahorro y Credito Avanza",null,null,"8900023771"]
["Cooperativa de ahorro y credito cofincafe",null,null,"8000699257"]
["Cooperativa de Ahorro y Credito COLANTA",null,null,"9001759626"]
["Cooperativa de Ahorro y Credito Comfamigos ",null,null,"8909824090"]
["Cooperativa de ahorro y credito coosevunal",null,null,"8909849811"]
["Cooperativa de ahorro y credito CREDICAFE",null,null,"8903173529"]
["Cooperativa de ahorro y credito de Aipe Coopeaipe",null,null,"8000110017"]
["Cooperativa de Ahorro y Credito de Santander Ltda",null,null,"8040097528"]
["Cooperativa de ahorro y credito de suramerica Coopsuramerica ",null,null,"8600067567"]
["Cooperativa de Ahorro y Crédito de Trabajadores de Peldar y otro",null,null,"8600231892"]
["Cooperativa de ahorro y credito Financiafondos OC",null,null,"9000874739"]
["Cooperativa de Ahorro y Credito Fincomercio Ltda",null,null,"8600073275"]
["Cooperativa de Ahorro y Credito para el bienestar social Benefic",null,null,"8605183508"]
["Cooperativa de comerciantes \"COMERCIACOOP\"",null,null,"8200007532"]
["Cooperativa de Credito Corvinde",null,null,"8600285762"]
["Cooperativa de Desarrollo Empresarial - Demcoop",null,null,"8605333801"]
["Cooperativa de Empleados Administrativos del Sector Educativo",null,null,"8000351721"]
["Cooperativa de Empleados de Dow Colombia - Codecol",null,null,"8600685226"]
["Cooperativa de Empleados de la Base Aerea de Cali COOPERBASE",null,null,"8903035262"]
["Cooperativa de Empleados de la Registraduria Nacional",null,null,"8909825304"]
["COOPERATIVA DE EMPLEADOS DE LA SALUD EN CDAS.CESCA ",null,null,"8908032367"]
["Cooperativa de Empleados del Sector Energetico Colombiano CEDEC",null,null,"8901042913"]
["Cooperativa de Fomento e Inversion Social Popular",null,null,"8903064949"]
["Cooperativa De La Construccion El Palustre",null,null,"8070085194"]
["Cooperativa de los Profesionales - Coasmedas",null,null,"8600140406"]
["Cooperativa de los Trabajadores del ISS",null,null,"8600143971"]
["Cooperativa de Militares en Retiro de Antioquia - Coomitan",null,null,"8909011731"]
["Cooperativa de Motoristas del Huila y Caqueta Ltda.",null,null,"8911002791"]
["Cooperativa De Padres De Familia Y Vinculados Al Colegio Santa M",null,null,"8301106288"]
["Cooperativa de Pilotos Civiles de Colombia",null,null,"800216442"]
["Cooperativa de Profesionales Sanitas",null,null,"8301139168"]
["Cooperativa de Profesores de la Universidad de Antioquia Cooprud",null,null,"8909850321"]
["Cooperativa de Servidores Publicos ",null,null,"8600134721"]
["COOPERATIVA DE SUBOFICIALES NAVALES",null,null,"8600149875"]
["Cooperativa de Subofoales Cooleguizamo",null,null,"8600373510"]
["Cooperativa de Trabajadores de Avianca \"Coopava\"",null,null,"8600136837"]
["COOPERATIVA DE TRABAJADORES DE BAVARIA DIRECCION Y VENTAS LTDA",null,null,"8000777627"]
["Cooperativa de Trabajadores de Colceramica Corona y Bogota y cun",null,null,"8600278880"]
["Cooperativa de Trabajadores de Medellin",null,null,"8909058593"]
["Cooperativa de Trabajadores del Sena ",null,null,"890906852"]
["Cooperativa de Transportadores del Huila",null,null,"8911002997"]
["Cooperativa del Insituto Nacional de Cancerologia - Copecan",null,null,"8001965960"]
["Cooperativa del Sector Editorial COOPSABER",null,null,"800012733"]
["Cooperativa del Sector Tecnologico de Colombia",null,null,"8600271251"]
["COOPERATIVA EMPRESARIAL DE AHORRO Y CREDITO COOVITEL",null,null,"8600150170"]
["Cooperativa Empresarial Multiactiva Popular Coempopular",null,null,"8600332277"]
["Cooperativa Especializada de Ahorro y Credito Coopcanapro",null,null,"9004600591"]
["Cooperativa Especializada de Ahorro y Crédito Cooperenka",null,null,"8909077104"]
["Cooperativa Financiera  de Antioquia",null,null,"8110226883"]
["Cooperativa la Rosa",null,null,"8914006578"]
["Cooperativa Multiactiva Crucial Ltda",null,null,"8604511479"]
["Cooperativa Multiactiva de Bienestar Familiar",null,null,"8600445340"]
["Cooperativa Multiactiva de Educadores de Casanare Limitada",null,null,"8918578164"]
["Cooperativa Multiactiva de Empleados de Colgate Palmolive",null,null,"8903013101"]
["Cooperativa Multiactiva de Fesan - Coopfesan",null,null,"8301164991"]
["Cooperativa Multiactiva de la Educacion Nacional",null,null,"8600327155"]
["COOPERATIVA MULTIACTIVA DE LOS TRABAJADORES DE LA EDUCACION DE C",null,null,"8604029253"]
["Cooperativa Multiactiva de Profesionales SOMEC",null,null,"8600261531"]
["Cooperativa Multiactiva de Servicios Andina Coopserviandina",null,null,"8001300070"]
["Cooperativa Multiactiva de Servicios Solidarios Copservir Ltda",null,null,"8300116703"]
["Cooperativa Multiactiva de Transportadores Omega Ltda",null,null,"8600144939"]
["Cooperativa Multiactiva Grupo Futuro ",null,null,"9002997837"]
["Cooperativa Multiactiva Latinoamericana Latincoop",null,null,"8600205236"]
["Cooperativa Multiactiva para el Desarrollo Comunitario de la Paz",null,null,"8190033579"]
["Cooperativa Multiactiva para los Profesionales del Sector Salud",null,null,"8600239873"]
["Cooperativa Multiactiva Propulsar",null,null,"8000870772"]
["Cooperativa Multiactiva QBE",null,null,"8600145589"]
["Cooperativa Multiactiva Redil",null,null,"8300186927"]
["Cooperativa Multiactiva Unidos",null,null,"800215989"]
["Cooperativa Nacional De Capacitación Estratégica",null,null,"9003484492"]
["Cooperativa Nacional de Trabajadores/Coopetraban",null,null,"8909050851"]
["COOPERATIVA NORTEÑA DE TRANSPORTADORES COONORTE LTDA",null,null,"8909056802"]
["COOPERATIVA PARA EL BIENESTAR SOCIAL COOPEBIS",null,null,"8605148231"]
["Cooperativa Riachon Ltda",null,null,"8909100874"]
["COOPERATIVA SANTANDEREANA DE TRANSPORTES LTDA COPETRAN",null,null,"8902009287"]
["Cooperativa Shalomcoop",null,null,"9002477200"]
["Cooperativa Somos O.C.",null,null,"8605218271"]
["Cooperativa Suya",null,null,"8909114026"]
["Cooperativa Texas",null,null,"8600171114"]
["Cooperativa Universitaria Bolivariana",null,null,"8909070382"]
["Coopereginal - Coop. Emplead. Registraduria Nal",null,null,"8600111647"]
["Coopidrogas",null,null,"8600261230"]
["Coopminexteriores",null,null,"8600222943"]
["Coopmulpens",null,null,"8301442805"]
["Cooprofesores",null,null,"8902012808"]
["Coopsena",null,null,"8600148711"]
["COOPSERFUN - CENTRAL COOPERATIVA DE SERVICIOS FUNERARIOS",null,null,"8605168818"]
["Coopservicol",null,null,"9003044368"]
["Coopteboy",null,null,"8918008818"]
["COOPTEBOY",null,null,"891800881"]
["COOPTELECUC",null,null,"8905061444"]
["Coordinadora de Inversiones y Creditos COOINVERCREDITOS",null,null,"8001448930"]
["Coordinadora Internacional de Carga S.A.",null,null,"8600454995"]
["Coordiutil S.A.",null,null,"9003588330"]
["COOSALUD",null,null,"8002492410"]
["COOSVICENTE",null,null,"8909814974"]
["Cootracerrejon ",null,null,"8000200348"]
["Cootradeptales",null,null,"8909092886"]
["Cootraemcali",null,null,"8903012781"]
["Cootratiempo",null,null,"8600143274"]
["Cootraunion",null,null,"8001965115"]
["Coounibosque",null,null,"8300299635"]
["Copacredito",null,null,"8902018545"]
["Copropiedad Edificio Ibiza",null,null,"9001340967"]
["Copropiedad Residencias Teka 22 Propiedad  Horizontal",null,null,"9007405641"]
["Copy Importa sas",null,null,"9000225111"]
["Coral Accesory SAS",null,null,"9007027542"]
["Coral Home S.A.S.",null,null,"9003083081"]
["Corantioquia",null,null,"8110002317"]
["Corbanca",null,null,"8600270695"]
["Core Laboratories",null,null,"8300009227"]
["Corfedes S.A.S.",null,null,"9001394013"]
["CORP UNIV PILOTO DE COLOMBIA",null,null,"8600223823"]
["Corpecol",null,null,"8605334523"]
["Corporacion A T S  Accion Tecnica Social",null,null,"9002117387"]
["CORPORACION ABRAHAM  LINCOLN",null,null,"8600138731"]
["Corporacion Acueducto Multiveredal Carmin Cuchilla Mampuesto \t",null,null,"8110158010"]
["Corporacion Aldea Global",null,null,"8100035991"]
["Corporacion Alta Gerencia",null,null,"8110108981"]
["Corporacion Ambiental Agua Bonita C.A.B.",null,null,"9003080451"]
["Corporación Amigos an José de las Vegas",null,null,"8909857461"]
["Corporacion Amigos de Eafit",null,null,"8909847768"]
["Corporacion Anapoima Club Campestre",null,null,"8000941906"]
["Corporacion Antioquia Tropical Club",null,null,"800160042"]
["Corporacion Autonoma Regional de Boyaca - Corpoboyaca",null,null,"8002528435"]
["Corporacion Autonoma Regional de la Orinoquia Corporinoquia",null,null,"8320002836"]
["Corporacion Autonoma Regional de Rionegro NARE CORNARE",null,null,"8909851383"]
["Corporacion Autonoma Regional del alto Magdalena",null,null,"8002555807"]
["Corporacion Autonoma Regional del Tolima",null,null,"8907045367"]
["Corporacion Autonoma Regional del Valle",null,null,"8903990027"]
["Corporacion Autonoma Regional Para el Desarrollo Sostenible",null,null,"8999992385"]
["Corporacion Autonoma Regional para la defensa de la meseta de Bu",null,null,"8902015730"]
["CORPORACION AUTORREGULADOR DEL MERCADO DE VALORES",null,null,"9000905293"]
["Corporacion Ballet Folclorico De Antioquia",null,null,"8002128387"]
["Corporación Canadiense de Aprendizaje Canadian College",null,null,"830139956"]
["Corporacion Centro Carismatico Minuto de Dios",null,null,"8605238870"]
["Corporacion Centro Internacional de Entrenamiento e Investigacio",null,null,"8000928792"]
["Corporacion Centro Manizales",null,null,"8908032969"]
["Corporacion Centro Mundial de la Moda",null,null,"9000830319"]
["CORPORACION CLUB CAMPESTRE DE CALI",null,null,"8903080408"]
["CORPORACION CLUB CAMPESTRE DE PEREIRA",null,null,"8914004675"]
["Corporacion Club Campestre Farallones",null,null,"8903052242"]
["CORPORACION CLUB CAMPESTRE GUAYMARAL",null,null,"8000664301"]
["Corporacion Club Campestre Los Andes",null,null,"8050003012"]
["Corporacion Club los Lagartos",null,null,"8600089405"]
["CORPORACION CLUB MEDELLIN",null,null,"8904804713"]
["Corporacion Club Nautico San Andres",null,null,"8904010659"]
["Corporacion Club Payande",null,null,"8002192483"]
["Corporacion Colaborarte",null,null,"9005555971"]
["CORPORACION COLEGIATURA COLOMBIANA",null,null,"8110241580"]
["Corporacion Colegio Aleman Deutscher Shulverein",null,null,"8909065744"]
["Corporacion Colegio Cristobal Colon - The Colombus School",null,null,"8909028299"]
["CORPORACION COLEGIO CUMBRES",null,null,"8002500161"]
["CORPORACION COLEGIO CUMBRES DE BOGOTA",null,null,"8300698598"]
["Corporacion Colegio Internacional Altamira",null,null,"8020081795"]
["CORPORACION COLEGIO LOS NOGALES",null,null,"8604028477"]
["Corporación Colegio Montessori",null,null,"8909167689"]
["Corporacion Colegio Panamericano",null,null,"8600226115"]
["Corporación Colegio San Bonifacio de las Lanzas",null,null,"8907065065"]
["Corporacion Colombiana de Investigacion Agropecuaria",null,null,"800194600"]
["Corporacion Compromiso Ciudadano por Colombia",null,null,"9002854562"]
["Corporacion Comunitaria Indigena Carlos Paez",null,null,"9000660291"]
["CORPORACION CONEXION COLOMBIA",null,null,"8301310565"]
["CORPORACION COOMEVA PARA LA RECREACION Y LA CULTURA",null,null,"8050099581"]
["Corporacion Cordon de Vida",null,null,"9000565472"]
["Corporacion Cuellar Urrea",null,null,"9002678426"]
["CORPORACION CULTURAL COLEGIO ALEMAN",null,null,"8901018127"]
["Corporacion de Altos Estudios Equinos de Colombia - Caequinos",null,null,"9000203345"]
["Corporacion de Artes y Letras",null,null,"8605045431"]
["Corporacion de Educacion Superior - Cres",null,null,"8903280238"]
["CORPORACION DE FERIAS Y EXPOSICIONES S.A.",null,null,"8600024643"]
["CORPORACION DE PADRES DE FAMILIA DEL COLEGIO INGLES DE LOS ANDES",null,null,"8000969093"]
["Corporacion de Padres de Familia del Colegio Sagrado Corazon de ",null,null,"8903092297"]
["Corporacion Diocesana Pro Comunidad Cristiana",null,null,"8919012821"]
["Corporacion Educativa Alcaravanes",null,null,"800106740"]
["Corporacion Educativa Benedictina",null,null,"8909822094"]
["Corporacion Educativa Bilingüe de Santa Marta",null,null,"800127599"]
["Corporacion Educativa Colombo Britanico",null,null,"8909009384"]
["Corporacion educativa Corazoncitos Clown",null,null,"900239618"]
["Corporacion Educativa Indoamericana Ltda",null,null,"8000220766"]
["Corporacion Educativa Minuto de Dios",null,null,"8002154657"]
["Corporación Educativa San Jose de las Vegas",null,null,"8000844083"]
["Corporacion Educativa y Social  Waldorf",null,null,"8301084640"]
["CORPORACION EL MINUTO DE DIOS",null,null,"8600103710"]
["CORPORACION EMPRESARIAL DE LA ORINOQUIA CEO",null,null,"9000282723"]
["Corporacion Empresarial N y G",null,null,"900242287"]
["Corporacion Enlace Colombia",null,null,"8300634691"]
["Corporacion Euroamericana de Educacion",null,null,"8301291528"]
["Corporacion Gimnasio Aleman Fredrich Von Schiller",null,null,"8300263198"]
["Corporacion Gimnasio del Norte",null,null,"892301094"]
["CORPORACION GIMNASIO LA MONTAÑA",null,null,"8000748083"]
["Corporacion Gimnasio los Pinos",null,null,"8301153935"]
["Corporacion Greenpeace Colombia",null,null,"9004813191"]
["CORPORACION GUSTAVO MATAMOROS",null,null,"8605338350"]
["Corporacion Humanizando",null,null,"8040135369"]
["Corporacion Instituto de Administracion y Finanzas",null,null,"8914082485"]
["CORPORACION INTEGRAL DE SERVICIOS SCARE - CORPOSCARE",null,null,"8301133936"]
["CORPORACION INTEGRAL DE SERVICIOS SCARE CORPOSCARE",null,null,"830113393"]
["CORPORACION INTERSOFTWARE",null,null,"8110452310"]
["Corporación Interuniversitaria de Servicios",null,null,"8110032098"]
["Corporacion Isolda Echavarria",null,null,"800016026"]
["Corporacion la Casa de Crisanto",null,null,"9001594461"]
["Corporacion Leonardo Da Vinci de Medellin",null,null,"890985809"]
["CORPORACION LICEO BENALCAZAR",null,null,"8903024213"]
["Corporacion Liceo Frances de Pereira",null,null,"8914096816"]
["Corporacion Liceo Frances Paul Valery",null,null,"9002551781"]
["Corporacion Liceo Pino Verde",null,null,"816000639"]
["Corporacion Lonja de propiedad Raiz de Medellin y Antioquia",null,null,"8110169353"]
["Corporacion Mahavir k-mina Artificial Limb Center",null,null,"9001375241"]
["Corporacion Manos de Amor y Paz - Manapaz",null,null,"8110160525"]
["CORPORACION MARIA CECILIA AGUDELO Y FRANCO-COMARCA",null,null,"8110438897"]
["CORPORACION MARYMOUNT",null,null,"8901117938"]
["Corporacion Marymount de Medellin",null,null,"8909857304"]
["Corporación Mesa de Yeguas Country Club",null,null,"8080007854"]
["Corporacion Museo de Arte Moderno",null,null,"8909840105"]
["Corporacion Nacional de Terminales de Transportes",null,null,"8001688024"]
["Corporacion Nexos Familiares",null,null,"8110383904"]
["Corporacion para el Fomento de la Educacion Rudolf Steiner",null,null,"890322350"]
["Corporacion para el manejo sostenible de los  bosques ",null,null,"8110434769"]
["Corporacion para la Atencion Integral de la Niñez - CORPOLATIN",null,null,"8050268879"]
["Corporacion para la Formacion  de la Mujer",null,null,"890315655"]
["Corporacion Parque Cultural del Caribe",null,null,"8020193601"]
["Corporacion Parque Explora",null,null,"900145472"]
["Corporacion Politecnico Marco Fidel Suarez",null,null,"8909858563"]
["Corporacion por un Sueño",null,null,"9007249013"]
["Corporacion Prodeminas",null,null,"8909855537"]
["Corporacion Promotora de Excelencia Personal",null,null,"8020122221"]
["Corporacion Prosol - Colegio San Ricardo",null,null,"80023236680"]
["Corporacion Prosol- Proyecto Solidaridad",null,null,"8002323661"]
["Corporacion Prosol-Proyecto Solidaridad (Bancolombia)",null,null,"800232366"]
["Corporacion Prosol-Proyecto Solidaridad (Donaciones)",null,null,"8002323668"]
["Corporacion Region para el Desarrollo y la Democracia",null,null,"8000842428"]
["Corporacion Salvic",null,null,"8110059111"]
["CORPORACION SINDROME DE DOWN",null,null,"8000376190"]
["Corporación Sisma Mujer",null,null,"8300495409"]
["Corporacion Social de Cundinamarca",null,null,"8999994217"]
["Corporacion Social Recreativa y Deportiva Union",null,null,"8902001529"]
["Corporación Sociedad De Mejoras Publicas De Cali",null,null,"8903990439"]
["Corporación SuperAndonos",null,null,"9000826202"]
["Corporación Superarse",null,null,"890980939"]
["CORPORACION TALENTUM",null,null,"8050232020"]
["Corporacion Tecnologica de Bogotá- CTB",null,null,"8604043515"]
["Corporacion Tecnologica Indoamerica",null,null,"9002436741"]
["Corporacion Unificada Nacional de Educacion Superior - CUN",null,null,"8604017349"]
["Corporacion Unificada Nacional de Educación Superior CUN",null,null,"860401734"]
["Corporacion Union de Hogares Cristianos",null,null,"8000230151"]
["Corporacion Universidad del Sinu Elias Bechara Zainum",null,null,"8910006921"]
["Corporacion Universidad Libre",null,null,"860013798"]
["Corporación Universitaria Adventista",null,null,"8604037513"]
["Corporacion Universitaria Americana",null,null,"9001144394"]
["Corporacion Universitaria Americana (Medellin)",null,null,"900114439"]
["Corporacion Universitaria de Asturias",null,null,"9005091721"]
["Corporacion Universitaria de Ciencia y Desarrollo Uniciencia",null,null,"830018780"]
["Corporacion universitaria de ciencia y tecnologia de colombia",null,null,"9003786949"]
["Corporacion Universitaria de Colombia IDEAS",null,null,"8605249581"]
["Corporacion Universitaria de Investigacion y Desarrollo UDI",null,null,"8902124335"]
["Corporacion Universitaria de Sabaneta J.Emilio Valderrama",null,null,"9002530215"]
["Corporación Universitaria del Caribe - CECAR",null,null,"8922012630"]
["Corporacion Universitaria del Sinu ",null,null,"891000692"]
["Corporación Universitaria el Caribe-CECAR",null,null,"8922012631"]
["Corporacion Universitaria Empresarial Alexander von Humboldt",null,null,"8010031355"]
["CORPORACION UNIVERSITARIA IBEROAMERICANA",null,null,"8605038377"]
["Corporacion Universitaria Lasallista",null,null,"8909848125"]
["Corporacion Universitaria Latinoamericana CUL",null,null,"8901036570"]
["Corporacion Universitaria Minuto de Dios - Uniminuto",null,null,"8001162172"]
["Corporacion Universitaria Reformada",null,null,"8020172548"]
["CORPORACION UNIVERSITARIA REMINGTON",null,null,"8110054251"]
["Corporacion Universitaria Unitec",null,null,"860510627"]
["Corporacion Universitaria Unitec (Pagos Online)",null,null,"8605106276"]
["Corporación Vallenpaz",null,null,"8050161173"]
["Corporacion Young Presidents Organization Capitulo Colombia",null,null,"8300035061"]
["Corpouraba Corporacion para el desarrollo sostenible de Uraba ",null,null,"890907748"]
["Corral Maldonados Asociados S.A",null,null,"8600107365"]
["Corredor Gaitan y Cia S. en AC",null,null,"8050131076"]
["CORREDOR VIAL DE CARTAGENA",null,null,"8300536309"]
["Corredores de Seguros Centro Seguros S.A.",null,null,"8600611998"]
["Corredores de Seguros del Valle SA ",null,null,"8903000401"]
["Corretaje Inmobiliario Ltda",null,null,"8001861356"]
["Corrumed S.A. Empaques Corrugados",null,null,"8001585191"]
["Cortes Gamboa S.A.",null,null,"8905000843"]
["Cortineros Lider S.A.",null,null,"8909370635"]
["CORVECOL",null,null,"9001483353"]
["COSINTE LTDA",null,null,"830019581"]
["Cosmeticos Janny Ltda",null,null,"805021197"]
["Cosmitet Ltda",null,null,"8300232021"]
["COSMOAGRO S.A",null,null,"8913048186"]
["COTECNA MINERALS S.A.S",null,null,"900538216"]
["Country Club de Bogotá",null,null,"8600096451"]
["Country Suites SA",null,null,"9001307411"]
["Coupronal Ltda.",null,null,"8600383966"]
["COVINOC S.A.",null,null,"8600284621"]
["Coway Colombia Ltda",null,null,"9002748890"]
["CPAAI Cabrera International S.A.",null,null,"8050058467"]
["CR Inmobiliaria SAS",null,null,"9005966943"]
["CR Villa Colombia ",null,null,"8110264735"]
["Cram Ltda",null,null,"9000137539"]
["Creaciones Apparel SA",null,null,"8909122848"]
["CREAME INCUBADORA DE EMPRESAS",null,null,"8110075470"]
["CREAR PROGRESO S.A. CORREDORES DE SEGUROS",null,null,"8300148925"]
["Creative  Computers",null,null,"175879796"]
["Crediavales S.A.S",null,null,"9001107661"]
["Credibanco",null,null,"8600329097"]
["Credicorp Capital Colombia",null,null,"8600681825"]
["Credifuturo",null,null,"8911016274"]
["Credijamar SA",null,null,"9004614488"]
["CREDIMAPFRE S.A.",null,null,"8605243376"]
["Credirebaja SA",null,null,"8050010306"]
["Credititulos SA",null,null,"8901169374"]
["Creditos Orbe S.A",null,null,"9003352593"]
["Credivalores Crediservicios SAS",null,null,"8050259643"]
["CREDIVALORES S. A.",null,null,"8050270061"]
["Cres & Catering SAS",null,null,"900432387"]
["Crezcamos SA",null,null,"9002112630"]
["Cristian Lay - Colombia SA",null,null,"9002995934"]
["CRIYA S.A.",null,null,"8002001395"]
["Crusardi S.A.S.",null,null,"8300917480"]
["CRUZ BLANCA EPS S.A.",null,null,"8300097830"]
["Cruz Roja Colombiana Seccional Antioquia",null,null,"890980074"]
["Cruz Roja Colombiana seccional Atlantico",null,null,"890102064"]
["Cruz Roja Colombiana Seccional Boyaca",null,null,"891801940"]
["Cruz Roja Colombiana Seccional Valle del Cauca",null,null,"8903062150"]
["Crystal S.A.S",null,null,"8909016725"]
["CSAV GROUP AGENCY COLOMBIA LTDA",null,null,"9002437646"]
["CSO Consultores SAS",null,null,"9003573636"]
["Ctro Regional para el Fome del libro en Ameri Latina y el Caribe",null,null,"8001769570"]
["Cuadra por Cuadra S.A.S",null,null,"9004499433"]
["Cubicar Grupo Inmobiliario Ltda",null,null,"8305120481"]
["Cucuta Motors SAS",null,null,"9003626662"]
["Cueros Velez SAS",null,null,"8001917008"]
["Cuerpo de Bomberos Voluntarios de Cota",null,null,"900374444"]
["Cultural Ltda",null,null,"8000034331"]
["Cummins de los Andes SA",null,null,"8000716171"]
["Cuponatic Colombia S.A.S.",null,null,"9004094194"]
["Cuponciudad S.A.S.",null,null,"9004271741"]
["CUTIS SA",null,null,"8050175061"]
["Damis SA",null,null,"9002086592"]
["Daniel Alejandro Aristizabal",null,null,"713888001"]
["Daniel Bautista Zuluaga – Notaria 15",null,null,"19330284"]
["DANN REGIONAL S.A.",null,null,"8110077294"]
["Dario Arevalo Castro ",null,null,"121203486"]
["Data Roka Ltda",null,null,"8300053632"]
["Datagas SAS",null,null,"900204620"]
["Dataware Sistemas",null,null,"8110068234"]
["Daveld Business Development SAS",null,null,"9003193261"]
["Davila Peña y Cia Ltda.",null,null,"860352521"]
["Dayfood Alimentacion Inteligente SAS",null,null,"9007170920"]
["Dbelen S.A.",null,null,"9000795203"]
["DCE Belleza S.A.S.",null,null,"8305040535"]
["DCS Digital Communication Systems S.A.S.",null,null,"8300141469"]
["De costa a costa LTDA",null,null,"8916001339"]
["De Sur a Norte Representaciones Turísticas SAS",null,null,"9005669670"]
["Decofrutas Colombia S.A.",null,null,"9003488148"]
["Decohunter. com SAS",null,null,"9004318790"]
["Decoraciones Pel SAS",null,null,"8909320324"]
["Decorarco S.A.",null,null,"8160015195"]
["Del Este Centro Comercial P.H.",null,null,"9003693717"]
["Del Plastico S.A.S.",null,null,"9003130886"]
["Delima Marsh S.A.",null,null,"8903015840"]
["Delipavo Ltda",null,null,"8603534473"]
["Delta  Telecomunicaciones",null,null,"9007331861"]
["Delta Publicidad Inflables Internacional Ltda.",null,null,"8301436939"]
["Deluxe Travel S.A.S",null,null,"9001969063"]
["Demetalicos SAS",null,null,"8909365601"]
["DENTAL CENTER INTERNATIONAL SAS",null,null,"9004119675"]
["Dental Virtual Inversiones SAS",null,null,"9005729921"]
["Dentales Tauro SAS",null,null,"890933555"]
["DENTSPLY FINANCE CO",null,null,"830050631"]
["Denver Color SAS",null,null,"900023861"]
["DEPARTAMENTO ADMINISTRATIVO DE SEGURIDAD DAS FONDO ROTATORIO",null,null,"8999997157"]
["DEPARTAMENTO DE ANTIOQUIA",null,null,"8909002860"]
["Departamento de Bolivar",null,null,"8904800591"]
["DEPARTAMENTO DE BOYACA CONSUMO",null,null,"8918004981"]
["DEPARTAMENTO DE CUNDINAMARCA",null,null,"8999991140"]
["Departamento de san andres providencia y santa catalina",null,null,"8924000382"]
["Departamento de Santander",null,null,"8902012356"]
["Departamento de Santander SYC",null,null,"890201235"]
["DEPARTAMENTO DEL ATLANTICO",null,null,"8901020061"]
["Departamento del Atlantico (Realtech)",null,null,"890102006"]
["Departamento del Caqueta",null,null,"8000915944"]
["Departamento del Cauca",null,null,"8915800168"]
["Departamento del Cesar",null,null,"8923999991"]
["Departamento del Huila",null,null,"800103913"]
["Departamento del Magdalena",null,null,"8001039206"]
["Departamento del Meta",null,null,"8920001488"]
["Departamento del Quindio",null,null,"890001639"]
["Departamento del Quindio [Realtech]",null,null,"8900016391"]
["Departamento Norte de Santander",null,null,"8001039277"]
["Depolujo LTDA",null,null,"8300071832"]
["Deportacticas SAS",null,null,"9006301339"]
["Deposito Centralizado de Valores de Colombia Deceval SA",null,null,"800182091"]
["Deposito de Drogas Boyaca ",null,null,"170682603"]
["Depositos Judiciales Banco Agrario",null,null,"8000378008"]
["Dermatologica SA",null,null,"8909358846"]
["Dermatologique Colombia  SAS",null,null,"830141149"]
["Desarrolladora CC Fontanar SAS",null,null,"9006314503"]
["Desarrollo del Potencial Humano Integral LTDA Desarrollo PHI",null,null,"8000670397"]
["Design and Market S.A.S.",null,null,"9004798386"]
["Destino Caribe S.A.",null,null,"9000434731"]
["Destinos y Planes Agencia de Viajes SAS",null,null,"900832240"]
["Detal SA",null,null,"8600002924"]
["Devinorte",null,null,"8300026239"]
["DG Hoteles SAS",null,null,"900754750"]
["DHL Express Colombia Ltda",null,null,"8605026091"]
["Diabetrics Healthcare SAS",null,null,"9003724160"]
["DIABONOS",null,null,"8909012643"]
["DIACO S.A.",null,null,"8918001115"]
["Dialnet de Colombia SA ESP",null,null,"8190038516"]
["Diamantbec LTDA",null,null,"8605127280"]
["DIAMOX NETWORKS",null,null,"10171290997"]
["DIAZ ARIAS E HIJOS LTDA",null,null,"8300992859"]
["Dicol Ltda",null,null,"860042431"]
["Diego Damian Valdivieso Pinilla",null,null,"80876160"]
["Diego de Jesus Ramirez Serna",null,null,"70693982"]
["Diego Pelaez Belleza y Cuidado Personal SAS",null,null,"805028589"]
["Diesel Colombia Ltda",null,null,"8605075410"]
["Diez Medellin SAS",null,null,"9003606498"]
["Digeniar Alimentos SAS ",null,null,"9000564198"]
["Digiway S.A.S.",null,null,"900187391"]
["Dimargas S.A.S.",null,null,"811034631"]
["Diocesis de Yopal",null,null,"8918555185"]
["Direccion de Bienestar Social de la Policia Nacional",null,null,"8300423210"]
["Direccion de Reclutamiento y Control de Reservas",null,null,"8001306435"]
["Direccion General de Sanidad Militar",null,null,"8300396705"]
["DIRECCION GENERAL MARITIMA",null,null,"8300279041"]
["Dirección Nacional de Estupefacientes",null,null,"8001015995"]
["Direccion Seccional de Salud y Proteccion Social de Antioquia",null,null,"890900286"]
["Direccion Territorial de Salud de Caldas",null,null,"8001143125"]
["Directv de Colombia Ltda",null,null,"8050060140"]
["Directv de Colombia Ltda (Pagos Online)",null,null,"805006014"]
["Disandina S.A.",null,null,"8001649239"]
["Disaromas S.A",null,null,"8605126995"]
["Discos Fuentes Edimusica S.A.",null,null,"8909001318"]
["Discovery Computer Ltda",null,null,"8300147959"]
["Diseño y Piel  S.A.",null,null,"8002439600"]
["Diseño y Plastica Dental SAS",null,null,"900405298"]
["Diseños Asociados S.A.S",null,null,"9003918053"]
["Diseños Planificados  SAS",null,null,"9004116885"]
["Diskubota Ltda",null,null,"8300902708"]
["Diskubota Ltda (Bancolombia)",null,null,"830090270"]
["Dislicores S.A.",null,null,"8909165754"]
["Dismel Ltda.",null,null,"8000898720"]
["Disolventes y Petroleos de Antioquia S.A.S.",null,null,"9005099076"]
["Dispartes S.A.",null,null,"8110041127"]
["Dispufil internacional SAS",null,null,"8000302727"]
["Distri Ortiz Jl S.A.S.",null,null,"900410281"]
["Distri Shoes Comercializadora Ltda.",null,null,"900011646"]
["Distriactiva SAS",null,null,"9007469831"]
["DISTRIB. ORTIZ VIDALES Y CIA",null,null,"8300438438"]
["Distribuciones AXA SA",null,null,"8000525346"]
["Distribuciones e Importaciones de Material Electrico Ltda.",null,null,"8300978081"]
["Distribuciones Hoyos Tools S.A",null,null,"9002527271"]
["Distribuciones Hoyostool S.A.",null,null,"900252727"]
["Distribuciones T.Romero SAS",null,null,"8300365394"]
["Distribuidora Colombia GC S.A",null,null,"9000071227"]
["Distribuidora de Llantas para Colombia - Dillancol S.A. ",null,null,"9000113551"]
["Distribuidora de Materias Primas D´Mapri Ltda ",null,null,"8001853089"]
["Distribuidora de Pescados y Mariscos de la Sabana S.A.",null,null,"8000795368"]
["Distribuidora Ferretera Internacional SAS",null,null,"9002739934"]
["Distribuidora Internacional de Artículos Deportivos S.A.S",null,null,"8050229410"]
["Distribuidora La Costa SA",null,null,"8050107523"]
["Distribuidora la Sultana del valle SAS",null,null,"8000079552"]
["Distribuidora los Coches la Sabana S.A.",null,null,"8600526342"]
["Distribuidora MATEC",null,null,"8110376825"]
["Distribuidora MM SAS",null,null,"9004227898"]
["DISTRIBUIDORA NISSAN S.A.",null,null,"8600013070"]
["Distribuidora Nogal Ltda",null,null,"8605179502"]
["DISTRIBUIDORA RAYCO S.A.",null,null,"8902066115"]
["Distribuidora Rayco S.A.S.",null,null,"890206611"]
["Distribuidora Super 80 SA",null,null,"8050316288"]
["Distribuidora Surtinorte S.A.S",null,null,"8000737611"]
["DISTRIBUIDORA TECHNO STORE SAS",null,null,"9005025611"]
["Distribuidora Toyota SAS",null,null,"8600200582"]
["Distribuidora y Comercializadora de Energia Electrica DICEL S.A.",null,null,"8150008969"]
["Distribuidora Y Comercializadora Dizar LTDA",null,null,"8300724177"]
["Distribuidora y Comercializadora Natural S.A.S.",null,null,"9005708361"]
["Distribuidores A&B",null,null,"519882453"]
["Districatolicas Unidas S.A.S.",null,null,"9000151657"]
["Distriderma G&G S.A.S",null,null,"9002374013"]
["DISTRIFARMED S.A.S",null,null,"9000637793"]
["Distrikia SA",null,null,"8909250586"]
["DISTRIMAFER COLOMBIA S.A.S",null,null,"9005045253"]
["Distrito de Cartagena de Indias y DT",null,null,"8904801844"]
["Distrito Industrial, Especial y Portuario de Barranquilla",null,null,"8901020181"]
["Distrito Turistico y Cultural de Cartagena de Indias",null,null,"890480184"]
["Ditar SA",null,null,"8020058205"]
["Diverfibras S.A.S",null,null,"900193269"]
["DNI Business Advisors LTDA",null,null,"9001672213"]
["DOH IMPORTACIONES",null,null,"9000626751"]
["Dolly Devia SPA Ltda",null,null,"9000241820"]
["Domicity S.A.S.",null,null,"8301457438"]
["Dominio Estudio de Diseño EU",null,null,"8301142649"]
["Donaciones Davivienda",null,null,"860034313"]
["Donde Vivir Inmobiliaria SAS",null,null,"900458116"]
["Dorado Hoteles SAS",null,null,"8305112801"]
["Doriana Margarita Buelvas Rodriguez",null,null,"49766261"]
["Dorys Lopez Compañia S en C",null,null,"802006617"]
["Dos Reyes S.A.S.",null,null,"9006384766"]
["Dosis Verdes SAS",null,null,"9000958957"]
["Dotaciones Joserrago S.A.",null,null,"8605138839"]
["DPrimero",null,null,"9003754132"]
["Draxy SAS",null,null,"900651312"]
["DRIDCO COLOMBIA S.A.",null,null,"9002335987"]
["DTCH de Santa Marta",null,null,"8917800094"]
["DTN-Tasa de vigilancia - Superpuestos y Transporte ",null,null,"8999990902"]
["Dueño Directo S.A.S.",null,null,"9005635501"]
["DUMESA S.A.",null,null,"8001780401"]
["Duna SA",null,null,"8160080648"]
["Duque Botero Ltda",null,null,"8110085508"]
["Duque Escobar en C Viajes Chapinero",null,null,"8600278621"]
["DUQUE GIRALDO Y CIA LTDA.",null,null,"8000705256"]
["Duque Saldarriaga Y Cia S en C C.I.",null,null,"860508007"]
["Duques Tours  LTDA ",null,null,"8001981791"]
["DW International Trade Co. S.A.",null,null,"8110333277"]
["Dyex S.A.S Diseño y Exhibición",null,null,"9002775234"]
["Dyna y Cia S.A.",null,null,"8909012983"]
["Dynamic Solutions S.A.",null,null,"8301235437"]
["Dynamic Teaching Corporation Ltda",null,null,"8305037742"]
["E dent SAS",null,null,"9005127547"]
["E Y C Ingenieros LTDA",null,null,"9000242021"]
["E.P.S. FAMISANAR LTDA. CAFAM COLSUBSIDIO",null,null,"8300035647"]
["E.P.S. SANITAS S.A.",null,null,"8002514406"]
["E.S.E Hospital Universitario del Caribe",null,null,"9000421035"]
["E.S.E. Hospital Departamental del Quindio San Juan de Dios",null,null,"8000001182"]
["E.S.E. Hospital Departamental Santa Sofia de Caldas",null,null,"8908010995"]
["E.S.E. Hospital Local de Candelaria",null,null,"8913801849"]
["EAB-ESP",null,null,"8999990941"]
["Easy Colombia S.A.",null,null,"9001551071"]
["EASYCEM S.A.S.",null,null,"9004329779"]
["EASYFLY S.A.",null,null,"9000889157"]
["Ebanx Colombia SAS",null,null,"9007606960"]
["Ecg Electronics Comercializadora S.A.",null,null,"900011856"]
["Eclass Colombia SAS",null,null,"9004432367"]
["E-Click SAS",null,null,"9006285801"]
["Eco Producciones BTL S.A.S",null,null,"8110333775"]
["Ecologic SAS",null,null,"9004406792"]
["Ecolux S.A.S.",null,null,"9003630328"]
["Ecom SAS",null,null,"8050186743"]
["Econex",null,null,"9000693838"]
["ECONOMIZADORES.NET S.A.",null,null,"8110438201"]
["Ecopetrol",null,null,"8999990681"]
["Ecopetrol [Acciones]",null,null,"899999068"]
["Ecoteles Colombia SAS",null,null,"9002962746"]
["Ecotet",null,null,"8603500033"]
["Ecu Line de Colombia SAS",null,null,"8001809085"]
["Ed Lugo Business Center",null,null,"9003367614"]
["EDATEL S.A. E.S.P.",null,null,"8909050652"]
["EDGAR JOSE SIMMONDS TRUJILLO",null,null,"10516053"]
["Ediciones Belco Ltda ",null,null,"900124479"]
["EDICIONES GAMMA S.A.",null,null,"8600620013"]
["Ediciones SM SAS",null,null,"9000806948"]
["Edificadora Continental SA",null,null,"8903126885"]
["Edificatoria SAS",null,null,"8300848655"]
["Edificio  Ego Box M35 P.H",null,null,"9003901280"]
["Edificio 92 19",null,null,"900871453"]
["Edificio Advance - Propiedad Horizontal",null,null,"9003287097"]
["Edificio Agora Park Propiedad Horizontal",null,null,"900764996"]
["Edificio Almaru Rosales PH",null,null,"9008120672"]
["Edificio Altillo De Juanambu ",null,null,"8050057888"]
["Edificio Altos de la Toja PH",null,null,"800188848"]
["Edificio Ambar",null,null,"900518818"]
["Edificio Andino",null,null,"8000856955"]
["Edificio Apiros - Propiedad Horizontal",null,null,"9004756002"]
["Edificio Arezzo del Parque - Propiedad Horizontal",null,null,"9005579285"]
["Edificio Artek 93 Propiedad Horizontal",null,null,"9008715969"]
["Edificio Atalaya Del Rio",null,null,"8050073838"]
["Edificio Bahia Fragata San Andres",null,null,"8270000136"]
["Edificio Bahia Loft",null,null,"9004127168"]
["Edificio Balcones de Patio Bonito P.H.",null,null,"900042732"]
["Edificio Balcones del Vergel P.H",null,null,"8110471051"]
["Edificio Balmoral",null,null,"8002449431"]
["Edificio Barvento",null,null,"900851094"]
["Edificio Basika 86 Propiedad Horizontal",null,null,"9008873235"]
["Edificio Bavaria 13.60",null,null,"900673184"]
["Edificio Belpark PH",null,null,"900701774"]
["Edificio Brizzo",null,null,"900637105"]
["EDIFICIO BULEVAR TEQUENDAMA",null,null,"9002731494"]
["Edificio Calabria Virrey",null,null,"9006003724"]
["Edificio Cannelo PH",null,null,"9003752831"]
["Edificio Casa Sierra ",null,null,"8110154634"]
["Edificio Castillo 47 Propiedad Horizontal",null,null,"830072330"]
["Edificio Castinelo PH",null,null,"9001658965"]
["Edificio Cedro Verde PH",null,null,"9002039247"]
["Edificio Clinica Medellin del Poblado P.H.",null,null,"8110097096"]
["Edificio Commodore Bay Club",null,null,"8270003993"]
["Edificio Coral - Propiedad Horizontal",null,null,"8002383790"]
["Edificio Danzas PH",null,null,"811005065"]
["Edificio Ebano 103 PH",null,null,"9004173634"]
["Edificio Eilat",null,null,"8050030598"]
["Edificio El Alfil",null,null,"9000834200"]
["Edificio El Condado",null,null,"8050011771"]
["Edificio Emporio",null,null,"8050011271"]
["Edificio Entrearroyos P.H",null,null,"9000852457"]
["Edificio Entremontes PH",null,null,"8002343635"]
["Edificio Equilatera PH",null,null,"9003623399"]
["Edificio Fenix Telesentinel PH",null,null,"860043283"]
["Edificio Galaxia",null,null,"8050017217"]
["Edificio Grupo 71",null,null,"8300089255"]
["Edificio Hansa Reef Club",null,null,"8001659810"]
["Edificio Heritage Del Mar",null,null,"9005460055"]
["Edificio Jardines de Tivoli",null,null,"900712504"]
["Edificio la Cascada de Laureles Propiedad Horizontal",null,null,"9003273050"]
["Edificio la Cumbre Propiedad Horizontal",null,null,"9003290750"]
["Edificio la Paulita PH",null,null,"811010710"]
["Edificio La Quebrada",null,null,"8300344451"]
["Edificio La Traviata",null,null,"9004433761"]
["Edificio las palmas",null,null,"8050037026"]
["Edificio Los Panches",null,null,"8909265986"]
["Edificio Mar Adentro",null,null,"8002195313"]
["Edificio Marsella Propiedad Horizontal",null,null,"9007056365"]
["Edificio Metropolitan P.H",null,null,"8110451050"]
["Edificio Mikonos PH",null,null,"9000975478"]
["Edificio Mirador del Cedro",null,null,"9005441577"]
["Edificio Miro Apartalofth PH",null,null,"9003997954"]
["Edificio Moliere PH",null,null,"9003964331"]
["Edificio Monterosa",null,null,"8050034125"]
["Edificio Multifamiliar Deck29",null,null,"9007074873"]
["Edificio Multifamiliar La Esquina de Normandia",null,null,"8002402663"]
["Edificio Natura Vida Silvestre",null,null,"9006993318"]
["Edificio Nicole",null,null,"8903317537"]
["Edificio North Point Torre 3",null,null,"9003302702"]
["Edificio Nueve 80 PH",null,null,"900780522"]
["Edificio Oficinas 93 Centro Empresarial",null,null,"9005106342"]
["Edificio Opalo Propiedad Horizontal",null,null,"9004201725"]
["Edificio Oxus Centro Empresarial",null,null,"900880375"]
["Edificio Palmar De Juanambu",null,null,"8050117306"]
["Edificio Parques de Bella Suiza",null,null,"9005518462"]
["Edificio Pasadena PH",null,null,"800089173"]
["Edificio Portal de Belmira 7",null,null,"9002743931"]
["Edificio Portento",null,null,"9006342453"]
["Edificio Portico de la Colina II PH",null,null,"9005483217"]
["Edificio Portobello",null,null,"900669814"]
["Edificio Preux Propiedad Horizontal",null,null,"8001950198"]
["Edificio Puerta De Las Americas",null,null,"9005770209"]
["Edificio Refugio del Parque PH",null,null,"811004737"]
["Edificio Remansos De Arboleda",null,null,"8050107761"]
["Edificio Reserva de la Colina Torre 1",null,null,"830063035"]
["Edificio Residencial Gorrion P.H ",null,null,"9000214649"]
["Edificio Residencial Torre Colibri ph",null,null,"9001578298"]
["Edificio Residencial Torre Turpial",null,null,"9000623868"]
["Edificio Residencial Torres Carriqui",null,null,"9002385578"]
["Edificio Retiro De Santa Teresita",null,null,"8050091862"]
["Edificio Riberas DeNormandia",null,null,"8001934351"]
["Edificio River Heights",null,null,"9008665027"]
["Edificio Rosales 1.69 PH",null,null,"9007991256"]
["Edificio Saint Michel",null,null,"9000244040"]
["Edificio San Felipe P.H",null,null,"8000800369"]
["Edificio San Lucas 106 PH",null,null,"900798560"]
["EDIFICIO SAN SEBASTIAN DEL COUNTRY PH",null,null,"8300667059"]
["Edificio Santa Paula PH",null,null,"830081164"]
["Edificio Santiago del Oeste",null,null,"9004026848"]
["Edificio Seguros Bolivar",null,null,"8904009017"]
["Edificio Solar Del Virrey",null,null,"9005350438"]
["Edificio Terrazas de Patio Bonito PH",null,null,"9002111539"]
["Edificio Tirreno – Propiedad Horizontal",null,null,"9008210101"]
["Edificio Torre Benares ",null,null,"8000475170"]
["Edificio Torre Empresarial 4.24",null,null,"9007502940"]
["Edificio Torre La Vega F 2003",null,null,"9003155324"]
["Edificio Torres Blancas 1 PH",null,null,"890918919"]
["Edificio Torres del Chico Pijao",null,null,"9001831656"]
["Edificio Tramontana Propiedad Horizontal",null,null,"9005273840"]
["Edificio Tres Cuarenta Y Cuatro (344)",null,null,"9008939515"]
["Edificio Triangle",null,null,"900754006"]
["Edificio Tulipanes",null,null,"900699454"]
["Edificio Urapanes del chico II",null,null,"9000050617"]
["Edificio Urbano Green",null,null,"9008134419"]
["Edificio Valsesia 129 - Propiedad Horizontal",null,null,"9008520437"]
["Edificio Versalles Imperial",null,null,"900341022"]
["Edificio Virrey Loft II",null,null,"9002595671"]
["Edificio Vista Bella",null,null,"8903294851"]
["Edificio Vival 106 - Propiedad Horizontal",null,null,"9008107309"]
["Edificio Vival 107",null,null,"9005711865"]
["Edificio Vival De Santa Barbara – Propiedad Horizontal",null,null,"9008594037"]
["Edificio Vival del Parque ",null,null,"9007429976"]
["Edificio Yanaca",null,null,"9000243343"]
["Editora Actualicese.comltda",null,null,"9000694829"]
["Editora Business Management SAS",null,null,"9003838160"]
["EDITORA DEL MAR S.A.",null,null,"8904042738"]
["Editora Internacional Business Company  SAS",null,null,"900565693"]
["Editora Netwip Internacional SA",null,null,"9000941274"]
["Editora Urbana Ltda",null,null,"8002296631"]
["Editorial Bless S.AS.",null,null,"9004190259"]
["Editorial Camino en Santidad SAS",null,null,"9007208862"]
["Editorial Cultural Internacional Ltda",null,null,"8001964575"]
["Editorial el Globo S.A.",null,null,"8600097592"]
["EDITORIAL EL MALPENSANTE S.A.",null,null,"8300222872"]
["Editorial Global de Publicaciones SA",null,null,"8300545559"]
["EDITORIAL MAGISTERIO S.A.",null,null,"8300530919"]
["Editorial Millenium Enterprise S.A.S.",null,null,"830067608"]
["EDITORIAL NORMA S.A.",null,null,"8903089315"]
["Editorial Oceano de Colombia S.A.",null,null,"8001162119"]
["Editorial Style S.A.S.",null,null,"9003367306"]
["Editorial Televisa Colombia S.A.",null,null,"8000054925"]
["Eduardo L. Gerlein S.A.",null,null,"8600051019"]
["Eduardo Londoño e Hijos Sucesores SA",null,null,"8909000825"]
["Eduardo Paredes",null,null,"18916359"]
["Eduardo Peña A. E Hijos Ltda.",null,null,"8600776951"]
["Educación Continua Virtual S.A.S",null,null,"9005513762"]
["Educacion Integral Ltda - Academia  Militar Jose Maria Cabal",null,null,"8903200161"]
["Educación Siglo XXI S.A.",null,null,"8050037302"]
["Educadores Integrados S.A.",null,null,"8110410101"]
["EDUCAR EDITORES S.A.",null,null,"8600705365"]
["Educar Limitada",null,null,"8120026416"]
["EDUCARE S.A.",null,null,"8002267136"]
["EDUFACT SAS",null,null,"9006253059"]
["Edwin Ernesto Gonzalez Sambony",null,null,"79913468"]
["EF Educacion Internacional Ltda.",null,null,"800149668"]
["Efectivo LTDA",null,null,"8301319931"]
["Efigas S.A. E.S.P",null,null,"8002023953"]
["EFP Consultores SAS",null,null,"900870699"]
["EGM INGENIERIA SIN FRONTERAS",null,null,"9002992280"]
["E-GROUP TECHNOLOGIES S.A.",null,null,"9002045708"]
["EH Computers S.A.",null,null,"9001235691"]
["Ehk Inmobiliaria SAS",null,null,"8301179782"]
["EICONEX INTERNATIONAL S.A.S",null,null,"9000377668"]
["EJ SPORT SAS",null,null,"9006922128"]
["El Baluarte Limitada",null,null,"9001061980"]
["EL COLOMBIANO S.A. Y CIA S.C.A.",null,null,"8909013523"]
["El Comite de Rehabilitacion",null,null,"8909815901"]
["El Corcel S EN C",null,null,"8603517121"]
["El dandy Inmobiliaria SA",null,null,"8909080941"]
["EL DORADO BUSINESS CENTER SAS",null,null,"9005661881"]
["El Gaitero de Ecoparque Occidente S.A.S ",null,null,"9003296205"]
["El Heraldo Ltda",null,null,"8901004778"]
["El Heraldo Ltda (EGM)",null,null,"890100477"]
["El Infierno SAS",null,null,"9006200993"]
["EL LIBERTADOR INVESTIGACION Y COBRANZAS",null,null,"8600359771"]
["EL MARTILLO - BANCO POPULAR",null,null,"8600077380"]
["El mundo de los niños Colombia SAS",null,null,"9006654911"]
["EL PAIS S.A.",null,null,"8903017521"]
["El Poblado Asociados S.A.S",null,null,"9007122291"]
["El Poblado SA",null,null,"8020180141"]
["El punto de la impresora, Cableado y Accesorios S.A.S.",null,null,"9005350785"]
["El Semillero S.A.S ",null,null,"8300555284"]
["Eleba S.A.S.",null,null,"9001842293"]
["Electricas de Medellin Comercial S.A",null,null,"9004827579"]
["Electricos e Iluminación S.A.S.",null,null,"9001395684"]
["Electricos y Telecomunicaciones CM S.A.",null,null,"8110381732"]
["Electrificadora de Santander S.A E.S.P",null,null,"8902012301"]
["Electrificadora del Caribe S.A E.S.P",null,null,"8020076706"]
["Electrificadora del Huila S.A. E.S.P.",null,null,"8911800011"]
["Electrificadora del Meta SA ESP",null,null,"8920022106"]
["Electro de la Hoz SAS",null,null,"8020236371"]
["Electrocaqueta S.A E.S.P",null,null,"8911901273"]
["Electrodomesticos la Mansion SA",null,null,"8001374867"]
["Electroindustrial S.A.",null,null,"8040146118"]
["Electrojaponesa SA",null,null,"8903063729"]
["Electronica AVS S.A.S",null,null,"8110465595"]
["Electronica AVS SAS",null,null,"811046559"]
["Electroplan SA",null,null,"8000266960"]
["Electropol Ltda",null,null,"8002560183"]
["Electrovillegas SAS",null,null,"9002670943"]
["Elegir Soluciones S.A.S.",null,null,"9000143752"]
["Eleinco S.A.S.",null,null,"8110150181"]
["Elemento Arquitectonico SAS",null,null,"8110128357"]
["Eliana Cecilia Cardona Cardona",null,null,"43628298"]
["ELITE",null,null,"9005345244"]
["Elite Training Ltda",null,null,"8090024440"]
["EM Arango de Velasco S en C",null,null,"8903278110"]
["EMarket Latin America",null,null,"9004275049"]
["EMAS Pasto S.A. E.S.P.",null,null,"8140007041"]
["Embajada de Brasil Recaudos Consulares",null,null,"8000907899"]
["EMCALI - EMPRESAS MUNICIPALES DE CALI E.S.P.",null,null,"8903990034"]
["EME Estrategias de Mercadeo Efectivas y/o Belman Julian Galvis",null,null,"94541162"]
["Eme Propiedad Raiz Limitada ",null,null,"8110099861"]
["Emerald Center S.A.",null,null,"8001691798"]
["Emergencias Veterinarias Inmediatas  SAS",null,null,"9004505385"]
["Emermedica S.A.",null,null,"8001267857"]
["EMGESA S.A. ESP",null,null,"8600638758"]
["Emore S.A.S",null,null,"900277249"]
["E-Motion Corporation SAS",null,null,"9007043019"]
["EMP REGIONAL DE TELECOM ERT ESP",null,null,"8001357292"]
["Empaques y Cartones S.A.S.",null,null,"8605185432"]
["EMPODUITAMA S.A ESP",null,null,"8918555787"]
["Emporio Bienes y Capitales SAS",null,null,"9004917885"]
["Emporium Jeans S.A.S",null,null,"9004152375"]
["Empresa Acueducto y Alcantarillado Yopal",null,null,"8440007554"]
["Empresa Administradora de Recursos Turisticos SAS",null,null,"8060146115"]
["Empresa Cotrafa de Servicios Sociales",null,null,"8110170243"]
["Empresa de Acueducto Alcantarillado y Aseo de Madrid",null,null,"8320015122"]
["Empresa de Acueducto Alcantarillado y Aseo de Zipaquira EAAAZ ",null,null,"8000059009"]
["Empresa de Acueducto y Alcantarillado de Pereira SA ESP",null,null,"8160020207"]
["Empresa de Acueducto y Alcantarillado de Villavicencio",null,null,"8920002651"]
["Empresa de acueducto,alcantarillado y aseo de san gil -ACUASAN E",null,null,"8001201757"]
["Empresa de Arauca SA",null,null,"8908002560"]
["Empresa de Energia de Arauca Enelar E.S.P.",null,null,"8920994993"]
["Empresa de Energia de Casanare S.A ESP",null,null,"8440045760"]
["EMPRESA DE ENERGIA DE CUNDINAMARCA S.A. ESP.",null,null,"8600076380"]
["Empresa De Energia De Pereira S.A E.S.P.",null,null,"8160020199"]
["Empresa de Energia de Putumayo S.A. E.S.P.",null,null,"8460002418"]
["EMPRESA DE ENERGIA DEL PACIFICO S.A. E.S.P EPSA ES.P.",null,null,"8002498601"]
["Empresa de Energia del Quindio S.A. E.S.P.",null,null,"8000526409"]
["Empresa de Obras Sanitarias de Pasto Empopasto S.A. E.S.P.",null,null,"8912006863"]
["Empresa de Servicios de Florencia Servaf SA ESP",null,null,"8001694707"]
["Empresa de Servicios Publicos de el Carmen de Viboral ESPCV",null,null,"8110115326"]
["Empresa de Servicios Publicos de Fusagasuga. Emserfusa E.S.P.",null,null,"8906800536"]
["Empresa de Servicios Publicos de la Calera - ESPUCAL E.S.P.",null,null,"8000051519"]
["Empresa de Servicios Publicos de Ocaña",null,null,"800245344"]
["Empresa de Servicios Publicos de Tenjo Emsertenjo S.A. ESP",null,null,"9001498832"]
["Empresa de Servicios Publicos de Tocancipa SA ESP",null,null,"9002274139"]
["Empresa de Servicios Publicos de Valledupar-Emdupar S.A ESP",null,null,"8923005488"]
["Empresa de Servicios Publicos Guarne",null,null,"8110130600"]
["EMPRESA DE TELECOMUNICACIONES DE BOGOTA S. A. E.S.P",null,null,"8999991158"]
["Empresa de Telecomunicaciones de Pereira S.A",null,null,"8160020181"]
["EMPRESA DE TELECOMUNICACIONES DE POPAYAN S.A EMTEL E.S.P",null,null,"8915021631"]
["Empresa de Transporte del Tercer Milenio TRANSMILENIO S.A.",null,null,"8300635066"]
["Empresa de Transporte Trasteos  El Hogar S.A.S",null,null,"8903061571"]
["Empresa De Vigilancia Y Seguridad Privada Carimar",null,null,"9002455601"]
["EMPRESA FONDO DE CESANTIAS HORIZONTE",null,null,"800189529"]
["Empresa Industrial y Comercial del Estado Administradora del M",null,null,"9005050605"]
["Empresa Municipal de Acueducto y Alcantarillado de Funza EMMAF E",null,null,"8320007765"]
["Empresa Municipal de Mercadeo de Apartado EMMA",null,null,"8110040104"]
["Empresa Municipal de Servicios Publicos de Arauca - EMSERPA E.I.",null,null,"8001135499"]
["Empresa Mutual para el Desarrollo Integral de la Salud E.S.S ",null,null,"8110040555"]
["Empresa Sanitaria del Quindio SA ESP",null,null,"8000638237"]
["Empresarial Cien Inmobiliaria S.A.",null,null,"8605206870"]
["Empresas Publicas de Armenia",null,null,"8900004399"]
["EMPRESAS PUBLICAS DE LA CEJA E.S.P.",null,null,"8110093290"]
["EMPRESAS PUBLICAS DE MEDELLIN",null,null,"8909049961"]
["Empresas Publicas de Medellín E.P.M.",null,null,"890904996"]
["Empresas Publicas de Neiva E.S.P",null,null,"8911800108"]
["Empresas Varias de Medellin E.S.P.",null,null,"8909050559"]
["EMPSII S.A.S",null,null,"8050243632"]
["Emquilichao E.S.P.",null,null,"8000199934"]
["EMSSANAR",null,null,"8140003371"]
["En Cahsa S.A.S",null,null,"900635492"]
["En tu Almacen.Com S.A.S.",null,null,"9004320696"]
["Enebe Representaciones S.A.",null,null,"8002298858"]
["Energia & Potencia SA",null,null,"8000513194"]
["Energia Iluminacion Vana Ltda.",null,null,"9001121717"]
["Energia y Agua  SAS ESP",null,null,"9004830361"]
["ENERTOTAL S.A. E.S.P.",null,null,"9000399015"]
["Enfermeras Domiciliarias Asociadas Enfaso S.A.S",null,null,"8001548671"]
["Enfermeras un Compromiso Asociado SAS",null,null,"830003967"]
["Englobe S.A.S",null,null,"9003591503"]
["Enlace Estrategico S.A.",null,null,"9000532743"]
["ENLACE OPERATIVO - CESANTIAS",null,null,"9000891045"]
["ENLAW S.A.S",null,null,"9006335786"]
["Enmoto S.A.S",null,null,"900512293"]
["E-NNOVVA S.A.S.",null,null,"9002248604"]
["Ensenada S.A.",null,null,"8110056281"]
["Entelnet S.A.S.",null,null,"9004847893"]
["Entidad Cooperativa Solidaridad de Salud",null,null,"8320007608"]
["Entidad Educativa Colegio Gran Bretaña S.A.",null,null,"8300314970"]
["Entidad Promotora de Salud del Regimen Subsidiado Convida ",null,null,"8999991079"]
["ENTIDAD PROMOTORA DE SALUD MALLAMAS EPSI",null,null,"8370000845"]
["ENTIDAD PROMOTORA DE SALUD SERVICIO OCCIDENTAL DE SALUD SA",null,null,"8050011572"]
["Entrepreneurs Colombia SAS",null,null,"8301087511"]
["Enturne En linea  SAS",null,null,"900612664"]
["Envios Logisticos SAS",null,null,"900331846"]
["Enzipan Laboratorios SA",null,null,"8000601590"]
["Epica Construcciones S.A.",null,null,"9002036400"]
["EPM BOGOTA S.A. E.S.P.",null,null,"8300321609"]
["EPS FAMISANAR LTDA.",null,null,"830003564"]
["EPS Y MEDICINA PREPAGADA SURAMERICANA",null,null,"8000887022"]
["EPSI Anas Wayuu",null,null,"8390004956"]
["EPSON COLOMBIA LTDA",null,null,"8002394715"]
["EQUANT COLOMBIA S. A.",null,null,"8001953264"]
["Equipos Gleason Serrano Gomez",null,null,"8301138446"]
["Equipos Toyama de Colombia S.A.S.",null,null,"9004169843"]
["Equipos y Controles Industriales S.A.",null,null,"8600555839"]
["ERCOMP SYSTEMS INC LTDA",null,null,"8300274026"]
["Es Vendra International SAS",null,null,"9007740400"]
["Escobar Salamanca & Cia Ltda",null,null,"8600052561"]
["Escuela Aeronautica de Colombia LTDA",null,null,"8301453514"]
["Escuela Colombiana de Carreras Industriales - ECCI",null,null,"8604014960"]
["ESCUELA COLOMBIANA DE INGENIERIA",null,null,"8600348113"]
["Escuela Colombiana de Rehabilitacion",null,null,"8300111845"]
["Escuela de Aviación de los Andes Aeroande",null,null,"8600489097"]
["Escuela de Cadetes de Policia General Francisco de Paula Santand",null,null,"8001275088"]
["Escuela de Cine y Fotografia Zona Cinco sas",null,null,"900688281"]
["Escuela de Diseño y Mercado de Moda Arturo Tejada Cano",null,null,"8000268286"]
["ESCUELA DE INGENIERIA DE ANTIOQUIA",null,null,"8909837226"]
["Escuela de Musica Fernando Sor SAS",null,null,"9005163891"]
["Escuela Internacional  LTDA",null,null,"9003111591"]
["ESCUELA INTERNACIONAL DE DISEÑO LA SALLE COLLEGE",null,null,"8300405160"]
["Escuela Moderna de Conduccion S.A.S.",null,null,"9004065292"]
["Escuela Nacional de ventas Enven SAS",null,null,"8110422388"]
["ESCUELA SUPERIOR DE ADMINISTRACION PUBLICA  - SSS",null,null,"8001175196"]
["ESCUELA SUPERIOR DE ADMINISTRACION PUBLICA  ESAP - SSS",null,null,"8002485291"]
["ESCUELA SUPERIOR DE ADMINISTRACION PUBLICA ESAP",null,null,"8999990547"]
["Escuela Superior de Belleza Colombia S.A.S.",null,null,"900521944"]
["Escuela Tecnologica Instituto Tecnico Central",null,null,"8605236946"]
["Esden Business School S.A.S.",null,null,"9005814239"]
["Esfera Color Ltda ",null,null,"8300116860"]
["Esfera Temporales S.A.S.",null,null,"900407700"]
["Eslabon Estrategico Distribuimos Co SAS",null,null,"900605201"]
["Espacios S.A.S",null,null,"8110038746"]
["Especial con Propiedad SAS",null,null,"811022793"]
["Especialidades Eléctricas S A.",null,null,"8903004364"]
["Especialidades Quimicas de Colombia y Compañia Ltda",null,null,"900148511"]
["Especialistas en Prevencion y Proteccion de riesgos",null,null,"9002619119"]
["Espectaculos Y Eventos De Colombia S.A.S.",null,null,"9004901337"]
["Esporte Nutrizione SAS",null,null,"9005881046"]
["Espumas Plasticas S.A.",null,null,"8909162695"]
["Estampados Color Way SAS",null,null,"9003358696"]
["Estetica Refinex Ltda",null,null,"8110434658"]
["Esthetic Work Laboratorio SAS",null,null,"830127596"]
["Estibol S.A.S",null,null,"8605083820"]
["Estilo Ingenieria S.A.",null,null,"8600638307"]
["Estimulemos Escuela Maternal y Centro de Estimulacion Adecuada ",null,null,"9005728337"]
["Estrategia y Produccion S.A.",null,null,"9000492178"]
["E-strategic Colombia SAS",null,null,"9004575656"]
["Estructura IST SAS",null,null,"9006193119"]
["ESTUDIO DE MODA S.A.",null,null,"8909268031"]
["Estudio Inmobiliario SA ",null,null,"9001942218"]
["Estudio Textil Ltda.",null,null,"830503512"]
["Estuyo S.A.S.",null,null,"9004684521"]
["ESTYVAR ENTERPRISES LTDA",null,null,"8301034544"]
["Etapa 1 Ayapel Agrupacion Palo de Agua 1",null,null,"9005506811"]
["Etapa 2 Baru Agrupacion Palo de Agua 1",null,null,"9005506771"]
["ETERNA S.A.",null,null,"8600022740"]
["Ether Voice SAS",null,null,"9002098411"]
["Etiquetas e Impresos Gráficos SA",null,null,"8909394382"]
["E-TRAINING LTDA.",null,null,"8301475471"]
["Eurolab EU",null,null,"8060109824"]
["Eurometric Colombia Ltda",null,null,"9003648303"]
["Eurosierras S.A.S.",null,null,"8001171390"]
["EV Bogota SAS",null,null,"9005763176"]
["Eventmark Soluciones Digitales S.A.S",null,null,"9004112811"]
["Eventos Extremos SAS",null,null,"9008215933"]
["Eventour Sport S.A.S.",null,null,"9001990063"]
["Evernet SAS",null,null,"9006771729"]
["EVOKA CORP S.A.",null,null,"9000517111"]
["Exito Viajes y Turismo SAS",null,null,"9006401736"]
["EXPERIAN COMPUTEC S.A.",null,null,"9004226148"]
["Expertos Seguridad Ltda",null,null,"8000108666"]
["EXPRESO BOLIVARIANO",null,null,"8600051081"]
["Expreso Brasilia S.A.",null,null,"8901005318"]
["EXPRESO DE CARGA S.A.",null,null,"8600267444"]
["Expreso Viajes y Turismo Expreso S.A.S",null,null,"8002069792"]
["Expresos Especiales el Dorado S.A. EXPRELDORADO S.A.",null,null,"8605092375"]
["Extrusiones S.A.",null,null,"8909317081"]
["F 29 COLOMBIA 101 SAS",null,null,"9006185199"]
["F COLEGIO ANGLO COLOMBIANO",null,null,"8600091070"]
["F U EXTERNADO DE COLOMBIA",null,null,"8600149187"]
["Fabian Alexis Rivera Guerrero",null,null,"94456559"]
["Fabian Mejia Abadia & Cia",null,null,"9002267099"]
["Fabrica de Pinturas Pintuflex Ltda",null,null,"830006833"]
["Fabrica Nacional de Autopartes SA",null,null,"890301886"]
["Fabrica Nacional de Manijas Ltda - FANAMA",null,null,"8600482541"]
["Faby Sport SAS",null,null,"9006327108"]
["FACELCO SERVICIOS S.A. E.S.P",null,null,"9002332255"]
["Factoring Bancolombia S.A.",null,null,"890926283"]
["Facture S.A.S.",null,null,"9003997417"]
["Fadesca",null,null,"8915022344"]
["FAGAS",null,null,"8001197872"]
["Fajas Maldelca SAS",null,null,"9005239081"]
["Falabella de Colombia S.A.",null,null,"9000174478"]
["Fanturs S.A.S.",null,null,"8000690721"]
["Farma Especializados SAS",null,null,"9004553643"]
["Farmacia  Dermalife S.A",null,null,"8110172368"]
["Farmacia Drogueria San Jorge Ltda",null,null,"8050025831"]
["Fashion To The World S.A.S.",null,null,"9005358956"]
["Fast Colombia S.A.S.",null,null,"9003133493"]
["Fastec de Colombia SA",null,null,"8160079091"]
["Favi",null,null,"8600073386"]
["Febor Entidad Cooperativa",null,null,"8600076477"]
["Fecon SAS",null,null,"890931459"]
["Fedco SA",null,null,"8901096403"]
["FEDEGAN-FONDO NACIONAL DEL GANADO",null,null,"860008068"]
["FEDEPALMA",null,null,"8600244236"]
["FEDERACION COLOMBIANA DE GANADEROS - FEDEGAN",null,null,"8600080687"]
["Federacion Colombiana de Golf",null,null,"8600068153"]
["Federación Colombiana de Municipios",null,null,"8000826650"]
["Federación Colombiana de Municipios (PSE Hosting)",null,null,"800082665"]
["Federacion Colombiana de Tenis",null,null,"8600304681"]
["Federacion de aseguradores Colombianos- FASECOLDA ",null,null,"8600492750"]
["Federacion Diabetologica Colombiana",null,null,"8300476984"]
["FEDERACION GREMIAL DE TRABAJADORES DE LA SALUD",null,null,"900450493"]
["Federacion Nacional de Avicultores de Colombia - FENAVI",null,null,"8605325842"]
["Federacion Nacional de Comerciantes del Valle",null,null,"8903032157"]
["Federacion Nacional de Comerciantes Fenalco",null,null,"890100985"]
["Federacion Nacional De Comerciantes Fenalco ",null,null,"8600134887"]
["Federación Nacional de Comerciantes Fenalco Sector Bolivar",null,null,"8904800244"]
["Federacion Nacional De Comerciantes Seccional Tolima ",null,null,"890700172"]
["Federacion Odontologica Colombiana",null,null,"8600067922"]
["Federal S.AS",null,null,"8110223026"]
["FEDESOFT",null,null,"8000488843"]
["FENALCO BOGOTA - ZONA VIRTUAL",null,null,"860009161"]
["FENALCO SECCIONAL BOGOTA",null,null,"8600091619"]
["Fenix Construcciones S.A",null,null,"8002229370"]
["Fepasde Productos y Servicios S.A",null,null,"9006914287"]
["Ferias y eventos SA",null,null,"8001202003"]
["Fermat Comercial",null,null,"8300343191"]
["Ferragro S.A.S.",null,null,"8000608803"]
["Ferrasa SAS",null,null,"8909323898"]
["Ferrero Latin America Developing Markets S.A.S",null,null,"900535018"]
["FERRETERIA BARBOSA S.A.S.",null,null,"8903085874"]
["Ferreteria Cyrgo S.A.S",null,null,"8600096942"]
["Ferreteria Luis Penagos SAS",null,null,"8300370398"]
["FERRETERIA METROPOLIS SAS ",null,null,"8020042661"]
["Ferreteria Nurueña SAS",null,null,"860001605"]
["Ferreteria Tama S.A.",null,null,"8000153793"]
["Ferreteria y Distribuidora Andina Ltda",null,null,"8300205205"]
["Ferreteros y Electricos S.A",null,null,"8110124039"]
["Ferrocortes GM y Cia S.A.S.",null,null,"8909363549"]
["Fesneponal",null,null,"9003419223"]
["Festival Tours Ltda",null,null,"8001932210"]
["FGA FONDO DE GARANTIAS S.A",null,null,"8110104853"]
["FGI Fidesa Garantias Inmobiliarias",null,null,"8110414777"]
["FIANZACREDITO INMOBILIARIO DE SANTANDER S A",null,null,"8902110495"]
["Fianzacredito Inmobiliario del Caribe S.A.",null,null,"8305058280"]
["Fianzacredito SA",null,null,"8050236775"]
["Fianzas de Colombia SA",null,null,"9004887521"]
["Fideicomisos Patrimonios Autonomos Las Previsora S.A.",null,null,"830053105"]
["Fiduagraria S.A.",null,null,"8001599980"]
["Fiduciaria Bancolombia SA Sociedad Fiduciaria",null,null,"800150280"]
["Fiduciaria Central S.A.",null,null,"8001713721"]
["Fiduciaria Colpatria S.A. - PA RF Soluciones",null,null,"99999253962"]
["Fiduciaria Corficolombiana S.A",null,null,"8001408878"]
["Fiduciaria Corficolombiana SA",null,null,"8002567696"]
["Fiduciaria Davivienda S.A.",null,null,"8001822815"]
["Fiduciaria De Occidente S.A",null,null,"8001431573"]
["Fiduciaria Fiducor S.A. ",null,null,"8605286773"]
["Fiduciaria la Previsora S.A. (Donaciones Colombia Humanitaria)",null,null,"8605251485"]
["FIDUCOLDEX FIDEICOMISO PROEXPORT",null,null,"8300540605"]
["Filtros y Filtros S.A.S.",null,null,"8903224842"]
["FIM Asociados S.A.S.",null,null,"9003002879"]
["FINAGRO - FONDO PARA EL FINANCIAMIENTO DEL SECTOR AGROPECUARIO",null,null,"8001163987"]
["Financar SA",null,null,"800195574"]
["Financiamiento de Capital SAS",null,null,"9003835301"]
["FINANCIAMOS SU MAQUINA SAS",null,null,"9007616252"]
["Financicol SAS",null,null,"9005163796"]
["Financiera Juriscoop SA Compañia de Financiamiento",null,null,"9006880663"]
["FINANZAUTO FACTORING S.A.",null,null,"8600286019"]
["Finavanza SA",null,null,"900122969"]
["Finca Valparaiso",null,null,"19135842"]
["Fincas Colombia.NET",null,null,"1121818650"]
["FINDETER - FINANCIERA DE DESARROLLO TERRITORIAL",null,null,"800096329"]
["FINESA S.A.",null,null,"8050126105"]
["Fintu SAS",null,null,"9009091392"]
["FIORAZIO COLOMBIA LTDA",null,null,"9002747520"]
["FKL Muebles Importados S.A.S.",null,null,"900346111"]
["Flor Viviana Castaño Betancur",null,null,"435688215"]
["Flota Integral de Transportes Especiales SAS",null,null,"8300969354"]
["Flota la Macarena SA",null,null,"8600025666"]
["Flower By Paola Garcia SAS",null,null,"9006427671"]
["Flying Dolphins LTDA",null,null,"8270008353"]
["FLYTECH S.A.S",null,null,"9002198342"]
["Flywan SA",null,null,"9001956791"]
["FM Supplies SAS",null,null,"9008500968"]
["Fonanglo",null,null,"8605043388"]
["Fonasel",null,null,"8600587520"]
["FONAVIEMCALI",null,null,"8903110068"]
["Fondec",null,null,"860023039"]
["Fondecom",null,null,"8903273521"]
["Fondo Abierto Fiducredicorp Vista",null,null,"9005422472"]
["FONDO ALTERNATIVO DE PENSIONES SKANDIA",null,null,"8301251322"]
["Fondo de Beneficio Comun de los Empleados del Sena",null,null,"8909058640"]
["Fondo de Capital Privado Nexus Inmobiliario",null,null,"900746569"]
["Fondo de Cesantias Proteccion",null,null,"8001704945"]
["Fondo de Cesantias Skandia",null,null,"8001845492"]
["FONDO DE CULTURA ECONOMICA LTDA.",null,null,"8605195182"]
["Fondo de Empleado PROF. UNIV. NALC FAPUN ",null,null,"8908030568"]
["Fondo De Empleados \"FEDEAA\"",null,null,"8600251118"]
["Fondo de Empleados Bancolombia",null,null,"8600292003"]
["Fondo de Empleados de Bancolombia S.A. y filiales",null,null,"8909852801"]
["Fondo de Empleados de Bayer Febay",null,null,"8600407467"]
["Fondo de Empleados de Johnson & Johnson de Colombia",null,null,"8903187866"]
["Fondo de Empleados de la Fundacion Santafe de Bogota - FONDOFE",null,null,"8000410402"]
["Fondo de Empleados de la Sabana",null,null,"8000339617"]
["Fondo de Empleados de la Salud en Risaralda FESER",null,null,"8914088144"]
["Fondo de Empleados de la UIS - FAVUIS",null,null,"8902010912"]
["Fondo de Empleados de las Instituciones Colombianas Agropecuaria",null,null,"8600256101"]
["Fondo de empleados de Merck Sharp & Dohme y/o Frosst Laboratorio",null,null,"860022308"]
["Fondo de Empleados de Naciones Unidas de Colombia",null,null,"8301213692"]
["Fondo de Empleados de Notariado  y Registro - Cornotare",null,null,"8600370738"]
["Fondo de Empleados de Oracle Colombia",null,null,"800210714"]
["Fondo de Empleados de Salud Publica Municipal",null,null,"8050062462"]
["Fondo de empleados de Siemens en colombia",null,null,"8600048409"]
["Fondo de Empleados de Sodexo",null,null,"8301296489"]
["Fondo de Empleados de Vivienda y Ahorro de Alpina FEVAL",null,null,"8600415806"]
["Fondo de Empleados del Banco Popular y Filiales",null,null,"8000441389"]
["Fondo de empleados del cerrejon- FONDECOR",null,null,"8901124913"]
["Fondo de empleados del CIAT-CRECIAT",null,null,"8903089347"]
["Fondo de Empleados del Colegio Anglo Colombiano - Fonanglo",null,null,"860504338"]
["Fondo de Empleados del Departamento del Huila Fonedh",null,null,"8911034618"]
["Fondo de Empleados del Deporte Antioqueño",null,null,"8909816118"]
["Fondo de Empleados del Fondo Nacional del Ahorro",null,null,"8600479401"]
["Fondo de Empleados del Sector Farmaceutico - SIGLA FESFA",null,null,"8600240351"]
["Fondo de Empleados Del Sector Financiero-Fondo Unión",null,null,"8600792995"]
["Fondo de Empleados FEAVANZA",null,null,"860021362"]
["Fondo de Empleados FEISA",null,null,"8600355596"]
["Fondo de Empleados Granfondo",null,null,"8000979138"]
["Fondo de Empleados la 14",null,null,"8903266521"]
["Fondo de Empleados Medicos de Colombia - Promedico",null,null,"8903104184"]
["Fondo de Empleados y Pensionados del ICA y CORPOICA FONDEICA ",null,null,"8903296872"]
["Fondo de Empleados y Trabajadores de la Universidad del Valle   ",null,null,"8903127758"]
["Fondo de Garantias de Entidades Cooperativas Fogacoop",null,null,"8300533192"]
["Fondo de Inversion Colectiva Abierto Valor Plus ll",null,null,"9008538018"]
["Fondo de Inversion Colectiva Accival Vista",null,null,"8300255942"]
["FONDO DE PASIVO SOCIAL FERROCARRILES NACIONALES",null,null,"8001128062"]
["Fondo de Pensiones Obligatorias Proteccion Moderado",null,null,"8002297390"]
["Fondo de Pensiones Proteccion",null,null,"8001982815"]
["Fondo de Pensiones Voluntarias BBVA Horizonte",null,null,"8301247484"]
["Fondo de Pensiones Voluntarias Multipension",null,null,"8300664663"]
["FONDO DE PREVISION SOCIAL DEL CONGRESO DE LA REPUBLICA",null,null,"8999997347"]
["Fondo de Profesores de la Universidad del Cauca FONDUC",null,null,"8915020631"]
["Fondo de Profesores y Empleados UNIANDES",null,null,"8600162497"]
["Fondo de Tecnologias de la Informacion y las Comunicaciones",null,null,"8001316486"]
["Fondo de Valorización de Medellin - Fonvalmed",null,null,"9001589290"]
["Fondo Financiero de Proyectos de Desarrollo - FONADE",null,null,"8999993161"]
["Fondo Mutuo de Inv de los Trabajadores de Grupo Nutresa \"FONAL\"",null,null,"8000445754"]
["FONDO NACIONAL AMBIENTAL- FONAM",null,null,"8300252679"]
["FONDO NACIONAL DE GARANTIAS",null,null,"8604022722"]
["FONDO NACIONAL DEL AHORRO",null,null,"8999992844"]
["FONDO OBLIGATORIO DE PENSIONES SKANDIA",null,null,"8002530552"]
["Fondo para la Accion Ambiental y la Niñez",null,null,"830077866"]
["Fondo Rotatorio de la Registraduria Nacional del Estado Civil",null,null,"8999997379"]
["Fondo Rotatorio del Ministerio de Relaciones Exteriores",null,null,"8605110716"]
["Fondo Voluntario de Pensiones Colseguros",null,null,"8301017826"]
["Foneh",null,null,"8300662484"]
["Fonnegra Gerlein SA",null,null,"8600400991"]
["FONREGINAL-Fondo de empleados de la registraduria nacional  del ",null,null,"8600749588"]
["Fonsolidario -Fondo de empleados de la superintendencia de la ec",null,null,"8300812351"]
["Fontebo",null,null,"8600402126"]
["Food Services de Colombia S.A.S",null,null,"900212469"]
["FORERO’S CELULAS FRESCAS LTDA",null,null,"8605126118"]
["Forest Servicies SAS",null,null,"8040167186"]
["Forever Living Prodcts Colombia Ltda",null,null,"8002073931"]
["FORIS DE COLOMBIA S.A.S.",null,null,"9002968562"]
["Formar",null,null,"9005463311"]
["Formas y Colores SAS",null,null,"8050045167"]
["FORMEX SAS",null,null,"8110453627"]
["Formula Smile Inc",null,null,"8301416811"]
["Foro de Presidentes",null,null,"9000531000"]
["Forsale Inmobiliaria S.A.S.",null,null,"9002244658"]
["FORUS COLOMBIA S.A.",null,null,"9001367884"]
["Forutours SAS",null,null,"900243031"]
["Forvm S.A.S",null,null,"9007425966"]
["FOSYGA (Consorcio SAYP 2011)",null,null,"9004624475"]
["FOTO DEL ORIENTE LTDA.",null,null,"8000109729"]
["Fracor S.A",null,null,"811014895"]
["Fractales INC Ltda",null,null,"8301287626"]
["Franco Hijos & Cia SCA",null,null,"8002145897"]
["FRANCO Y VELEZ CESDE LTDA",null,null,"8909133181"]
["Frank Edilberto Urrea Barragan (Tu Tarjeta en la Web)",null,null,"882284304"]
["FRANTON SAS",null,null,"9002915264"]
["Freddy Vega Devia",null,null,"13887038"]
["Fredy Oswaldo Prieto Barrera",null,null,"793979345"]
["Frigorifico De La Costa SAS",null,null,"8901052140"]
["Frisby S.A",null,null,"8914085845"]
["FRONTIER AGENCIA MARITIMA S.A.",null,null,"8001593562"]
["Frutarte - Catalina Castaño Rodriguez",null,null,"43639936"]
["Fukutex SA",null,null,"8110101391"]
["Full Dotaciones S.A.S.",null,null,"9005301727"]
["FULL KIDS SAS",null,null,"9003570996"]
["FUNANVIDA - FUNDACION INTERNACIONAL VIDA",null,null,"9001599969"]
["FUND HOSP SAN VICENTE DE PAUL",null,null,"8909005184"]
["FUND INST TECNOLOG COMFENALCO",null,null,"8904811831"]
["Fund. San Jorge",null,null,"830082436"]
["Fundacion alas Cinco",null,null,"900687458"]
["Fundacion Albeiro Vargas y Angeles Custodios",null,null,"8001692947"]
["Fundacion Alianza por la Mineria Responsable",null,null,"9002251973"]
["Fundacion Aliento de Vida - FUNAVI",null,null,"9002446137"]
["Fundacion Aluna",null,null,"8060149729"]
["Fundacion Alvaralice",null,null,"8050283078"]
["Fundacion Amanecer",null,null,"8002458902"]
["FUNDACION AMAR Y SERVIR",null,null,"9000129611"]
["Fundacion Amate",null,null,"9004979746"]
["Fundacion Amazonas Sin Limites",null,null,"9004165865"]
["Fundación Amigo del Colegio San Carlos",null,null,"9002737558"]
["FUNDACION ANDES",null,null,"8110000295"]
["Fundacion Angelito de mi Guarda ",null,null,"900281653"]
["Fundacion Arcoiris Deep Fun",null,null,"9004875661"]
["Fundacion Arte y Escritura ",null,null,"9002074695"]
["Fundacion Ayuda a la Iglesia que Sufre Colombia",null,null,"9007785313"]
["Fundacion Ballet De Barranquilla",null,null,"8020091094"]
["FUNDACION BANCO ARQUIDIOCESANO DE ALIMENTOS DE MEDELLIN",null,null,"9000826829"]
["Fundacion Banco de Tejidos Humanos - Tissue Bank",null,null,"8110399130"]
["Fundacion Bennett",null,null,"8001339970"]
["FUNDACION BERTA MARTINES DE JARAMILLO",null,null,"8909847657"]
["Fundacion Buena Nota",null,null,"900152794"]
["Fundacion Calatrava para la Enseñanza Precoz",null,null,"9002493941"]
["Fundacion Cali sin hambre",null,null,"9004407491"]
["Fundación Camino a la Meta",null,null,"9005670356"]
["Fundacion Caminos de Identidad FUCAI",null,null,"8001735741"]
["Fundacion Caminos de Libertad",null,null,"8300391301"]
["Fundacion Caminos por Colombia",null,null,"9001836664"]
["Fundacion Canes Centro de Rehabilitacion Ecuestre Del Risaralda",null,null,"9003120874"]
["Fundación Canguro ",null,null,"8300137431"]
["Fundacion Capital Fundak Sucursal Colombiana",null,null,"9005827750"]
["FUNDACION CARDENAL PACELLI",null,null,"8600321821"]
["FUNDACION CARDIO INFANTIL",null,null,"860035992"]
["Fundacion Carulla AEIOTU",null,null,"860006648"]
["Fundacion Casa Museo Maestro Pedro Nel Gomez",null,null,"890984503"]
["Fundacion Catalina Muñoz",null,null,"830504284"]
["Fundacion Caycedo de sofrologia Fundacion",null,null,"800210599"]
["Fundacion Centro de Apoyo para la Felicidad Cafe",null,null,"8110262477"]
["FUNDACION CENTRO DE INVESTIGACION Y ESTUDIOS ODONTOLOGICOS CIEO",null,null,"8605239625"]
["Fundacion Centro de Pensamiento",null,null,"900149421"]
["Fundacion Centro De Restauracion-FUNCEREC",null,null,"9004267019"]
["Fundacion Centro Iberoamericano de Estudios Internacionales",null,null,"9006930695"]
["Fundacion Cinep",null,null,"8600338577"]
["Fundacion Clasico de Ejecutivos el Colombiano",null,null,"8909842846"]
["Fundacion Colegio Bilingue de Valledupar",null,null,"8923007334"]
["Fundacion Colegio Cardenal Jhon Henry Newman",null,null,"8001502373"]
["Fundacion Colegio Celia Duque Jaramillo",null,null,"8600070589"]
["Fundacion Colegio Clara  Casas Morales",null,null,"8300292240"]
["FUNDACION COLEGIO SAN JUAN DEL CAMINO",null,null,"8320084601"]
["FUNDACION COLEGIO SAN TARSICIO",null,null,"8600224480"]
["FUNDACION COLEGIO SANTA MARIA",null,null,"8600450946"]
["Fundacion Colegio UIS",null,null,"8902035399"]
["Fundacion Colombia con Memoria",null,null,"9003231135"]
["Fundacion Colombia Social Vida",null,null,"9000825315"]
["Fundacion Colombia Viva",null,null,"8440035711"]
["FUNDACION COLOMBIANA PARA LA NUTRICION INFANTIL - NUTRIR",null,null,"8605042571"]
["Fundacion Colombiana para Trasplante de Medula Osea",null,null,"8300226646"]
["FUNDACION COLOMBIANITOS INC.",null,null,"9001863394"]
["FUNDACION COLOMBO CANADIENSE",null,null,"9000026422"]
["Fundacion Color Esperanza",null,null,"9000377161"]
["Fundacion Comando Especial",null,null,"9007936661"]
["Fundacion Comunidad  Maria Mediadora",null,null,"900374503"]
["Fundacion Comunidad los Fundadores",null,null,"9004592675"]
["Fundacion Cosme y Damian",null,null,"8000535509"]
["FUNDACION CRAN",null,null,"8600672947"]
["Fundacion Cristovision",null,null,"8301148694"]
["Fundacion Cultural Las Casitas",null,null,"890324022"]
["Fundacion Cultural Makenke",null,null,"8240046060"]
["Fundacion Daniel Barragan",null,null,"900214856"]
["Fundacion Dar Amor - Fundamor",null,null,"8001811654"]
["FUNDACION DAR AMOR FUNDAMOR BOGOTA",null,null,"8300262831"]
["Fundacion de Desarrollo y Bienestar Social Esperanza de Vida",null,null,"9005311563"]
["Fundacion de Discapacitados de Antioquia",null,null,"8110176869"]
["Fundacion de Educacion Superior Nueva America",null,null,"8600720632"]
["Fundacion de la Mujer",null,null,"8902123416"]
["Fundacion del Quemado",null,null,"8300032524"]
["Fundacion Derecho Justo",null,null,"9001576600"]
["Fundacion Despertares",null,null,"900027084"]
["Fundacion Dividendo por Colombia",null,null,"8300456036"]
["Fundacion Educar Casanare",null,null,"844000721"]
["Fundacion Educativa Beth Shalom",null,null,"8300168798"]
["Fundacion Educativa Beth Shalom (Portal Bancolombia)",null,null,"830016879"]
["Fundacion Educativa Bilingue Colombo-Británica",null,null,"9000488932"]
["Fundacion Educativa Calasanz",null,null,"9000581880"]
["FUNDACION EDUCATIVA DE INGLATERRA",null,null,"8600238148"]
["Fundacion Educativa Emmanuel Internacional",null,null,"9005427101"]
["Fundacion Educativa Gimnasio los  Caobos",null,null,"832002072"]
["Fundacion Educativa Liceo versalles",null,null,"900203397"]
["FUNDACION EDUCATIVA MADRE BUTLER",null,null,"8020051000"]
["Fundacion Educativa Rochester",null,null,"9005095897"]
["Fundacion Educativa Rochester",null,null,"900509589"]
["Fundacion El Cottolengo Del Padre Ocampo",null,null,"8903073977"]
["FUNDACION EL NOGAL",null,null,"8301328716"]
["Fundacion el Otoño de la Vida",null,null,"8305046240"]
["Fundacion el Refugio",null,null,"9000373697"]
["Fundacion Ellen Riegner de Casas",null,null,"9000231826"]
["Fundacion Emanuel Josue",null,null,"900575675"]
["Fundacion Empresarios para la Educacion",null,null,"8301126889"]
["FUNDACION EMTELSA PARA LA CIENCIA, LA EDUCACION Y LA TECNOLOGIA",null,null,"8100028723"]
["FUNDACION ENSEÑAME A PESCAR",null,null,"8300945361"]
["Fundacion Equinnova",null,null,"9002943928"]
["Fundación Escuela Colombiana de Mercadotecnia-ESCOLME",null,null,"8909093773"]
["Fundacion Escuela de Formacion Avanzada Fundefa",null,null,"800067353"]
["Fundacion Estacion Biologica Guayacanal",null,null,"9000529311"]
["FUNDACION ESTRUCTURAR",null,null,"8000118947"]
["Fundacion Estructurar (POL)",null,null,"800011894"]
["FUNDACION FEDECRES",null,null,"9003318286"]
["Fundacion Festibal Art - Un sitio de esperanza",null,null,"9004526081"]
["Fundacion Fitsos",null,null,"9000655424"]
["Fundacion Fondo de Droga para el Cancer - FUNCANCER",null,null,"8000063131"]
["FUNDACION FORMEMOS",null,null,"8002086077"]
["Fundacion Fosunab",null,null,"9003307520"]
["Fundacion Fundamundo",null,null,"9004955911"]
["FUNDACION FUTBOL CON CORAZON",null,null,"9001841675"]
["FUNDACION GIMNASIO CAMPESTRE",null,null,"8600431067"]
["Fundacion Gimnasio Ingles de Armenia",null,null,"800106488"]
["FUNDACION GIMNASIO LOS PORTALES",null,null,"8000081291"]
["FUNDACION GIMNASIO MODERNO",null,null,"860013830"]
["Fundacion Gracias",null,null,"9006627682"]
["Fundacion Grupo Empresarial Marketing y Servicios",null,null,"9008681071"]
["Fundacion Haciendo Equipo",null,null,"9006141252"]
["Fundacion Heroes del Amor",null,null,"9004368011"]
["FUNDACION HOGAR FENIX",null,null,"8060159415"]
["Fundacion Hogar San Mauricio",null,null,"8605157775"]
["Fundación Hospital San Jose de Bug",null,null,"8913800541"]
["Fundacion Huellas de Esperanza",null,null,"9001908043"]
["Fundacion Huntsman Colombia",null,null,"8301387650"]
["FUNDACION ICDL COLOMBIA",null,null,"9002522027"]
["Fundacion ICDL Colombia",null,null,"900252202"]
["Fundacion Icpp",null,null,"9002568823"]
["Fundacion ICTUS",null,null,"8300806152"]
["Fundación Incolmotos Yamaha",null,null,"8305103620"]
["Fundacion Indigena Waira",null,null,"9004979019"]
["FUNDACION INFANTIL CARLA CRISTINA",null,null,"8909015243"]
["Fundacion Infantil Santiago Corazon",null,null,"800039776"]
["FUNDACION INSTITUTO ADAPTACION LABORAL IDEAL",null,null,"8600073648"]
["Fundacion Instituto Alberto Merani IAM",null,null,"8300745640"]
["FUNDACION INSTITUTO PARA LA EXPORTACION Y LA MODA INEXMODA",null,null,"8000284583"]
["Fundacion Integrar",null,null,"8000561531"]
["Fundacion Integrar ONG",null,null,"8050096870"]
["Fundacion Interbolsa ",null,null,"9000304930"]
["Fundacion Jardin Botanico Medellin",null,null,"8909807562"]
["Fundacion Jean Francois Revel (Compensar)",null,null,"9000814430"]
["Fundacion Jean Francois Revel (SanTarcisio)",null,null,"900081443"]
["Fundación Juan Beima",null,null,"9000081429"]
["FUNDACION JUAN FELIPE GOMEZ ESCOBAR",null,null,"8060092271"]
["Fundacion Julio Ernesto Urrea",null,null,"811042659"]
["Fundacion La Cayena",null,null,"9003062876"]
["Fundación la Divina Providencia",null,null,"8050173579"]
["Fundacion La Familia",null,null,"9005991281"]
["Fundacion Laudes Infantis ",null,null,"8300578944"]
["Fundacion Leo Espinosa FUNLEO",null,null,"9002363961"]
["Fundación Liborio Mejía",null,null,"900204014"]
["FUNDACION LICEO INGLES",null,null,"8914129700"]
["Fundacion Logyca",null,null,"9001438233"]
["Fundacion los Guayacanes Colombia",null,null,"9006283987"]
["Fundacion Luchemos por la Vida",null,null,"8110136316"]
["FUNDACION LUICEJOTA",null,null,"8320031136"]
["FUNDACION LUPPSO",null,null,"9001628162"]
["Fundacion Mambe Shop",null,null,"8305058947"]
["FUNDACION MAMONAL",null,null,"8904804680"]
["Fundacion Marcato",null,null,"9007255133"]
["Fundacion Marista Para el Desarrollo Educativo y Social FUNDEMAR",null,null,"8300799660"]
["Fundacion Mi Sangre",null,null,"9000790843"]
["Fundación Mujer con Valor",null,null,"9001956895"]
["Fundacion Mundo Mejor",null,null,"8110106661"]
["Fundacion Nacional Batuta",null,null,"800148631"]
["Fundación Natura",null,null,"8604041350"]
["Fundacion Netxus de Colombia",null,null,"8140042774"]
["Fundacion Niños del Alba",null,null,"900119810"]
["Fundacion Norma Rivas Tenorio",null,null,"8050183749"]
["Fundacion Notas de Paz",null,null,"900208719"]
["FUNDACION NUEVO MARYMOUNT",null,null,"8600263577"]
["FUNDACION NUEVO MARYMOUNT (TU COMPRA)",null,null,"860026357"]
["Fundacion Ocmaes",null,null,"900067877"]
["Fundacion Oncouraba Fundauraba",null,null,"9005475423"]
["Fundacion Operacion Sonrisa Colombia",null,null,"8002528213"]
["Fundacion Otorrinolaringologica de Colombia",null,null,"8000635581"]
["Fundacion Para El Desarrollo De La Mujer Cabeza De Familia",null,null,"900256941"]
["Fundacion para el Desarrollo Social Avanzado",null,null,"8050310257"]
["Fundación para el Desarrollo Universitario",null,null,"8600302123"]
["Fundación para el Futuro de Colombia COLFUTURO",null,null,"8001454008"]
["FUNDACION PARA LA ASISTENCIA DE LA NIÑEZ ABANDONADA FANA",null,null,"8600321869"]
["Fundacion Para La Asociatividad Mundial Organizada En Red- Funda",null,null,"9004140059"]
["Fundación Para la Educación FUNED",null,null,"8919012851"]
["Fundación para la Estimulación en el Desarrollo y las artes - FE",null,null,"8915022383"]
["Fundacion para la Investigacion y el Desarollo Empresarial",null,null,"900427549"]
["FUNDACION PARA LA RECONCILIACION",null,null,"8301210831"]
["Fundacion para una Educacion Integral FINES",null,null,"8903200881"]
["Fundacion Parkinson de Colombia",null,null,"8050306989"]
["FUNDACION PASOS DE FELICIDAD",null,null,"9006975838"]
["Fundacion Patronato Maria Auxiliadora",null,null,"8909063859"]
["Fundacion Pedalazos que Construyen",null,null,"9005045554"]
["Fundacion Pies Descalzos",null,null,"802016680"]
["Fundación Pies Descalzos",null,null,"8020166808"]
["Fundacion Plan",null,null,"9000975881"]
["Fundacion Plan de Apoyo Familiar",null,null,"805023542"]
["Fundacion Planeta Azul Vida",null,null,"9006456145"]
["Fundacion Planeta Fertil",null,null,"9005714917"]
["FUNDACION POLITECNICO GRANCOLOMBIANO",null,null,"8600786431"]
["Fundacion Politecnico Grancolombiano",null,null,"860078643"]
["FUNDACION PORTAL MAGICO ALEGRIA Y BIENESTAR",null,null,"9001652151"]
["FUNDACION PRODEBILES AUDITIVOS",null,null,"8909041688"]
["Fundacion Proyectar Desarrollo y Futuro",null,null,"9003265955"]
["Fundacion Puentes de la Esperanza",null,null,"8300886854"]
["FUNDACION QUINDIO SIGLO 21",null,null,"8300553399"]
["Fundacion Red Mision",null,null,"8110318571"]
["Fundacion Remanso de Amor",null,null,"8060047973"]
["Fundacion Rogelio Salmona",null,null,"9003167681"]
["Fundacion Rotaria de San Andres",null,null,"8924004654"]
["Fundacion Rueda Libre por Colombia",null,null,"9001295491"]
["Fundacion Saciar",null,null,"811018073"]
["FUNDACION SALAMANDRA",null,null,"8050184897"]
["Fundacion Salome Salva Una Vida",null,null,"9005445469"]
["FUNDACION SALVADME REINA",null,null,"8301389736"]
["Fundacion San Antonio",null,null,"8600088675"]
["Fundacion San Juan",null,null,"9004223208"]
["Fundacion Sanacion Pranica Colombia",null,null,"8300507270"]
["Fundacion Sanacion Pranica Latinoamericana",null,null,"8301344207"]
["Fundacion Santa fe de Bogota",null,null,"8600379502"]
["Fundacion Semana",null,null,"9002854451"]
["Fundacion Semilla y Fruto",null,null,"8320054724"]
["Fundacion Siembre un Arbol",null,null,"9001991290"]
["Fundacion sin Animo de Lucro en el Taller del Maestro",null,null,"9003730187"]
["Fundacion Social Maria Jose Ong",null,null,"9004254801"]
["Fundacion Social Uniban - Fundauniban",null,null,"8000146564"]
["Fundacion Solidaria la Visitacion",null,null,"8000918949"]
["Fundación Solidaridad en Marcha",null,null,"9000863370"]
["Fundacion Solidaridad Por Colombia",null,null,"8600711691"]
["Fundacion Soluciones Juveniles",null,null,"9002564702"]
["Fundacion Sonrio",null,null,"9005106263"]
["Fundación SOS Animal y Ambiental",null,null,"8301234439"]
["Fundacion Soy Doy",null,null,"9001996467"]
["Fundacion Talleres de Colombia",null,null,"811027397"]
["Fundación Teatral Lazaro Silva -FUTELAZIL",null,null,"830033470"]
["Fundacion Tecnologica Liderazgo Canadiense Internacional LCI",null,null,"900262351"]
["Fundacion Telar de Vida",null,null,"9004396482"]
["Fundacion Telefonica Colombia",null,null,"9001518774"]
["Fundacion Teleton",null,null,"8600411179"]
["Fundacion Tennis por Colombia",null,null,"9000710997"]
["Fundacion Tierra Tolimense",null,null,"8000199980"]
["FUNDACION UNIVERSIDAD AUTONOMA DE COLOMBIA",null,null,"8600346679"]
["FUNDACION UNIVERSIDAD CENTRAL",null,null,"8600247461"]
["Fundacion Universidad de America",null,null,"8600068067"]
["Fundación universidad de Antioquia",null,null,"811004659"]
["FUNDACION UNIVERSIDAD DE BOGOTA JORGE TADEO LOZANO",null,null,"8600068486"]
["FUNDACION UNIVERSIDAD DEL NORTE",null,null,"8901016819"]
["Fundacion universidad del Valle",null,null,"8001871519"]
["Fundacion Universidad Incca de Colombia",null,null,"8600112851"]
["Fundacion Universitaria Autonoma de las Americas",null,null,"8909854173"]
["FUNDACION UNIVERSITARIA BELLAS ARTES",null,null,"9001260623"]
["Fundacion Universitaria Catolica del Norte",null,null,"8110100012"]
["Fundacion Universitaria Catolica Lumen Gentium",null,null,"8001856646"]
["FUNDACION UNIVERSITARIA CEIPA",null,null,"8909109617"]
["Fundacion Universitaria de Ciencias de las Salud",null,null,"8600518534"]
["Fundacion Universitaria de Colombia Uniagraria",null,null,"8605310815"]
["Fundacion Universitaria de Popayan",null,null,"891501835"]
["FUNDACION UNIVERSITARIA DEL AREA ANDINA",null,null,"8605173021"]
["Fundacion Universitaria Empresarial de la Camara de Comercio de ",null,null,"8300848766"]
["Fundacion Universitaria Iberoamericana",null,null,"8300770310"]
["FUNDACION UNIVERSITARIA INPAHU",null,null,"8605043600"]
["Fundacion Universitaria Juan N. Corpas",null,null,"8600383744"]
["FUNDACION UNIVERSITARIA KONRAD LORENZ",null,null,"8605047595"]
["FUNDACION UNIVERSITARIA LOS LIBERTADORES",null,null,"8605079033"]
["Fundacion Universitaria Luis Amigo",null,null,"8909851899"]
["Fundacion Universitaria Panamericana",null,null,"8605061406"]
["Fundacion Universitaria Seminario Biblico de Colombia",null,null,"8110269238"]
["Fundacion Valle del Lili",null,null,"8903241775"]
["Fundacion Victor Salvi (Colombia)",null,null,"9000552244"]
["Fundacion Visionemos Juntos el Futuro",null,null,"900070732"]
["Fundación Vivir",null,null,"9005698139"]
["Fundacion Voluntariado Juan Pablo II",null,null,"8605049244"]
["Fundacion Zigma",null,null,"900119377"]
["Fundacion Zoologica De Cali",null,null,"8903182478"]
["Fundacooedumag",null,null,"8190064398"]
["FUNDEP - FUNDACION PARA EL DESARROLLO DE PROYECTOS SOCIALES",null,null,"8090216156"]
["Fundesia",null,null,"8002279420"]
["FUNDESOEMCO - Fundacion para el Desarrollo Social",null,null,"8050284732"]
["FUNDESU",null,null,"8050267817"]
["Fundetec",null,null,"823004965"]
["Fundeuis",null,null,"8902042249"]
["FUNERARIA GAVIRIA S.A.",null,null,"8600677869"]
["FUNERARIA MEDELLIN S.A.",null,null,"8909191605"]
["Funeraria para mascotas Funeravet SAS",null,null,"9003666361"]
["Funtastic Products S.A.S.",null,null,"900295454"]
["Futbol 5 Colombia S.A.S.",null,null,"9000430809"]
["FUTURA NETWORKS DE COLOMBIA LTDA",null,null,"9001855475"]
["Futuro Urbano SA",null,null,"9005233494"]
["G Trade Autoparts S.A.S.",null,null,"900503431"]
["G Trade SAS",null,null,"900356728"]
["G Y G Integral de Consultoria Ltda",null,null,"9001963611"]
["G y H SAS - Hotel Embera",null,null,"8002396055"]
["G Y J FERRETERIAS S.A",null,null,"8001304263"]
["G&C PUERTAS ELECTRICAS LTDA",null,null,"8300216182"]
["G.M. Online S.A.S.",null,null,"9005141450"]
["G4S Technology Colombia S.A.",null,null,"8002152270"]
["Gabrica  SAS",null,null,"8001647676"]
["Gabriel Ortiz y Cia Ltda",null,null,"8050119991"]
["Gaf International SA",null,null,"9001384445"]
["Galenica Salud Para Tu Piel SAS",null,null,"9003348613"]
["Galeon Importaciones SAS",null,null,"900295723"]
["Galeria Inmobiliaria SAS",null,null,"9003838558"]
["Galileo Instruments S.A.S.",null,null,"9003939494"]
["GALLO VELEZ SAS",null,null,"8001181009"]
["Galvaceros SA",null,null,"8110053902"]
["Galvez INV SAS",null,null,"9004763288"]
["Galvis Ramirez y Cia S.A.",null,null,"8902017980"]
["Gama Limitada",null,null,"8280023133"]
["Gametek SAS",null,null,"9003054205"]
["Ganaderia Y Turismo S.A.S",null,null,"9003115870"]
["Gano Excel S.A.",null,null,"9002962001"]
["Ganolife Colombia SAS",null,null,"9005465776"]
["Garantias Comunitarias Grupo SA",null,null,"9002207536"]
["Garden Gourmet S.A.S.",null,null,"9006275054"]
["Garden Gourmet S.A.S.",null,null,"900627505"]
["Garp Ltda",null,null,"8002152399"]
["Gas de Santander SA ESP",null,null,"8902009190"]
["GAS DEL RISARALDA S.A. ESP.",null,null,"8002216522"]
["Gas Zipa SA ESP",null,null,"8600260709"]
["Gases de Antioquia SA ESP",null,null,"8909086433"]
["Gases de Occidente S.A.",null,null,"8001676435"]
["GASES DEL QUINDIO S.A. ESP.",null,null,"8002263774"]
["GBI S.A.S.",null,null,"9004183653"]
["GD Abisai S.A.S",null,null,"9004247596"]
["GEMA TOURS S.A.",null,null,"8904043657"]
["Genaltra LTDA",null,null,"830145182"]
["Generali Colombia Seguros Generales S.A.",null,null,"8600048756"]
["Generali Colombia Vida Compañia de Seguros S.A.",null,null,"8600101707"]
["Genetica Molecular de Colombia Ltda",null,null,"8301126255"]
["GENUINE TECHNOLOGY SAS",null,null,"8301373130"]
["Geocing S.A.S.",null,null,"8300108934"]
["GEONET S.A.",null,null,"8110135966"]
["Geosystem Ingenieria S.A.S.",null,null,"8300512987"]
["Geotech Solutions SA",null,null,"9001689587"]
["Germanplas S.A.S.",null,null,"9004713364"]
["Gestion de Informacion en Salud  SAS",null,null,"9007236963"]
["Gestion Inmobiliaria Eva SAS",null,null,"900709933"]
["Gestiones Inmobiliarias FT SAS",null,null,"9001274881"]
["Gestora Inmobiliaria GESA SA",null,null,"800153681"]
["Gestores de Soluciones S.A.S.",null,null,"9003796302"]
["Gilmedica SA",null,null,"8903174179"]
["Gimnasio Académico Regional de Suba Soc. Ltda",null,null,"8002083183"]
["Gimnasio Bilingue Obregon  SAS",null,null,"9003321996"]
["GIMNASIO BRITANICO LTDA.",null,null,"8000560160"]
["Gimnasio Campestre Escalemos EU",null,null,"8305129453"]
["Gimnasio Campestre Los Alpes",null,null,"9000438123"]
["Gimnasio Campestre los Arrayanes",null,null,"9002055291"]
["GIMNASIO FEMENINO",null,null,"8600089111"]
["Gimnasio Fontana S.A.",null,null,"8000021436"]
["Gimnasio Galileo Galilei",null,null,"191477632"]
["Gimnasio Integral Galileo Galilei",null,null,"19147763"]
["GIMNASIO LA KHUMBRE LTDA",null,null,"8001522437"]
["Gimnasio Moderno Castilla SAS",null,null,"9003996164"]
["Gimnasio Seres y Saberes SAS",null,null,"900062902"]
["GIMNASIO WILLIAM MACKINLEY",null,null,"8002107571"]
["Gimnasio Yacard SAS",null,null,"830136689"]
["Giova Sport SA",null,null,"8300964851"]
["Giros y Finanzas C.F. S.A.",null,null,"8600067979"]
["Gitcom de Occidente S.A.S.",null,null,"9003498031"]
["Gla Education SAS",null,null,"9006298785"]
["Global Education Group Colombia S.A.",null,null,"830050247"]
["Global Healthcare",null,null,"9001365326"]
["Global Impact Trade Ltda.",null,null,"9002407366"]
["Global Knowledge Colombia Ltda",null,null,"830107741"]
["Global Learning Solutions Colombia SAS",null,null,"9005303257"]
["Global Malabar SAS",null,null,"9007324847"]
["Global Media Telecomunicaciones",null,null,"9001411309"]
["Global Mensajería S.A.S",null,null,"9000539781"]
["Global Motor S.A",null,null,"8300775153"]
["Global Operadora Hotelera",null,null,"9005218077"]
["Global Securities S.A.",null,null,"8001896042"]
["Global Seguros de Vida S.A.",null,null,"8600021821"]
["Global Services OTM S.A.",null,null,"9000971776"]
["GLOBAL SHIPPING AGENCIES S.A.",null,null,"8110010053"]
["Global Shipping Agencies S.A. (Pagosonline)",null,null,"811001005"]
["Global Travel & Service GTS S.A. ",null,null,"9001163141"]
["Globalmax Club Colombia S.A.S",null,null,"900666822"]
["Globalquimia Ltda.",null,null,"9001435998"]
["Globo Inmobiliario SAS",null,null,"900456428"]
["Glodex S.A.",null,null,"8110268451"]
["GLOTTA ANTIOQUIA S.A",null,null,"8110420303"]
["Gmac Financiera de Colombia SA",null,null,"8600293968"]
["Gmc Inmobiliaria SAS",null,null,"900791985"]
["GMTM SAS",null,null,"9008801751"]
["Gn Representaciones Ltda",null,null,"8300093393"]
["GNP Grupo Nacional de Proyectos",null,null,"9002305786"]
["GO FIVE SAS",null,null,"9007614596"]
["Go Kart SA",null,null,"9000548826"]
["GO2DO Colombia S.A.S.",null,null,"9004399541"]
["Gobernacion de Boyaca Fondo Pensional Territorial",null,null,"891800498"]
["Gobernacion de Caldas",null,null,"890801052"]
["Gobernación de Caldas",null,null,"8908010521"]
["Gobernacion de Casanare",null,null,"8920992166"]
["Gobernacion de Risaralda",null,null,"8914800857"]
["Gobernacion de Sucre",null,null,"8922800211"]
["Gobernacion del Tolima (Realtech)",null,null,"800113672"]
["Gobierno Departamental del Tolima",null,null,"8001136727"]
["GOLDEN CROSS S.A. EPS",null,null,"9000749923"]
["Gomenal Ltda",null,null,"8600511125"]
["Goodwill Runners SAS",null,null,"9007677351"]
["GOODYEAR DE COLOMBIA S.A.",null,null,"8600048559"]
["Gourmet X Perts y Cia LTDA",null,null,"830021990"]
["GPS de Colombia S.A.",null,null,"8300453482"]
["Gracie Barra Colombia",null,null,"337487"]
["GRACOMAQ E.U",null,null,"9002204871"]
["GRAFICAS BUDA SAS",null,null,"8914089436"]
["Grafitintas S.A.",null,null,"800136038"]
["Grainger Colombia S.A.S.",null,null,"9003551014"]
["GRAMA CONSTRUCCIONES SA",null,null,"8040178877"]
["Gran Plaza Alcaravan",null,null,"830054539"]
["Grancolombiana de Transportes S.A.S.",null,null,"8002421180"]
["Grand Incentives Colombia SAS",null,null,"9004062725"]
["Grand Staff Academia de Música Contemporanes",null,null,"9006025737"]
["Granpuerto Ltda.",null,null,"9000660087"]
["Green Andina Colombia LTDA",null,null,"9005083635"]
["Green Tribute SAS",null,null,"9003587672"]
["Greencode SAS",null,null,"9003733769"]
["GreenPack S.A.S.",null,null,"8301420817"]
["GREIF COLOMBIA S.A.",null,null,"8600235254"]
["Gricoat de Colombia S.A. ",null,null,"8110233511"]
["Gricol S.A",null,null,"8300928301"]
["Grow SAS",null,null,"9002245751"]
["Grupo  Welcome SA",null,null,"9001346095"]
["Grupo 3GV S.A.S.",null,null,"9004775898"]
["Grupo A Estudio SAS",null,null,"9002606671"]
["Grupo Akkar Colombia Ltda",null,null,"9001270058"]
["Grupo Alv S.A.S.",null,null,"9002993581"]
["Grupo Anvar S.A.S.",null,null,"9003216341"]
["Grupo Astone S.A.S.",null,null,"9001139534"]
["Grupo Azulado SAS",null,null,"9002969055"]
["Grupo Comercial Sagal S.A.S.",null,null,"8300937734"]
["GRUPO DE DISTRIBUCIONES ASOCIADAS - DISTRIASOCIADAS",null,null,"8305050031"]
["Grupo Educativo Ingles Campestre SAS",null,null,"9005020522"]
["Grupo Empresarial la Bodeguita",null,null,"9000458874"]
["Grupo Empresarial Makroenvios S.A.",null,null,"8300019491"]
["Grupo Empresarial Oikos S.A.",null,null,"860074389"]
["Grupo Empresarial Rojas Newton S.A.S.",null,null,"9000903731"]
["Grupo Empresarial Sinergias SAS",null,null,"9006396197"]
["Grupo Empresarial Turistico Colombiano Over S.A.",null,null,"8110270593"]
["Grupo Empresarial Turistico Colombiano Over S.A. (Pagos Online)",null,null,"811027059"]
["Grupo Formarte S.A.S",null,null,"8305150611"]
["Grupo Gestor SAS",null,null,"8110432565"]
["GRUPO GO LATINOAMERICA S.A.S",null,null,"9006530386"]
["Grupo Grandes Colombia",null,null,"9000214885"]
["Grupo Historia de Amor",null,null,"8001472111"]
["Grupo Hotelero Campanarios SAS",null,null,"900829550"]
["Grupo I33 S.A.S",null,null,"9004597074"]
["GRUPO INVERTEKA SAS",null,null,"9005884871"]
["Grupo Jusar SAS",null,null,"9003071541"]
["Grupo Kallpasapa Ltda",null,null,"900161936"]
["Grupo Lorito S.A.",null,null,"9001897835"]
["Grupo Master Inmobiliario S.A.S.",null,null,"900471240"]
["Grupo Microsistemas S.A.",null,null,"9004186561"]
["Grupo Nova SA",null,null,"8000927771"]
["Grupo OET Organización El Transporte SAS",null,null,"8300766694"]
["Grupo Panamerica SAS",null,null,"9001933189"]
["Grupo Promuebles S.A.S",null,null,"9005677457"]
["GRUPO QWESS COLOMBIA SAS",null,null,"900016472"]
["GRUPO RICELI LTDA",null,null,"9003194403"]
["Grupo Rovil SAS",null,null,"9002260061"]
["Grupo Time Sharing Sociedad por Acciones Simplificada - G.T.S S.",null,null,"8110117901"]
["Grupo Tuticket.com Colombia S.A.S.",null,null,"9005382549"]
["Grupo VDT Colombia S.A.S.",null,null,"900506823"]
["Grupo Verdi S.A.S.",null,null,"9004988821"]
["Grupo Vivell  SAS",null,null,"9007088831"]
["Grupo Wiener SAS",null,null,"900635071"]
["GS1 COLOMBIA (IAC)",null,null,"8000473260"]
["Gtech Colombia Ltda",null,null,"9000371486"]
["Guajira Tours Ltda Agencia De Viajes Y Turismo",null,null,"8921151357"]
["Guanxi Organizacion Empresarial SAS",null,null,"9004298755"]
["Guialtur SAS Operador Mayorista de Turismo",null,null,"9002469961"]
["Guillermo Otero Arquitectura de Proyectos Ltda.",null,null,"8020199630"]
["Guillermo Pulgarin S. S.A. - Kosta Azul",null,null,"8914008194"]
["GUN CLUB",null,null,"8600067424"]
["Gustavo Alain Rengifo Palacio",null,null,"94452095"]
["Gustavo Londoño Trujillo / Paracoser",null,null,"4510322"]
["GVS Colombia S.A.S",null,null,"9002980749"]
["GWI Coombia S.A.S.",null,null,"9004368518"]
["H20 Fundacion Sin Animo de Lucro",null,null,"900359855"]
["HABITAMOS PROPIEDAD RAIZ S.A.",null,null,"8909395373"]
["Habitat Grupo Inmobiliario SAS",null,null,"9005944693"]
["Hablame Colombia S.A.S. E.S.P.",null,null,"9005379115"]
["Hada SA",null,null,"8908004678"]
["Hamburg Sud Colombia Ltda.",null,null,"8300754890"]
["Han Kim SAS",null,null,"9003771452"]
["Hapag Lloyd Colombia Ltda",null,null,"9002980430"]
["Harold Francisco Ramos Rodriguez",null,null,"10558709"]
["Haxomteam",null,null,"1083893065"]
["Hayuelos Centro Comercial y Empresarial",null,null,"9002257641"]
["HEINEKEN INTERNATIONAL DE COLOMBIA S.A.",null,null,"9000210155"]
["Helbert y Cia S.A",null,null,"860027231"]
["Helbert y Cia SA",null,null,"8600272312"]
["Helibet SAS",null,null,"9004227961"]
["Helm Bank - Pagos Helm",null,null,"860007660"]
["Helm Comisionista de Bolsa Cartera Colectiva Helm Valor",null,null,"8605037481"]
["Helm Fiduciaria Patrimonios Autonomos",null,null,"8300539636"]
["Henry Rodrigo Peña Vargas",null,null,"4121529"]
["Heritage Group S.A.",null,null,"9002691664"]
["Hermanas de la Caridad del Cardenal Sancha",null,null,"8600091128"]
["Hermanas del Divino Salvador",null,null,"8600144803"]
["Hermanas Del Divino Salvador-Colegio Divino Salvador",null,null,"860014480"]
["Hermanos Arango Tobon y CIA LTDA",null,null,"8909332672"]
["Hermanos Bernal Quintero y Cia Ltda Industrias Metalicas 2000",null,null,"8909333799"]
["Hernan Dario  Eusse  Salazar",null,null,"12961222"]
["Hernando Orozco y Cia SAS",null,null,"900022412"]
["HH DOMINICAS DE LA PRESENTACION",null,null,"8600628461"]
["Hi Colombia SAS",null,null,"9004625205"]
["Hidroca Colombia SAS",null,null,"8305102740"]
["Hidrofas Importaciones SAS",null,null,"9003343605"]
["Hidropacifico SA ESP",null,null,"8350013965"]
["Higuera Escalante y Cia Ltda.",null,null,"8000399868"]
["Higuera Studios S.A.S.",null,null,"9005540691"]
["HILTI COLOMBIA S.A.",null,null,"8300561999"]
["Hilti Colombia S.A.S ",null,null,"9004567396"]
["Hiper & Level International S.A.S.",null,null,"9005118961"]
["Hobbies y Deportes",null,null,"79436230"]
["Hogar Infantil Los Caleñitos",null,null,"8903179804"]
["HOLCIM COLOMBIA S.A.",null,null,"8600098085"]
["Homy Privee SAS",null,null,"9006877025"]
["Hospital en Casa S.A",null,null,"8050063897"]
["Hospital Infantil Noel Clinica Noel",null,null,"890901825"]
["HOSPITAL PABLO TOBON URIBE",null,null,"8909018262"]
["Hospital Universitario Departamental de Nariño",null,null,"8912005288"]
["Hostal La Casa de Felipe S.A.S.",null,null,"900351874"]
["Hostdime.com.co Ltda",null,null,"9000403469"]
["Hot Trade",null,null,"8300680566"]
["Hotel Bahia Pinorroa S.A.S",null,null,"9004558447"]
["HOTEL BARRANQUILLA PLAZA S.A.",null,null,"8020089142"]
["Hotel Casa Blanca ",null,null,"36162442"]
["Hotel Dann Carlton Medellin SA",null,null,"8110122951"]
["Hotel de Turismo Guadalajara SA",null,null,"8913800446"]
["Hotel Don Alonso SAS",null,null,"900458145"]
["Hotel don Gregorio",null,null,"16234157"]
["Hotel H Y M",null,null,"943060861"]
["HOTEL MEDELLIN RODADERO SAS",null,null,"900601555"]
["Hotel Millenium SA",null,null,"9001805007"]
["Hotel Panorama Ltda",null,null,"892201021"]
["Hotel San Juan SAS",null,null,"8902053718"]
["Hoteles 127 Avenida",null,null,"8300059054"]
["Hoteles Bogota Plaza S.A.",null,null,"8600461924"]
["Hoteles Casa Blanca S.A",null,null,"8905053270"]
["Hoteles de Balata SAS",null,null,"9005693858"]
["Hoteles Estelar S.A.",null,null,"8903040993"]
["Hoteles Innova S.A.S.",null,null,"9002764636"]
["Hoteles Portobelo SAI SAS",null,null,"9005261982"]
["HOTELES PORTON S.A.",null,null,"8000468781"]
["HUMANA VIVIR S.A.",null,null,"8300064040"]
["Humax Pharmaceutical SA",null,null,"8110388819"]
["Humberto Arias Bejarano",null,null,"94429126"]
["Humberto Edgar Corrales Restrepo",null,null,"82449319"]
["Humberto Sanchez Cedeño",null,null,"96352560"]
["Hunter Douglas de Colombia S.A.",null,null,"8600021197"]
["HV Television S.A.S.",null,null,"8001322116"]
["HY CITE Enterprises Colombia SAS",null,null,"9007442724"]
["Hyundai Colombia Automotriz SA",null,null,"8001735574"]
["Hyundai Creditos S.A.S.",null,null,"9004157835"]
["I ETAPA DL PROYECTO  SOKO INDUSTRIAL",null,null,"9003371611"]
["IA Grupo Inmobiliario SAS",null,null,"9004355225"]
["IATAI Andina SAS",null,null,"9002830261"]
["IC Ribon SA",null,null,"9002026065"]
["Icare Colombia S.A.S.",null,null,"9005174212"]
["Icargas SAS",null,null,"900853504"]
["ICA-VUCE EXPORTACIONES",null,null,"899999069"]
["ICCK NET S.A.",null,null,"9002081807"]
["ICETEX",null,null,"8999990357"]
["Icomallas SA ",null,null,"8050074044"]
["ICONTEC",null,null,"860012336"]
["IDC Safety S.A.S. ",null,null,"9002632941"]
["Ideas Global Trading",null,null,"943963622"]
["Ideas Y Desarrollos Inmobiliarios MG S.A.S.",null,null,"9000841431"]
["Ideg Editores",null,null,"670126678"]
["Iden Corp SAS",null,null,"9000515281"]
["IDU - INSTITUTO DE DESARROLLO URBANO",null,null,"8999990816"]
["IEC Logistics",null,null,"900726220"]
["Ifrs Masters Colombia SAS",null,null,"9005372386"]
["IFX NETWORKS COLOMBIA LTDA",null,null,"8300586777"]
["IG Services SAS",null,null,"9006936551"]
["Iglesia Adventista del Septimo Dia",null,null,"8600151534"]
["IGLESIA AMISTAD CRISTIANA",null,null,"8300996536"]
["Iglesia Central Centro Misionero Bethesda",null,null,"8600639527"]
["Iglesia Central De Occidente Cruzada Cristiana",null,null,"9006662809"]
["Iglesia Centro Biblico Internacional",null,null,"9000058723"]
["Iglesia Centro Cristiano de Alabanza el Shaddai",null,null,"8002271131"]
["Iglesia Centro Familiar de Adoracion",null,null,"9000629344"]
["IGLESIA CENTRO MUNDIAL DE AVIVAMIENTO",null,null,"8300420380"]
["IGLESIA COMUNIDAD CRISTIANA DE FE Y DE VIENTO FRESCO",null,null,"8110009235"]
["Iglesia Cristiana Casa de Dios Colombia",null,null,"9000985995"]
["Iglesia Cristiana de Colombia",null,null,"8300141562"]
["Iglesia Cristiana Ministerio  Internacional",null,null,"900109236"]
["Iglesia Cristiana Semillas de vida",null,null,"9000505325"]
["Iglesia Fares",null,null,"9003720509"]
["Iglesia Mision Carismatica Internacional",null,null,"8001953977"]
["Iglesia Pentecostal Unidad de Colombia",null,null,"8901025134"]
["Iglesia Presbiteriana Central de Bucaramanga Torre Fuerte",null,null,"8902034455"]
["Ignacio Gomez IHM SAS",null,null,"8600013001"]
["IH Administraciones y Seguros Ltda",null,null,"900411477"]
["Ike Asistencia Colombia S.A.",null,null,"9001062513"]
["ILANKO - SANTORINI",null,null,"8300678614"]
["ILIMITADA S A",null,null,"8909419018"]
["Iluminacion  y Materiales Electricos Ilumec S.A.S.",null,null,"8300877217"]
["Ilumiredes Ltda ",null,null,"900282945"]
["Imaas Alvarez & Cia S en C",null,null,"891410685"]
["Imacal Ltda",null,null,"8600331824"]
["Imagen y Mercadeo Deportivo SAS",null,null,"900437147"]
["Imagenes Graficas SA",null,null,"8050154071"]
["Imaginamos SAS",null,null,"9001284940"]
["IMAPAR LTDA.",null,null,"8000441941"]
["IMB COLOMBIA SAS",null,null,"8305135369"]
["IMETI SAS",null,null,"9000233474"]
["Imex Group S.A.S ",null,null,"8170036734"]
["IMINDS SAS",null,null,"9007705009"]
["Imobile S.A.S.",null,null,"9003676927"]
["Imocom S.A.",null,null,"8600031682"]
["IMPACT AND LASER IMPACT LTDA",null,null,"8300113271"]
["Impexo SAS",null,null,"9006441322"]
["Impormedical Equipos y Suministros Medicos S.A.",null,null,"9002610899"]
["Importaciones y Distribuciones JL S.A",null,null,"9001565733"]
["Importadora Alemana S.A.S",null,null,"900539398"]
["Importadora Gorr SAS",null,null,"830073033"]
["Importadora y Comercializadora Cheng SAS",null,null,"8002516742"]
["IMPRENTA NACIONAL DE COLOMBIA",null,null,"8300011131"]
["IMPRESISTEM S.A.",null,null,"8000915492"]
["IMPROAGRO LTDA",null,null,"900100040"]
["Impuche S.A",null,null,"8901008147"]
["Impulsores Internacionales S.A.S.",null,null,"8600666336"]
["In Contacto S.A.S.",null,null,"9004228484"]
["Inacar SCA",null,null,"8000860420"]
["Inagro S.A.S.",null,null,"9000655789"]
["Incafe SAS",null,null,"9001612461"]
["Incap SA",null,null,"8600259983"]
["Incocredito",null,null,"8600374225"]
["Incodi Ltda",null,null,"8909049802"]
["Incolbest S.A.",null,null,"8600548860"]
["INCOLDEXT LTDA",null,null,"8600512273"]
["Incubadora Santander S.A",null,null,"8902004745"]
["Incubadoras San Juan",null,null,"985313199"]
["Indagro SA",null,null,"8902004752"]
["INDERSANTANDER",null,null,"8040043705"]
["Indice Inmobiliario Ltda",null,null,"8002225575"]
["Indico S.A.S.",null,null,"8300584731"]
["Inducontables Ltda",null,null,"8605223495"]
["Indufaros S.A",null,null,"8000557307"]
["Indummelbra SA",null,null,"8600514040"]
["INDUSTRIA COLOMBIANA DE LLANTAS - ICOLLANTAS S.A.",null,null,"8600021276"]
["Industria Colombiana de Motocicletas Yamaha S.A.",null,null,"8909169116"]
["Industria de Alimentos La Galleta S.A. ",null,null,"8909418256"]
["Industria de cervezas y bebidas SAS",null,null,"9000846939"]
["Industria Electrica del Cauca SA",null,null,"8170005130"]
["INDUSTRIA MILITAR",null,null,"8999990443"]
["Industrial de Belleza S.A.S.",null,null,"9003735496"]
["Industrias Campi Ltda.",null,null,"8300284353"]
["Industrias Decorativas Del Caribe Indecaribe Ltda",null,null,"800077482"]
["Industrias Estra SA ",null,null,"8909000991"]
["Industrias Fantasia S.A.",null,null,"8001632601"]
["Industrias Goyaincol LTDA",null,null,"8300854972"]
["Industrias Haceb S.A.",null,null,"8909002814"]
["Industrias Medicas Sampedro SAS",null,null,"8110329192"]
["Industrias Metalicas Asociadas Imal SA",null,null,"8600017819"]
["Industrias Metalicas Gol S.A",null,null,"8909148601"]
["Industrias Metalicas los Pinos",null,null,"8002442701"]
["Industrias Metalicas Sudamericanas S.A IMSA",null,null,"8909001450"]
["Industrias Spring S.A.",null,null,"8600007941"]
["Industrias ST Even SA",null,null,"8000596084"]
["Industrias Vanyplas S.A.",null,null,"8600418137"]
["Inet Colombiana SA",null,null,"8300498592"]
["Infantiles Abba LTDA",null,null,"8001688619"]
["INFI PEREIRA",null,null,"9001200450"]
["InfoeEmpleo Carlos A Morales V",null,null,"717441721"]
["Informacion y Tecnologia S.A.",null,null,"8001349785"]
["Informatica Medica de Colombia Ltda",null,null,"8300010608"]
["ING ADMINISTRADORA DE FONDOS DE PENSIONES Y CESANTIAS",null,null,"8002248278"]
["INGEAL S.A",null,null,"8000393987"]
["Ingemuebles y Cia Ltda",null,null,"8000354321"]
["Ingenio Inmobiliario S.A.S.",null,null,"9003200781"]
["Ingenio y Consultoria Ltda",null,null,"8301471991"]
["Ingenios it Business Solutions SAS",null,null,"9004112528"]
["Ingreso Cybernetico S.A.S",null,null,"9005580870"]
["Ingrid Guadalupe Egred Angulo",null,null,"319224453"]
["Inmobiliaria AJM y Cia Ltda.",null,null,"8300004131"]
["Inmobiliaria Alfonso y Cia Ltda",null,null,"860069421"]
["Inmobiliaria Anamar SAS",null,null,"9006608294"]
["Inmobiliaria Bernal & Cia Ltda Inmober Ltda",null,null,"8600406602"]
["Inmobiliaria Bethel Sociedad Por Acciones Simplificada",null,null,"9002912030"]
["Inmobiliaria Bogota y Cia Ltda",null,null,"8600467550"]
["Inmobiliaria C V AS Limitada",null,null,"830053193"]
["Inmobiliaria Diaz Ltda.",null,null,"9001975975"]
["Inmobiliaria Dorago y Parra S.A.S.",null,null,"9003671238"]
["Inmobiliaria e Ingenieria Ajc Ltda",null,null,"9002067971"]
["Inmobiliaria e Inversiones AVIVAR",null,null,"900040957"]
["Inmobiliaria e Inversiones Chico Ltda.",null,null,"8300835814"]
["Inmobiliaria El Tesoro Ltda",null,null,"9001295406"]
["Inmobiliaria Esteban Rìos Ltda",null,null,"8902073050"]
["Inmobiliaria Gomez y Asociados S.A.",null,null,"9000098033"]
["Inmobiliaria Gomez y Asociados SA",null,null,"900009803"]
["Inmobiliaria Gupol Ltda",null,null,"830016966"]
["Inmobiliaria La Integración SAS",null,null,"800200841"]
["Inmobiliaria la Roca LTDA",null,null,"9000103152"]
["Inmobiliaria los Sauces S.A.",null,null,"8300655871"]
["Inmobiliaria Marvilla SAS",null,null,"830073745"]
["INMOBILIARIA MORALES HERMANOS LTDA",null,null,"8002290481"]
["Inmobiliaria Ospina y Cia Ltda",null,null,"8600471040"]
["Inmobiliaria Oviedo",null,null,"9006123425"]
["Inmobiliaria Premiun Ltda",null,null,"8301032974"]
["INMOBILIARIA PROACTIVA S.A.",null,null,"8110231871"]
["Inmobiliaria Profesional S.A.S",null,null,"9004175861"]
["Inmobiliaria Reyco",null,null,"8902097321"]
["Inmobiliaria Royal SAS",null,null,"8300794907"]
["Inmobiliaria Ruben Quiroga y Cia Ltda",null,null,"8300082978"]
["Inmobiliaria San Fernando Plaza S.A.S. ",null,null,"9003250634"]
["Inmobiliaria Suroccidente S.A.S.",null,null,"8170011331"]
["INMOBILIARIA VELAZQUEZ LTDA.",null,null,"8110262121"]
["Inmobiliaria y Administraciones Proteger Ltda",null,null,"811047058"]
["Inmobiliaria y Servicios Administrativos Ltda  - ISA ARRIENDOS",null,null,"830008001"]
["Inmobiliaria y Servicios Administrativos Ltda - ISA AVALUOS",null,null,"8300080015"]
["Inmobiliarias Aliadas S.A.S.",null,null,"8600806588"]
["Inmuebles Andinos Ltda",null,null,"8300063644"]
["Inmunonutrientes E.U.",null,null,"900615811"]
["Innmagina Group SAS",null,null,"9006091879"]
["Innocorr SAS",null,null,"9004069557"]
["Innovacion Cocina SAS",null,null,"9006951692"]
["Innovaciones Medicas Ltda",null,null,"8305042438"]
["Innovadora de Seguros  Corredora de Seguros S.A",null,null,"8001380844"]
["Innovateq SA",null,null,"8300735700"]
["INPREL S.A.",null,null,"8001218537"]
["Insagrin S.A.",null,null,"8300922271"]
["Insdustrias Licuadoras Super SAS",null,null,"900357476"]
["Insepet Ltda",null,null,"8300063343"]
["Insetur de Colombia SAS",null,null,"900464898"]
["Insitum Consultoria Colombia SAS",null,null,"900369611"]
["Inspeccion de Transito y Transporte de Barrancabermeja",null,null,"8902709483"]
["INST UNIVERSITARIA DE ENVIGADO",null,null,"8110002782"]
["INST. CIENCIAS DE LA SALUD CES",null,null,"8909840026"]
["Inst. la Consolata para las Misiones Col. Bilingue Jose Allamano",null,null,"860007368"]
["Instapagos S.A.S.",null,null,"9003642185"]
["INSTIT COLOMBIANO AGROPECUARIO",null,null,"8999990697"]
["Institucion Educativa Colegio los Angeles",null,null,"232704756"]
["Institucion Educativa Colegio Mayor de Antioquia",null,null,"8909801341"]
["Institucion Educativa Descubriendo mi Mundo",null,null,"9001166264"]
["INSTITUCION EDUCATIVA LICEO SANTA VERONICA",null,null,"9000174840"]
["Institucion Teresiana Liceo Segovia",null,null,"8600066702"]
["Institucion Universitaria Antonio Jose Camacho",null,null,"8050008890"]
["Institucion Universitaria Colegios de Colombia",null,null,"8600450541"]
["INSTITUCION UNIVERSITARIA FUNDACION EDUCATIVA ESUMER",null,null,"8909817961"]
["INSTITUCION UNIVERSITARIA SALAZAR Y HERRERA",null,null,"8110281881"]
["INSTITUCION UNIVERSITARIA TECNOLOGICA DE COMFACAUCA",null,null,"8170045350"]
["Instituto Centro Sistemas S.A.S.",null,null,"8020152105"]
["INSTITUTO CHAMPAGNAT PASTO- COMUN.HERMANOS MARISTAS ENSEÑANZ",null,null,"8600067442"]
["Instituto Colombiano de Aprendizaje INCAP SCA",null,null,"8002166737"]
["INSTITUTO COLOMBIANO DE BIENESTAR FAMILIAR I.C.B.F.",null,null,"8999992392"]
["Instituto Colombiano de Derecho Tributario",null,null,"8600157644"]
["Instituto Colombiano de Estudios Fiscales - ICEF",null,null,"9001612800"]
["Instituto Colombiano de Neurociencias Ltda.",null,null,"8001582538"]
["Instituto Colombiano de Normas Tecnicas y Certificacion ICONTEC",null,null,"8600123361"]
["Instituto Colombiano para la Evaluacion  de la Educacion ICFES",null,null,"8600243016"]
["Instituto de Deportes y Recreacion INDER",null,null,"800194096"]
["Instituto de Educacion Tecnica Profesional",null,null,"8919028110"]
["Instituto de Formacion e Investigacion Tecnica S.A.S. INFORTEC",null,null,"8000840897"]
["INSTITUTO DE HERMANOS DEL SAGRADO CORAZON",null,null,"8600077665"]
["Instituto de Hidrologia Meteorologia Estudios Ambientales IDEAM",null,null,"8300006025"]
["Instituto de Hijas de Maria Religiosas de las Escuelas Pias",null,null,"8600148268"]
["Instituto de la Consolata para las Misiones",null,null,"8600073687"]
["Instituto de la Consolata para Misiones - Colegio Bilingüe la Co",null,null,"8600073680"]
["Instituto de Ortopedia Infantil Roosevelt",null,null,"8600138747"]
["Instituto de Religiosas Esclavas del Sagrado Corazon de Jesus",null,null,"8600089530"]
["INSTITUTO DE SEGUROS SOCIALES",null,null,"8600138161"]
["Instituto de Transito de Boyaca ITBOY",null,null,"8918010698"]
["Instituto de Transito del Atlantico",null,null,"8001151021"]
["Instituto Geografico Agustin Codazzi",null,null,"8999990049"]
["Instituto Misionero Hijas de San Pablo - Paulinas",null,null,"8600158563"]
["Instituto Municipal de Cultura y Fomento al Turismo",null,null,"8001829274"]
["INSTITUTO MUSICAL DIEGO ECHAVARRIA",null,null,"890981239"]
["Instituto Nacional de Contadores Publicos de Colombia",null,null,"8600137448"]
["INSTITUTO NACIONAL DE METROLOGIA",null,null,"9004943933"]
["Instituto Nacional de Salud",null,null,"8999994034"]
["INSTITUTO NACIONAL DE VIAS",null,null,"8002158072"]
["Instituto para el desarrollo de Antioquia IDEA",null,null,"8909801792"]
["Instituto para niños ciegos Fundacion Juan Antonio Pardo Ospina",null,null,"8600219351"]
["Instituto Seccional de Salud del Quindio",null,null,"8001254059"]
["Instituto Tecnologico Pascual Bravo",null,null,"8909801531"]
["Instituto Tobias Emanuel",null,null,"8903035223"]
["Instop Colombia  SAS",null,null,"900710831"]
["Instruimos Ltda",null,null,"8110106471"]
["Intech SAS",null,null,"8050275499"]
["Inteco MC S.A.S.",null,null,"9004388760"]
["INTEGRA SECURITY SYSTEMS S.A.",null,null,"8000088383"]
["Integra Soluciones Tecnologicas  LTDA",null,null,"9001033715"]
["Integracion Gerencial S.A",null,null,"900072889"]
["Integrando LTDA",null,null,"891411213"]
["INTELIOFFICE S.A.",null,null,"8020091965"]
["Interactive Tecnologies & Adverstising S.L.",null,null,"9004086891"]
["INTERASESORES ASESORES EMPRESARIALES ADMINISTRATIVOS S.A",null,null,"8000191029"]
["INTERENZIMAS SAS",null,null,"8605354934"]
["Intermarketing Direct S.A.",null,null,"9001969593"]
["Intermodal S.A.",null,null,"8600530473"]
["Internacional - Compañia de Financiamiento",null,null,"860065913"]
["Internacional Compañia de Financiamiento S.A.",null,null,"8600659139"]
["Internacional de Comercio Libar S.A.S.",null,null,"8605156437"]
["Internacional de Electricos Ltda",null,null,"8090026257"]
["INTERNACIONAL DE TELEMERCADEO S.A.",null,null,"8110167751"]
["Internacional de Vehiculos LTDA",null,null,"8600408727"]
["International Berckley school S.A.S",null,null,"890116008"]
["International Business S.A.S.",null,null,"9000829998"]
["International Elevator INC",null,null,"8600028384"]
["International House Bogota S.A.",null,null,"9001220768"]
["International Law Consultants S.A.S.",null,null,"8300534832"]
["International Multibrand Trading S.A.S.",null,null,"9003495431"]
["International Transport Services Ltda.",null,null,"9000851839"]
["International World Travel SAS",null,null,"900783887"]
["Internegocios Ltda",null,null,"8301102973"]
["Interpagos S.A.S.",null,null,"9001473760"]
["Intituto Nacional de Vias",null,null,"800215807"]
["Intorno SA",null,null,"9000454975"]
["Intrasoft SA",null,null,"9000326334"]
["INVAMA-INSTITUTO DE VALORIZACION DE MANIZALEZ",null,null,"8000029162"]
["INVEQUIMICA S.A. - INVESA",null,null,"8909006523"]
["INVERDESA S.A.",null,null,"8300332063"]
["INVERGRUPO S.A.",null,null,"8050191682"]
["Inverjenos SAS ",null,null,"9003460469"]
["INVERMETROS SAS",null,null,"900011242"]
["INVERMUSIG GE S.A.",null,null,"9001778548"]
["Inversion Flor de Loto Colombia Ltda",null,null,"9000976469"]
["Inversiones  CGS SA",null,null,"8220069042"]
["Inversiones 6A SAS - Sandwich Or Salad",null,null,"900534146"]
["INVERSIONES ABACO LTDA",null,null,"830056475"]
["Inversiones Abaco Ltda",null,null,"8300564757"]
["Inversiones acqualina S.A.S",null,null,"9004559105"]
["Inversiones Aharon Abadi LTDA",null,null,"9002043267"]
["Inversiones Alcabama S.A. ",null,null,"8002081463"]
["Inversiones Alejo Leon SA",null,null,"9003232387"]
["Inversiones Alena S.A.S",null,null,"9001223961"]
["Inversiones Aler SAS",null,null,"8909393535"]
["Inversiones Altamisa SAS",null,null,"900396538"]
["Inversiones Avimapa S.A.S.",null,null,"9001345841"]
["Inversiones Aya Posada y Cia S En C ",null,null,"8300921811"]
["Inversiones Ballesteros Leon S.A.S.",null,null,"8020224433"]
["Inversiones Behe S.A.S ",null,null,"9000699228"]
["Inversiones Bermejal ltda",null,null,"8301043178"]
["Inversiones Cadena Ballesteros",null,null,"8000387036"]
["Inversiones Campoamalia S.A.",null,null,"8110005558"]
["Inversiones Capira S.A.S.",null,null,"9004143630"]
["Inversiones Colles S.A.S.",null,null,"9004972369"]
["Inversiones comerciales San German SA",null,null,"8300061852"]
["Inversiones Crear Rama S.A.",null,null,"8300106716"]
["Inversiones D&D SA",null,null,"8301277361"]
["Inversiones del Vecchio SAS",null,null,"9001604526"]
["Inversiones Drilltex S.A.S.",null,null,"860502682"]
["Inversiones Educolombia S.A.S.",null,null,"830142885"]
["Inversiones el Portal S.A.",null,null,"8040012008"]
["INVERSIONES EL VERGEL LTDA",null,null,"8220009441"]
["Inversiones Elite Group SAS",null,null,"9005411115"]
["Inversiones En Finca Raiz La Universal EU",null,null,"8300560629"]
["Inversiones Fagar S.A.S",null,null,"8002106921"]
["Inversiones Frutas Expresivas",null,null,"900225591"]
["Inversiones Furtino SAS",null,null,"900401053"]
["Inversiones Gimsaber Q SAS",null,null,"9007576241"]
["Inversiones GLP SAS ESP",null,null,"9003352790"]
["Inversiones Gobe S.A.S.",null,null,"9004787652"]
["Inversiones Grand SAS",null,null,"9008104153"]
["Inversiones Hari SAS",null,null,"9001815800"]
["Inversiones Inmobiliaria Alvaro Florez y Cia S en C",null,null,"9004179332"]
["Inversiones Inmobiliarias Acqua SAS",null,null,"9008549408"]
["Inversiones Inmobiliarias el Prado S.A.S.",null,null,"9003766205"]
["Inversiones Innovar de Colombia S.A",null,null,"8300955790"]
["Inversiones JVO S.A.S.",null,null,"9004222589"]
["Inversiones la Opera S.A",null,null,"8300504767"]
["Inversiones LCE S.A.S.",null,null,"8110337058"]
["Inversiones Liebre SAS",null,null,"9005115696"]
["Inversiones Livin Colombia SAS",null,null,"9005877413"]
["Inversiones Mafephone SAS",null,null,"9003171811"]
["Inversiones Magen SAS",null,null,"9003108254"]
["Inversiones Maldonado Arteaga SAS",null,null,"9007571779"]
["Inversiones Mandri S.A.S.",null,null,"9004797062"]
["Inversiones Mercadeo Estrategico S.A.S.",null,null,"9003264101"]
["Inversiones Montesacro Ltda",null,null,"8604028373"]
["Inversiones N y D S.A.S.",null,null,"9003821778"]
["Inversiones Nito Preescolar Bilingue Chenano SAS",null,null,"830087427"]
["Inversiones Nogu S.A.S.",null,null,"9005989843"]
["Inversiones Ovalle Quintero SAS",null,null,"900332558"]
["Inversiones Pagomio SAS",null,null,"9007147100"]
["Inversiones Plas S.A.",null,null,"9000547115"]
["INVERSIONES POMAR ROA & CIA SAS",null,null,"9000438021"]
["Inversiones Posada Rubio S.A.S",null,null,"9002960211"]
["Inversiones Proden S.A",null,null,"9004736898"]
["Inversiones Publicitarias de Colombia",null,null,"900110070"]
["Inversiones Ramoniza SAS",null,null,"8270000974"]
["Inversiones Romero",null,null,"8002333078"]
["Inversiones Salas y Salas S.A.S ",null,null,"9001196583"]
["Inversiones Sanchez Flores SAS",null,null,"9004258391"]
["Inversiones Sanval Ltda",null,null,"8604008722"]
["Inversiones Sessor SAS",null,null,"9006229047"]
["Inversiones Sushigo Ltda.",null,null,"9001012069"]
["Inversiones Tamayo Ochoa Ltda",null,null,"8909146452"]
["Inversiones Techcolombia SAS",null,null,"900533541"]
["Inversiones Todo Hogar SAS",null,null,"9004326427"]
["Inversiones Toscana Ltda",null,null,"8050315471"]
["Inversiones Triana S.A.S. ",null,null,"9001912751"]
["Inversiones Triple RRR SAS",null,null,"9005958139"]
["Inversiones Turisticas del Caribe y Cia Ltda. SCA",null,null,"890401617"]
["Inversiones Univiajes SA",null,null,"8001757888"]
["Inversiones Viajes y Viajes Ltda",null,null,"9000413922"]
["Inversiones Web SAS",null,null,"9004424527"]
["Inversiones y Portales Latinos SAS",null,null,"9003476122"]
["Inversiones y Representaciones  Natam SAS",null,null,"9007648094"]
["Inversiones y Soluciones de Ingenieria INSI S.A.",null,null,"900113244"]
["Inversiones y Tansacciones Factoring SAS",null,null,"9003031573"]
["Inversiones y Transportes S.A",null,null,"8140014490"]
["Inversiones Zoilita LTDA",null,null,"8001327235"]
["Inversora Palacios S en C",null,null,"8050265960"]
["Invertronica S.A.S.",null,null,"9005052475"]
["Invesakk Ltda.",null,null,"8020144716"]
["Investraining LTDA",null,null,"9000533861"]
["INVIMA",null,null,"8300001672"]
["INVIMA-VUCE",null,null,"830000167"]
["IPS Ser Asistencia y transporte para discapacitados SAS",null,null,"9003778474"]
["Irene Szajowicz Finca Raiz S.A.",null,null,"9001919956"]
["IRM SAS",null,null,"9005393652"]
["Irotama SAS",null,null,"8917006124"]
["Isabel de Mora Finca Raiz Ltda.",null,null,"8600612839"]
["Isagen S.A E.S.P",null,null,"8110007404"]
["Isagenix Colombia S.A.S",null,null,"9005151534"]
["ISTITUZIONE LEONARDO DA VINCI",null,null,"8600107999"]
["It Cloud Services S.A.S.",null,null,"9006257732"]
["IT Service SAS",null,null,"900115702"]
["Ital Lent S.A.S.",null,null,"8600543662"]
["ITALGAMA SAS",null,null,"9005932298"]
["Italuminio",null,null,"792977705"]
["IVAN BOTERO GOMEZ S.A.",null,null,"8900016003"]
["Ivesur Colombia S.A.",null,null,"9000813575"]
["Ivoclar Vivadent Marketing Limited",null,null,"8300688482"]
["IWT Colombia SAS",null,null,"9002987707"]
["IZC Mayorista SAS",null,null,"8001539636"]
["J & D TECH SAS",null,null,"9007006181"]
["J V Distribucion Y Soluciones De Ing Electrica Ltda ",null,null,"900272173"]
["Jaime Alvarez Montes",null,null,"17038264"]
["Jaime Armando Duque Mejia",null,null,"716942480"]
["Jairo de Jesus Cañola Crespo ",null,null,"33180751"]
["Jairo Lopez Sanchez",null,null,"701122786"]
["Jairo solarte",null,null,"94071981"]
["JALTECH SOLUCIONES S.A.S",null,null,"9003786521"]
["Janneth Yepes Blandon (Mimetropoli.com)",null,null,"31880828"]
["Jao Marketing SAS",null,null,"9004096190"]
["Jaramillo Mora SA",null,null,"8000949689"]
["Jardin Infantil Burbujas de Acuarela SAS",null,null,"9008311349"]
["Jardin Infantil Cascanueces Ltda",null,null,"8000772902"]
["JARDIN INFANTIL EL RINCON DEL TERCER PUENTE",null,null,"8603532524"]
["Jardin Infantil La Arboleda  SAS",null,null,"8909317929"]
["Jardin Infantil Lovely Kids S.A.S.",null,null,"9005024138"]
["Jardin Infantil Osito de Miel",null,null,"8300557757"]
["Jardin Infantil Play To Learn S.A.S.",null,null,"9001703538"]
["Jardin Infantil Semillitas de Amor",null,null,"41420088"]
["Jardin Infantil y Guarderia Pinturitas S.A.S.",null,null,"9005440871"]
["Jardin Infantil y Preescolar Abaco S.A.S.",null,null,"8301237053"]
["Jardin SAS",null,null,"816007125"]
["Jardín Sesamo Kids S.A.S.",null,null,"9006393375"]
["Jardines de la Esperanza S.A.",null,null,"8908030038"]
["JARDINES DE PAZ DE SANTA MARTA LIMITADA",null,null,"891700842"]
["Jardines de Paz S.A.",null,null,"8600291266"]
["Jardines la Colina Ltda",null,null,"8902035801"]
["Jas Forwarding de Colombia S.A.",null,null,"8300556250"]
["Javacol S.A.S.",null,null,"9004686991"]
["Javier Isaza Arango",null,null,"14575269"]
["Jay Lai Especias SAS",null,null,"9003575370"]
["Jen Colombia S.A",null,null,"8110174341"]
["Jesus Oyuela Ospina",null,null,"14216793"]
["Jet Tours S.A.S.",null,null,"9005122539"]
["JH Inmobiliaria S.A.S.",null,null,"9002669673"]
["Jhon Fredy Palacio",null,null,"713821187"]
["Jilon Inmobiliaria LTDA",null,null,"9002462411"]
["Jimenez Nassar y Asociados LTDA",null,null,"8604023951"]
["JK Salcedos SAS",null,null,"9002338761"]
["JKN Group S.A.S.",null,null,"9004952535"]
["JM Inmobiliaria S.A.S.",null,null,"9003255667"]
["JM STORE",null,null,"985546581"]
["JMC y Asociados S.A.",null,null,"8002427221"]
["Jmendoza Equipos S.A.S.",null,null,"9003742251"]
["JOHN ANDREW BRADFORD",null,null,"000358087"]
["John Martin Uribe Pasos",null,null,"98541938"]
["Johnson & Johnson de Colombia S.A.",null,null,"8901018159"]
["Johnson & Velez Asociados S.A.",null,null,"900129119"]
["Jorge Andres Valencia Espinal",null,null,"1037612858"]
["Jorge Duque Linares",null,null,"194047841"]
["Jorge Giraldo O Cia LTDA",null,null,"890801524"]
["JOYCE ZEBEDE MILHEM",null,null,"40990161"]
["Juan Carlos Cabrera - Lynx Accesorios",null,null,"945090370"]
["Juan Carlos Henao - Globalideas Colombia",null,null,"717639061"]
["Juan D. Hoyos Distribuciones S.A.",null,null,"8110067891"]
["Juan Felipe Echeverri /Gogopoint",null,null,"11284051241"]
["JUAN GAVIRIA RESTREPO & CIA S.A.",null,null,"8605168477"]
["Juan Guillermo Cajiao Otero",null,null,"103021341"]
["Juan Guillermo Soto Lopera y/o Servicentros Casio",null,null,"715872677"]
["Juan Manuel Feliciano Martinez",null,null,"1129564274"]
["Juan Pablo Ortegon Walteros",null,null,"11224826"]
["Juan Salas y Cia Ltda",null,null,"8001912512"]
["Juana Maria Velasquez Castro",null,null,"20470695"]
["JUANBE S.A",null,null,"8600395405"]
["JULIAN ANDRES GALINDO YEPES / DISTRIBUIDORA TEXTIL DE COLOMBIA",null,null,"1098624290"]
["Julio Corredor y Cia",null,null,"8600005001"]
["JULIO FONTAN Y CIA LTDA",null,null,"8002176321"]
["Julio Nava Music Ltda",null,null,"9003364261"]
["Junco & Asociados Inmobiliaria S.A.S.",null,null,"800231457"]
["Junta Regional de Calificacion de invalidez de Bogotá",null,null,"8301069991"]
["Juval Music-Milton Reales",null,null,"796458991"]
["JUVENIA S.A.",null,null,"8600520644"]
["JYG Tennis SAS ",null,null,"9000940710"]
["Kactoos Group Colombia S.A.S.",null,null,"9003660346"]
["Kaeser Compresores de Colombia Ltda.",null,null,"8300674145"]
["KAMALEON LTDA.",null,null,"8300084136"]
["Kanga Taller de Desarrollo Integral SA",null,null,"830053988"]
["KAREN TOURS S.A.",null,null,"8002146967"]
["KARIBANA BEACH & GOLF CONDOMINIUM TORRES DE BAHIA P.H.",null,null,"9006611736"]
["Karibana Beach Y Golf Condominium Etapa I",null,null,"9004643981"]
["Karina Travels Asesores Turisticos",null,null,"9004098362"]
["Kassis SAS",null,null,"8050201613"]
["KEBCO S.A.S",null,null,"900412283"]
["Kebco SAS",null,null,"9004122830"]
["Kellogg de Colombia SA",null,null,"8909005351"]
["KEVIPHARMA LABORATORIO FARMACEUTICO LTDA",null,null,"9001049504"]
["Kids Ltda",null,null,"8300562252"]
["Kids Town Group SAS",null,null,"900835678"]
["Kiero International Group S.A.S.",null,null,"9005756072"]
["Kinnux S.A.S",null,null,"9004127089"]
["Kirvit Training & Services SAS",null,null,"900436248"]
["Kmyla Venta Directa S.A.S.",null,null,"9004469637"]
["KNOWLEDGE TRADING SOLUTIONS S.A.",null,null,"9001393427"]
["Konocenos S.A.S.",null,null,"9004599998"]
["Kotai S.A.S",null,null,"9004332450"]
["Kristal Computadores SA",null,null,"9002230120"]
["KUANTI SAS",null,null,"9004949244"]
["Kumon Colombia Ltda",null,null,"8301389585"]
["Kyrovet Laboratories S.A.",null,null,"8001931656"]
["L Gatuno SAS",null,null,"900647669"]
["L&L International Ltda",null,null,"8002449723"]
["L. Isaza Peña e Hija de FA Peña Ltda",null,null,"8909021442"]
["L.A. EVENTOS SAS",null,null,"9005461039"]
["L.A.S Electromedicina SAS",null,null,"8605268091"]
["La Aldea Finca Raiz SA",null,null,"830109905"]
["La Ascension SA",null,null,"8300876661"]
["La Campana Servicios De Acero SA",null,null,"8600569718"]
["La Equidad Seguros de Vida Organismo Cooperativo",null,null,"8300086861"]
["La Equidad Seguros Generales Organismo Cooperativo",null,null,"8600284155"]
["LA FRAGATA SEA FOOD LTDA.",null,null,"8605146568"]
["La Fundacion Santiago Apostol de Fontibon",null,null,"9007507658"]
["La Gran Papeleria LTDA",null,null,"8305133839"]
["La Gran Tienda Distribuciones SAS",null,null,"9008729151"]
["La Hipotecaria Compañia de Financiamiento S.A ",null,null,"9006289306"]
["La hipotecaria de Colombia S.A",null,null,"9001979448"]
["LA KOMPRA LTDA",null,null,"9002501757"]
["La LIbertad Compañia de Inversiones y Servicios",null,null,"8605084621"]
["La Mayor Transportadora S.A.S.",null,null,"830060431"]
["La montaña Cargo SAS",null,null,"9005276458"]
["La Occidental Ltda. Asesores de Seguros",null,null,"8903048824"]
["La Previsora S.A Compañia de Seguros",null,null,"8600024002"]
["La Primavera Desarrollo Y Construccion S en C",null,null,"9000347791"]
["La Red Business Network",null,null,"8301363784"]
["LA RED SISTEMAS DE INFORMACION",null,null,"101284981"]
["La Riviera S.A.S.",null,null,"8300226345"]
["La Sante Vital Ltda.",null,null,"8305037323"]
["La Sociedad de Anestesiologia de Risaralda",null,null,"800167836"]
["La surtidora del bebe Ltda",null,null,"9001948761"]
["LA TIENDA NATURISTA",null,null,"193692641"]
["La Tienda Roja E.U",null,null,"8300846587"]
["La Tienda Virtual S.A.S.",null,null,"8050307339"]
["La tiquetera S.A.S",null,null,"9007076894"]
["La Torre Finca Raiz SAS",null,null,"9001173920"]
["La Urbanizacion Akacia PH",null,null,"9005370371"]
["La Vineria",null,null,"900093803"]
["Labcare de Colombia Ltda",null,null,"8300562023"]
["Laboratorio L'mar S.A.S.",null,null,"9005021649"]
["Laboratorio Medico Veterinario LMV Ltda",null,null,"860046874"]
["Laboratorio Oftalmico de la Costa S.A.S.",null,null,"8901127402"]
["Laboratorio Quimico Clinico S.A.S.",null,null,"8020034117"]
["Laboratorios Black Velvet Ltda.",null,null,"9003340775"]
["Laboratorios Delta S.A.",null,null,"8110093932"]
["Laboratorios ECAR SA",null,null,"8909021689"]
["Laboratorios Eufar S.A.",null,null,"8605028548"]
["Laboratorios Funat S.A.",null,null,"8110003401"]
["Laboratorios Gerco SA",null,null,"8904002840"]
["Laboratorios Laproff SA",null,null,"8909021657"]
["Laboratorios Medick Ltda.",null,null,"8001112574"]
["Laboratorios Retina S.A.S.",null,null,"8909402592"]
["Laboratorios Seres Ltda",null,null,"8002004232"]
["LABORATORIOS SYNTHESIS",null,null,"8600007601"]
["Ladrillera Arcillas Ltda",null,null,"8001859769"]
["Ladrillera Casa Blanca S.A",null,null,"8905053263"]
["Ladrillera Helios SA",null,null,"8600298073"]
["Ladrillera Santafe",null,null,"8600007624"]
["Ladrilleras Yomasa SA",null,null,"8600033284"]
["Lady Ximena Mora Sanchez",null,null,"43164016"]
["LAFAYETTE S.A.",null,null,"8600019657"]
["Lagobo Distribuciones S.A. LGB S.A.",null,null,"8001353426"]
["Lam Cosmeticos SAS",null,null,"8110139786"]
["Lamaos S.A.",null,null,"8300553921"]
["Lamerienda.Co SAS",null,null,"9006031001"]
["LAN Airlines S.A. Sucursal Colombia",null,null,"8300191898"]
["LAN Colombia Airlines SA",null,null,"8907041966"]
["LANDERS Y CIA S.A.",null,null,"8909000982"]
["LAS 3 B.B.B. S.A.S",null,null,"8001160628"]
["Las Buseticas SAS",null,null,"800183606"]
["Lasso Tacha e Hijos y Cia S en C",null,null,"8050030652"]
["Latam Apps SAS",null,null,"9007141577"]
["Latex de Colombia SAS",null,null,"8020065402"]
["Latin Checkout SAS",null,null,"9006751973"]
["Latin Internet Technology S.A.S",null,null,"9006322178"]
["Latitud 30-50 S.A.S.",null,null,"9004686540"]
["Laumayer S.A.",null,null,"8909213353"]
["Laura Laurens SAS",null,null,"9006768176"]
["Laverde y Asociados SA",null,null,"800183487"]
["Lci Distributors Colombia SAS",null,null,"9003706791"]
["Le Cezanne Ltda",null,null,"9002308917"]
["Leadersearch S.A.S",null,null,"830065157"]
["Leadership For Change International SAS",null,null,"9008560689"]
["Learning Tutorias",null,null,"1039452332"]
["Leasing Bancoldex Compañia de Financiamiento",null,null,"8002253859"]
["Leasing Bolivar S.A. Compañia de Financiamiento",null,null,"8600672037"]
["Legiactuar SAS",null,null,"900097352"]
["LEGISLACION ECONOMICA S.A.",null,null,"8600014989"]
["Legrand Colombia S.A.",null,null,"8600056691"]
["León Holdings SAS",null,null,"9004854094"]
["Leonardo Fabio Celis Galindo",null,null,"18466259"]
["Leonor de Sosa Hotel Calypso Beach",null,null,"23226175"]
["Lerida CDO S.A.",null,null,"8002297369"]
["Lero Lero Centro De Desarrollo Infantil SAS",null,null,"9001653996"]
["LEXCO S.A.",null,null,"8605154029"]
["Lhaura Vet S.A. ",null,null,"8000417875"]
["LIBERTY SEGUROS DE VIDA S.A.",null,null,"8600086457"]
["Liberty Seguros S.A. [Realtech]",null,null,"860039988"]
["Liberty Seguros S.A. [Tu Compra]",null,null,"8600399880"]
["Libreria Juridica Sanchez Ltda",null,null,"8001094678"]
["LIBRERIA NACIONAL S.A.",null,null,"8903019510"]
["Liceo  Cambridge SA",null,null,"8300354044"]
["Liceo Conquistadores de las Americas SAS",null,null,"9006780431"]
["LICEO DE COLOMBIA CORREA Y CIA LTDA.",null,null,"8300814222"]
["LICEO JUAN RAMON JIMENEZ LTDA",null,null,"8605107432"]
["Liceo Los Alpes Institucion Educativa SAS",null,null,"9004506661"]
["Liceo Monteria S.A.S. ",null,null,"800251080"]
["Liceo Salazar y Herrera",null,null,"8909022021"]
["Liceo Santo Domingo Savio",null,null,"122289466"]
["Liceo Taller San Miguel",null,null,"9003370288"]
["LICORRUMBA",null,null,"900237788"]
["Lidagas SA",null,null,"8913009731"]
["Life Up Medical Group S.A.S.",null,null,"9005128323"]
["Lifehealth Universal S.A.S",null,null,"9002673812"]
["Liga Antioqueña De Hemofilicos Lihea",null,null,"8000014887"]
["Liga de Habilidad de Cundinamarca",null,null,"9002514004"]
["LIGA DE NATACION DE BOGOTA D.C.",null,null,"8600704034"]
["Liga de Natación del Atlantico",null,null,"890105428"]
["Liga de Tenis de Campo de Antioquia",null,null,"8909049486"]
["Lilia Galindo de Posada y Cia Limitada",null,null,"8907003591"]
["Lima y Cia S.A.S",null,null,"9002300871"]
["Limitada Cooperativa Multiactiva de la Aviacion Civil Colombiana",null,null,"8605205478"]
["Lina Maria Mondragon Cortes - Linatours",null,null,"24812009"]
["Linares Construcciones SAS",null,null,"900087656"]
["Lince Comercial S.A",null,null,"8050246961"]
["Lind Hogar SAS",null,null,"9000796043"]
["Linda Hojarasca LTDA",null,null,"9003399320"]
["Lineas Escotur SA",null,null,"8600583449"]
["Link Grupo Inmobiliario EA SAS",null,null,"9005188076"]
["Linkedip Ltda",null,null,"900175940"]
["Linktic SAS",null,null,"9000377439"]
["Lister Petter Diesel S.A.S.",null,null,"8600030036"]
["LITE WAY  COLOMBIA SAS",null,null,"900086939"]
["Litis Data LTDA",null,null,"8040145094"]
["Litografia Berna S.A.",null,null,"811006043"]
["Litotricia S.A",null,null,"800234860"]
["LIVIN Inmobiliaria S.A.S",null,null,"9006355628"]
["Lizardo Amaya Diaz",null,null,"88202122"]
["Llanofincas S.A.S.",null,null,"9004692678"]
["Llantas Online S.A.S.",null,null,"9003712224"]
["Llantas Y Tires S.A.",null,null,"811008298"]
["Llanteca Virtual SAS",null,null,"9004795786"]
["Llaves & Suministros SAS",null,null,"8300972899"]
["LLEVAMOS VIDA CIA S EN C",null,null,"9001418431"]
["Logiscolar S.A.S.",null,null,"9006113484"]
["Logistica Repremundo SAS",null,null,"8301049295"]
["Logistics Services Free Zone SAS",null,null,"9008288510"]
["Logyca  Servicios S.A.S",null,null,"9006264021"]
["LONDOÑO GOMEZ S.A.",null,null,"8909121406"]
["LONJA PROPIEDAD RAIZ DE BOGOTA",null,null,"8000982705"]
["Lopez Gomez Y Cia Ltda Su Asesor De Seguros",null,null,"9001244372"]
["Loreal Colombia SAS",null,null,"8002128402"]
["Los Buzos y Cia Ltda",null,null,"9000815786"]
["LOS ESTADIOS SAS",null,null,"900629570"]
["Los Hornitos Pasteleria y Panaderia S.A.S.",null,null,"9001219649"]
["Los Lemaitre",null,null,"9000371289"]
["Loteria de Bogota",null,null,"8999992701"]
["Lubrifil de Occidente SAS",null,null,"8001532037"]
["Lugo Hermanos S.A.",null,null,"8600202407"]
["Luis Alberto Salazar Molina",null,null,"3348473"]
["Luis F. Camacho y Cia SAS",null,null,"8600007427"]
["LUIS FERNANDO CUIDA GOMEZ-PRODUCCIONES ESPERANZA",null,null,"794319706"]
["Luis Fernando Palacios Posada",null,null,"71185285"]
["Lujos Arani LTDA",null,null,"8301397917"]
["Luque Medina y Cia S.A.",null,null,"8600796902"]
["Luque Ospina y Cia S.A.",null,null,"8600083137"]
["Luz Dary Orejuela - Besame",null,null,"38555110"]
["Luz Dary Paerez y/o Andina de Automovilismo",null,null,"429717251"]
["Luz Dary Pelaez e Hijos y Cia SCA",null,null,"8909330898"]
["Luz Elena Montoya Betancur",null,null,"42867166"]
["Luz Llamilet Alzate Roman",null,null,"419181173"]
["M3medios SAS",null,null,"900505070"]
["Mabe Colombia SAS",null,null,"8908017487"]
["Mac Center Colombia SAS",null,null,"9003115817"]
["Macrotics SAS",null,null,"9004340093"]
["Madamia Ltda",null,null,"9001055371"]
["Madecentro Colombia SAS",null,null,"811028650"]
["MADERO Y MALDONADO S.A.- CORREDORES DE SEGUROS",null,null,"8600654152"]
["Mahe Neutral Shipping S.A.",null,null,"8001598563"]
["Maicito SA",null,null,"8240049975"]
["Mainco Health Care SAS",null,null,"8050092008"]
["Majoi SAS",null,null,"8605120957"]
["Maka Comercial  SAS",null,null,"900610383"]
["Makale Ltda.",null,null,"8000512211"]
["Makro Inmobiliaria Ltda",null,null,"8300342851"]
["Makro Logistics Group SAS",null,null,"9003827910"]
["Makro Supermayorista S.A.",null,null,"9000592385"]
["Malls Publicity S.A.S",null,null,"9003271918"]
["Maloka Centro Interactivo",null,null,"8300407450"]
["Malsar LTDA y/o Gimnasio Los Robles",null,null,"860506063"]
["MALUMA Ltda.",null,null,"8909102358"]
["Manalapan Colombia SAS",null,null,"9003560042"]
["MANEXKA EPS - INDIGENA",null,null,"8120023769"]
["Mango Tango S.A.S.",null,null,"9004905845"]
["Mangueras Industriales LTDA",null,null,"8903237160"]
["Manufacturas Atlantic y Cia Ltda",null,null,"8300522720"]
["Manufacturas Grillos S.A.",null,null,"8903237540"]
["Manufacturas Infantiles SA",null,null,"8914110078"]
["Manzana Inmobiliaria SAS",null,null,"9003747590"]
["Map Cargo SAS",null,null,"8300042378"]
["MAPFRE COLOMBIA VIDA SEGUROS S.A.",null,null,"830054904"]
["MAPFRE SEGUROS GENERALES",null,null,"8917000379"]
["Mapfre Seguros Generales Colombia S.A.",null,null,"891700037"]
["MAQUIVER S.A.",null,null,"8001116181"]
["Mar Quimicos Ltda",null,null,"8300088651"]
["MARATON INTERNACIONAL DE MEDELLIN",null,null,"8110408481"]
["Marca Información Deportiva Colombia S.A.S.",null,null,"9006035036"]
["Marco Rincon Arquitectos SAS",null,null,"800250471"]
["MAREAUTO COLOMBIA SAS",null,null,"9002655841"]
["MAREIGUA LTDA",null,null,"8001673534"]
["Marguz Fundación para las artes",null,null,"900248649"]
["Maria Adelaida Lopez Atehortua y/o Confiarriendos",null,null,"435460247"]
["Maria Cristina Rios Perez",null,null,"46376296"]
["Maria del Pilar Bernal Lievano",null,null,"51836081"]
["Maria del Pilar Gutierrez Kumon Bulevar Calatrava",null,null,"51633023"]
["Maria Libia Renteria Lopez - Erudigmia ",null,null,"245372151"]
["Maria Ligia Mendoza (Colegio Santa Ana)",null,null,"205402948"]
["Maria Ochoa Mora",null,null,"322425686"]
["Maria Shirley Castellanos Henao",null,null,"24575240"]
["Maria Zenaida Malagon Perez",null,null,"20797949"]
["Marinas De Colombia SAS",null,null,"900290842"]
["Mario Jaime Castro",null,null,"79322567"]
["Maritrans S.A.",null,null,"8600316152"]
["Marketext America SAS",null,null,"900323923"]
["Marketing Masivo SAS",null,null,"9002337098"]
["Marketing Personal SA",null,null,"8110187711"]
["Mármoles y Servicios SAS",null,null,"8000265091"]
["Marroquinera S.A.",null,null,"8600664711"]
["Marruecos Colombian Leather SAS",null,null,"8000611271"]
["Martha Cecilia Caceres Gomez - Curaduria Urbana 3",null,null,"29562366"]
["Martha Cecilia Martinez Peña - Distrimaxel",null,null,"31291632"]
["Martha Liliana Nuñez Lopez",null,null,"63346844"]
["Martin Carrillo Medicina Estética Ltda",null,null,"9001726871"]
["Martinez Navas SAS",null,null,"8301065023"]
["Marval S.A.",null,null,"8902056450"]
["Mary Kay Colombia SAS",null,null,"9007199392"]
["Mas Feeling S.A.S.",null,null,"9003881180"]
["MAS FIT II SAS",null,null,"9008649994"]
["Mas Fit SAS",null,null,"9007405168"]
["Mas Hoteles SAS",null,null,"9005628112"]
["Mas Metros SAS",null,null,"900559701"]
["Masada Import S.A.S.",null,null,"9003590949"]
["Master Product SA",null,null,"8050167054"]
["Master S.A.",null,null,"8600467994"]
["Masterbox Internacional SAS",null,null,"9006421971"]
["MATTELSA S.A.",null,null,"8305134418"]
["Mauricio Collazos Lopez",null,null,"16706718"]
["Mavitours S.A.",null,null,"8300906718"]
["Maxim Cosmetics",null,null,"9004614109"]
["MAXINHEALTH SAS",null,null,"9006650965"]
["Maya Grupo Inmobiliario Ltda",null,null,"8000567326"]
["Mayorista de Materiales SAS",null,null,"9001593621"]
["Mayorplus S.A.",null,null,"8110278259"]
["Mazco Bogota S.A.",null,null,"8919034033"]
["MC Hormas y Zapatos SAS",null,null,"9004285108"]
["MC Shipbrokers International Freight Forward S.A.S.",null,null,"9005291567"]
["McCausland Ltda",null,null,"900252739"]
["MD Farmacia Magistral SAS",null,null,"900407734"]
["MDA Security Ltda",null,null,"8001887419"]
["Mederisht Representaciones S.A.S.",null,null,"900208910"]
["MEDIA COMERCE S.A.",null,null,"8190069668"]
["Medical Distribution CI SAS",null,null,"8301259113"]
["Medicamentos y Servicios S.A.S.",null,null,"8110312121"]
["Medicos En La Web S.A.S.",null,null,"9004382381"]
["Medicos Generales Colombianos Pharma",null,null,"9005451969"]
["MEDICUC IPS LTDA",null,null,"9002046175"]
["Medifertil SAS",null,null,"900452020"]
["Medisanitas S.A. Compañia de Medicina Prepagada",null,null,"8001534248"]
["MEDITERRANEAN SHIPPING COMPANY COLOMBIA S.A.",null,null,"8002496871"]
["Medivelius Farmaceutica S.A",null,null,"9000202583"]
["Medplus Medicina prepagada",null,null,"9001787243"]
["Megabrands SAI Ltda",null,null,"9003125148"]
["Megadentales S.A.S.",null,null,"8110080926"]
["Megadream Colombia S.A.S.",null,null,"9005541706"]
["MEGAINSENTIVOS S.A.S. - MEGASTORE GROUP LTDA",null,null,"9002704495"]
["Megastorage Colombia S.A.S.",null,null,"9005858698"]
["Megatour SAS",null,null,"8301363057"]
["Mejor Precio SAS",null,null,"9004894609"]
["MELCO DE COLOMBIA LTDA",null,null,"8600256394"]
["Melexa S.A.",null,null,"8605312875"]
["MELOCOMPRO S.A.S.",null,null,"9004501906"]
["MEM LTDA",null,null,"8600307235"]
["Meoz Mora y Cia S en C",null,null,"830058075"]
["Mercadeo de franquicias SAS",null,null,"9005897168"]
["MERCADEO VIRTUAL S.A.",null,null,"8110457311"]
["Mercadeo y Moda SAS",null,null,"8001693526"]
["MERCADOLIBRE COLOMBIA S.A.",null,null,"8300673946"]
["Mercadopago Colombia S.A.",null,null,"9001163198"]
["MERCALISTO.COM E.U.",null,null,"9000825118"]
["Merecumbre Hotel S.A.S.",null,null,"9004084928"]
["Meridiano Propiedad Raiz SA",null,null,"900209889"]
["Merking Group SAS",null,null,"9006774375"]
["Merquellantas S.A.",null,null,"8001668333"]
["MESACE S.A",null,null,"8909002441"]
["Met Financial SAS",null,null,"9008354366"]
["Metalsur S.A",null,null,"817000865"]
["Metlife Colombia Seguros de Vida SA",null,null,"8600023985"]
["METRO JUNIOR´S SAS",null,null,"8300924538"]
["Metroagua S.A E.S.P",null,null,"8000801779"]
["Metroalarmas Ltda",null,null,"8002330367"]
["Metrocar SES",null,null,"9002468046"]
["METROCUADRADO",null,null,"8300724905"]
["Metroelectricos S.A.",null,null,"9000830602"]
["METROIN SAS ",null,null,"9003006610"]
["Metrologia Instrumentacion y control MIC SAS ",null,null,"8020148504"]
["Metroparques",null,null,"8909846301"]
["Metropoli S.A",null,null,"800192961"]
["MG Seguros y Cia Ltda",null,null,"900365170"]
["Mgame Colombia Inc",null,null,"9001909485"]
["MGI Via Consultoria S.A.S",null,null,"8050240701"]
["Mi Billetera.com Colombia S.A.S.",null,null,"9004938259"]
["Mi Datafono SAS",null,null,"9007696614"]
["MI PEQUEÑO MUNDO BARRETO GOMEZ Y COMPAÑIA",null,null,"860038065"]
["Mi Plata S.A. Compañía de Financiamiento",null,null,"9002024280"]
["Mi Vereda Ambiental SAS ESP",null,null,"900236483"]
["Mia Photo Tech S.A.S.",null,null,"900633917"]
["MICONJUNTO SAS",null,null,"9003133311"]
["Micro y Macro S.A.S.",null,null,"9002414311"]
["Microkits Electronica SAS",null,null,"9005870620"]
["Microminerales S.A.S ",null,null,"8110139921"]
["Midax SAS",null,null,"9003724748"]
["MILENIUM CONNECTION E.U.",null,null,"8050162481"]
["Millan y Asociados Propiedad Raiz  S.A",null,null,"900194008"]
["Millicel Colombia SAS",null,null,"9006647651"]
["Mimosa S.A.S",null,null,"9003345934"]
["MIN-COMER. VUCE EXPORTACIONES",null,null,"830115297"]
["MIN-COMER. VUCE IMPORTACIONES",null,null,"8301152976"]
["Ministerio De Cultura",null,null,"8300343485"]
["Ministerio de Defensa Nacional Unidad Gestion General",null,null,"8999990031"]
["MINISTERIO DE EDUCACION NACIONAL",null,null,"8999990017"]
["MINISTERIO DE TRANSPORTE",null,null,"8999990554"]
["Minta y Loletta SAS",null,null,"9004637886"]
["MIPROTEINA S.A.S.",null,null,"9005174710"]
["Mira y Contadores LTDA",null,null,"9002107192"]
["Mirazur Ltda",null,null,"9002909746"]
["MIS PAGOS AL DIA-CITIBANK",null,null,"860051135"]
["Mision Panamericana De Colombia",null,null,"8600073901"]
["MJ S.A.",null,null,"9000615164"]
["MN Foto SAS",null,null,"9004243658"]
["MOBRY LTDA.",null,null,"8270004493"]
["Moca Producciones SAS",null,null,"9003028078"]
["Moda Oxford S.A",null,null,"9001955011"]
["Modanova S.A.S.",null,null,"8001616563"]
["Modipay Group SAS",null,null,"9005323288"]
["Moli SA",null,null,"8000128174"]
["Molinos el Yopal Ltda.",null,null,"8002238116"]
["Molpartes S.A.",null,null,"8300452531"]
["Monaco Internacional SAS",null,null,"8001210311"]
["Monica Maria Perez Donado-Establecimiento de comercio la joyeria",null,null,"225162611"]
["Montagas S.A. ESP",null,null,"8912022039"]
["Montano & Gutierrez Ltda Diesel Kubota",null,null,"830023820"]
["Mora Castillo Asesores Inmobiliarios",null,null,"8603539134"]
["Morros City SAS",null,null,"9005787368"]
["Moto Mart SA",null,null,"860075684"]
["MOTO RUTAS SAS",null,null,"8040058306"]
["Motocicletas y Repuestos",null,null,"9000545656"]
["Motor Llantas.Com S.A.S.",null,null,"9004716502"]
["MOTORCYCLES ACCESORIES SOLUTIONS TECHNOLOGY",null,null,"9001648383"]
["Motoreste Autos S.A.",null,null,"9001710221"]
["Motoriente SAS",null,null,"8020122807"]
["Motos Caquetá",null,null,"9001661392"]
["Motos y Motos el Paisa SAS",null,null,"9001583094"]
["Movil GSM Colombia S.A.S.",null,null,"900501871"]
["Movilid SAS",null,null,"9008790126"]
["Movilidad y Servicios Giron SAS",null,null,"9004818565"]
["Movilplay Importaciones S.A.S.",null,null,"900303571"]
["Movilway Colombia S.A.S",null,null,"900351928"]
["Moving Full  Service SAS",null,null,"900832569"]
["MST MULTISOFT S.A.",null,null,"8002104536"]
["MTP Cajas Automaticas SAS",null,null,"9003362899"]
["MTR Mercadeo Turistico Representaciones SAS",null,null,"9004521177"]
["Muebles Arteco / Lucero Ocampo Arboleda",null,null,"42104564"]
["Muebles Juventud S.A.",null,null,"8909347320"]
["MUEBLES Y ACCESORIOS S.A.",null,null,"8605283295"]
["MUISCA OPERADORA DE HOTELES S.A.S",null,null,"9003979761"]
["Mujer de la Creme SAS",null,null,"9004108151"]
["Multibienes Ltda",null,null,"8000033666"]
["Multidestinos Express Viajes y Turismo",null,null,"900047423"]
["Multidynamic Marketing S.A.S",null,null,"9005482867"]
["MULTIMEDICAS SALUD CON CALIDAD EPS SA",null,null,"9001127787"]
["MULTINTERNET LTDA.",null,null,"900065740"]
["Multioficinas de Colombia S.A.S",null,null,"9005129693"]
["MULTIPAY S.A.",null,null,"9002588030"]
["Multiplex EU",null,null,"900069400"]
["Multiport E.U",null,null,"8305065843"]
["Multiproyectos Dmc Sas",null,null,"9004522150"]
["MULTISERVICIOS S.A.",null,null,"8160024921"]
["Multisponsor S.A.",null,null,"9001716766"]
["Multiventas Colombia Propiedad Horizontal SAS",null,null,"830137261"]
["Mundial  de Filtros y Aceites LTDA",null,null,"8000120803"]
["Mundial de Partes SAS",null,null,"8909266501"]
["Mundiastur Ltda",null,null,"8000097784"]
["MUNDIVIAJES TRAVEL SAS",null,null,"9006951614"]
["Mundokia SA",null,null,"9001882087"]
["Municipio  De Madrid",null,null,"8999993258"]
["Municipio de Abejorral",null,null,"8909811955"]
["Municipio de Abriaqui",null,null,"8909812511"]
["Municipio de Acacias",null,null,"8920014573"]
["Municipio de Aguazul",null,null,"8918552009"]
["Municipio de Alcala",null,null,"891901079"]
["Municipio de Anapoima",null,null,"8906800971"]
["Municipio De Andalucia",null,null,"8919004434"]
["Municipio de Andes",null,null,"8909803427"]
["Municipio de Anserma",null,null,"8908011391"]
["Municipio de Ansermanuevo",null,null,"8001005328"]
["Municipio de Arauca",null,null,"8001025040"]
["Municipio de Armenia",null,null,"8900004643"]
["Municipio de Balboa",null,null,"8908011431"]
["Municipio de Barbosa",null,null,"8909804457"]
["Municipio de Barrancabermeja",null,null,"8902019006"]
["Municipio de Barranquilla",null,null,"890102018"]
["Municipio de Belalcazar",null,null,"890802650"]
["Municipio de Bello",null,null,"8909801121"]
["Municipio de Belmira",null,null,"8909818802"]
["Municipio de Betania",null,null,"8909808023"]
["Municipio De Buenaventura",null,null,"8903990453"]
["Municipio de Caceres",null,null,"8909815671"]
["Municipio de Calamar",null,null,"8904813623"]
["Municipio de Calarca",null,null,"8900004414"]
["Municipio de Caldas",null,null,"8909804471"]
["Municipio de Carepa",null,null,"8909853168"]
["Municipio de Caucasia",null,null,"8909064452"]
["Municipio de Cerete",null,null,"8000967445"]
["Municipio de chia",null,null,"8999991728"]
["Municipio de Chigorodo",null,null,"8909809988"]
["Municipio de Chinchina",null,null,"8908011338"]
["Municipio de Chiquinquira",null,null,"8918004750"]
["Municipio de Ciudad Bolivar",null,null,"8909803309"]
["Municipio de Copacabana",null,null,"8909807673"]
["Municipio de Duitama",null,null,"8918551381"]
["Municipio de el Carmen de Viboral",null,null,"8909826169"]
["Municipio de el Retiro",null,null,"8909836740"]
["Municipio de el Retiro (PSEHosting)",null,null,"890983674"]
["Municipio De El Rosal",null,null,"8320023184"]
["Municipio de el Santuario",null,null,"8909838138"]
["MUNICIPIO DE ENVIGADO",null,null,"8909071065"]
["Municipio de Espinal Tolima",null,null,"8907020270"]
["Municipio de Facatativa",null,null,"8999993281"]
["Municipio de Filandia",null,null,"890001339"]
["MUNICIPIO DE FLANDES",null,null,"8001000556"]
["Municipio de Fredonia",null,null,"8909808481"]
["Municipio de Galapa",null,null,"8901024720"]
["Municipio de Girardot",null,null,"8906803784"]
["Municipio de Girardota",null,null,"890980807"]
["Municipio De Granada",null,null,"8909837281"]
["Municipio de Guarne.",null,null,"8909820557"]
["Municipio de Guasca",null,null,"8999994421"]
["Municipio de Guatape",null,null,"8909838303"]
["Municipio de Ipiales",null,null,"8000990957"]
["Municipio de Itagui",null,null,"8909800938"]
["Municipio de la Calera",null,null,"8999997125"]
["Municipio de La Ceja",null,null,"8909812075"]
["MUNICIPIO DE LA CEJA DEL TAMBO",null,null,"8909812074"]
["Municipio de la Celia",null,null,"8914800262"]
["Municipio de La Cumbre",null,null,"8001005217"]
["Municipio de la Dorada",null,null,"8908011306"]
["MUNICIPIO DE LA ESTRELLA",null,null,"8909807824"]
["Municipio De La Mesa",null,null,"8906800267"]
["Municipio de la Union",null,null,"8919011093"]
["Municipio De La Union Antioquia",null,null,"890981995"]
["Municipio de Macheta",null,null,"8999994011"]
["MUNICIPIO DE MANIZALES",null,null,"8908010537"]
["Municipio de Marinilla",null,null,"8909837161"]
["Municipio de Mariquita",null,null,"8907013421"]
["MUNICIPIO DE MEDELLIN",null,null,"8909052111"]
["Municipio de Medellin - Transito",null,null,"890905211"]
["Municipio de Moniquira",null,null,"8000996623"]
["MUNICIPIO DE MONTELIBANO",null,null,"8000967635"]
["Municipio de Montenegro",null,null,"8900008581"]
["Municipio de Monteria",null,null,"8000967341"]
["Municipio de Mosquera",null,null,"8999993423"]
["Municipio de Mutata",null,null,"8909809505"]
["Municipio de Neiva",null,null,"891180009"]
["Municipio de Nilo",null,null,"8999997078"]
["Municipio de Norcasia Caldas",null,null,"8100029635"]
["Municipio de Novita",null,null,"8916800751"]
["Municipio de Olaya",null,null,"8909841619"]
["Municipio de Paipa",null,null,"891801240"]
["MUNICIPIO DE PALESTINA ",null,null,"8908011417"]
["Municipio de Palmar de Varela",null,null,"8000944498"]
["Municipio de Palmira",null,null,"8913800073"]
["Municipio de Pamplona",null,null,"8000076526"]
["Municipio de Pasto",null,null,"8912800003"]
["Municipio de Pereira",null,null,"8914800302"]
["Municipio De Polonuevo",null,null,"8000767511"]
["Municipio De Pueblorrico",null,null,"8909811052"]
["Municipio de Puerto Berrio",null,null,"8909800493"]
["Municipio de Puerto Boyaca",null,null,"8918004664"]
["Municipio de Puerto Nare",null,null,"890981000"]
["Municipio de Puerto Salgar",null,null,"8999994138"]
["Municipio De Quibdo",null,null,"8916800110"]
["MUNICIPIO DE RICAURTE",null,null,"8906800591"]
["MUNICIPIO DE RIONEGRO",null,null,"8909073172"]
["Municipio de Rionegro",null,null,"890907317"]
["Municipio de Riosucio",null,null,"8908011384"]
["Municipio de Sabanalarga",null,null,"8909837369"]
["Municipio de Sabaneta",null,null,"8909803316"]
["Municipio de Salento",null,null,"890001127"]
["Municipio de San Alberto -  Impuesto Predial",null,null,"8000966192"]
["Municipio de San Alberto - Industria y Comercio",null,null,"800096619"]
["Municipio de San Antero",null,null,"8000967818"]
["Municipio de San Carlos",null,null,"890983740"]
["Municipio De Santafe De Antioquia",null,null,"8909075691"]
["MUNICIPIO DE SANTIAGO DE CALI",null,null,"8903990113"]
["Municipio de Sincelejo",null,null,"8001040626"]
["Municipio de Sogamoso",null,null,"8918551301"]
["Municipio de Soledad",null,null,"8901062912"]
["Municipio de Sonson",null,null,"890980357"]
["Municipio de Sopetran",null,null,"8909810807"]
["Municipio de Sopo",null,null,"8999994682"]
["Municipio de Sotaquira",null,null,"8918010611"]
["MUNICIPIO DE STA ROSA DE CABAL",null,null,"8914800334"]
["Municipio de Taraza",null,null,"8909842957"]
["Municipio de Tarso",null,null,"8909825834"]
["Municipio de Tenjo Cundinamarca",null,null,"8000951742"]
["Municipio de Titiribi",null,null,"8909807817"]
["Municipio de Tocaima",null,null,"8000934391"]
["Municipio de Tulua",null,null,"8919002721"]
["Municipio de Turbo",null,null,"8909811385"]
["Municipio de Valdivia",null,null,"8909811061"]
["Municipio de Vegachi",null,null,"8909852858"]
["Municipio de Venadillo",null,null,"8001001443"]
["Municipio de Villa de Leyva",null,null,"8918012687"]
["Municipio de Villarica",null,null,"8170026754"]
["Municipio de Yumbo",null,null,"8903990256"]
["Municipio de Zipaquira",null,null,"8999993186"]
["Municipio Dosquebradas",null,null,"8000993106"]
["Municipio el Cerrito",null,null,"8001005335"]
["Municipio La Victoria Valle",null,null,"8001005249"]
["Municipio san Carlos de Guaroa",null,null,"800098203"]
["Municipio San Pedro de los Milagros",null,null,"8909839222"]
["MUNICIPIO SANTA ROSA DE OSOS",null,null,"8909815546"]
["Municipo de Villavicencio",null,null,"8920993243"]
["Murama Educational S.A.S.",null,null,"9000462911"]
["MURGUEITIO INMUEBLES LTDA",null,null,"8050105082"]
["Museo de Antioquia",null,null,"8909800802"]
["Musicales Strings E.U",null,null,"8110267120"]
["Musicar SA",null,null,"8600472396"]
["Mutual Cootradecun",null,null,"9004104759"]
["My Style SAS",null,null,"9003341798"]
["Myriam de Mora Arrendamientos S.A.S.",null,null,"8300535063"]
["Nacional de Certificaciones Ltda",null,null,"9001744677"]
["Nacional de Pilas Central SA",null,null,"8300833667"]
["Nacional de Pilas de Occidente SAS",null,null,"8903297437"]
["Nacional de Viajes Turisticos Ltda - Nalvitur Ltda",null,null,"8320061606"]
["Naftalina S.A.S.",null,null,"8110141911"]
["Natacha Roldan Tangarife - Maskotiando",null,null,"427841234"]
["NATURA COSMETICOS LTDA",null,null,"8300249743"]
["Natural Life Col Ltda.",null,null,"9004449272"]
["Naturista la Playa Reposteria Vegetariana",null,null,"71616724"]
["Navenal Ltda",null,null,"8020088026"]
["Naves S.A.",null,null,"8605324267"]
["Navesoft LTDA",null,null,"8300775461"]
["Navisaf S.A.S.",null,null,"9004717761"]
["Navitrans SAS",null,null,"8909030241"]
["Nayade Filtros Ltda.",null,null,"9002239203"]
["NDAS S.A.S.",null,null,"9006295727"]
["Nedtrans S.A.",null,null,"8002036447"]
["Negocios Agropecuarios Y Ganaderos S.A.S.",null,null,"9001969199"]
["Negocios Electronicos SAS",null,null,"9004473514"]
["Negocios Estrategicos Globales SAS",null,null,"900640546"]
["Nemo Servicios Ltda",null,null,"8110453175"]
["Neoglobal S.A.S.",null,null,"9002922913"]
["Neostar Seguridad de Colombia Ltda",null,null,"9005817036"]
["Nestor Zuluaga Gomez",null,null,"71653570"]
["Network Col SAS",null,null,"9005686381"]
["Neurofharma Global SAS",null,null,"9004358695"]
["Nevada Containers Services SAS",null,null,"9007017831"]
["New School Clothers SAS",null,null,"9004385236"]
["New Stetic S.A.",null,null,"8909002670"]
["Nexo Tours S.A.S.",null,null,"8903194028"]
["Nicolukas S.A",null,null,"8000978842"]
["Nieva y Asociados S.A.S.",null,null,"9002073095"]
["Nikken Colombia Ltda.",null,null,"8301290243"]
["Nikko Auto Ltda",null,null,"8300365577"]
["Nirvana Medellin Spa S.A.S.",null,null,"9002223231"]
["Niventerprises SAS",null,null,"9004583876"]
["Niviglobal SA",null,null,"9001415182"]
["NMV Colombia SAS",null,null,"9004802278"]
["Nora Saavedra De Rubio",null,null,"20335690"]
["Nortesantandereana de Gas SA ESP",null,null,"8905007263"]
["Notinet Ltda",null,null,"8300483811"]
["Novasoft SAS",null,null,"800028326"]
["Novasuin SAS",null,null,"9007490942"]
["NOVAVENTA S.A.",null,null,"8110252891"]
["NOWI S.A.S",null,null,"8270003551"]
["Nubia Lucia del Socorro Puertas Lozano - Gimnasio Nuevo Reino",null,null,"51773902"]
["Nubox Colombia SAS",null,null,"9005216531"]
["Nucleo Constructora  SA",null,null,"9003249862"]
["NUEVA EMPRESA PROMOTORA DE SALUD NUEVA EPS S.A.",null,null,"9001562642"]
["NUEVA ERA SOLUCIONES LTDA",null,null,"8300372781"]
["Nueva Vida Laboratorios SAS",null,null,"9005990378"]
["Nuevo Gimnasio Cristiano - Casa Sobre la Roca Iglesia Cristiana ",null,null,"8300108966"]
["Nuevo Gimnasio Cristiano-Casa Sobre la Roca Iglesia CristianaC",null,null,"830010896"]
["Nutrinature S.A.S.",null,null,"9004415742"]
["Nutritec S.A.",null,null,"8050068336"]
["O H Gran Hotel S.A.",null,null,"8909340348"]
["Oacys S.A.S.",null,null,"9004889010"]
["Oben Muebles S.A.",null,null,"8002544417"]
["Obra en Madera SAS",null,null,"800034568"]
["Obras Sociales Betania",null,null,"8908009758"]
["Observatorio del Caribe Colombiano",null,null,"8060042689"]
["Obstetricia & Ginecologia LTDA",null,null,"8305072915"]
["OBT La Tienda SAS",null,null,"9003518568"]
["OBT Online Business",null,null,"9003438500"]
["Oceanic Logistic Services S.A.S.",null,null,"9003730463"]
["Octopus Travel LTDA",null,null,"8002498054"]
["Ocupar Propiedad Raiz Ltda",null,null,"8002205806"]
["Odontoprisma Servicios Escenciaales S.A.",null,null,"9002628803"]
["Odretours International E.U.",null,null,"8301036690"]
["Off Bound Adventures SAS",null,null,"8305100110"]
["Oficinas Por Tiempo S.A.S",null,null,"9008045118"]
["Oikos Sociedad de Inversiones S.A.",null,null,"8600743897"]
["Old Mutual Fiduciaria S.A",null,null,"8600589566"]
["OLD MUTUAL FONDO DE PENSIONES VOLUNTARIAS",null,null,"8300380851"]
["OLD MUTUAL SEGUROS DE VIDA S.A.",null,null,"8600025041"]
["Olfatif S.A.S.",null,null,"9002336874"]
["Oli Operaciones Logisticas Integradas S.A.S.",null,null,"9002984949"]
["Olimpia Management SA",null,null,"9000327744"]
["Olimpia Management SA (Comercio)",null,null,"900032774"]
["Olivares SAS",null,null,"900659312"]
["Olmos Capital Partners SAS",null,null,"9005242791"]
["OMNILIFE DE COLOMBIA LTDA",null,null,"8002088650"]
["Opeinvias SAS",null,null,"830025169"]
["Operador Virtual S.A.S",null,null,"9004077562"]
["Operadora de Servicios Integrales Trademar S.A. OSI Trademar S.A",null,null,"8020206036"]
["Operadora de Viajes y Turismo Destino Antioquia SAS",null,null,"8110433040"]
["Operadora Hotelera Nacional S.A.S.",null,null,"9003369857"]
["Operadora Logistica de Santa Marta",null,null,"8190035916"]
["Operadora Turistica Bahia Sardina S.A.S.",null,null,"9003797783"]
["Operar Plaza Rosa SA",null,null,"8110456581"]
["Opsa ingenieria LTDA",null,null,"900072154"]
["Optica Dr. Mendez S.A.S.",null,null,"8605136778"]
["Optica Santa Lucia S.A.",null,null,"8909006509"]
["Opticas Clinicas Centro Ocular Dr Rincon S.A.S.",null,null,"900239006"]
["Optima S.A.",null,null,"8903247061"]
["Optima SA Vivienda y Construccion",null,null,"890917007"]
["Optobus de Suramerica SAS",null,null,"9004445271"]
["Orbe Colombia S.A.",null,null,"9001660251"]
["Orbe SA Construcciones",null,null,"800182895"]
["Orbitel Servicios Internacionales S.A. E.S.P.",null,null,"9001639269"]
["ORBITEL-UNE EPM",null,null,"900092385"]
["Orden Agustinos Recoletos",null,null,"8600063341"]
["Orden Agustinos Recoletos - Agustiniano Norte",null,null,"8600063340"]
["ORDEN DE LA COMPAÑIA DE MARIA NUESTRA SEÑORA MEDELLIN",null,null,"8909024010"]
["Orden de la Compañia de Maria Nuestra Señora-Barranquilla",null,null,"890902401"]
["Orden Hospitalaria de San Juan de Dios",null,null,"8600190147"]
["Orden Religiosa de las Escuelas Pías -Colegio Calasanz ",null,null,"860014710"]
["Organizacion Cardenas S.A",null,null,"8605216377"]
["Organizacion de las Naciones Unidas para la Infancia",null,null,"8001769943"]
["Organizacion Educativa Tenorio Herrera SAS \t",null,null,"9003426373"]
["Organizacion Grandes Lideres",null,null,"830011452"]
["Organizacion Inmobiliaria Fierro  Diaz y CIA",null,null,"8300581357"]
["ORGANIZACION INMOBILIARIA LA ALDABA LTDA",null,null,"8320024261"]
["Organizacion Internacional Jimenez Ramirez SAS",null,null,"9007638978"]
["Organizacion para la Educacion y Proteccion Ambiental OPEPA",null,null,"8300510110"]
["Organizacion San Angel  SAS",null,null,"9003079918"]
["ORGANIZACION SAYCO-ACINPRO",null,null,"8000218119"]
["Organizacion Terpel",null,null,"830095213"]
["ORGANIZACION TERPEL S A.",null,null,"8300952130"]
["Organizacion Vacunemos Colombia S.A",null,null,"8301355611"]
["Orientamos SAS",null,null,"811042664"]
["ORIFLAME DE COLOMBIA S.A.",null,null,"8300236712"]
["Orlando Cabal SAS",null,null,"900718867"]
["Orozco & Laverde Cia Ltda",null,null,"8600468122"]
["Ortho Professional Dental Ltda",null,null,"8300695151"]
["Ortizcol Ltda",null,null,"9001657752"]
["Ortopedicos Disalud",null,null,"79397086"]
["Ortopedicos Williamson y Williamson SAS",null,null,"9003459531"]
["Orva Medical Group SAS",null,null,"9002738950"]
["Osaka SAS",null,null,"8110228761"]
["Ossa y Asociados S.A. Viajes y Turismo",null,null,"8300999111"]
["OTI S.A.S.",null,null,"9002951958"]
["OTRAPARTE - CORPORACION FERNANDO GONZALEZ",null,null,"8110336074"]
["Our Bag SAS",null,null,"8600370372"]
["P J Col SAS",null,null,"9003288341"]
["Padilla y Cia Limitada",null,null,"8001318601"]
["Pafyc Ltda (Portal Occidente)",null,null,"800186844"]
["Pagadigital Latam S.A.S",null,null,"9007477808"]
["Pago Digital Colombia SAS",null,null,"9004617586"]
["PAGOS PILA – PSE",null,null,"99999999999"]
["Pagosonline.NET S.A - Recargas",null,null,"830109723"]
["Paipa Tours Ltda",null,null,"8000889409"]
["Pallomaro SA",null,null,"8903173392"]
["Pamacol Technologies S.A.S",null,null,"9003200561"]
["PAMOAR SAS",null,null,"900363207"]
["Panamericana Libreria y Papeleria S.A.",null,null,"8300379463"]
["Panorama S.A.",null,null,"8914111700"]
["Papelcard SAS",null,null,"8909405676"]
["Papeleria el Punto SAS",null,null,"8000047119"]
["Para Ti.co Sas",null,null,"9007868257"]
["Para-coser S.A.S.",null,null,"9004806098"]
["Paradox Colombia S.A.S.",null,null,"9004196580"]
["Parcelacion la Antigua",null,null,"8001751699"]
["Parking International SAS",null,null,"8600587601"]
["Parking Ole S.A",null,null,"9000706454"]
["Parque Comercial El Tesoro P.H.",null,null,"8110216216"]
["Parque Industrial de Occidente II Etapa P.H.",null,null,"8301106801"]
["Parque Industrial Puerto Central",null,null,"900313966"]
["Parque Inmobiliario Gomez Borrero y Cia S.E",null,null,"800130359"]
["Parque Residencial Sol de la Sabana",null,null,"9005620693"]
["PARQUES Y FUNERARIAS S.A.",null,null,"8600153000"]
["Parroquia Nuestra Señora de los Angeles",null,null,"8301437650"]
["Participaciones del Pacifico Colombia SAS",null,null,"9004288023"]
["Party Class S.A.",null,null,"8001694190"]
["Pasajes LTDA",null,null,"8905044299"]
["Pasar Express S.A.",null,null,"8002105566"]
["Patiño & Cia  S.A.S. - Papeleria La Columna ",null,null,"9002412882"]
["Patrimonio Autonomo Fiducolombia S.A. Refinancia",null,null,"8300545393"]
["Patrimonio Autonomo Fondo Nacional del Turismo",null,null,"9006491199"]
["Patrimonio Autonomo Guatapuri",null,null,"8300545392"]
["Patrimonio Autonomos Fiduprevisora Fomag S.A.",null,null,"8300531053"]
["Patrimonios Autonomos Fiduciaria Bancolombia S.A.-Patrimonio Aut",null,null,"8300545391"]
["Patrimonios Autonomos Fiduciaria Bancolombia Sa-San Pedro Plaza",null,null,"8300545394"]
["Patrimonios Autonomos Fiduciaria Colpatria SA-PA Refinancia",null,null,"99999253766"]
["Patrimonios Autonomos Fiducolombia SA Sociedad Fiduciaria",null,null,"8300545390"]
["Patrimonios Inmobiliarios S en C",null,null,"9001409901"]
["PAYCO PAGA Y COBRA ONLINE SAS",null,null,"9004710528"]
["Paymentez S.A.S",null,null,"9004531884"]
["PAYU COLOMBIA S.A.S",null,null,"8301097238"]
["PC MADRIGAL",null,null,"702524474"]
["PC911 SAS",null,null,"900463440"]
["PELAEZ HERMANOS S.A.",null,null,"8901011380"]
["Pelanas S.A.S.",null,null,"8000003132"]
["PENSIONES DE ANTIOQUIA",null,null,"8002162780"]
["Pentagrama S.A.",null,null,"8160041820"]
["Peña Gomez Ingenieria SAS",null,null,"9006483058"]
["People Pass S.A.",null,null,"9002099561"]
["Peregrinar de Viajes y Turismo S.A.S.",null,null,"900400453"]
["Perez y Cardona SAS",null,null,"8909124267"]
["Perfiaceros de Colombia S.A.",null,null,"900104899"]
["Perfiaceros de Colombia S.A.S.",null,null,"9001048996"]
["Perfumes y Marcas el Mejor Perfume SAS",null,null,"9007350300"]
["Perimetro Inmobiliario Ltda",null,null,"811012304"]
["Periodico el mundo S.A",null,null,"8909224657"]
["Permoda LTDA",null,null,"8605168065"]
["Persianas Alfa S.A.",null,null,"800045742"]
["PETROBRAS COLOMBIA COMBUSTIBLES S.A.",null,null,"9000478225"]
["Petroleos del Milenio SAS",null,null,"8190016678"]
["Pets Land Store SAS",null,null,"900471003"]
["PEZ PLATA S.A.",null,null,"9001412511"]
["Phidias SAS",null,null,"8305026417"]
["PHILIPS COLOMBIANA SAS [AVISOR]",null,null,"8600053964"]
["PHILIPS COLOMBIANA SAS [Pagos Online]",null,null,"860005396"]
["PHIPACK SAS",null,null,"9001039871"]
["Physiotrauma SAS",null,null,"9005929355"]
["PIA Sociedad Salesiana - Colegio Salesiano el Sufragio",null,null,"8909059807"]
["Pic Colombia SA",null,null,"8002042266"]
["Piel Farmaceutica Especializada  S.A",null,null,"9001614846"]
["Pijaos Motos S.A.",null,null,"9000408484"]
["PIJAOS SALUD EPSI",null,null,"8090083622"]
["Pinilla Gonzalez y Prieto Abogados Ltda",null,null,"8300653123"]
["Pintando Caminos Asociación Para Recrear el Futuro",null,null,"830132331"]
["PINTURAS HELIOS S.A.S.",null,null,"8110266201"]
["Pinturas Idea S.A.",null,null,"8909024644"]
["Pinturas Industriales Ltda",null,null,"8909179619"]
["Pisos del Mundo SAS",null,null,"9004836909"]
["Pista Tours Ltda.",null,null,"8903274386"]
["Pixote Co SAS",null,null,"9004409890"]
["PL Soluciones Colombia S.A.S.",null,null,"9003127785"]
["Placecol SA",null,null,"830035105"]
["PLAKA S.A.S",null,null,"9002973810"]
["Planautos S.A",null,null,"8909240764"]
["Planeta Pet SAS",null,null,"9006509852"]
["Plastempack de Colombia Ltda",null,null,"8300487188"]
["Plasticos Jami & Cia LTDA",null,null,"8001370137"]
["PLASTICOS MALLOL SAS",null,null,"8000172771"]
["Plataforma de Publicidad Movil S.A.S",null,null,"900421497"]
["Plataforma Laboral S.A.S.",null,null,"900635784"]
["Plataformas Electronicas SAS",null,null,"9006450264"]
["PLATERO Y YO CIE LTDA",null,null,"8301023842"]
["Plaza Mayor Medellin Convenciones y Exposiciones S.A.",null,null,"8909092972"]
["Plinares Ltda.",null,null,"800117035"]
["Plus Values SAS",null,null,"9006949353"]
["Plusag SA",null,null,"8050204111"]
["PMI Proteccion Medico Integral SAS",null,null,"9003334648"]
["POINTLOG SAS",null,null,"9006070651"]
["Poleas & Mangueras S.A.S. ",null,null,"9005346156"]
["Polimix Concreto de Colombia SAS",null,null,"9006414212"]
["Polipropileno del Caribe SA PROPILCO ",null,null,"8000594705"]
["Politecnico Ciandco Bello S.A.",null,null,"9007301718"]
["POLITECNICO COLOMBIANO JAIME ISAZA CADAVID",null,null,"8909801366"]
["POLITECNICO INDUAMERICANO",null,null,"8000267295"]
["Politecnico Internacional",null,null,"900002845"]
["Politecnico Internacional Intitucion de Educacion Superior",null,null,"9000028450"]
["Polux Suministros S.A.S",null,null,"8300316873"]
["POMBO VITTONE ASESORES INMOBILIARIOS SAS",null,null,"9006090175"]
["PONTIFICIA UNIVERSIDAD JAVERIANA",null,null,"8600137201"]
["PONTIFICIA UNIVERSIDAD JAVERIANA CALI",null,null,"8600137200"]
["Por Un Mañana Limitada",null,null,"8605262678"]
["Porcicultores APA SAS",null,null,"9003139453"]
["PORTADA INMOBILIARIA S.A.S",null,null,"900336513"]
["PORTADA INMOBILIARIA S.A.S.",null,null,"9003365134"]
["Portal Arquitectonico S.A. PORTAQ S.A.",null,null,"9001780593"]
["Portal Zona Pagos BBVA",null,null,"860003020"]
["Portico Inmobiliaria Ltda",null,null,"900073656"]
["Portos parque industrial",null,null,"900126687"]
["Porvenir Fondo de Cesantias",null,null,"8001700437"]
["PORVENIR S.A.",null,null,"800170043"]
["PORVENIR S.A. SSS",null,null,"8002248088"]
["Posada Gonima Propiedades Ltda",null,null,"8001447362"]
["POSITIVA COMPAÑIA DE SEGUROS S.A.",null,null,"8600111536"]
["Positiva Compañia de Seguros S.A. [Pagos Online]",null,null,"860011153"]
["Positive ID SA",null,null,"9000853756"]
["Power Solution Ltda.",null,null,"9001027974"]
["PP Stores S.A.",null,null,"9003376699"]
["PPG Industries Colombia",null,null,"9000076504"]
["Pquim SAS",null,null,"8001625538"]
["PR&NTCO S.A.S.",null,null,"9000744829"]
["PRACO DIDACOL S.A.",null,null,"8600476571"]
["Prays Asistencia Colombia LTDA",null,null,"8301134429"]
["Pre Escolar Paotis SAS",null,null,"9007225226"]
["Prebel S.A.",null,null,"8909050321"]
["Preescolar Mcmillan SAS",null,null,"8600914113"]
["Premium Filters S.A.S.",null,null,"8301242365"]
["Prestadora de Servicios TIC SAS",null,null,"9006899844"]
["Prestatodos S.A.",null,null,"9000922789"]
["PREVER S.A.",null,null,"8909115855"]
["Prevesa S.A.S.",null,null,"9000629795"]
["Prevesa SAS",null,null,"900062979"]
["Price Res S.A.S.",null,null,"9004747948"]
["Pricesmart Colombia SAS",null,null,"9003197533"]
["Prieto Asociados Asesores de Seguros",null,null,"8604506049"]
["PRIMAVERA CAMPING TOURS LTDA",null,null,"8000857701"]
["Prime Holding Service S.A.S.",null,null,"9001847438"]
["Printexcol Ltda.",null,null,"9001329202"]
["Proactiva Aguas de Tunja E.S.P SA",null,null,"8200006717"]
["Proactiva Aguas Del Archipielago",null,null,"9000422484"]
["PROALNET  SAS",null,null,"9002373814"]
["PROARTES",null,null,"8903177134"]
["Proasistemas S.A.",null,null,"8000429281"]
["Procalculo Prosis S.A.",null,null,"8600347147"]
["Procatex S.A.S.",null,null,"811025896"]
["Procer Eventos SAS",null,null,"9001612452"]
["Procesos de Aprendizaje Proa",null,null,"8301077619"]
["Procesos Inteligentes Ltda",null,null,"8300297338"]
["Procesos Pedagogicos para Educación Formal",null,null,"8305046029"]
["Prodehogar Ltda.",null,null,"8001369611"]
["Prodeseg S.A.",null,null,"8600516885"]
["PRODISCOS S.A.",null,null,"8600263767"]
["PRODISNI PRODUCTORA Y DISTRIBUIDORA SAN NICOLAS LTDA",null,null,"830137568"]
["Producción Gráfica Editores SAS",null,null,"8002288158"]
["Producciones y Distribuciones Judah Ltda",null,null,"8300254944"]
["Productora Distrihogar S.A.",null,null,"8909211411"]
["Productora Tabacalera de Colombia SAS - Protabaco SAS",null,null,"8600032111"]
["Productos Alimenticios de la Finca S.A.",null,null,"811004550"]
["Productos Arquitectonicos SA",null,null,"830026512"]
["PRODUCTOS DE PROTECCION Y SEGURIDAD INDUSTRIAL LTDA",null,null,"900087399"]
["PRODUCTOS FAMILIA S.A.",null,null,"8909001619"]
["Productos Juliao SAS",null,null,"8000106344"]
["Productos Mixtos Promix Colombia SA",null,null,"8300837281"]
["Productos Naturales de la Sabana S.A.",null,null,"8600049224"]
["Productos Weinal SAS",null,null,"9005938471"]
["ProExequiales Resurgir SAS",null,null,"8001236554"]
["PROFAMILIA",null,null,"8600137795"]
["Profesionales Organizados para la Formacion Integral Profin S.A.",null,null,"8301089261"]
["Professional Custom Service SAS",null,null,"9004416038"]
["PROGRAMA SALUD UNIVERSIDAD DE ANTIOQUIA",null,null,"8909800408"]
["Progressa Entidad Cooperativa de Ahorro y Credito \t",null,null,"8300339078"]
["PROINMOBILIA S.A.S",null,null,"9002999722"]
["Proksol SAS",null,null,"9000357225"]
["Prolife Brokers y Cia Ltda",null,null,"8301476059"]
["Prom Hotel San Fdo Plaza SA",null,null,"9000692245"]
["Promedco",null,null,"900661668"]
["Promocion de Mercancias Extranjeras",null,null,"8110218577"]
["Promociones San Andres Ltda.",null,null,"8903046842"]
["Promosumma SAS",null,null,"900475865"]
["Promotick SAS",null,null,"9002507226"]
["Promotora Buen Vivir",null,null,"811035732"]
["Promotora de Comercio Social",null,null,"8909854388"]
["Promotora de Ediciones y Comunicaciones",null,null,"8909211260"]
["Promotora de las Riquezas del Departamento de Bolívar ",null,null,"9004119263"]
["Promotora de Proyectos de la Sabana SAS",null,null,"900307868"]
["Promotora de Turismo Santago De Cali Ltda.",null,null,"8903162811"]
["Promotora de Vivienda Provisinu Ltda",null,null,"9001027571"]
["PROMOTORA E INVERSORA MALLA S.A.S",null,null,"900464714"]
["PROMOTORA EL CEDRO S.A.",null,null,"8301242326"]
["Promotora Geo de Servicios S.A.S.",null,null,"9001990142"]
["Promotora Hotel Dann Carlton Barranquilla SA",null,null,"8020191667"]
["Promotora Inmobiliaria Calycanto SAS",null,null,"9004015354"]
["Promotora Inmobiliaria RyG S.A.S.",null,null,"8002399289"]
["Promotora Integrar Monticello SAS",null,null,"900728126"]
["Promotora Neptuno CIA LTDA",null,null,"8603540214"]
["Promotora Occidental Ltda.",null,null,"8903099216"]
["Promotora Palmetto SA",null,null,"900070124"]
["Promotora Region Caribe S.A.S.",null,null,"900531187"]
["Promotora Rincon del Bosque SAS",null,null,"900428243"]
["Promotora Sierra Morena S.A.",null,null,"9001542983"]
["Propinter SAS",null,null,"9001609082"]
["Prosegur Vigilancia y Seguridad Privada Ltda",null,null,"8904018020"]
["Prospecta SAS",null,null,"8305107458"]
["Proteccion Inmobiliaria S.A. Protecsa",null,null,"8300279604"]
["Protecting Life de Colombia SAS",null,null,"9001457449"]
["PROTELA S.A.",null,null,"8600019632"]
["Protucaribe S.A.",null,null,"8904043893"]
["PROVENZAL LTDA.",null,null,"8110332381"]
["Provincia de Nuestra Señora de Gracia de Colombia",null,null,"8600067646"]
["PROVINCIA NUESTRA SEÑORA DEL ROSARIO",null,null,"8918003999"]
["Provis",null,null,"900119138"]
["Provisiones Industriales Carrillo S.A.S.",null,null,"8603528844"]
["Prowebto Consultoria en Comunicacion Audiovisual SAS",null,null,"9004946991"]
["Proyectamos Grupo Empresarial ",null,null,"900444727"]
["Proyectar Centro de Formacion Empresarial EU",null,null,"8301302503"]
["Proyectarte Ltda",null,null,"8040085409"]
["Proyectos Arquitectonicos e inmobiliarios  la Quinta SAS",null,null,"8001854736"]
["Proyectos Bagatella S.A.S.",null,null,"9003851021"]
["PROYECTOS SEMANA S.A.",null,null,"9000916952"]
["Proyectos Urbanisticos Gutierrez SAS",null,null,"9002502716"]
["PSE PAGOS",null,null,"8300785126"]
["PSICOM LTDA",null,null,"8300960644"]
["PSIGMA CORPORATION",null,null,"8300594657"]
["PSP Consultores Ltda",null,null,"830065254"]
["Publicaciones Digitales S.A.S.",null,null,"9003945622"]
["PUBLICACIONES DINERO",null,null,"8001908183"]
["PUBLICACIONES SEMANA S.A.",null,null,"8605092651"]
["Publicar Publicidad Multimedia SAS",null,null,"8600013174"]
["Publinet EAT",null,null,"805006428"]
["PUNTO FERTIL S.A. (TEKOA)",null,null,"900160171"]
["PURA VIDA RSE SAS",null,null,"9003362731"]
["PyC de Colombia S.A",null,null,"9002789381"]
["Q10 Soluciones S.A.S.",null,null,"9002994746"]
["QBE SEGUROS S.A.",null,null,"8600025340"]
["Qbien Colombia SAS",null,null,"900670819"]
["Quality Copiers E.U ",null,null,"9001834231"]
["Quality Management Training Ltda.",null,null,"9001007398"]
["Quality Water Service Colombia SAS",null,null,"900659017"]
["Quebec PH",null,null,"900253983"]
["Querido Abuelo/Lida Janet Rojas",null,null,"24765271"]
["Quiera SAS",null,null,"9007403763"]
["QUIFARMA LTDA.",null,null,"8909383000"]
["QuimicoPlasticos S.A",null,null,"8909296472"]
["Quimicos JM SA",null,null,"8110314119"]
["Quimio Lab Ltda",null,null,"8300247374"]
["QUIMTIA SAS",null,null,"9002504151"]
["Quios Ltda",null,null,"800033374"]
["R&V Roman&Velez Consultores Niif y Abogados Limitada",null,null,"9000883276"]
["R.M. Sistemas S.A.S.",null,null,"800024938"]
["R.P. Ortopedia S.A.S.",null,null,"9004966027"]
["RABINOVICI Y ASOCIADOS LTDA",null,null,"8002414016"]
["Rada Cassab Medicina  Estetica S.A.S",null,null,"8305095997"]
["Radas Ltda",null,null,"8600760132"]
["Rafael Angel H y Cia Ltda - Bancolombia",null,null,"860526812"]
["RAFAEL ANGEL H Y CIA LTDA (Pagos Online)",null,null,"8605268122"]
["Rafael Enrique Rodelo Gonzalez",null,null,"9128924"]
["RAI LATINOAMERICA E.U",null,null,"8301475487"]
["Ram Industria Quimica SAS",null,null,"8301427181"]
["Rambler S.A.S.",null,null,"8909118376"]
["Rameco Ltda.",null,null,"8600009992"]
["Rapitest Diagnostico Clinico Ltda.",null,null,"9002452257"]
["Rastrack SAS",null,null,"8301266263"]
["Rastreo Siglo XXI SAS",null,null,"9002387757"]
["Rayuela Jugueteria",null,null,"799373645"]
["RB Deco SAS",null,null,"9005463709"]
["RC2 Pharmaceutical SAS",null,null,"9006571375"]
["RCI Colombia INC. Sucursal Colombiana",null,null,"8300024906"]
["Real Carga Limitada",null,null,"8604518530"]
["Real Estate Capital SAS",null,null,"9002158835"]
["Real Group Inmobiiliarios SAS",null,null,"900316513"]
["Real International Arriendos S.A.S.",null,null,"9006125708"]
["Realkomex S.A.S",null,null,"9003356675"]
["REALTECH LTDA.",null,null,"9003573113"]
["Recarga en Linea S.A.",null,null,"900260868"]
["Recargacel de colombia SAS ",null,null,"9003509411"]
["Recaudo Bogota S.A.S",null,null,"9004536885"]
["RECORDAR PREVISION EXEQUIAL TOTAL S.A.",null,null,"8001921051"]
["Red Colombiana de Posgrados",null,null,"900226644"]
["Red Gestion Integral SAS",null,null,"9003378269"]
["Red Llantas SA",null,null,"8110413691"]
["RED MULTIBANCA COLPATRIA",null,null,"860034594"]
["RED MULTIBANCA COLPATRIA (Olimpia)",null,null,"8600345940"]
["Redatel S.A.S.",null,null,"9000966441"]
["Redcol SAS",null,null,"9005297305"]
["REDCORD DE COLOMBIA BANCO NACIONAL DE CELULAS MADRE",null,null,"8301302868"]
["Redmotos de Colombia SAS",null,null,"900563022"]
["REDSALUD ATENCION HUMANA EPS S.A.",null,null,"8300965131"]
["Redsi Telecomunicaciones SAS",null,null,"9003746791"]
["Redsuma S.A.S.",null,null,"9003996727"]
["Refinancia SA",null,null,"9000604423"]
["Regalos & Gifts - MVA S.A.",null,null,"9001660584"]
["Regalos Encanto SAS",null,null,"9003459848"]
["Rehau S.A.S",null,null,"900306527"]
["Reindustrias SA",null,null,"813007147"]
["REJIPLAS S.A ",null,null,"8909321243"]
["Religiosas Agustinas Misioneras",null,null,"8600219487"]
["Rena Ware de Colombia S.A",null,null,"800214071"]
["Rene Alejandro Huertas Caicedo",null,null,"144669850"]
["Renovadora de Llantas S.A. Renoboy S.A.",null,null,"8000133493"]
["RENTABIEN S.A.",null,null,"8905025320"]
["Rentamos Propiedad Raiz Medellin SAS",null,null,"9004171448"]
["Rentandes S.A.",null,null,"8300756840"]
["Renting Colombia  SA",null,null,"811011779"]
["Renting Total SAS",null,null,"900422154"]
["Rentkasa S.A.S.",null,null,"9004497680"]
["Reposteria Astor SAS",null,null,"8909025667"]
["Repremundo SAS",null,null,"8600790247"]
["Representaciones Dentales de Colombia SAS",null,null,"8301351001"]
["Representaciones Eurodent S.A.",null,null,"8002191897"]
["Representaciones Getsemani S.A.S.",null,null,"9005095034"]
["Representaciones Industriales de Colombia RICOL Ltda",null,null,"8050069065"]
["Representaciones Industriales RDV Ltda",null,null,"8000558036"]
["Representaciones Lastra LTDA",null,null,"8903251984"]
["Representaciones Vitamin Colombia S.A.S.",null,null,"9003111473"]
["Repuestos Autofrenos LTDA",null,null,"8040149841"]
["Repuestos y Partes Diesel Ltda ",null,null,"9000363718"]
["Reserva el Cairo SAS",null,null,"900825055"]
["Resortes Hercules SA",null,null,"8903076710"]
["Restrepo & Londoño Asesores Tributarios y Jurídicos S.A.",null,null,"8050124194"]
["Restrepo Comercial Interandina y Cia LTDA",null,null,"8301247818"]
["RESULTADO TOTAL RT LTDA",null,null,"8300559019"]
["Revista Inmobiliaria Espacio Urbano S.A.S",null,null,"9004158446"]
["Revista Zonalogistica S.A.S.",null,null,"8110275895"]
["RF Soluciones S.A.S.",null,null,"9002748124"]
["RFG Representaciones Ltda",null,null,"8600910332"]
["RGM Asegurando Ltda",null,null,"8300806002"]
["RH SAS",null,null,"8050070833"]
["Ricardo Leon Serna Salazar",null,null,"70728331"]
["Ricardo Quintero Mosquera - Agrocosur",null,null,"12111956"]
["Rich de Colombia SAS",null,null,"9004363524"]
["Rio Sur SA",null,null,"800149580"]
["Ripley Compañia de Financiamiento S.A.S.",null,null,"9005947476"]
["Rium SAS",null,null,"900748651"]
["RM Servicios de Aseo y Mantenimiento SAS",null,null,"9003918995"]
["Robayo Holding Industries SAS ",null,null,"9006390363"]
["Roberto Anibal Mera Mora",null,null,"13063972"]
["Robinson Fernando Serna Gaspar/Cache Impresiones Comestibles",null,null,"18516757"]
["Rodar y Rodar S.A.S.",null,null,"890937195"]
["Rodrigo Betancur S.A.",null,null,"8110065706"]
["Rodriguez y Londoño SA",null,null,"8909236911"]
["Rojas trasteos Servicios SA",null,null,"8002017231"]
["Rolco Shipping SAS",null,null,"9006069444"]
["Roldan Y Cia Ltda.",null,null,"8909030692"]
["Rolog S.A.",null,null,"9002691284"]
["Roma Inversiones S.A.S",null,null,"900334397"]
["Romero RAAD Abogados SAS ",null,null,"9000385326"]
["Romeroviedo Consultoria e Inversion SAS",null,null,"8301039996"]
["RONDA S.A.",null,null,"8600483460"]
["Royal & Sun Alliance Seguros (Colombia) S.A.",null,null,"8600025057"]
["Royal Asesores en Finca Raiz ",null,null,"8300085284"]
["Royal Propiedad Raiz SAS",null,null,"9006588051"]
["Rozo y Asociados SAS",null,null,"9006112271"]
["Rozza Lavie SAS",null,null,"9003877415"]
["Ruben Adolfo Pino Tangarife",null,null,"16657078"]
["Ruitoque Golf Country Club SAS",null,null,"8305140703"]
["Ruitoque S.A. E.S.P.",null,null,"8040010628"]
["Ruiz López Abogados y Asociados LTDA",null,null,"830130773"]
["Ruiz Perea Inmobiliaria Ltda",null,null,"8040013575"]
["Running Knmg SAS",null,null,"9005393749"]
["Ruta Manufacturas S.A.S.",null,null,"9004581665"]
["Rutas y Destino Limitada",null,null,"8280007287"]
["S A Protein SAS",null,null,"900590690"]
["S&S IP SAS",null,null,"9003455347"]
["SAC Seguridad Automatizacion y Control",null,null,"8301147213"]
["Sachs Bikes, Grupo Universal Magno",null,null,"9002078895"]
["Safetypay Colombia S.A.S.",null,null,"9006166521"]
["SAGAMBIENTAL S.A.S.",null,null,"900537835"]
["Saio Agrodistribuciones Limitada",null,null,"9001693781"]
["SALMACORP SAS",null,null,"9004937727"]
["SALUD COLPATRIA S.A.",null,null,"8605122376"]
["SALUD TOTAL S.A.",null,null,"8001309074"]
["SALUDCOOP EPS",null,null,"8002501191"]
["SALUDVIDA S.A. EPS",null,null,"8300741845"]
["Salvaguardar Ltda.",null,null,"8603536842"]
["Samy Santabay Morales ",null,null,"94384072"]
["San Agustin Eventos y Turismo S.A.S",null,null,"8000735916"]
["SAN ANGELO LTDA",null,null,"8000651769"]
["San Jeronimo Cajica Cabrera Hermanos Ltda",null,null,"8604038163"]
["San Juan SA",null,null,"805021303"]
["Sandra Julieth Aguilera Mesa",null,null,"1014181385"]
["Sandra Victoria Barrientos Gomez",null,null,"42886957"]
["Santa Juana Construcciones SAS",null,null,"900782544"]
["Santa Juana Inmobiliaria S.A",null,null,"8001014933"]
["Santa Lucia Hotel Boutique SAS",null,null,"9006457333"]
["SANTA MARIA DEL CAMPO S.A.",null,null,"9000811017"]
["Santa Maria y Asociados SAS",null,null,"8000058168"]
["SANTAMARIA Y CASTRO ASOCIADOS S.A.",null,null,"9001582849"]
["SANTANATURA.V SAS",null,null,"900729223"]
["Santandereana de turismo L'alianxa SAS",null,null,"8902031292"]
["Santandereana de Viajes Ltda",null,null,"8902086866"]
["Santiago Rojas y  R y Cia S.A.S",null,null,"8001038451"]
["Santiagro Limitada",null,null,"802020269"]
["Santillana Formación Ltda",null,null,"9000888750"]
["Santillana Formación Ltda.",null,null,"900088875"]
["Santini System Group Ltda",null,null,"9001840201"]
["Santisimo Nombre De Jesus Orden Frailes Predicadores Padres Domi",null,null,"8903013987"]
["Satelital Global Red Ltda",null,null,"9004487916"]
["Satrack Inc de Colombia Servisat S.A.",null,null,"8300596993"]
["Sav Consulting S.A.S.",null,null,"9003301206"]
["Scala Ascensores S.A.",null,null,"900132012"]
["Scheneider Electric de Colombia S.A.",null,null,"8903118751"]
["School Center S.A.S.",null,null,"9004055123"]
["SCHOOL TOURING SERVICE LTDA",null,null,"8301272939"]
["Schott Envases Farmaceuticos SA",null,null,"8320038821"]
["Schreder Colombia SA",null,null,"8600017715"]
["Sci Colombia SAS",null,null,"9003237349"]
["Seacret Latino Amercia S.A.",null,null,"9002074774"]
["Sebastian Velasquez Restrepo",null,null,"11284810127"]
["SECRETARIA DE HACIENDA DISTRITAL",null,null,"899999061"]
["SECRETARIA DE HACIENDA DISTRITAL - SECRETARIA DE MOVILIDAD",null,null,"8999990619"]
["Secretaria Distrital de Hacienda",null,null,"8999990610"]
["Secretariado Nacional Pastoral Social",null,null,"8600392733"]
["Secretariado Social de Soacha",null,null,"8600061489"]
["Securitac Ltda",null,null,"9002655067"]
["Securiteam Technologies S.A.",null,null,"810004507"]
["Securitec Ltda",null,null,"8300453063"]
["Securitec Ltda (Portal Bancolombia)",null,null,"830045306"]
["Security Shops Ltda",null,null,"8300901731"]
["SED International de Colombia S.A.S.",null,null,"8300361083"]
["Segalco Seguridad Alimentaria De Occidente SAS",null,null,"9000752051"]
["Seguirte S.A.S",null,null,"9005342723"]
["Segundo Aurelio Santillan Carzola",null,null,"632009702"]
["Seguridad Atempi de Colombia Ltda",null,null,"8909171416"]
["SEGURIDAD ATLAS LTDA",null,null,"890312749"]
["Seguridad Nacional Ltda",null,null,"8914082564"]
["Seguridad Omega LTDA",null,null,"8000019659"]
["Seguridad Privada Distrito Capital Ltda.",null,null,"8300654540"]
["SEGURIDAD SHATTER DE COLOMBIA LTDA",null,null,"8903107521"]
["Seguridad Tecnica Colombiana Ltda (Occidente)",null,null,"890913429"]
["Seguridad y Vigilancia Colombiana Sevicol LTDA",null,null,"8902041620"]
["Seguros Agenciauto Ltda",null,null,"9006165490"]
["SEGUROS BOLIVAR S.A.",null,null,"8600025032"]
["Seguros Colpatria",null,null,"860002184"]
["Seguros Colpatria S.A.",null,null,"8600021846"]
["SEGUROS COMERCIALES BOLIVAR S.A.",null,null,"8600021807"]
["SEGUROS DE VIDA ALFA S.A.",null,null,"8605036173"]
["SEGUROS DE VIDA AURORA S.A.",null,null,"8600221375"]
["SEGUROS DE VIDA COLPATRIA S.A.",null,null,"8600021839"]
["Seguros de Vida del Estado S.A.",null,null,"860009174"]
["Seguros de Vida Suramericana S.A.",null,null,"8909037905"]
["SEGUROS DEL ESTADO S.A.",null,null,"8600095786"]
["Seguros Digitales Ltda",null,null,"9005676197"]
["Seguros Generales Suramericana",null,null,"8909034070"]
["Seguros Medicos Internacionales Ltda.",null,null,"9001302997"]
["Segurtronic LTDA",null,null,"8002507413"]
["Sekuritas S.A. Corredores de Seguros",null,null,"8600278289"]
["SELOCOMPRO SAS",null,null,"9003770447"]
["Seminario Diocesano de Cristo Sacerdote",null,null,"8913801191"]
["SEMINARIO REDEMPTORIS MATER",null,null,"8000886626"]
["Sempertex de Colombia S.A.",null,null,"8901012721"]
["SENA SERVICIO NACIONAL DE APRENDIZAJE",null,null,"899999034"]
["SEPSA",null,null,"9004230516"]
["Sercofun Los Olivos LTDA",null,null,"8914100779"]
["SERFINANSA COMPAÑIA DE FINANCIAMIENTO COMERCIAL",null,null,"8600431866"]
["Serfinco S.A. Comisionista de Bolsa",null,null,"8909053750"]
["Sergio Duque Forero ",null,null,"801783064"]
["Servex International SA",null,null,"830092384"]
["Servialcomex S.A.S.",null,null,"8305061177"]
["Servialcomex S.A.S.",null,null,"830506117"]
["Serviarrendamientos Ltda",null,null,"8305104596"]
["SERVIBANCA S.A.",null,null,"8300366457"]
["Servibarras S.A.S",null,null,"8002192903"]
["Serviboy Ltda",null,null,"8000489612"]
["Servicio Aereo a Territorios Nacionales SATENA",null,null,"8999991434"]
["Servicio de salud Inmediato Medicina Prepagada SA",null,null,"8000874618"]
["Servicio de Vigilancia la Frontera LTDA",null,null,"9003589210"]
["Servicio Geologico Colombiano",null,null,"8999992948"]
["Servicio Integrado SHP",null,null,"8300831417"]
["SERVICIO NACIONAL DE APRENDIZAJE SENA",null,null,"8999990341"]
["Servicio Visual de Oriente",null,null,"9003612911"]
["Servicios Aereos Panamericanos Ltda \"Sarpa Ltda\"",null,null,"8912015780"]
["Servicios Alimenticios Aldimark SAS",null,null,"8300104386"]
["Servicios Corporativos en Telecomunicaciones S.A.S. E.S.P.",null,null,"900520713"]
["Servicios de Transito de Manizales",null,null,"9001510983"]
["Servicios de Transportes Especiales Seytur SAS ",null,null,"8002474733"]
["Servicios Docentes del Valle Limitada",null,null,"8050111654"]
["Servicios Empresariales Generales SEG SAS",null,null,"9004174291"]
["Servicios Financieros Inmobiliarios SAS",null,null,"9000763851"]
["Servicios Funebres San Pedro LTDA",null,null,"8902089466"]
["Servicios Funerales Integrales San Francisco SAS",null,null,"8200043996"]
["Servicios Funerarios la Resurreccion S.A.S",null,null,"9005669061"]
["Servicios Generales Suramericana",null,null,"8110368755"]
["SERVICIOS INMOBILIARIOS ISLA LTDA",null,null,"8001963996"]
["Servicios Insepet Ltda",null,null,"9001856316"]
["SERVICIOS INTEGRALES ARCO LTDA.",null,null,"9000505515"]
["Servicios Integrales de salud empresarial SAS - SISE.COM.CO ",null,null,"9006379343"]
["Servicios Integrales Manos Activas SAS ",null,null,"900310662"]
["Servicios Integrales Maritimos S.A.S.",null,null,"9003943966"]
["Servicios Legales y Financieros Serlefin S.A.",null,null,"8300449258"]
["SERVICIOS MARITIMOS INTEGRADOS DE COLOMBIA",null,null,"8301132669"]
["Servicios Nutresa  S.A.S",null,null,"900081360"]
["Servicios Nutresa  S.A.S.",null,null,"9000813608"]
["Servicios Postales Nacionales S.A. 4/72",null,null,"9000629179"]
["Servicios Tecnicos Portuarios S.A. Serteport",null,null,"8001777973"]
["Servicios y Soluciones Tecnicas de Colombia Ltda",null,null,"9000294803"]
["Servicredito S.A.",null,null,"8001349398"]
["Servientrega SA",null,null,"8605123303"]
["Servifin S.A.",null,null,"8050288101"]
["Servigenerales Ciudad Duitama S.A ESP",null,null,"9002670800"]
["SERVIMETERS S.A.",null,null,"8301173705"]
["Servincluidos Ltda",null,null,"8002305468"]
["SERVIPUNTO DE SOFTWARE S.A.S",null,null,"8090021668"]
["Serviunidas",null,null,"890935855"]
["Servivalores Inmobiliaria S.A.",null,null,"9000366816"]
["Servivic Ltda",null,null,"8002235562"]
["Sesderma Colombia SA",null,null,"8020194471"]
["Setrans SA",null,null,"8050061876"]
["Sgs Colombia SA",null,null,"8600499210"]
["Sh&s Dental SAS",null,null,"9003392402"]
["Shema Colombia SAS",null,null,"900832863"]
["Shoppiando",null,null,"11282792104"]
["Si S.A.",null,null,"8903017539"]
["SIDA S.A.",null,null,"8907000311"]
["SIDEL Ltda.",null,null,"900052580"]
["Siegwerk Colombia LTDA",null,null,"8300470788"]
["Siempre Colombia SAS",null,null,"9002823291"]
["Siempre SA",null,null,"8903095775"]
["Sierralaguna Condominio Marino",null,null,"900250846"]
["Siesa - Sistemas de Informacion Empresarial SA",null,null,"8903191933"]
["Siesua Medicina Laser Y Spa S.A.S",null,null,"9000671413"]
["Sievert SAS ",null,null,"900515350"]
["SIGMA MOVIL S.A.",null,null,"9002354583"]
["SIIGO S.A.",null,null,"8300481458"]
["Sikander SAS",null,null,"900626266"]
["Sillas y Estilo & Cia Ltda.",null,null,"900186695"]
["Silueta y Alma Colombia SAS",null,null,"9007295971"]
["Silva Serrano Consultores Inmobiliarios Ltda",null,null,"9000954947"]
["Silvio Villalba Bonilla",null,null,"79360821"]
["Simon Colombia Ltda",null,null,"8050087620"]
["Simplex Tecnologia SAS",null,null,"9006582242"]
["Simplex Tecnologia SAS",null,null,"900658224"]
["Sinergy Soluciones S.A.S",null,null,"9001037931"]
["Siscem SAS",null,null,"900068266"]
["SISTEMA MULTIGYM LTDA",null,null,"9000520212"]
["Sistemas de Información Variable SA",null,null,"8110268333"]
["Sistemas e Instrumentacion S.A.",null,null,"8600904047"]
["Sistemas En linea S.A.",null,null,"860514047"]
["Sistemas Insepet Cia ltda",null,null,"8300710495"]
["Sistemas Inteligentes y Tecnologia SAS",null,null,"9004354922"]
["Sistemas y Computadores S.A.",null,null,"8902063515"]
["Sistemas y Procesos Avanzados de Enseñanza SPADES S.A",null,null,"830032912"]
["Sistemas y Programas de Higiene Industrial GOVI LTDA",null,null,"8300673978"]
["Sistemas y Soluciones Integradas S.A.S",null,null,"8080011147"]
["Sites Group S.A.S.",null,null,"9005044531"]
["Sitio de Contacto SAS",null,null,"9001713990"]
["Siul.net SAS",null,null,"9003928943"]
["Six Sigma Producciones S.A.S.",null,null,"9004488423"]
["SK BERGE COLOMBIA SAS",null,null,"9002416767"]
["SKENA S.A.S.",null,null,"900546517"]
["Skinco Colombit SA",null,null,"890800148"]
["Sky Group SAS",null,null,"9003215859"]
["SKYNET DE COLOMBIA S.A.",null,null,"8300597343"]
["Skyone S.A.S.",null,null,"9001411441"]
["Sleep Well Colombia Ltda",null,null,"9001412418"]
["SLIDE DEPOT LTDA",null,null,"8300426064"]
["Smadia Clinic S.A.S",null,null,"9004237047"]
["Smarket Soluciones de Colombia SAS",null,null,"9007420854"]
["Smart Payments S.A.S.",null,null,"9005660724"]
["Smart Team Solutions",null,null,"9002691016"]
["Smartchip S.A.S",null,null,"8110462544"]
["Soc Creativa Boyaca S.A.",null,null,"8000341544"]
["SOC. ESCUELA KARL PARRISH",null,null,"8901015810"]
["SOC. PORT. REG. CARTAGENA",null,null,"8002009691"]
["Social Ventas S.A.S.",null,null,"9004190700"]
["SOCIEDAD AIR FRANCE",null,null,"8600073694"]
["Sociedad Altos Medios Comercializadora",null,null,"9003794298"]
["Sociedad Antioqueña de Anastesiologia",null,null,"890982375"]
["Sociedad Antioqueña de Ingenieros y Arquitectos - SAI",null,null,"8909027181"]
["Sociedad Antioqueña de Ortopedia y Traumatologia SAOT",null,null,"8909815349"]
["Sociedad Clinica Machicado SAS",null,null,"9002629682"]
["Sociedad Colegio Alejandria Ltda",null,null,"8050068343"]
["Sociedad Colegio Gimnasio El Portillo Limit",null,null,"800006229"]
["SOCIEDAD COLOMBIANA DE ANESTESIOLOGIA Y REANIMACION",null,null,"8600200821"]
["Sociedad Colombiana de Apiterapia",null,null,"9003373702"]
["SOCIEDAD COLOMBIANA DE ARQUITECTOS",null,null,"8600099431"]
["Sociedad Colombiana de Cardiología y Cirugia Cardiovascular",null,null,"8600393620"]
["Sociedad Colombiana de Cirugia Plastica Estetica Reconstructiva",null,null,"860020084"]
["Sociedad colombiana de derecho medico s.a.s",null,null,"900304288"]
["Sociedad Colombiana de Medicina Integrativa Homeopatia y Homotox",null,null,"9006123971"]
["Sociedad Colombiana de Oftalmologia",null,null,"8600200876"]
["Sociedad Colombiana de Ortodoncia",null,null,"8605258318"]
["Sociedad Colombiana De Pediatria-Regional Bogota",null,null,"8300018832"]
["Sociedad Colombiana de Periodoncia",null,null,"890958404"]
["Sociedad Cundinamarquesa de Anestesiologia",null,null,"8000112909"]
["Sociedad de Activos Especiales S.A.S.",null,null,"9002654083"]
["Sociedad de Acueducto y Alcantarillados del Valle del Cauca S.A.",null,null,"8903990328"]
["Sociedad de Acueducto,Alcantarillado y Aseo de Barranquilla SA",null,null,"8001359131"]
["Sociedad de Autores y Compositores de Colombia SAYCO",null,null,"8600068107"]
["Sociedad de Comercializacion Internacional",null,null,"900202573"]
["Sociedad de Comercializacion Internacional Cosmetica CMF LTDA",null,null,"8001861736"]
["Sociedad de Fabricación de Automotores SA SOFASA SA",null,null,"8600257923"]
["SOCIEDAD DE MEJORAS PUBLICAS DE MEDELLIN",null,null,"8909041411"]
["SOCIEDAD DE SAN PABLO",null,null,"8600156306"]
["Sociedad de Servicios Juridicos Limitada",null,null,"8001529251"]
["SOCIEDAD EDUCACIONAL ADBEMOR LTDA.",null,null,"8300134469"]
["SOCIEDAD EDUCACIONAL ANDINA S.A.",null,null,"8605233769"]
["SOCIEDAD EDUCACIONAL GIMNASIO INGLES LTDA.",null,null,"8001106581"]
["Sociedad Educacional Gimnasio Oxford School",null,null,"9000790993"]
["Sociedad Educacional los Andes y Cia  LTDA",null,null,"8301208341"]
["SOCIEDAD EDUCACIONAL SAINT ANDREWS S.A.",null,null,"8000404228"]
["Sociedad Educativa Colbosques SAS",null,null,"900395536"]
["Sociedad Educativa del Caribe Ltda.",null,null,"824001459"]
["Sociedad Educativa Romero y Cia Ltda",null,null,"830041780"]
["Sociedad Electrica Logistica Ltda",null,null,"8300678021"]
["Sociedad Especial de Financiamiento Automotor Reponer S.A.",null,null,"8050166776"]
["Sociedad Ferretera de Comercio S.A.",null,null,"8000523776"]
["Sociedad Fiduciaria Patrimonio Autonomo Centro Comercial",null,null,"8300545395"]
["Sociedad Ganadera de Exportaciones",null,null,"8300733428"]
["Sociedad Hotelera San Pablo Ltda",null,null,"8002344056"]
["Sociedad Hotelera Tequendama S.A.",null,null,"8600065435"]
["Sociedad MG SA",null,null,"8050245069"]
["SOCIEDAD PARA LA ENSEÑANZA DE IDIOMAS LTDA",null,null,"8000785388"]
["Sociedad Pedagogica Del Cauca SAS",null,null,"800096573"]
["Sociedad Portuaria de Santa Marta",null,null,"8001872341"]
["Sociedad Portuaria Puerto Bahia SA",null,null,"8600098734"]
["Sociedad Portuaria Regional de Barranquilla S.A.",null,null,"8001868916"]
["Sociedad Portuaria Regional de Buenaventura S.A.",null,null,"8002157755"]
["Sociedad Portuaria Terminal de Contenedores de Buenaventura S.A.",null,null,"8000840485"]
["Sociedad productora de energia de san andres y providencia SA",null,null,"8270001087"]
["Sociedad Qualia Educacion SAS",null,null,"9005164526"]
["Sociedad Salesiana",null,null,"8600080100"]
["Sociedad Transportadora Medellín, Envigado Sabaneta. Sotrames SA",null,null,"8909109846"]
["Socoda S.A.",null,null,"8909145153"]
["SODEXHO PASS DE COLOMBIA S.A.",null,null,"8002198769"]
["Sodexo SA",null,null,"8002304477"]
["Sodexo Soluciones de Motivación Colombia S.A",null,null,"800219876"]
["Sodimac de Colombia S.A.",null,null,"8002421062"]
["SOELCO LTDA",null,null,"8918019186"]
["Softcaps Laboratorio Farmaceutico SAS",null,null,"9002464448"]
["Softgane s.a.s",null,null,"9003242525"]
["SOFTWARE AS A SERVICE S.A",null,null,"900248304"]
["SOI - PCSS",null,null,"830078512"]
["Sol Cable Vision S.A.S. ESP",null,null,"9003730993"]
["Sol en los Andes",null,null,"9003737407"]
["Sol Parts Distribuidora LTDA",null,null,"9002719680"]
["Solair S.A.S.",null,null,"8050197302"]
["Solangi Urueña Valdes",null,null,"29568687"]
["Solar Windows SAS",null,null,"9004928910"]
["Solla S.A",null,null,"890900291"]
["Solo Mangueras SAS",null,null,"860530495"]
["Soltech Servicing Group S.A.S.",null,null,"9004905268"]
["Solucion Inmobiliaria Finca Raiz EU",null,null,"9002270673"]
["Solucion Integral SAS",null,null,"900487568"]
["Soluciones Alegra S.A.S.",null,null,"9005590882"]
["Soluciones Empresariales Outsourcing LTDA",null,null,"8301420824"]
["Soluciones Inmobiliarias Anamar y Compañia Ltda",null,null,"8110370912"]
["Soluciones Inmobiliarias MS S.A.",null,null,"8603546016"]
["Soluciones Inmobiliarias SYD SAS",null,null,"9006930631"]
["Soluciones Integrales En Tecnología Información y comunicaciones",null,null,"9005093916"]
["Solutions One S.A.S",null,null,"9007929740"]
["SOLYNER SA",null,null,"900661621"]
["SOMOS CUATRO S.A.",null,null,"8110158605"]
["SONIDO INDUSTRIAL COLOMBIANO LTDA - AUTOURBE ",null,null,"8600412270"]
["Sony Colombia S.A",null,null,"900261429"]
["SONY COLOMBIA S.A. (Pagos Online)",null,null,"9002614291"]
["Sop de Colombia SAS",null,null,"9006076111"]
["Sos Empresa",null,null,"943806974"]
["Sotano 4 S.A",null,null,"8110459508"]
["Soto Sinisterra SAS",null,null,"8600656664"]
["South American Travel Group S.A.S.",null,null,"900434777"]
["Southend SAS",null,null,"9004354306"]
["Spectrum Consultores SAS",null,null,"9004482384"]
["Spectrum Global Control Limitada",null,null,"9001082100"]
["SPEED TRANSPORT DE COLOMBIA S.A.",null,null,"8605119347"]
["SSANGYONG MOTOR COLOMBIA S.A.",null,null,"8050266217"]
["Staff Inmobiliario SAS",null,null,"9003203446"]
["Stanton & Cia S.A.",null,null,"8600090341"]
["Stanzia Poblado S.A.S",null,null,"9003619053"]
["Star Solutions S.A.",null,null,"9001321640"]
["Steelx Limitada",null,null,"9000861453"]
["Stem Medicina Regenerativa S.A",null,null,"8301223593"]
["STF GROUP S.A.",null,null,"8050036264"]
["Stihl SAS",null,null,"9005997454"]
["Student Exchange Programs (SEP) Colombia SAS",null,null,"9004345886"]
["Student Travel Center",null,null,"8301171683"]
["Studio Home Italy SAS",null,null,"900460238"]
["Stylos Opticos Limitada",null,null,"830083771"]
["Su Inmueble Propiedad Raiz Limitada",null,null,"8110084818"]
["Su Presencia Producciones",null,null,"8301096777"]
["Su Propiedad Inmobiliaria Aristizabal y Cia S en C",null,null,"9002087838"]
["SUBASTAS Y REMATES SAS",null,null,"9003170711"]
["Suconel S.A.",null,null,"8909430550"]
["Sufimotos SAS",null,null,"9004194996"]
["Suites 101 Park House SA",null,null,"8300520043"]
["Suma Servicios Inmobiliarios SAS",null,null,"9004326309"]
["Suma T Distribuidora de Programas",null,null,"900770375"]
["Suministro De Drogas S.A",null,null,"800247599"]
["Suministro de Drogas SA",null,null,"8002475992"]
["Suministros Glas SA",null,null,"8909327441"]
["Sunrise Red Empresarial SAS",null,null,"9005935103"]
["Sunrollers S.A.S.",null,null,"900441711"]
["Sunstar Americas Inc",null,null,"9002388787"]
["Superbid Colombia SAS",null,null,"9003130410"]
["Supercerdo Paisa S.A.S.",null,null,"9004233796"]
["SUPERCONT S.A.S.",null,null,"8300066031"]
["Supercont S.A.S. (Tu compra)",null,null,"830006603"]
["Superdestino Ltda",null,null,"8300425080"]
["Supergas de Nariño SA ESP",null,null,"8140030505"]
["SUPERINTENDENCIA DE INDUSTRIA Y COMERCIO",null,null,"8001760892"]
["SUPERINTENDENCIA DE LA ECONOMIA SOLIDARIA",null,null,"8300530435"]
["SUPERINTENDENCIA DE NOTARIADO Y REGISTRO",null,null,"8999990070"]
["Superintendencia de notariado y Registro/Recaudo Notarial",null,null,"899999007"]
["Superintendencia de Servicios Publicos Domiciliarios - Superserv",null,null,"8002509846"]
["SUPERINTENDENCIA DE SOCIEDADES",null,null,"8999990862"]
["SUPERINTENDENCIA FINANCIERA DE COLOMBIA",null,null,"8909990576"]
["Superintendencia Nacional de Salud",null,null,"8600621874"]
["Supermercado el Descuento de Arauca",null,null,"133399925"]
["Supertex Medical S.A.",null,null,"8909005937"]
["Supertiendas y Droguerias Olimpica",null,null,"8901074873"]
["SUPERVISION ELECTRONICA WHITE EAGLE LTDA",null,null,"8300581816"]
["Suramericana de partes SAS",null,null,"9000589546"]
["SURAMERICANA DE SEGUROS",null,null,"8909034079"]
["SURATEP S.A.",null,null,"8002561619"]
["Sure Computers S.A.",null,null,"8110369531"]
["Suricatum Enterprises SAS",null,null,"9008688781"]
["Surtidora de Gas del Caribe S.A.",null,null,"8904008699"]
["Sustainable Hotels Group SAS",null,null,"9006978778"]
["SUZUKI MOTOR DE COLOMBIA S.A",null,null,"8914101372"]
["Sv Inmobiliaria SAS",null,null,"9007914824"]
["SWISS ANDINA TURISMO S.A.",null,null,"8000124845"]
["SWISSJUST LATINOAMERICA SA SUCURSAL COLOMBIA",null,null,"9000535880"]
["Sybilla y Cia SAS",null,null,"9005206621"]
["SYNERGIA AGENTES DE SEGUROS CALI LTDA",null,null,"9001571140"]
["Synergy Investments S.A.S.",null,null,"830052650"]
["SYP Soluciona su Proyecto S.A.",null,null,"8301445032"]
["Sytech Company SAS",null,null,"9004816014"]
["T PLUS SAS",null,null,"9003453555"]
["T y T Empresarios Online SAS ",null,null,"900624436"]
["T.N.S. SAS",null,null,"8001828561"]
["TALENTO PREESCOLAR INSTITUCION EDUCATIVA LTDA.",null,null,"8300905616"]
["Taller Arte Digital S.A.S.",null,null,"9004951393"]
["Taller de Anik SAS",null,null,"8002055351"]
["Taller de Emociones",null,null,"435613061"]
["TALLERES AUTORIZADOS S.A.",null,null,"8605192353"]
["Tamcot SAS",null,null,"9003999681"]
["Tanium Tech S.A.S.",null,null,"830119281"]
["Tantra Imports Ltda.",null,null,"9000460540"]
["Tatoo Colombia S.A.S",null,null,"900328150"]
["Tax Individual S.A.",null,null,"8000937617"]
["TCC S.A.",null,null,"8600166404"]
["Teaching and Tutoring T & T College de Colombia S.A.S.",null,null,"8301036271"]
["Tecdymark SAS",null,null,"9003328789"]
["Techdata Colombia S.A.S.",null,null,"9003295998"]
["Technologistics ZF SAS",null,null,"9001859191"]
["Technology & Services SA ESP",null,null,"9001874951"]
["Tecmeco Maquinaria e Ingenieria",null,null,"900267813"]
["Tecnas S.A",null,null,"8000110024"]
["Tecnialarmas Ltda.",null,null,"8901174131"]
["Tecnicas Americanas de Estudio",null,null,"9003303986"]
["Tecnicas de Manufactura Mantenimiento y Software ",null,null,"900627734"]
["Tecnicomercio S.A.S",null,null,"900108758"]
["Tecniviajes Lalianxa SAS",null,null,"8605266892"]
["TECNIYALE S.A.S",null,null,"8002260139"]
["Tecnologia al Costo",null,null,"9003402475"]
["Tecnología de Administración Empresarial",null,null,"9000199976"]
["Tecnologia en Cubrimiento SA",null,null,"8908054538"]
["Tecnologia Gamos y Cia S.A.S",null,null,"9004888915"]
["Tecnologias  de Conduccion y Control TCL SA",null,null,"8901174314"]
["Tecnologias Aplicadas S.A.",null,null,"8050158040"]
["Tecnologias AVG S.A.S",null,null,"9004946304"]
["Tecnologica FITEC",null,null,"8001897026"]
["Tecnologico de Antioquia",null,null,"8909054196"]
["Tejidos Especiales S.A.",null,null,"8300782621"]
["TEJITECH LTDA",null,null,"8301398947"]
["Tekvo SAS",null,null,"9003373671"]
["Telcocas E.U.",null,null,"900148658"]
["TELECORP COLOMBIA S.A.",null,null,"8300644252"]
["TELEGUARDIA LTDA",null,null,"8001967222"]
["Teleradiologia De Colombia SAS",null,null,"9004683847"]
["TELEVENTAS S.A.",null,null,"8000493030"]
["TELMEX HOGAR S.A.",null,null,"830053800"]
["Telmex S.A.",null,null,"8300538004"]
["Tempore INTL SAS",null,null,"900708330"]
["Tenemos un Sueño",null,null,"9006345505"]
["Termillantas S.A",null,null,"8002395673"]
["TERMINAL DE CONTENEDORES DE CARTAGENA",null,null,"8001161640"]
["Terminal Especializado de Contenedores de Buenaventura SA",null,null,"835000787"]
["Termo Agro S.A.S.",null,null,"8300157684"]
["Terrall SAS ",null,null,"9006525225"]
["TERRBUS ",null,null,"800251943"]
["Territorio Colombia Viajes y Turismo SAS",null,null,"9003481767"]
["TERTULIA SAS",null,null,"9006756555"]
["Tesmutour Ltda. Transportes Especiales Murillo y Cia Ltda",null,null,"8300503721"]
["Tesoro Tours Ltda",null,null,"8904051060"]
["Texim Colombia S.A.S.",null,null,"9003978344"]
["Texim y Cia Ltda.",null,null,"8002190281"]
["TEXSAL SA",null,null,"9000295201"]
["Textiles 1x1 SAS",null,null,"800165815"]
["Textiles Industriales S.A.",null,null,"8605124817"]
["Textron S.A.",null,null,"8605339556"]
["The  Beauty Company SAS",null,null,"9004970008"]
["THE COLUMBUS SCHOOL",null,null,"890902829"]
["The Dream Paper Company S.A.S",null,null,"9004822632"]
["The Goodie Factory SAS",null,null,"9004402403"]
["The Great British Academy SAS",null,null,"9005004415"]
["The Pro Cure Diabetes Healing Foundation",null,null,"9004800991"]
["Thermos S.A.S.",null,null,"9003631910"]
["Thiscover S.A.S.",null,null,"9004122894"]
["Thomas Greg Seguridad Electronica LTDA",null,null,"830014193"]
["TICKET FACTORY EXPRESS LTDA",null,null,"9002005455"]
["Tickets Fast S.A.S",null,null,"9005691930"]
["TIENDA CONCIERTO S.A.S",null,null,"9005847892"]
["Tienda de Marcas.com SAS",null,null,"9003231769"]
["Tienda de Ropa Intima SA",null,null,"8909012184"]
["Tienda Turegalo.com SAS",null,null,"9003632071"]
["Tienda Vegetariana el Sol",null,null,"8001590170"]
["TIENDACOL S.A.",null,null,"8110080127"]
["Tierra de Mascotas",null,null,"52864168"]
["TIGO - COLOMBIA MOVIL S.A. ESP",null,null,"8301149211"]
["TIGO - COLOMBIA MOVIL S.A. ESP [Pagos Online]",null,null,"830114921"]
["Tikrel Colombia SAS",null,null,"9006822583"]
["TILATA LTDA [Tu Compra]",null,null,"800164741"]
["TILATA LTDA. [CIBERCOLEGIOS]",null,null,"8001647415"]
["Timeclass S.A.",null,null,"9005836069"]
["Titan Plaza Centro Comercial y Empresarial",null,null,"9005347115"]
["TLC Compañia Internacional de Inversiones S.A.S.",null,null,"9004857200"]
["TLC SUPERMERCADOS DOSQUEBRADAS - MESA GONZALEZ LUIS FERNANDO",null,null,"716274898"]
["TLG Bogota SAS",null,null,"9007745060"]
["TM Medicas S.A",null,null,"8001087083"]
["TMC TORRES MADRID COMPAÑIA O TMCI LTDA",null,null,"8301182052"]
["Todo con Propiedad S.A.S.",null,null,"8002087115"]
["Todo en Arte SAS",null,null,"9002521566"]
["Todo en Radiadores Mariño",null,null,"805020842"]
["Todoventa.com S.A.S.",null,null,"811041237"]
["Tog SAS",null,null,"9006488041"]
["Toldini S.A.S.",null,null,"9003842141"]
["Top English S.A.S.",null,null,"9002137308"]
["Top Gear SAS",null,null,"8110127097"]
["Topiplast Ltda",null,null,"9000915470"]
["Tornirap S.A.S.",null,null,"8300551203"]
["Torre Samsung Propiedad Horizontal",null,null,"9000843737"]
["Torres Guarin y Cia Ltda Asesores de Seguros",null,null,"8908033041"]
["Torres Sunrise Beach Propiedad Horizontal",null,null,"8270009684"]
["Torres y Cuadros Asociados  Ltda",null,null,"9002542699"]
["Tortas y Tortas S.A.",null,null,"8909423608"]
["Tortolos Digital SAS",null,null,"9005814658"]
["Total Datos Nacionales S.A.S.",null,null,"9003484779"]
["TOTTO - NALSANI S.A. ",null,null,"8000207069"]
["Tour Guides S.A.S",null,null,"9002207615"]
["Tour Vacation Hoteles Azul S.A.S.",null,null,"9003049409"]
["Tourexito S.A.S.",null,null,"8001695199"]
["TOURING & AUTOMOVIL CLUB COLOMBIA",null,null,"8600076373"]
["Toyonorte Ltda.",null,null,"8605362506"]
["Toyota de Colombia SA",null,null,"9002300121"]
["TPC COLOMBIA S.A.",null,null,"8300747591"]
["Tracker de Colombia S.A.",null,null,"8301411091"]
["Tracking Solutions Tso SAS",null,null,"9003616027"]
["Tracto Refacciones de Colombia SAS",null,null,"9005247825"]
["Tranexco S.A.",null,null,"8300458254"]
["Trans Arama SAS",null,null,"8160075447"]
["Trans Group VIP S.A.S",null,null,"9006424231"]
["Transaerero S.A.S.",null,null,"8600239811"]
["Transaire SAS",null,null,"8001570616"]
["Transcontrol S.A.S.",null,null,"9003798742"]
["TRANSFIRIENDO S.A.",null,null,"9000321594"]
["Transito moderno de Bello LTDA",null,null,"9000643638"]
["TRANSMILENIUM 2021 S.A.",null,null,"8110128214"]
["TRANSMULTIMAC LTDA",null,null,"8001495233"]
["Transportadora Asia S.A.S.",null,null,"811007864"]
["Transportadora Comercial Colombia TCC SA",null,null,"860016640"]
["Transportadora del Meta SAS",null,null,"8220066055"]
["Transportadora Escolar Camargo Hermanos y Cia S.A. TECH S.A.",null,null,"8002147062"]
["Transportadora Occidental de carga SAS",null,null,"8002117829"]
["Transporte Inteligente SA",null,null,"9001770811"]
["Transporte Lobena SAS",null,null,"890115685"]
["Transportes Caliconfort SAS",null,null,"8050214107"]
["Transportes Cuellar Esquivel",null,null,"31933265"]
["Transportes Especiales Arcoiris SAS",null,null,"8002270047"]
["Transportes Especiales de Bogota S.A",null,null,"860352641"]
["TRANSPORTES ESPECIALES DE BOGOTA S.A. TEBSA",null,null,"8603526411"]
["Transportes Especiales Emmanuel SA",null,null,"9000553622"]
["Transportes Especiales Senderos S.A.",null,null,"8110311597"]
["Transportes Especiales VIP SAS",null,null,"8010033494"]
["Transportes HB Ltda.",null,null,"8301022772"]
["TRANSPORTES LOYOLA LTDA",null,null,"830131935"]
["TRANSPORTES LOYOLA S.A.S",null,null,"8301319354"]
["Transportes Marsol SAS",null,null,"8190063114"]
["Transportes Mega SAS",null,null,"8919023395"]
["Transportes Navieros de Colombia Ltda",null,null,"8002369088"]
["Transportes Rincon S.A.",null,null,"8605241957"]
["Transportes Saferbo S.A.",null,null,"8909209903"]
["Transportes y Mudanzas Chico SA",null,null,"8001721584"]
["Tranza S.A.S.",null,null,"9003926116"]
["Travel Actions Group S.A.S.",null,null,"9004741505"]
["Travel Center SAS",null,null,"8110087149"]
["Travel Link S.A.S",null,null,"9003367130"]
["Travel.com SAS",null,null,"9005006063"]
["Trazos De Moda S.A.S.",null,null,"8300353433"]
["Trébol Medica S.A.",null,null,"900615225"]
["Trenzacol S.A.S.",null,null,"8000365356"]
["TRIBU NETWORKS - TRIBU NETWORKS LTDA",null,null,"8050253558"]
["TRIM LINE E.U",null,null,"8300572572"]
["Triplex Acemar S.A.",null,null,"8600449289"]
["Tropical ING SAS",null,null,"9005354416"]
["Trotamundos S.A",null,null,"8300383191"]
["T-Shirt Lab S.A.",null,null,"8300160294"]
["TSQSA",null,null,"8000807302"]
["TU COMPRA LTDA.",null,null,"9001801043"]
["Tu Ka SAS",null,null,"9004441499"]
["Tu Ticket.Com SAS",null,null,"9004149077"]
["Tu Viaje Express Com S.A.S.",null,null,"900411202"]
["Tubien com SAS",null,null,"900792910"]
["Tugo S.A.S.",null,null,"8300878483"]
["Tulia Eugenia Espinosa De Quintero",null,null,"312137123"]
["Tupperware  Colombia SAS",null,null,"9004065253"]
["Turismo al Vuelo LTDA",null,null,"860513826"]
["Turismo con Clase",null,null,"900231643"]
["Turismo con Sentido SAS",null,null,"900590888"]
["Turismo en Medellin  y Viajes y Turismo Globo SAS",null,null,"9005333924"]
["Turismo Solidario",null,null,"9002289370"]
["Turivans S.A.",null,null,"8300729042"]
["TUTIQUETE S.A.",null,null,"900113658"]
["TUTIQUETE S.A. [Portal Bancolombia]",null,null,"9001136586"]
["Tutor Editora AP S.A.S.",null,null,"9004352696"]
["Tutores Asesorias Empresariales SAS",null,null,"900268554"]
["Tuvacol SA",null,null,"806014553"]
["TuyoMotor SAS",null,null,"8002478514"]
["TUYOYO LTDA.",null,null,"9001462238"]
["TV Azteca Comunicaciones",null,null,"9004747622"]
["TV CABLE PROMISION S.A. ESP",null,null,"8040103921"]
["TV Isla Ltda",null,null,"8270003259"]
["Tyco Electronics Colombia Ltda",null,null,"8300416883"]
["UBERRIMO LTDA",null,null,"9002042781"]
["UCI del Caribe S.A",null,null,"8060083567"]
["UDCA",null,null,"8604037212"]
["UDES CORP UNIV DE SANTANDER",null,null,"8040018901"]
["Uff Movil S.A.S.",null,null,"9003676697"]
["UFF Movil S.A.S. (Pagos Online)",null,null,"900367669"]
["Ukansuka S.A.S.",null,null,"9004918693"]
["Ulog SAS",null,null,"900160943"]
["Ultrabursatiles S.A. - Comisionista de Bolsa",null,null,"8001201843"]
["Ultradental SAS",null,null,"8001134801"]
["Ultraviajes S.A.S.",null,null,"8909305801"]
["UMBRAL PROPIEDAD RAIZ S.A.",null,null,"8002085900"]
["UMO S.A.",null,null,"8909061970"]
["UNE - EPM Telecomunicaciones",null,null,"9000923859"]
["UNIANDINO - ASOCIACION DE EGRESADOS UNIVERSIDAD DE LOS ANDES",null,null,"8600233383"]
["UNICATALUNYA COLOMBIA SAS",null,null,"9007045774"]
["UNICIRUPED",null,null,"9006512494"]
["Unico Interior S.A.S.",null,null,"8110077072"]
["Unidad Administrativa Especial Migracion Colombia",null,null,"9004772356"]
["Unidad Adminsitrativa Especial de Aeronautica Civil",null,null,"8999990593"]
["Unidad Admtiva Especial del Sist de Parques Nacionales Naturales",null,null,"8300166247"]
["Unidad Central del Valle del Cauca",null,null,"8919008530"]
["Unidad de Atención  y Reparación Integral a las Victimas",null,null,"9004904736"]
["Unidad de Extensión Colegio San Jose de las Vegas",null,null,"8001886831"]
["Unidad de Investigación Genética Molecular SAS",null,null,"9006882756"]
["Unidad de Servicios Integrales en Salud PERCODENT Ltda",null,null,"8301116315"]
["Unidad Inmobiliaria Cerrada Barcelona de Indias",null,null,"9003813771"]
["Unidad Medica y Diagnostico S.A.",null,null,"8300010077"]
["Unidad Residencial Aldea de san Lucas PH",null,null,"800053633"]
["Unidad Residencial Coopmagisterio V",null,null,"8902867939"]
["Unidad Residencial El Alcazar",null,null,"8909413294"]
["Unidad Residencial Salamanca La Mota ",null,null,"8110079119"]
["Uniformes y Dotaciones Antioquia EAT",null,null,"8110466049"]
["UNILAGO - CENTRO COMERCIAL EL LAGO",null,null,"8605351908"]
["UNILEVER ANDINA COLOMBIA",null,null,"8600025182"]
["Union Colombiana de Empresas Publicitarias - UCEP",null,null,"8600312737"]
["Union de Droguistas SA - Unidrogas",null,null,"8902087889"]
["Unión de Notariado Antioqueño",null,null,"8909858904"]
["Union Israelita De Beneficencia-Colegio Theodoro Hertzl ",null,null,"8909029161"]
["Union Israelita de Beneficiencia de Medellin - Colegio Theodoro ",null,null,"890902916"]
["Uniperfiles SAS",null,null,"8301280460"]
["UNIPROYECTOS SAS",null,null,"8002514635"]
["Unisa Union Inmobiliaria S.A.",null,null,"9001275270"]
["Unitecnica Manizales SAS",null,null,"800029565"]
["UNIV NAL ABIERTA DISTANCIA UNAD",null,null,"8605127804"]
["Universal de Avaluos  Cia Ltda \"UNIAVLUOS LTDA\"",null,null,"830013589"]
["Universal de Cauchos Hurtado SAS",null,null,"830085540"]
["UNIVERSAL LANGUAGE ACADEMY",null,null,"8110244291"]
["Universal Learning Ltda",null,null,"9002299042"]
["Universal Perfect Nutrition SAS",null,null,"8050165904"]
["Universal Travel Assistance SAS",null,null,"900616712"]
["UNIVERSIA COLOMBIA S.A.",null,null,"8300769792"]
["Universidad Antonio Nariño",null,null,"8600560707"]
["UNIVERSIDAD AUTONOMA DE BUCARAMANGA",null,null,"8902004999"]
["Universidad Autónoma de Manizales",null,null,"8908050510"]
["Universidad Autonoma de Occidente",null,null,"8903058811"]
["UNIVERSIDAD AUTONOMA DEL CARIBE",null,null,"8901025729"]
["Universidad Autonoma Latinoamericana - UNAULA",null,null,"8909054569"]
["UNIVERSIDAD CATOLICA DE COLOMBIA",null,null,"8600289719"]
["Universidad Catolica de Manizales",null,null,"8908064779"]
["UNIVERSIDAD CATOLICA DE ORIENTE",null,null,"8909847467"]
["Universidad Catolica de Pereira",null,null,"891408261"]
["UNIVERSIDAD COLEGIO MAYOR DE CUNDINAMARCA",null,null,"8001448299"]
["UNIVERSIDAD COOPERATIVA DE COLOMBIA",null,null,"8600299247"]
["UNIVERSIDAD COOPERATIVA DE COLOMBIA - SEDE MEDELLIN",null,null,"860029924"]
["UNIVERSIDAD DE ANTIOQUIA",null,null,"890980040"]
["Universidad de Boyaca",null,null,"8918011016"]
["Universidad de Caldas",null,null,"8908010630"]
["Universidad de Cartagena",null,null,"8904801235"]
["UNIVERSIDAD DE CORDOBA",null,null,"8910800313"]
["Universidad de Cundinamarca",null,null,"8906800622"]
["Universidad de Ibague",null,null,"8907043821"]
["Universidad de la Amazonia",null,null,"8911903461"]
["UNIVERSIDAD DE LA SABANA",null,null,"8600755581"]
["UNIVERSIDAD DE LA SALLE",null,null,"8600155426"]
["UNIVERSIDAD DE LOS ANDES",null,null,"8600073861"]
["Universidad de los Llanos",null,null,"8920007573"]
["UNIVERSIDAD DE MANIZALES",null,null,"8908060017"]
["UNIVERSIDAD DE MEDELLIN",null,null,"8909029201"]
["Universidad de Nariño",null,null,"800118954"]
["Universidad de Pamplona",null,null,"8905015104"]
["UNIVERSIDAD DE SAN BUENAVENTURA DE CALI",null,null,"890307400"]
["Universidad de Santander",null,null,"804001890"]
["UNIVERSIDAD DEL ATLANTICO",null,null,"8901022573"]
["UNIVERSIDAD DEL BOSQUE",null,null,"8600667896"]
["UNIVERSIDAD DEL CAUCA",null,null,"8915003192"]
["Universidad del Quindio",null,null,"8900004328"]
["Universidad del Tolima",null,null,"8907006407"]
["UNIVERSIDAD DEL VALLE",null,null,"8903990106"]
["Universidad Distrital Francisco Jose de Caldas",null,null,"8999992307"]
["UNIVERSIDAD EAFIT",null,null,"8909013895"]
["UNIVERSIDAD EAN",null,null,"8600260581"]
["UNIVERSIDAD ICESI",null,null,"8903167455"]
["UNIVERSIDAD INDUSTRIAL DE SANTANDER",null,null,"8902012134"]
["UNIVERSIDAD INDUSTRIAL DE SANTANDER CAPRUS",null,null,"8902031830"]
["Universidad la Gran Colombia",null,null,"860015685"]
["UNIVERSIDAD LA GRAN COLOMBIA (Avisor)",null,null,"8600156850"]
["UNIVERSIDAD LIBRE SECCIONAL PEREIRA",null,null,"8600137985"]
["UNIVERSIDAD MANUELA BELTRAN",null,null,"8605176475"]
["UNIVERSIDAD MILITAR NUEVA GRANADA",null,null,"8002253408"]
["UNIVERSIDAD NACIONAL DE COLOMBIA - NIVEL NACIONAL",null,null,"8999990633"]
["UNIVERSIDAD NACIONAL DE COLOMBIA - SEDE BOGOTA",null,null,"8999990630"]
["Universidad Nacional de Colombia - Unisalud",null,null,"8999990635"]
["Universidad Nacional de Colombia- Manizales",null,null,"8999990631"]
["Universidad Nacional de Colombia-Sede Medellin",null,null,"8999990632"]
["Universidad Pedagogica Nacional",null,null,"8999991244"]
["UNIVERSIDAD PEDAGOGICA Y TECNOLOGICA DE COLOMBIA",null,null,"8918003301"]
["UNIVERSIDAD PONTIFICIA BOLIVARIANA",null,null,"8909029226"]
["UNIVERSIDAD PONTIFICIA BOLIVARIANA SECCIONAL BUCARAMANGA",null,null,"890902922"]
["Universidad Pontificia Bolivariana/Monteria",null,null,"8909029220"]
["Universidad Popular del Cesar",null,null,"8923002856"]
["UNIVERSIDAD SAN BUENAVENTURA",null,null,"8903074001"]
["UNIVERSIDAD SAN BUENAVENTURA SECCIONAL MEDELLIN",null,null,"8903074002"]
["UNIVERSIDAD SANTIAGO DE CALI",null,null,"8903037971"]
["UNIVERSIDAD SANTO TOMAS",null,null,"8600123576"]
["Universidad Sergio Arboleda",null,null,"8603518943"]
["Universidad Simon Bolivar",null,null,"8901046339"]
["UNIVERSIDAD SURCOLOMBIANA",null,null,"891180084"]
["Universidad Tecnologica de Bolivar",null,null,"8904019620"]
["UNIVERSIDAD TECNOLOGICA DE PEREIRA",null,null,"8914800359"]
["Universitaria Agustiniana",null,null,"8300274936"]
["Universitaria Virtual Internacional",null,null,"9005242856"]
["Universo de Acabados SA",null,null,"9001936294"]
["UPWARE SOFT SAS ",null,null,"8300087757"]
["Uraki Inmobiliaria S.A.S.",null,null,"8300006706"]
["Urbanizacion Arboleda Del Rodeo PH",null,null,"9005260067"]
["Urbanización Camino del Este",null,null,"8110463581"]
["Urbanizacion Casas de la Ceiba",null,null,"8110038911"]
["Urbanizacion Condado de Maracay",null,null,"8000384318"]
["Urbanizacion Hacienda San Jose P.H",null,null,"9003057905"]
["Urbanizacion Hojarasca",null,null,"8002423463"]
["Urbanizacion la Quinta PH ",null,null,"900260476"]
["Urbanizacion Las Fuentes Edificio 1 PH",null,null,"8909293351"]
["Urbanizacion Lombardia PH",null,null,"800084138"]
["Urbanizacion Montes Claros B.P.H",null,null,"8110184960"]
["Urbanizacion Piedemonte PH",null,null,"811003263"]
["Urbanizacion Pino Azul PH",null,null,"811045245"]
["Urbanizacion Quintas del Palmar P.H",null,null,"9004227486"]
["Urbarnizacion San Esteban de la Concha PH",null,null,"800160337"]
["URBES PROPIEDAD RAIZ LTDA",null,null,"9003119241"]
["Uriventas Propiedad Raiz S.A.S.",null,null,"9003794542"]
["Uriventas Propiedad Raiz S.A.S.",null,null,"900379454"]
["USADEUNA.COM",null,null,"900595247"]
["Usados de Cartagena S.A.S",null,null,"9004720848"]
["Usalaser Sas",null,null,"9002653694"]
["Usana Health Sciences Colombia  SAS",null,null,"9005231591"]
["Ushuaia Jeans SAS",null,null,"9002857298"]
["U-STORAGE S.A.",null,null,"8300378956"]
["UT Siett Santa Marta",null,null,"8190055979"]
["V&V INMOBILIARIA S.A.S",null,null,"9003280881"]
["V.P Global Ltda",null,null,"802020036"]
["Valencia Martinez & Cia S en C.S.",null,null,"8924006589"]
["Valenzuela Reyes Constructora Finca Raiz Ltda",null,null,"900449462"]
["Valmy de Colombia S.A.S.",null,null,"9003136316"]
["Valor Inmobiliario SAS",null,null,"9006439330"]
["Valor Tierra S.A.S",null,null,"9007179544"]
["Valores Bancolombia S.A. Comisionista de Bolsa",null,null,"800128735"]
["Valores Bancolombia S.A. Comisionista de Bolsa(Pse hosting)",null,null,"8001287358"]
["Valores Smith S.A.",null,null,"8300965108"]
["Valorizacion SAS",null,null,"9001712383"]
["Valuedi Joyerias S.A.S.",null,null,"9004958851"]
["VANSOLIX S.A.",null,null,"8600017106"]
["Variedades y Fantasias Carol Cia S.A.S.",null,null,"8050258638"]
["Vas Colombia S.A.",null,null,"9002168592"]
["Vasquez e Hijos y Cia S en CS - HOTEL CAMPESTRE LAS CAMELIAS",null,null,"8010046730"]
["Vasquez y Vasquez Ltda. ",null,null,"8600290078"]
["Vatia S.A. E.S.P.",null,null,"817001892"]
["VBVH  SAS ",null,null,"9002201204"]
["VD El mundo a sus pies S.A.S.",null,null,"8305131341"]
["Vehicenter SAS",null,null,"900519790"]
["Vehiculos de Caldas SA",null,null,"8001292638"]
["Vehiculos de la Costa SAS",null,null,"8904030681"]
["Vehiculos del camino SAS",null,null,"8110108326"]
["Vehiculos y Mercadeo Ltda",null,null,"8002493616"]
["Velasquez Candamil SAS",null,null,"9006676132"]
["Velox  Investment Services SAS",null,null,"900059154"]
["Vemma Colombia S.A.S.",null,null,"9003973690"]
["Vemma Nutrition SAS",null,null,"9007048564"]
["VENDEMOSTUNEGOCIO.COM SAS",null,null,"9007859347"]
["Venezolana de Control Intermodal Veconinter",null,null,"900185819"]
["Venfi SAS",null,null,"900799969"]
["Ventas Privadas Europeas SAS",null,null,"9005941857"]
["Ventas y Marcas S.A.S.",null,null,"8320006624"]
["VENTAS Y SERVICIOS S.A.",null,null,"8600504204"]
["VENTO SAS",null,null,"9001243263"]
["Versatile Technology",null,null,"9003562619"]
["Vertice Ingenieria SA",null,null,"8110265267"]
["Vesting Group Colombia S.A.S",null,null,"9005148623"]
["Vestuario Nelson Florez SAS",null,null,"900338276"]
["Via Digital IT SAS",null,null,"9006419442"]
["VIAJANDOO.COM S en C",null,null,"9003751374"]
["Viajar con Promociones SAS",null,null,"900847856"]
["Viajar de Colombia",null,null,"8001110854"]
["Viajar Limitada Lalianxa",null,null,"8901007052"]
["Viaje por Menos S.A.S.",null,null,"9004274452"]
["Viajemos.com SAS",null,null,"9007263020"]
["Viajes Aereos Nacionales E Internacionales Vani S.A",null,null,"8914104764"]
["Viajes Agentur S.A.",null,null,"890804852"]
["Viajes Argos LTDA",null,null,"860068609"]
["Viajes Bolivar Ltda.",null,null,"8909276276"]
["Viajes Elite S.A.",null,null,"9000710736"]
["Viajes Estudiantiles Vela Tours SAS",null,null,"8301222097"]
["Viajes la Nueva Colombia Ltda.",null,null,"8060099696"]
["Viajes Maya SAS",null,null,"8301348557"]
["Viajes Molitur S.A.S.",null,null,"8909172152"]
["Viajes Selectos Ltda",null,null,"8605104287"]
["Viajes y Turismo Davinci S.A.",null,null,"8605068213"]
["Viajes y Turismo Jet Set",null,null,"40987503"]
["Viajes y Turismo Playa Blanca S.A.S",null,null,"9006018396"]
["Vialsec SAS",null,null,"9002736829"]
["Vicente de Jesus Contreras Hernandez",null,null,"19157759"]
["Victor Hugo Morales Acevedo",null,null,"71313577"]
["Victoria Centro Comercial Regional",null,null,"900004111"]
["Victoriana CI Ltda",null,null,"8001319140"]
["Videocorp Colombia SAS",null,null,"9004483391"]
["Videonet Ltda",null,null,"8050221859"]
["Vigilancia y Seguridad Celtas Limitada",null,null,"900250707"]
["Vilancizar S.A.S",null,null,"900360039"]
["Villamakers SAS",null,null,"9005886591"]
["Vino & Compañia SA",null,null,"9001871195"]
["VIP Movil Market S.A.S.",null,null,"9004614083"]
["Viplast SA",null,null,"8301200733"]
["VIPSA 2004",null,null,"8301323231"]
["Virgin Mobile",null,null,"9004201227"]
["Visas Viajes & Turismo SAS",null,null,"9004717786"]
["Vision Tours Ltda",null,null,"8600798575"]
["Visionet Fundacion Red de Liderazgo",null,null,"9003903936"]
["Vistacom SAS",null,null,"9007545334"]
["Vistronica SAS",null,null,"9007262807"]
["Viva Vacations Colombia SAS",null,null,"900428519"]
["VIVE SEGURO LTDA",null,null,"9005505384"]
["Vivero Marinela SA",null,null,"8913009004"]
["Vivienda y Valores S.A.",null,null,"8905013573"]
["Voipmundo Ltda",null,null,"900059101"]
["Vor Administradores SAS",null,null,"8300459729"]
["VPG Tecnologia SAS",null,null,"900225443"]
["W Colombia  SAS",null,null,"9005737745"]
["W Sife Group S.A.S.",null,null,"9004356524"]
["W360 SAS",null,null,"9005027995"]
["WACKENHUT DE COLOMBIA",null,null,"8600139516"]
["WAGOOU SAS",null,null,"9005593239"]
["Wazzup S.A.",null,null,"9000831009"]
["Wels Trading Co SAS",null,null,"9004350478"]
["WG Consultores IPS SAS",null,null,"9002724691"]
["Whirlpool Colombia S.A.S.",null,null,"830010181"]
["Widetech S.A.S",null,null,"9001387267"]
["WILD E HIJOS SAS",null,null,"8300723502"]
["WILLIS COLOMBIA CORREDORES DE SEGUROS S.A.",null,null,"8909016044"]
["Wom SAS",null,null,"900798120"]
["Wunderlich Colombia SAS",null,null,"9005478965"]
["WUP Colombia S.A.S.",null,null,"9004472358"]
["Xira Group S.A.S.",null,null,"9002690680"]
["Xkanner Digital S.A.S",null,null,"9004317190"]
["XM COMPAÑIA DE EXPERTOS EN MERCADOS S.A. E.S.P.",null,null,"9000428571"]
["XPANDE TV S.A.S",null,null,"9001800923"]
["Xpomoto Colombia SAS",null,null,"9004572802"]
["XTREME HOBBIES",null,null,"421050993"]
["Yamaha Motos Ltda",null,null,"8002554966"]
["Yanaconas Motor SA",null,null,"8050307061"]
["Yanbal  Colombia S.A",null,null,"8605122494"]
["Yari E.S. Inmobiliaria Ltda",null,null,"9000563191"]
["Yehia Soudeian",null,null,"18002745"]
["Yokomotor SA",null,null,"8000418296"]
["Yolanda Elena Quiñonez De Diaz",null,null,"107741"]
["Yolanda Rincon De Sanchez",null,null,"20951832"]
["Z IMPLANT Y CIA SAS",null,null,"8305097148"]
["Zafarco Comercial SA",null,null,"8901096893"]
["Zaffiro SA",null,null,"900100822"]
["Zai Cargo EU",null,null,"8300826019"]
["Zapf S.A.",null,null,"9000746667"]
["ZARATRANS S.A.S ",null,null,"8605180741"]
["ZEA DISEÑO S.A.",null,null,"8000654131"]
["ZEUS TECNOLOGIA S.A.",null,null,"8060097525"]
["Zion Group SAS",null,null,"9000337337"]
["Zoe Vita Internacional SAS",null,null,"9005674302"]
["Zona de Actividad Logistica S.A.S",null,null,"9003242944"]
["Zona Inmobiliaria JR SAS",null,null,"9001994407"]
["ZONAPAGOS.COM - PAGOS EN LINEA",null,null,"8110153541"]
["Zuntek S.A.S.",null,null,"8300990085"]

{"sheet":"Instrucciones","index":3,"n_rows":22,"n_cols":5,"rows_kept":22,"cut":false,"hidden":false,"merged":[[0,1,0,3],[15,2,15,4],[16,2,16,4],[5,2,5,4],[6,2,6,4],[7,2,7,4],[8,2,8,4],[14,2,14,4],[1,2,1,4],[2,2,2,4],[3,2,3,4],[4,2,4,4],[9,2,9,4],[10,2,10,4],[11,2,11,4],[12,2,12,4],[21,2,21,4],[13,2,13,4],[17,2,17,4],[18,2,18,4],[19,2,19,4],[20,2,20,4]]}
[null,"INSCRIPCIÓN DE COMERCIOS PARA PERMITIR PAGOS PSE A TRAVÉS DE PORTALES PERSONA JURÍDICA",null,null,"Código: VSE_FOR_063\nVersión: V1\nFecha de actualización: 04/02/2015"]
["Número Campo","Nombre del Campo","Descripción del campo"]
[1,"Tipo de documento de identificación","Seleccione si es: Nit Persona Juridica, Nit Persona Natural, Cédula de Ciudadanía, Cédula de extranjería, Pasaporte. "]
[2,"Número de documento de identificación","Número de documento de identificación "]
[3,"Nombre Empresa","Nombre con la que esta registrada la empresa ante cámara y comercio y vinculada ante el Banco de Bogotá"]
[4,"Nombre Representante Legal","Nombre completo del representate legal vigente y autorizado por la empresa."]
[5,"Tipo doc. Representante Legal","Seleccione si es: Nit Persona Juridica, Nit Persona Natural, Cédula de Ciudadanía, Cédula de extranjería, Pasaporte. "]
[6,"Número de doc. Representante Legal","Número de documento de identificación "]
[7,"N° Teléfono Representante Legal","Número Teléfonico fijo del representante legal."]
[8,"N° Teléfono Celular Representante Legal","Número Teléfonico móvil del representante legal."]
[9,"Correo electrónico Representante Legal","Correo electrónico del representante legal."]
["10-21-32-43-54","Busqueda del Comercio","Digite la palabra clave de búsqueda del comercio entre asteriscos, si desea obtener el resultado de los comercios que contengan esa palabra. Ejemplo: Fundación.\nSin asteriscos obtendrá como resultado los comercios que inician con esa palabra. "]
["11-22-33-44-55","Seleccione el nombre del Comercio para el que aplica la novedad","Seleccione del listado la empresa a la que requiere aplicar la novedad. "]
["12-23-34-45-56","Tipo de Novedad","Seleccione si es:  Inscripción, Actualizar valor o Inactivar inscripción."]
["13-24-35-46-57","Nombre del comercio","Se completa el dato automáticamente después de haber seleccionado la empresa."]
["14-25-36-47-58","Tipo ID Comercio","Se completa el dato automáticamente después de haber seleccionado la empresa."]
["15-26-37-48-59","N° ID Comercio","Se completa el dato automáticamente después de haber seleccionado la empresa."]
["16-27-38-49-60","Entidad","Se completa el dato automáticamente después de haber seleccionado la empresa."]
["17-28-39-50-61","Grupo","Se completa el dato automáticamente después de haber seleccionado la empresa."]
["18-29-40-51-62","Ciudad","Se completa el dato automáticamente después de haber seleccionado la empresa."]
["19-30-41-52-63","Número de identificación del aportante","Digite el número de identificación del Aportante en el caso de inscripción de un comercio para pago de PILA."]
["20-31-42-53-64","Valor máximo por transacción","Digite el valor máximo que aplicará para ese comercio en PSE. "]